{"text_format":"1","workbook":"xlsx","n_sheets":7,"sheets":["Main","Tone","Strings & Pickups","Strings","harmonics","Notes","Chart"],"not_rendered":{"charts":7,"images":28,"macros":1,"external_links":0,"defined_names":1,"comments":3,"pivot_tables":0},"unopened":[],"bounds":{"document_bytes":16777216,"sheet_cells":100000,"rows_first":2000,"rows_last":500,"rows_between":2000,"halvings":0,"cell_chars":16384,"cell_head_chars":4096},"cells_cut":0,"cells_raw":0,"read":"whole","date_system":"1900"}

{"sheet":"Main","index":0,"n_rows":248,"n_cols":84,"rows_kept":248,"cut":false,"hidden":false,"merged":[[17,11,17,12],[16,11,16,12],[33,10,33,12],[28,9,28,11],[29,11,29,12]]}
["  ",null,null,null,null,null,null,null,null,null,null,null,null,null,null,null,null,null,null,null,null,null,null,null,null,null,null,null,null,null,null,null,null,null,null,null,null,null,null,null,null,null,null,null,null,null,null,null,null,null,null,null,null,null,null,null,-100]
[null,null,null,null,null,null,null,null,null,null,null,null,null,null,null,null,"listref","caps nF","resistors k","pots k",null,"component","list ref",null,null,null,null,null,null,null,null,null,null,null,null,null,null,null,null,null,null,null,null,null,null,null,null,null,null,null,null,null,null,null,null,null,-100]
[null,null,null,null,null,null,null,null,null,null,null,null,null,null,null,null,0,1E-4,1E-4,50,null,"c3",0,{"$f":"VLOOKUP((W3),$Q$3:$S$43,2)","v":1E-4},null,null,null,null,null,null,null,null,null,null,null,null,null,null,null,null,null,null,null,null,null,null,null,null,null,null,null,null,null,null,null,null,-100]
[null,null,null,null,null,null,null,null,null,null,null,null,null,null,null,null,{"$f":"Q3+1","v":1},0.1,{"$f":"R4*10","v":1},60,null,"r4",40,{"$f":"VLOOKUP((W4),$Q$3:$S$43,3)","v":1000000000000},null,null,null,null,null,null,null,null,null,null,null,null,null,null,null,null,null,null,null,null,null,null,null,null,null,null,null,null,null,null,null,null,-100]
["Main","Fret","Pick distance","Bass cut",{"$f":"D6/10","v":10},"C6",null,"C5",null,"Treble bleed",null,null,null,{"$f":"IF(AS41,1,0)","v":0},null,null,{"$f":"Q4+1","v":2},0.12,1.2,80,null,"r5",{"$f":"Y5+IF(H16>300,1,0)","v":27},{"$f":"VLOOKUP((W5),$Q$3:$S$43,3)","v":120},27,null,null,null,null,null,null,null,null,null,null,null,null,null,null,null,null,null,null,null,null,null,null,null,null,null,null,null,null,null,null,null,-100]
[{"$f":"VLOOKUP((A17),A18:B30,2)","v":"Select PU"},0,110,100,500,{"$f":"IF(Tone!B7=3,\"k rev log\",(IF(Tone!B7=1,\"k lin\",\"k log\")))","v":"k lin"},"  C3",null,"C3",null,{"$f":"X3","v":1E-4},"nF",null,0,null,null,3,0.15,1.5,100,null,"r2",10,{"$f":"VLOOKUP((W6),$Q$3:$T$43,4)","v":500},null,null,null,null,null,null,null,null,null,null,null,null,null,null,null,null,null,null,null,null,null,null,null,null,null,null,null,null,null,null,null,null,-100]
[{"$f":"'Strings & Pickups'!C67","v":"Texas Special"},{"$f":"'Strings & Pickups'!E15","v":1.1204280713319332},"db output        ",null,{"$f":"O8","v":0},null,null,null,"R4",null,{"$f":"X4","v":1000000000000},"k",null,"bass pot",{"$f":"ABS(IF(Tone!B7=3,0,E6)-IF(Tone!B7=1,E6*(E5/10),IF(E5<5,E6*E5/50,E6*((E5-5)/5*0.9+0.1))))","v":0},null,4,0.18,1.7999999999999998,125,null,"r3",7,{"$f":"VLOOKUP((W7),$Q$3:$T$43,4)","v":250},null,null,null,null,null,null,null,null,null,null,null,null,null,null,null,null,null,null,null,null,null,null,null,null,null,null,null,null,null,null,null,null,-100]
["R1",{"$f":"'Strings & Pickups'!E9","v":6.3400000000000007},"k              R1       C1",null,{"$f":"X10","v":2.2000000000000002},"nF","       R7",null,"R5",null,{"$f":"X5","v":120},"k",null,null,{"$f":"O7/E6","v":0},null,5,0.22,2.2000000000000002,160,null,"c2",17,{"$f":"VLOOKUP((W8),$Q$3:$S$43,2)","v":2.2000000000000002},null,null,null,null,null,null,null,null,null,null,null,null,null,null,null,null,null,null,null,null,null,null,null,null,null,null,null,null,null,null,null,null,-100]
["L1",{"$f":"'Strings & Pickups'!E10","v":2.5499999999999998},"H",null,"Tone/treble",null,"R4","R5","C5",null,{"$f":"X9","v":1},"nF",null,null,null,null,6,0.27,2.7,200,null,"c5",13,{"$f":"VLOOKUP((W9),$Q$3:$S$43,2)","v":1},null,null,null,null,null,null,null,null,null,null,null,null,null,null,null,null,null,null,null,null,null,null,null,null,null,null,null,null,null,null,null,null,-100]
["C1",{"$f":"'Strings & Pickups'!E11","v":0.16},"nF                               ","Rd",{"$f":"E11/10","v":10},null,null,null,"R7",null,{"$f":"X11","v":1000000000000},"k",null,null,null,null,7,0.33,3.3000000000000003,250,null,"c6",17,{"$f":"VLOOKUP((W10),$Q$3:$S$43,2)","v":2.2000000000000002},null,null,null,null,null,null,null,null,null,null,null,null,null,null,null,null,null,null,null,null,null,null,null,null,null,null,null,null,null,null,null,null,-100]
["Rd",{"$f":"'Strings & Pickups'!E12","v":489.99999999999994},"k              L1",null,100,null,"Volume",null,null,"Output",null,null,null,null,null,null,8,0.39,3.9000000000000004,300,null,"r7",40,{"$f":"VLOOKUP((W11),$Q$3:$S$43,3)","v":1000000000000},null,null,null,null,null,null,null,null,null,null,null,null,null,null,null,null,null,null,null,null,null,null,null,null,null,null,null,null,null,null,null,null,-100]
["Select PU'  option:       Rl",{"$f":"'Strings & Pickups'!E13","v":6200},"k","Rl    ",{"$f":"Tone!R4","v":500},{"$f":"IF(Tone!B13=1,\"k lin\", \"k log\")","v":"k log"},null,null,null,null,null,"Load",null,null,null,null,9,0.47,4.6999999999999993,400,null,null,null,null,null,null,null,null,null,null,null,null,null,null,null,null,null,null,null,null,null,null,null,null,null,null,null,null,null,null,null,null,null,null,null,null,-100]
["Ld",{"$f":"'Strings & Pickups'!E14","v":12},"H","Ld  ",null,null,"Volume",{"$f":"G14/10","v":10},null,"C4         R6",null,null,null,null,"db calc",null,10,0.56000000000000005,5.6000000000000005,500,null,null,null,null,null,null,null,null,null,null,null,null,null,null,null,null,null,null,null,null,null,null,null,null,null,null,null,null,null,null,null,null,null,null,null,null,-100]
[null,null,null,null,{"$f":"100*Tone!R11/Tone!R4","v":10000000000},"R2%",100,null,"    NOT USED",null,"C4",0.5,"nF","ref 0db",130,"mv",11,0.68,6.8000000000000007,600,null,null,null,null,null,null,null,null,null,null,null,null,null,null,null,null,null,null,null,null,null,null,null,null,null,null,null,null,null,null,null,null,null,null,null,null,-100]
[null,null,null,null,null,null,"R3%",{"$f":"IF(Tone!B3=1,G14,(IF(G14<50,G14*0.2,(G14-50)/50*90+10)))","v":100},"%",null,"R6",1000,"k","ouput mv",220,"mv",12,0.82,8.1999999999999993,800,null,null,null,5,null,null,null,null,null,null,null,null,null,null,null,null,null,null,null,null,null,null,null,null,null,null,null,null,null,null,null,null,null,null,null,null,-100]
[null,null,"dcΩ(k)",{"$f":"1/(1/B8+1/B11+1/B12)","v":6.252703775654096},{"$f":"X8*10","v":22},"nF",null,{"$f":"X7","v":250},{"$f":"IF(Tone!B3=1,\"k lin\",\"k log\")","v":"k log"},null,null,null,null,"db",{"$f":"20*LOG(O15/O14)","v":4.569586570307389},"db",13,1,10,1000,null,null,null,null,null,null,null,null,null,null,null,null,null,null,null,null,null,null,null,null,null,null,null,null,null,null,null,null,null,null,null,null,null,null,null,null,-100]
[13,null,null,null,null,null,null,null,null,"Current (Red) trace:",null,"Tone control selection:",null,null,null,null,14,{"$f":"R5*10","v":1.2},12,1250,null,null,null,null,null,null,null,null,null,null,null,null,null,null,null,null,null,null,null,null,null,null,null,null,null,null,null,null,null,null,null,null,null,null,null,null,-100]
[1,{"$f":"'Strings & Pickups'!F25","v":"Shredder"},null,null,null,null,null,null,null,"Freq.","db",{"$f":"Tone!R3","v":"No-load"},null,null,null,null,15,{"$f":"R6*10","v":1.5},15,1600,null,null,null,null,null,null,null,null,null,null,null,null,null,null,null,null,null,null,null,null,null,null,null,null,null,null,null,null,null,null,null,null,null,null,null,null,-100]
[2,{"$f":"'Strings & Pickups'!F26","v":"HSS Strat"},null,null,null,null,null,null,null,"110 Hz",{"$f":"AX63","v":-5.4592992057487253},null,null,null,null,null,16,{"$f":"R7*10","v":1.7999999999999998},18,2000,null,null,null,null,null,null,null,null,null,null,null,null,null,null,null,null,null,null,null,null,null,null,null,null,null,null,null,null,null,null,null,null,null,null,null,null,-100]
[3,{"$f":"'Strings & Pickups'!F27","v":"Strat Texas Specials"},null,null,null,null,null,null,null,"220 Hz",{"$f":"AX75","v":-2.6228701729688915},null,null,null,null,null,17,2.2000000000000002,20,1000000000,null,null,null,null,null,null,null,null,null,null,null,null,null,null,null,null,null,null,null,null,null,null,null,null,null,null,null,null,null,null,null,null,null,null,null,null,-100]
[4,{"$f":"'Strings & Pickups'!F28","v":"Strat Fat50"},null,null,null,null,null,null,null,"440 Hz",{"$f":"AX87","v":-2.5822647183408063},null,null,null,null,null,18,2.7,{"$f":"R20*10","v":22},null,null,null,null,null,null,null,null,null,null,null,null,null,null,null,null,null,null,null,null,null,null,null,null,null,null,null,null,null,null,null,null,null,null,null,null,null,-100]
[5,{"$f":"'Strings & Pickups'!F29","v":"Pearly Gates LP"},null,null,null,null,null,null,null,"880 Hz",{"$f":"AX99","v":-2.3019261102979618},null,null,null,null,null,19,3.3000000000000003,27,null,null,null,null,null,null,null,null,null,null,null,null,null,null,null,null,null,null,null,null,null,null,null,null,null,null,null,null,null,null,null,null,null,null,null,null,null,-100]
[6,{"$f":"'Strings & Pickups'!F30","v":"Seth Lover LP"},null,null,null,null,null,null,null,"1760 Hz",{"$f":"AX111","v":-2.3979146545594849},null,null,null,null,null,20,3.9000000000000004,33,null,null,null,null,null,null,null,null,null,null,null,null,null,null,null,null,null,null,null,null,null,null,null,null,null,null,null,null,null,null,null,null,null,null,null,null,null,-100]
[7,{"$f":"'Strings & Pickups'!F31","v":"Vintage Tele"},null,null,null,null,null,null,null,"3520 Hz",{"$f":"AX123","v":-4.666430509969917},null,null,null,null,null,21,4.6999999999999993,39,null,null,null,null,null,null,null,null,null,null,null,null,null,null,null,null,null,null,null,null,null,null,null,null,null,null,null,null,null,null,null,null,null,null,null,null,null,-100]
[8,{"$f":"'Strings & Pickups'!F32","v":"Hot Tele"},null,null,null,null,null,null,null,"7040 Hz",{"$f":"AX135","v":-23.593274204238096},null,null,null,null,null,22,5.6000000000000005,46.999999999999993,null,null,null,null,null,null,null,null,null,null,null,null,null,null,null,null,null,null,null,null,null,null,null,null,null,null,null,null,null,null,null,null,null,null,null,null,null,-100]
[9,{"$f":"'Strings & Pickups'!F33","v":"P90 LP"},null,null,null,7,null,null,null,"range: from Hz",400,"to Hz",5000,null,null,null,23,6.8000000000000007,56.000000000000007,null,null,null,null,null,null,null,null,null,null,null,null,null,null,null,null,null,null,null,null,null,null,null,null,null,null,null,null,null,null,null,null,null,null,null,null,null,-100]
[10,{"$f":"'Strings & Pickups'!F34","v":"Gretsch Filtertrons"},null,null,null,null,null,null,null,"Max db",{"$f":"AT36","v":-2.2169523040951571},"@ freq.(Hz)",{"$f":"AT37","v":1108.730523907491},null,null,null,24,8.1999999999999993,68,null,null,null,null,null,null,null,null,null,null,null,null,null,null,null,null,null,null,null,null,null,null,null,null,null,null,null,null,null,null,null,null,null,null,null,null,"ref freq",-100,{"$f":"110*2^(-10/12)","v":61.735412657015516},{"$f":"110*2^(-10/12)","v":61.735412657015516},61.735412657015516,61.735412657015516,61.735412657015516,61.735412657015516,61.735412657015516]
[11,{"$f":"'Strings & Pickups'!F35","v":"Gretsch w/TV Jones Classics"},null,null,null,null,null,null,null,"Min db",{"$f":"AT39","v":-15.375527504699082},"@ freq.(Hz)",{"$f":"AT40","v":4978.0317395533111},null,null,null,25,10,82,null,null,null,null,null,null,null,null,null,null,null,null,null,null,null,null,null,null,null,null,null,null,null,null,null,null,null,null,null,null,null,null,null,null,null,null,"F0  ",-100,{"$f":"'Strings & Pickups'!B58","v":61.735412657015509},{"$f":"'Strings & Pickups'!B59","v":82.40688922821748},{"$f":"'Strings & Pickups'!B60","v":110},{"$f":"'Strings & Pickups'!B61","v":146.83238395870379},{"$f":"'Strings & Pickups'!B62","v":195.99771799087466},{"$f":"'Strings & Pickups'!B63","v":246.94165062806209},{"$f":"'Strings & Pickups'!B64","v":329.62755691286998}]
[12,{"$f":"'Strings & Pickups'!F36","v":"P/J Bass"},null,null,null,null,null,null,null,"diff.max-min (all traces wrt. Reference) db",null,null,{"$f":"Chart!AG102","v":43.819426735358128},null,null,null,26,12,100,null,null,null,null,null,null,null,null,null,null,null,null,null,null,null,null,null,null,null,null,null,null,null,null,null,null,null,null,null,null,null,null,null,null,null,null,"F0 offset",-100,{"$f":"INT((LOG(BF28/BF27))/LOG(2^(1/12))+0.5)","v":0},5,10,15,20,24,29]
[13,{"$f":"'Strings & Pickups'!F37","v":"Select PU"},null,null,null,null,null,null,null,"Strings","Legend:","Envelope",null,null,null,null,27,15,120,null,null,null,null,null,null,null,null,null,null,null,null,null,null,null,null,null,null,null,null,null,null,null,null,null,null,null,null,null,null,null,null,null,null,null,null,"fret offset",-100]
[null,null,null,null,null,null,null,null,null,null,null,null,null,null,null,null,28,18,150,null,null,null,null,null,null,null,null,null,null,null,null,null,null,null,null,null,null,null,null,null,null,null,null,null,null,null,null,null,null,null,null,null,null,null,null,"Offset",-100,{"$f":"-BF29-BF30","v":0},{"$f":"-BG29-BG30","v":-5},-10,-15,-20,-24,-29]
[null,null,null,null,null,null,null,null,null,null,null,null,null,null,null,null,29,22,180,null,null,null,null,null,null,null,null,null,null,null,null,null,null,null,null,null,null,null,null,null,null,null,null,null,null,null,null,null,null,null,null,null,null,null,null,null,-100]
[null,null,null,null,null,null,null,null,null,null,null,null,null,null,null,null,30,27,220,null,null,null,null,null,null,null,null,null,null,null,null,null,null,null,null,null,null,null,null,null,null,null,null,null,null,null,null,null,null,null,null,null,null,null,null,null,-100]
[null,null,null,null,null,null,null,null,null,null,"GuitarFreak",null,null,null,null,null,31,33,270,null,null,null,null,null,null,null,null,null,null,null,null,null,null,null,null,null,null,null,null,null,null,null,null,null,null,null,null,null,null,null,null,null,null,null,null,null,-100]
[null,null,null,null,null,null,null,null,null,null,"ver 6.6.0","©J Hewitt","2019-12-01",null,null,null,32,39,330,null,null,null,null,null,null,null,null,null,null,null,null,null,null,null,null,null,null,null,null,null,null,null,null,null,"Vol match","max vol",null,null,null,null,null,null,null,null,null,null,-100]
[null,null,null,"Z ref freq",440,null,4,null,null,null,null,null,null,null,null,null,33,{"$f":"R24*10","v":46.999999999999993},390,null,null,null,null,null,null,null,null,null,null,null,null,null,null,null,null,null,null,null," ",null,null,null,null,null,false,{"$f":"MAX(AV46:AV142)","v":-2.2169523040951571},"db",null,null,null,null,null,null,null,null,null,-100]
[null,null,null,null,null,null,null,null,null,null,null,null,null,null,null,null,34,56.000000000000007,469.99999999999994,null,null,null,null,null,null,null,null,null,null,null,null,null,null,null,null,null,null,null,null,null,null,null,null,null,"440hz diff",{"$f":"VLOOKUP(AT36,AV46:AW142,2,FALSE)","v":1108.730523907491},"hz",2,null,null,null,null,null,null,null,"db adj",-100]
[null,null,null,null,null,null,null,null,null,null,null,null,null,null,null,null,35,68,560.00000000000011,null,null,null,null,null,null,null,null,null,null,null,null,null,null,null,null,null,null,null,null,null,null,null,null,null,{"$f":"AX87-AY87","v":-2.5822647183408063},"min vol",null,"Full response",null,{"$f":"IF(AV$37=1,1,0)","v":0},null,null,null,null,null,{"$f":"G36","v":4},-100]
[null,null,null,null,null,null,null,null,null,null,null,null,null,null,null,null,36,82,680,null,null,null,null,null,null,null,null,null,null,null,null,null,null,null,null,null,null,null,null,null,null,null,null,null,null,{"$f":"MIN(AZ46:AZ142)","v":-15.375527504699082},"db","Envelope",null,{"$f":"IF(AV$37=2,1,0)","v":1},null,null,null,null,null,{"$f":"G36","v":4},-100,{"$f":"IF(BF44,1,\"\")","v":""},1,1,1,1,1,1,"min F"]
[null,null,null,null,null,{"$f":"AW123","v":3520.0000000000105},{"$f":"AX123","v":-4.666430509969917},null,null,null,null,null,null,null,null,null,37,100,820,null,null,null,null,null,null,null,null,null,null,null,null,null,null,null,null,null,null,null,null,null,"elect db",null,null,null,"string factor",{"$f":"VLOOKUP(AT39,AV46:AW142,2,FALSE)","v":4978.0317395533111},"hz","Smooth env.",null,{"$f":"IF(AV$37=3,1,0)","v":0},null,null,null,null,null,{"$f":"G36","v":4},-100,{"$f":"IF(BF39=1,BF28,\"\")","v":""},{"$f":"IF(BG39=1,BG28,\"\")","v":82.40688922821748},110,146.83238395870379,195.99771799087466,246.94165062806209,329.62755691286998,{"$f":"MIN(BF40:BL40)","v":82.40688922821748},null,null,null,null,null,"Pickup impedance"]
[null,{"$f":"J27","v":"Max db"},{"$f":"K27","v":-2.2169523040951571},{"$f":"L27","v":"@ freq.(Hz)"},{"$f":"M27","v":1108.730523907491},{"$f":"AW124","v":3729.3100921447308},{"$f":"AX124","v":-5.7370053147339792},null,null,null,null,null,null,null,null,null,38,120,1000,null,null,null,null,null,null,null,null,null,null,null,null,null,null,null,null,null,null,null,null,null,true,null,null,null,false,null,null,"Electrical only",null,{"$f":"IF(AV$37=4,1,0)","v":0},null,null,null,null,null,0,-100,null,null,null,null,null,null,null," "]
[null,null,null,null,null,null,null,null,null,null,null,null,null,null,null,null,39,150,1200,125,"50's multiplier",{"$f":"1-AF43","v":0},null,null,null,null,null,null,null,null,null,"Modern tone multiplier",null,null,null,null,null,null,null,null,{"$f":"IF(AX42=0,1,0)","v":1},null,null,null,{"$f":"IF(AS41,1,0)","v":0},null,null,"Strings & PU's only",null,{"$f":"IF(AV$37=5,1,0)","v":0},null,null,null,null,null,{"$f":"G36","v":4},-100]
["freq","Pickup",null,null,"Tone",null,null,null,null,"Treb Bleed +Vol upper",null,null,null,null,null,null,40,1800,1000000000000,null,"Vol lower+50's tone",null,null,null,null,"Vol +Tbass",null,null,null,null,null,1,null,null,null,null,"Total Impedance",null,null,null,null,null,null,null,{"$f":"IF(AS41,0,1)","v":1},null,null,null,null,null,null,null,null,null,null,{"$f":"AX38*BD38+AX39*BD39+AX40*BD40+AX41*BD41+AX42*BD42","v":4},-100,7,6,5,4,3,2,1,null,null,null,null,null,null,"1/Coil impedance",null,null,"1/C1","1/A+1/C1"]
[null,"L1+R1=A",null,"1/c1","see tone page",null,"1/tone=C",null,null,"1/(R3t+R5)=D","1/c3+1/r7=W",null,"1/W",null,null,"C3//R7+R4",null,"1/(c3+R4) +1/C5=E",null,null,"D+E",null,"1/(D+E)=F",null,null,"1/(R3l+R6)=G","1/C4=H","1/(G+H) = K",null,null,"F+K+TBass=L",null,null,"1/L=M",null,null,"B+C+M+V=N",null,"1/N=P",null,null,"A+P",null,null,"V1","Vout",null,null,"freq","Output db",null,null,{"$f":"AX38+AX42","v":0},{"$f":"IF(BA44=0,1,0)*ABS(AX41-1)","v":1},{"$f":"(BA44+BB44)*AX39+BA44","v":1},{"$f":"(BA44+BB44)*AX40","v":0},-100,false,true,true,true,true,true,true,null,{"$f":"AX41","v":0},"total db adjust",null,"Rd","Ld","1/(Rd+Ld)+1/Rl=V",null,null,null,null,{"$f":"G147","v":"1/(R1+L1)=1/A"},null,null,null,"=1/PU imped",null,"Impedance"]
["Hz",null,"j","j",null,"j","mag",null,"j",null,"1/r7","1/c3","mag",null,"j",null,"j","mag",null,"j",null,"j","mag",null,"j",null,"j","mag",null,"j",null,"j","mag","mag",null,"j",null,"j","mag",null,"j",null,"j","mag",null,null,null,null,null,null,null,null,"string harms","string env","PU env","PU smth env",-100,null,null,null,null,null,null,null,null,"elect only",null,null,null,"j","mag 1/(Rd+Ld)",null,"j",null,null,"Mag",null,{"$f":"I148","v":"j"},"j",null,null,"mag",null,"j"]
[{"$f":"440/2^(3+5/12)","v":41.203444614108754},{"$f":"$B$8*1000","v":6340.0000000000009},{"$f":"2*PI()*A46*$B$9","v":660.16663840161777},{"$f":"2*PI()*$B$10*0.000000001*$A46","v":4.1422220448728961E-8},{"$f":"Tone!BA47","v":47619047619045.344},{"$f":"Tone!BB47","v":-168011.02744229056},{"$f":"1/(E46^2+F46^2)^0.5","v":2.1000000000001002E-14},{"$f":"E46*G46^2","v":2.1000000000001002E-14},{"$f":"-F46*G46^2","v":7.4092863102057215E-23},{"$f":"(1/($H$16*1000*(100.00000001-$H$15)/100)+1/$K$8/1000)","v":40000.025120443694},{"$f":"1/$K$10/1000","v":1.0000000000000001E-15},{"$f":"2*PI()*$K$6*0.000000001*$A46","v":2.5888887780455598E-11},{"$f":"1/(K46^2+L46^2)^0.5","v":38626611067.043457},{"$f":"K46*M46^2","v":1492015.082524644},{"$f":"-L46*M46^2","v":-38626611038.227707},{"$f":"$K$7*1000+N46","v":1000000001492015.1},{"$f":"O46","v":-38626611038.227707},{"$f":"1/(P46^2+Q46^2)^0.5","v":9.9999999776197743E-16},{"$f":"P46*R46^2","v":9.9999999701597002E-16},{"$f":"-Q46*R46^2+2*PI()*A46*$K$9*0.000000001","v":2.5888887780459465E-7},{"$f":"J46+S46","v":40000.025120443694},{"$f":"T46","v":2.5888887780459465E-7},{"$f":"1/(U46^2+V46^2)^0.5","v":2.499998429973255E-5},{"$f":"U46*W46^2","v":2.499998429973255E-5},{"$f":"-V46*W46^2","v":-1.618053453967044E-16},{"$f":"1/($H$16*1000*$H$15/100)+H46*$V$42","v":3.9999999999999998E-6},{"$f":"I46*$V$42","v":0},{"$f":"1/(Z46^2+AA46^2)^0.5","v":250000},{"$f":"Z46*AB46^2","v":250000},{"$f":"-AA46*AB46^2","v":0},{"$f":"X46+AC46+E149","v":250000.00002599999},{"$f":"Y46+AD46+F149","v":-1.6237490092787444E-16},{"$f":"(AE46^2+AF46^2)^0.5","v":250000.00002599999},{"$f":"1/(AE46^2+AF46^2)^0.5","v":3.9999999995839999E-6},{"$f":"AE46*AH46^2","v":3.9999999995839999E-6},{"$f":"-AF46*AH46^2","v":2.5979984143056073E-27},{"$f":"H46*$AF$43+AI46+BT46","v":6.2020246376422233E-6},{"$f":"+D46+I46*$AF$43+AJ46+BU46","v":2.8483687924780316E-8},{"$f":"1/(AK46^2+AL46^2)^0.5","v":161235.96928502174},{"$f":"AK46*AM46^2","v":161234.26888723747},{"$f":"-AL46*AM46^2","v":-740.49151141555319},{"$f":"B46+AN46","v":167574.26888723747},{"$f":"C46+AO46","v":-80.324873013935417},{"$f":"(AP46^2+AQ46^2)^0.5","v":167574.28813865624},{"$f":"AM46/AR46","v":0.96217606576738091},{"$f":"AS46*AB46/AG46","v":0.96217606566731462},{"$f":"IF($AO$42=0,1,AK149)","v":0.9564139036862005},{"$f":"IF(AY46,-1000,AX46)","v":-1000},{"$f":"A46","v":41.203444614108754},{"$f":"IF(AW46<$BM$40,NA(),20*LOG(AU46)+BO46)","v":{"$error":"#N/A"}},{"$f":"OR(AW46<$K$26,AW46>$M$26,ISNA(AX46))","v":true},{"$f":"IF(AV46=-1000,1000,AV46)","v":1000},{"$f":"Strings!H62","v":-50},{"$f":"Strings!B62","v":-100},{"$f":"harmonics!BA21","v":-100},{"$f":"harmonics!BB21","v":-100},-100,{"$f":"IF(BF$44,OFFSET($BE46,BF$31,0),-100)","v":-100},-100,-100,-100,-100,-100,-100,{"$f":"IF(MAX(BF46:BL46)<-80,#N/A,(MAX(BF46:BL46)))","v":{"$error":"#N/A"}},{"$f":"$B$7","v":1.1204280713319332},{"$f":"BM46+BN46*$BN$44+$BD$43","v":{"$error":"#N/A"}},null,{"$f":"$B$11*1000","v":489999.99999999994},{"$f":"2*PI()*$B$13*A46","v":3106.6665336546716},{"$f":"1/(BQ46^2+BR46^2)^0.5","v":2.04077531009192E-6},{"$f":"BQ46*BS46^2+1/$B$12/1000","v":2.2020246170582234E-6},{"$f":"-BR46*BS46^2","v":-1.2938532523948716E-8},null,null,1.568805126446212E-4,{"$f":"H149","v":1.5603687987003224E-4},-1.6247688083671332E-5,{"$f":"D46","v":4.1422220448728961E-8},{"$f":"BY46","v":1.5603687987003224E-4},{"$f":"BZ46+CA46","v":-1.6206265863222602E-5},{"$f":"1/(CB46^2+CC46^2)^0.5","v":6374.4520907739188},{"$f":"CB46*CD46^2","v":6340.3463187233619},{"$f":"-CC46*CD46^2","v":658.51956403974384}]
[{"$f":"A46*2^(1/12)","v":43.6535289291255},{"$f":"$B$8*1000","v":6340.0000000000009},{"$f":"2*PI()*A47*$B$9","v":699.42218951375185},4.3885313851843263E-8,{"$f":"Tone!BA48","v":47619047619045.344},{"$f":"Tone!BB48","v":-158581.29305003711},{"$f":"1/(E47^2+F47^2)^0.5","v":2.1000000000001002E-14},{"$f":"E47*G47^2","v":2.1000000000001002E-14},{"$f":"-F47*G47^2","v":6.9934350235073042E-23},40000.025120443694,{"$f":"1/$K$10/1000","v":1.0000000000000001E-15},{"$f":"2*PI()*$K$6*0.000000001*$A47","v":2.7428321157402036E-11},{"$f":"1/(K47^2+L47^2)^0.5","v":36458665975.09613},{"$f":"K47*M47^2","v":1329234.3246836322},{"$f":"-L47*M47^2","v":-36458665950.865074},{"$f":"$K$7*1000+N47","v":1000000001329234.4},{"$f":"O47","v":-36458665950.865074},{"$f":"1/(P47^2+Q47^2)^0.5","v":9.9999999800614842E-16},{"$f":"P47*R47^2","v":9.9999999734153114E-16},2.7428321157405683E-7,40000.025120443694,{"$f":"T47","v":2.7428321157405683E-7},{"$f":"1/(U47^2+V47^2)^0.5","v":2.499998429973255E-5},{"$f":"U47*W47^2","v":2.499998429973255E-5},{"$f":"-V47*W47^2","v":-1.714267919178642E-16},3.9999999999999998E-6,0,{"$f":"1/(Z47^2+AA47^2)^0.5","v":250000},{"$f":"Z47*AB47^2","v":250000},{"$f":"-AA47*AB47^2","v":0},250000.00002599999,-1.7203021498332705E-16,{"$f":"(AE47^2+AF47^2)^0.5","v":250000.00002599999},{"$f":"1/(AE47^2+AF47^2)^0.5","v":3.9999999995839999E-6},{"$f":"AE47*AH47^2","v":3.9999999995839999E-6},{"$f":"-AF47*AH47^2","v":2.7524834391607163E-27},6.2020145922822285E-6,3.0177483623640433E-8,{"$f":"1/(AK47^2+AL47^2)^0.5","v":161236.02219005275},{"$f":"AK47*AM47^2","v":161234.1135464262},{"$f":"-AL47*AM47^2","v":-784.52569704918926},167574.1135464262,-85.103507535437416,{"$f":"(AP47^2+AQ47^2)^0.5","v":167574.13515658534},{"$f":"AM47/AR47","v":0.96217725987002645},{"$f":"AS47*AB47/AG47","v":0.96217725976996005},0.95642386626295595,{"$f":"IF(AY47,-1000,AX47)","v":-1000},43.6535289291255,{"$error":"#N/A"},{"$f":"OR(AW47<$K$26,AW47>$M$26,ISNA(AX47))","v":true},{"$f":"IF(AV47=-1000,1000,AV47)","v":1000},{"$f":"Strings!E63","v":-50},{"$f":"Strings!B63","v":-100},{"$f":"harmonics!BA22","v":-100},{"$f":"harmonics!BB22","v":-100},-100,-100,-100,-100,-100,-100,-100,-100,{"$f":"IF(MAX(BF47:BL47)<-80,#N/A,(MAX(BF47:BL47)))","v":{"$error":"#N/A"}},1.1204280713319332,{"$error":"#N/A"},null,489999.99999999994,3291.3985388882443,{"$f":"1/(BQ47^2+BR47^2)^0.5","v":2.0407702873047933E-6},2.2020145716982286E-6,{"$f":"-BR47*BS47^2","v":-1.3707830228202905E-8},null,null,1.5677757882787721E-4,1.5583218647465216E-4,-1.7191244331359065E-5,4.3885313851843263E-8,{"$f":"BY47","v":1.5583218647465216E-4},{"$f":"BZ47+CA47","v":-1.7147359017507221E-5},{"$f":"1/(CB47^2+CC47^2)^0.5","v":6378.6586326355673},{"$f":"CB47*CD47^2","v":6340.388731572225},{"$f":"-CC47*CD47^2","v":697.67949966171352}]
[46.249302838954314,6340.0000000000009,741.01199716579299,4.6494870410402708E-8,{"$f":"Tone!BA49","v":47619047619045.344},{"$f":"Tone!BB49","v":-149680.80898177804},2.1000000000001002E-14,2.1000000000001002E-14,6.600923676097042E-23,40000.025120443694,{"$f":"1/$K$10/1000","v":1.0000000000000001E-15},{"$f":"2*PI()*$K$6*0.000000001*$A48","v":2.9059294006501689E-11},{"$f":"1/(K48^2+L48^2)^0.5","v":34412398291.030563},{"$f":"K48*M48^2","v":1184213.1561405233},{"$f":"-L48*M48^2","v":-34412398270.654755},{"$f":"$K$7*1000+N48","v":1000000001184213.1},{"$f":"O48","v":-34412398270.654755},9.9999999822368017E-16,9.999999976315734E-16,2.9059294006505132E-7,40000.025120443694,2.9059294006505132E-7,2.499998429973255E-5,2.499998429973255E-5,-1.8162035942138481E-16,3.9999999999999998E-6,0,250000,250000,0,250000.00002599999,-1.8225966388952786E-16,250000.00002599999,3.9999999995839999E-6,3.9999999995839999E-6,2.9161546216258855E-27,6.2020033168646739E-6,3.1972010422084862E-8,161236.08156821955,161233.93917351132,-831.17872085487966,167573.93917351132,-90.166723689086666,167573.9634315717,0.96217860022186441,0.9621786001217979,0.95643504909622024,-1000,46.249302838954314,{"$error":"#N/A"},true,1000,{"$f":"Strings!E64","v":-50},{"$f":"Strings!B64","v":-100},{"$f":"harmonics!BA23","v":-100},{"$f":"harmonics!BB23","v":-100},-100,-100,-100,-100,-100,-100,-100,-100,{"$error":"#N/A"},1.1204280713319332,{"$error":"#N/A"},null,489999.99999999994,3487.1152807802023,2.0407646494610434E-6,2.202003296280674E-6,-1.4522859988317914E-8,null,null,1.5666228052808976E-4,1.5560306468926041E-4,-1.8186709421215605E-5,4.6494870410402708E-8,1.5560306468926041E-4,-1.8140214550805201E-5,6383.3770810783772,6340.4363388919392,739.16844609012367]
[48.99942949771868,6340.0000000000009,785.07486347463237,4.9259599276839689E-8,{"$f":"Tone!BA50","v":47619047619045.344},{"$f":"Tone!BB50","v":-141279.87069931562},2.1000000000001002E-14,2.1000000000001002E-14,6.2304422978404142E-23,40000.025120443694,1.0000000000000001E-15,3.0787249548024804E-11,32480978786.773415,1055013.9829468247,-32480978769.639473,1000000001055014,-32480978769.639473,9.9999999841747903E-16,9.9999999788997209E-16,3.0787249548028051E-7,40000.025120443694,3.0787249548028051E-7,2.499998429973255E-5,2.499998429973255E-5,-1.9242006799122523E-16,3.9999999999999998E-6,0,250000,250000,0,250000.00002599999,-1.9309738748128178E-16,250000.00002599999,3.9999999995839999E-6,3.9999999995839999E-6,3.0895581990578803E-27,6.2019906607848104E-6,3.3873260518152691E-8,161236.14821074819,161233.7434355084,-880.60638824258695,167573.7434355084,-95.531524767954579,167573.7706661213,0.962180104737272,0.96218010463720527,0.95644760167802179,-1000,48.99942949771868,{"$error":"#N/A"},true,1000,{"$f":"Strings!E65","v":-50},{"$f":"Strings!B65","v":-100},{"$f":"harmonics!BA24","v":-100},{"$f":"harmonics!BB24","v":-100},-100,-100,-100,-100,-100,-100,-100,-100,{"$error":"#N/A"},1.1204280713319332,{"$error":"#N/A"},null,489999.99999999994,3694.4699457629763,2.0407583212510588E-6,2.2019906402008105E-6,-1.5386338758687062E-8,null,null,1.5653316508740746E-4,1.5534668543626509E-4,-1.9236400293393132E-5,4.9259599276839689E-8,1.5534668543626509E-4,-1.9187140694116291E-5,6388.6692934193734,6340.4897769397221,783.12497674538963]
[51.913087197493162,6340.0000000000009,831.75784416053534,5.2188727476739485E-8,{"$f":"Tone!BA51","v":47619047619045.344},{"$f":"Tone!BB51","v":-133350.44085207497},2.1000000000001002E-14,2.1000000000001002E-14,5.8807544415770679E-23,40000.025120443694,1.0000000000000001E-15,3.2617954672962172E-11,30657961529.358841,939910.60513564677,-30657961514.95097,1000000000939910.6,-30657961514.95097,9.9999999859013406E-16,9.9999999812017866E-16,3.2617954672965241E-7,40000.025120443694,3.2617954672965241E-7,2.499998429973255E-5,2.499998429973255E-5,-2.0386196065080716E-16,3.9999999999999998E-6,0,250000,250000,0,250000.00002599999,-2.0457955565361232E-16,250000.00002599999,3.9999999995839999E-6,3.9999999995839999E-6,3.2732728897769565E-27,6.2019764550024758E-6,3.5887582881391842E-8,161236.22300537338,161233.52371313993,-932.97378464682618,167573.52371313993,-101.21594048629083,167573.5542808139,0.96218179352560229,0.96218179342553545,0.95646169182228502,-1000,51.913087197493162,{"$error":"#N/A"},true,1000,{"$f":"Strings!E66","v":-50},{"$f":"Strings!B66","v":-100},{"$f":"harmonics!BA25","v":-100},{"$f":"harmonics!BB25","v":-100},-100,-100,-100,-100,-100,-100,-100,-100,{"$error":"#N/A"},1.1204280713319332,{"$error":"#N/A"},null,489999.99999999994,3914.1545607554608,2.0407512181456417E-6,2.2019764344184759E-6,-1.6301144595347703E-8,null,null,1.5638861748829439E-4,1.5505991397056639E-4,-2.0342634031526241E-5,5.2188727476739485E-8,1.5505991397056639E-4,-2.0290445304049501E-5,6394.6044896516423,6340.5497599243554,829.69592080239556]
[55.000000000000021,6340.0000000000009,881.21673933193722,5.5292030703180388E-8,{"$f":"Tone!BA52","v":47619047619045.344},{"$f":"Tone!BB52","v":-125866.05570505312},2.1000000000001002E-14,2.1000000000001002E-14,5.550693056593373E-23,40000.025120443694,1.0000000000000001E-15,3.455751918948774E-11,28937262368.229069,837365.15336772625,-28937262356.113544,1000000000837365.1,-28937262356.113544,9.9999999874395247E-16,9.9999999832527007E-16,3.4557519189490638E-7,40000.025120443694,3.4557519189490638E-7,2.499998429973255E-5,2.499998429973255E-5,-2.1598422365325483E-16,3.9999999999999998E-6,0,250000,250000,0,250000.00002599999,-2.1674448907542357E-16,250000.00002599999,3.9999999995839999E-6,3.9999999995839999E-6,3.4679118244854514E-27,6.2019605097865284E-6,3.8021704554008794E-8,161236.30694805676,161233.27706562198,-988.4558302475757,167573.27706562198,-107.23909091563849,167573.31137962971,0.96218368916028185,0.96218368906021479,0.95647750791241515,-1000,55.000000000000021,{"$error":"#N/A"},true,1000,{"$f":"Strings!E67","v":-50},{"$f":"Strings!B67","v":-100},{"$f":"harmonics!BA26","v":-100},{"$f":"harmonics!BB26","v":-12.911516427231227},-100,-100,-100,-100,-100,-100,-100,-100,{"$error":"#N/A"},1.1204280713319332,{"$error":"#N/A"},null,489999.99999999994,4146.9023027385283,2.0407432452677347E-6,2.2019604892025289E-6,-1.7270326149171647E-8,null,null,1.5622684432518651E-4,1.5473928246869046E-4,-2.150770440751151E-5,5.5292030703180388E-8,1.5473928246869046E-4,-2.145241237680833E-5,6401.2601003668015,6340.6170895612313,879.03685708396642]
[58.270470189761262,6340.0000000000009,933.61661345382277,5.8579865942200658E-8,{"$f":"Tone!BA53","v":47619047619045.344},{"$f":"Tone!BB53","v":-118801.73681856274},2.1000000000001002E-14,2.1000000000001002E-14,5.2391565936991174E-23,40000.025120443694,1.0000000000000001E-15,3.6612416213875408E-11,27313138629.949673,746007.54181884916,-27313138619.761768,1000000000746007.5,-27313138619.761768,9.9999999888098866E-16,9.9999999850798485E-16,3.6612416213878138E-7,40000.025120443694,3.6612416213878138E-7,2.499998429973255E-5,2.499998429973255E-5,-2.2882731392446537E-16,3.9999999999999998E-6,0,250000,250000,0,250000.00002599999,-2.2963278708117061E-16,250000.00002599999,3.9999999995839999E-6,3.9999999995839999E-6,3.6741245925345118E-27,6.2019426121835968E-6,4.0282753234989831E-8,161236.40115611366,161233.00019109788,-1047.2378682246979,167573.00019109788,-113.62125477087511,167573.0387109908,0.96218581698094174,0.96218581688087435,0.95649526142512498,-1000,58.270470189761262,{"$error":"#N/A"},true,1000,{"$f":"Strings!E68","v":-50},{"$f":"Strings!B68","v":-100},{"$f":"harmonics!BA27","v":-100},{"$f":"harmonics!BB27","v":-12.417305496077617},-100,-100,-100,-100,-100,-100,-100,-100,{"$error":"#N/A"},1.1204280713319332,{"$error":"#N/A"},null,489999.99999999994,4393.4899456650483,2.0407342961261801E-6,2.2019425915995965E-6,-1.829711270721088E-8,null,null,1.5604585674200452E-4,1.5438096163623488E-4,-2.2733853404505701E-5,5.8579865942200658E-8,1.5438096163623488E-4,-2.26752735385635E-5,6408.7227051585805,6340.6926657997765,931.31263788699789]
[61.735412657015537,6340.0000000000009,989.1323462350332,6.2063206038276596E-8,{"$f":"Tone!BA54","v":47619047619045.344},{"$f":"Tone!BB54","v":-112133.90768501241},2.1000000000001002E-14,2.1000000000001002E-14,4.9451053289095195E-23,40000.025120443694,1.0000000000000001E-15,3.8789503773922867E-11,25780169952.572693,664617.16278353194,-25780169944.005718,1000000000664617.1,-25780169944.005718,9.9999999900307435E-16,9.999999986707659E-16,3.8789503773925454E-7,40000.025120443694,3.8789503773925454E-7,2.499998429973255E-5,2.499998429973255E-5,-2.4243409408433797E-16,3.9999999999999998E-6,0,250000,250000,0,250000.00002599999,-2.4328746316736426E-16,250000.00002599999,3.9999999995839999E-6,3.9999999995839999E-6,3.8925994098681674E-27,6.2019225231775088E-6,4.2678281226571156E-8,161236.5068829153,161232.68938217717,-1109.5162886432597,167572.68938217717,-120.38394240822652,167572.73262398396,0.96218820543264338,0.96218820533257587,0.95651518976459915,{"$f":"IF(AY53,-1000,AX53)","v":-1000},61.735412657015537,{"$error":"#N/A"},{"$f":"OR(AW53<$K$26,AW53>$M$26,ISNA(AX53))","v":true},{"$f":"IF(AV53=-1000,1000,AV53)","v":1000},{"$f":"Strings!E69","v":1.5256151664545832},{"$f":"Strings!B69","v":1.4976594282282207},{"$f":"harmonics!BA28","v":-12.911516427231227},{"$f":"harmonics!BB28","v":-11.924016485716253},{"$f":"(BA53*$BA$44+BB53*$BB$44+BC53*$BC$44+BD53*$BD$44)","v":-11.413856999003006},-100,-100,-100,-100,-100,-100,-100,{"$error":"#N/A"},1.1204280713319332,{"$error":"#N/A"},null,489999.99999999994,4654.7404528707439,2.0407242511946607E-6,2.2019225025935089E-6,-1.9384924811705496E-8,null,null,1.5584345242158597E-4,1.5398073174138571E-4,-2.4023236981442283E-5,6.2063206038276596E-8,1.5398073174138571E-4,-2.3961173775404006E-5,6417.0890693583015,6340.7774988675264,986.69794462797188]
[65.406391325149684,6340.0000000000009,1047.949216273038,6.5753676315171031E-8,{"$f":"Tone!BA55","v":47619047619045.344},{"$f":"Tone!BB55","v":-105840.31504450351},2.1000000000001002E-14,2.1000000000001002E-14,4.6675578934630506E-23,40000.025120443694,1.0000000000000001E-15,4.1096047696981885E-11,24333240195.684006,592106.57842085185,-24333240188.480072,1000000000592106.6,-24333240188.480072,9.9999999911184012E-16,9.9999999881578674E-16,4.109604769698432E-7,40000.025120443694,4.109604769698432E-7,2.499998429973255E-5,2.499998429973255E-5,-2.5684997549678331E-16,3.9999999999999998E-6,0,250000,250000,0,250000.00002599999,-2.5775408854611693E-16,250000.00002599999,3.9999999995839999E-6,3.9999999995839999E-6,4.1240654158800655E-27,6.2018999745017323E-6,4.5216290827738535E-8,161236.62553434932,161232.34047596593,-1175.4991902112945,167572.34047596593,-127.54997393825647,167572.38901916062,0.96219088644677109,0.96219088634670324,0.95653755944531771,-1000,65.406391325149684,{"$error":"#N/A"},true,1000,{"$f":"Strings!E70","v":-50},{"$f":"Strings!B70","v":1.4862360636963377},{"$f":"harmonics!BA29","v":-12.417305496077617},{"$f":"harmonics!BB29","v":-11.431763016002172},-10.93106943238128,-100,-100,-100,-100,-100,-100,-100,{"$error":"#N/A"},1.1204280713319332,{"$error":"#N/A"},null,489999.99999999994,4931.5257236378266,2.0407129763169393E-6,2.201899953917732E-6,-2.0537385487432545E-8,null,null,1.5561719676794906E-4,1.5353395363565845E-4,-2.5377884287663911E-5,6.5753676315171031E-8,1.5353395363565845E-4,-2.531213061134874E-5,6426.4672871697376,6340.8727227928193,1045.377877327024]
[69.295657744218047,6340.0000000000009,1110.2635194040311,6.966359337437059E-8,{"$f":"Tone!BA56","v":47619047619045.344},{"$f":"Tone!BB56","v":-99899.954616644667},2.1000000000001002E-14,2.1000000000001002E-14,4.4055879985944507E-23,40000.025120443694,1.0000000000000001E-15,4.3539745858981617E-11,22967520365.761642,527506.99175167584,-22967520359.703876,1000000000527507,-22967520359.703876,9.9999999920873946E-16,9.9999999894498579E-16,4.3539745858983916E-7,40000.025120443694,4.3539745858983916E-7,2.499998429973255E-5,2.499998429973255E-5,-2.7212306982592947E-16,3.9999999999999998E-6,0,250000,250000,0,250000.00002599999,-2.7308094423482708E-16,250000.00002599999,3.9999999995839999E-6,3.9999999995839999E-6,4.36929510684842E-27,6.2018746650625193E-6,4.7905261265165132E-8,161236.75868724426,161231.9487978979,-1245.4070823079369,167571.9487978979,-135.14356290390583,167572.00329323485,0.96219389586872384,0.96219389576865577,0.95656266966666414,-1000,69.295657744218047,{"$error":"#N/A"},true,1000,{"$f":"Strings!E71","v":-50},{"$f":"Strings!B71","v":1.4702333352655605},{"$f":"harmonics!BA30","v":-11.924016485716253},{"$f":"harmonics!BB30","v":-10.940672809495011},-10.453783150450693,-100,-100,-100,-100,-100,-100,-100,{"$error":"#N/A"},1.1204280713319332,{"$error":"#N/A"},null,489999.99999999994,5224.7695030777941,2.0407003209172042E-6,2.2018746444785194E-6,-2.1758332109205498E-8,null,null,1.5536440349133365E-4,1.5303554050986168E-4,-2.6799649495327626E-5,6.966359337437059E-8,1.5303554050986168E-4,-2.6729985901953255E-5,6436.9780393568217,6340.9796105881051,1107.5485800938559]
[73.416191979351922,6340.0000000000009,1176.2832238220365,7.380600620059838E-8,{"$f":"Tone!BA57","v":47619047619045.344},{"$f":"Tone!BB57","v":-94293.001000717864},2.1000000000001002E-14,2.1000000000001002E-14,4.1583213441320551E-23,40000.025120443694,1.0000000000000001E-15,4.6128753875373981E-11,21678452499.859882,469955.30278868123,-21678452494.76593,1000000000469955.3,-21678452494.76593,9.9999999929506707E-16,9.9999999906008927E-16,4.6128753875376148E-7,40000.025120443694,4.6128753875376148E-7,2.499998429973255E-5,2.499998429973255E-5,-2.8830434960432815E-16,3.9999999999999998E-6,0,250000,250000,0,250000.00002599999,-2.8931918218958637E-16,250000.00002599999,3.9999999995839999E-6,3.9999999995839999E-6,4.6291069140705278E-27,6.2018462569253815E-6,5.0754177258196493E-8,161236.90810998471,161231.50909858715,-1319.4736298498781,167571.50909858715,-143.19040602784162,167571.57027691259,0.96219727393817556,0.96219727383810705,0.95659085632780338,-1000,73.416191979351922,{"$error":"#N/A"},true,1000,{"$f":"Strings!E72","v":-50},{"$f":"Strings!B72","v":1.4478998498488018},{"$f":"harmonics!BA31","v":-11.431763016002172},{"$f":"harmonics!BB31","v":-10.450889468173512},-9.9838631661533697,{"$f":"IF(BF$44,OFFSET($BE56,BF$31,0),-100)","v":-100},-100,-100,-100,-100,-100,-100,{"$error":"#N/A"},1.1204280713319332,{"$error":"#N/A"},null,489999.99999999994,5535.4504650448771,2.0406861159917523E-6,2.2018462363413816E-6,-2.3051828942401927E-8,null,null,1.550821148914507E-4,1.5247993135736044E-4,-2.8290155398296334E-5,7.380600620059838E-8,1.5247993135736044E-4,-2.8216349392095736E-5,6448.7559735495233,6341.0995912985027,1173.4179049360987]
[77.781745930520259,6340.0000000000009,1246.228664153422,7.8194739711587283E-8,{"$f":"Tone!BA58","v":47619047619045.344},{"$f":"Tone!BB58","v":-89000.741510246822},2.1000000000001002E-14,2.1000000000001002E-14,3.9249327006022596E-23,40000.025120443694,1.0000000000000001E-15,4.8871712319742046E-11,20461734453.832554,418682.57685915823,-20461734449.549068,1000000000418682.6,-20461734449.549068,9.9999999937197608E-16,9.9999999916263488E-16,4.8871712319744088E-7,40000.025120443694,4.8871712319744088E-7,2.499998429973255E-5,2.499998429973255E-5,-3.0544781834904395E-16,3.9999999999999998E-6,0,250000,250000,0,250000.00002599999,-3.0652299602007826E-16,250000.00002599999,3.9999999995839999E-6,3.9999999995839999E-6,4.9043679353011438E-27,6.2018143708117649E-6,5.3772559321213908E-8,161237.07578556752,161231.0154828197,-1397.9464437492793,167571.0154828197,-151.71777959585734,167571.08416498368,0.96220106582839826,0.96220106572832931,0.95662249653741549,-1000,77.781745930520259,{"$error":"#N/A"},true,1000,{"$f":"Strings!E73","v":-50},{"$f":"Strings!B73","v":1.4168923775421305},{"$f":"harmonics!BA32","v":-10.940672809495011},{"$f":"harmonics!BB32","v":-9.9625744809130765},-9.5237804319528809,-100,-100,-100,-100,-100,-100,-100,{"$error":"#N/A"},1.1204280713319332,{"$error":"#N/A"},null,489999.99999999994,5864.6054783690452,2.0406701718553751E-6,2.2018143502277655E-6,-2.4422180390373414E-8,null,null,1.547670822385506E-4,1.5186106738098137E-4,-2.9850727939923214E-5,7.8194739711587283E-8,1.5186106738098137E-4,-2.9772533200211626E-5,6461.9512149192497,6341.2342691454651,1243.2061163827768]
[82.406889228217523,6340.0000000000009,1320.3332768032358,8.2844440897457935E-8,{"$f":"Tone!BA59","v":47619047619045.344},{"$f":"Tone!BB59","v":-84005.513721145253},2.1000000000001002E-14,2.1000000000001002E-14,3.7046431551028596E-23,40000.025120443694,1.0000000000000001E-15,5.1777775560911208E-11,19313305544.327629,373003.77104855637,-19313305540.725662,1000000000373003.8,-19313305540.725662,9.9999999944049437E-16,9.9999999925399266E-16,5.1777775560913139E-7,40000.025120443694,5.1777775560913139E-7,2.499998429973255E-5,2.499998429973255E-5,-3.2361069079337262E-16,3.9999999999999998E-6,0,250000,250000,0,250000.00002599999,-3.2474980185571268E-16,250000.00002599999,3.9999999995839999E-6,3.9999999995839999E-6,5.1959968286106356E-27,6.2017785810463858E-6,5.6970495914016355E-8,161237.26393737819,161230.46132969175,-1481.0879199186736,167570.46132969175,-160.75464311543783,167570.53843770092,0.96220532225193445,0.96220532215186516,0.95665801367969661,-1000,82.406889228217523,-7.7987227223712168,true,1000,{"$f":"Strings!E74","v":-50},{"$f":"Strings!B74","v":1.3741448854056035},{"$f":"harmonics!BA33","v":-10.450889468173512},{"$f":"harmonics!BB33","v":-9.4759094935277606},-9.0767445827679083,-100,-11.413856999003006,-100,-100,-100,-100,-100,-11.413856999003006,1.1204280713319332,-7.4138569990030057,null,489999.99999999994,6213.3330673093442,2.0406522756125641E-6,2.2017785604623855E-6,-2.5873944983441621E-8,null,null,1.5441574677680354E-4,1.511723728857244E-4,-3.1482320891850013E-5,8.2844440897457935E-8,1.511723728857244E-4,-3.1399476450952553E-5,6476.7310143763743,6341.3854450241215,1317.1466396043536]
[87.307057858251014,6340.0000000000009,1398.8443790275039,8.777062770368654E-8,{"$f":"Tone!BA60","v":47619047619045.344},{"$f":"Tone!BB60","v":-79290.646525018572},2.1000000000001002E-14,2.1000000000001002E-14,3.4967175117536527E-23,40000.025120443694,1.0000000000000001E-15,5.4856642314804079E-11,18229332996.634708,332308.58150219498,-18229332993.605827,1000000000332308.6,-18229332993.605827,9.9999999950153721E-16,9.9999999933538319E-16,5.4856642314805902E-7,40000.025120443694,5.4856642314805902E-7,2.499998429973255E-5,2.499998429973255E-5,-3.4285358383569424E-16,3.9999999999999998E-6,0,250000,250000,0,250000.00002599999,-3.4406042996661993E-16,250000.00002599999,3.9999999995839999E-6,3.9999999995839999E-6,5.5049668783208858E-27,6.2017384098885038E-6,6.0358677558820244E-8,161237.47505799169,161229.83920276523,-1569.17612999983,167569.83920276523,-170.33175097232606,167569.92577233535,0.96221010014083863,0.96221010004076879,0.95669788310581472,-1000,87.307057858251014,-7.3155731724552941,true,1000,{"$f":"Strings!E75","v":-50},{"$f":"Strings!B75","v":1.3157676818289608},{"$f":"harmonics!BA34","v":-9.9625744809130765},{"$f":"harmonics!BB34","v":-8.9910988780416545},-8.646806799084116,-100,-10.93106943238128,-100,-100,-100,-100,-100,-10.93106943238128,1.1204280713319332,-6.93106943238128,null,489999.99999999994,6582.7970777764895,2.0406321883200496E-6,2.2017383893045035E-6,-2.7411950144866333E-8,null,null,1.5402422202157354E-4,1.5040674254568524E-4,-3.3185430028054996E-5,8.777062770368654E-8,1.5040674254568524E-4,-3.3097659400351309E-5,6493.2815404916582,6341.5551406448767,1395.486854918475]
[92.498605677908643,6340.0000000000009,1482.0239943315862,9.298974082080543E-8,{"$f":"Tone!BA61","v":47619047619045.344},{"$f":"Tone!BB61","v":-74840.404490889006},2.1000000000001002E-14,2.1000000000001002E-14,3.3004618380485204E-23,40000.025120443694,1.0000000000000001E-15,5.8118588013003384E-11,17206199153.156208,296053.28929807345,-17206199150.609234,1000000000296053.3,-17206199150.609234,9.999999995559201E-16,9.9999999940789331E-16,5.8118588013005118E-7,40000.025120443694,5.8118588013005118E-7,2.499998429973255E-5,2.499998429973255E-5,-3.6324071884273743E-16,3.9999999999999998E-6,0,250000,250000,0,250000.00002599999,-3.6451932777902353E-16,250000.00002599999,3.9999999995839999E-6,3.9999999995839999E-6,5.8323092432512558E-27,6.2016933211724111E-6,6.3948433051171517E-8,161237.71194133494,161229.14074896887,-1662.5057672368432,167569.14074896887,-180.481772905257,167569.23794365744,0.96221546341070441,0.96221546331063401,0.95674263852870378,-1000,92.498605677908643,-6.8378805641617033,true,1000,{"$f":"Strings!E76","v":-50},{"$f":"Strings!B76","v":1.2370327662365663},{"$f":"harmonics!BA35","v":-9.4759094935277606},{"$f":"harmonics!BB35","v":-8.5083726435873857},-8.2388767272911938,-100,-10.453783150450693,-100,-100,-100,-100,-100,-10.453783150450693,1.1204280713319332,-6.4537831504506933,null,489999.99999999994,6974.2305615604064,2.0406096418031381E-6,2.2016933005884112E-6,-2.9041307769633939E-8,null,null,1.5358827819203743E-4,1.495565373152863E-4,-3.495999634233462E-5,9.298974082080543E-8,1.495565373152863E-4,-3.4867006601513813E-5,6511.809819967586,6341.7456256461337,1478.4889417998345]
[97.998858995437374,6340.0000000000009,1570.149726949265,9.8519198553679392E-8,{"$f":"Tone!BA62","v":47619047619045.344},{"$f":"Tone!BB62","v":-70639.935349657797},2.1000000000001002E-14,2.1000000000001002E-14,3.1152211489202065E-23,40000.025120443694,1.0000000000000001E-15,6.1574499096049608E-11,16240489399.811937,263753.49594540393,-16240489397.670197,1000000000263753.5,-16240489397.670197,9.9999999960436977E-16,9.9999999947249313E-16,6.1574499096051242E-7,40000.025120443694,6.1574499096051242E-7,2.499998429973255E-5,2.499998429973255E-5,-3.8484013598242009E-16,3.9999999999999998E-6,0,250000,250000,0,250000.00002599999,-3.861947749625332E-16,250000.00002599999,3.9999999995839999E-6,3.9999999995839999E-6,6.1791163981152749E-27,6.2016427131734108E-6,6.7751767901582913E-8,161237.97771857935,161228.3565847993,-1761.3891511814227,167568.3565847993,-191.23942423215772,167568.46571192276,0.96222148381887951,0.96222148371880845,0.9567928792090058,-1000,97.998858995437374,-6.3675044764887172,true,1000,{"$f":"Strings!E77","v":-50},{"$f":"Strings!B77","v":1.1325234630022831},{"$f":"harmonics!BA36","v":-8.9910988780416545},{"$f":"harmonics!BB36","v":-8.0279897381162311},-7.8585754150393718,-100,-9.9838631661533697,-100,-100,-100,-100,-100,-9.9838631661533697,1.1204280713319332,-5.9838631661533697,null,489999.99999999994,7388.9398915259535,2.0405843350837813E-6,2.2016426925894109E-6,-3.0767430652096512E-8,null,null,1.5310332981238758E-4,1.4861359166172224E-4,-3.6805298165394749E-5,9.8519198553679392E-8,1.4861359166172224E-4,-3.6706778966841067E-5,6532.5458296077786,6341.95944804586,1566.4307757663071]
[103.82617439498634,6340.0000000000009,1663.5156883210709,1.0437745495347898E-7,{"$f":"Tone!BA63","v":47619047619045.344},{"$f":"Tone!BB63","v":-66675.2204260375},2.1000000000001002E-14,2.1000000000001002E-14,2.9403772207885345E-23,40000.025120443694,1.0000000000000001E-15,6.5235909345924356E-11,15328980770.082371,234977.65144955515,-15328980768.281389,1000000000234977.6,-15328980768.281389,9.9999999964753348E-16,9.9999999953004448E-16,6.5235909345925898E-7,40000.025120443694,6.5235909345925898E-7,2.499998429973255E-5,2.499998429973255E-5,-4.0772392130158567E-16,3.9999999999999998E-6,0,250000,250000,0,250000.00002599999,-4.09159111307196E-16,250000.00002599999,3.9999999995839999E-6,3.9999999995839999E-6,6.5465457795534552E-27,6.2015859106055404E-6,7.1781405155160911E-8,161238.2758981665,161227.47616818533,-1866.1572952139477,167567.47616818533,-202.64160689287678,167567.59869675344,0.96222824192855383,0.9622282418284821,0.95684927803112418,-1000,103.82617439498634,-5.9069097615681914,true,1000,{"$f":"Strings!E78","v":-50},{"$f":"Strings!B78","v":0.99652667413325835},{"$f":"harmonics!BA37","v":-8.5083726435873857},{"$f":"harmonics!BB37","v":-7.5502417981808545},-7.5118459694541269,-100,-9.5237804319528809,-100,-100,-100,-100,-100,-9.5237804319528809,1.1204280713319332,-5.5237804319528809,null,489999.99999999994,7828.3091215109225,2.0405559303732451E-6,2.2015858900215406E-6,-3.2596049798318093E-8,null,null,1.5256442772556598E-4,1.4756923520983469E-4,-3.8719832473990878E-5,1.0437745495347898E-7,1.4756923520983469E-4,-3.8615455019037398E-5,6555.7447402758862,6342.1994684456513,1659.6068817954015]
[110.00000000000006,6340.0000000000009,1762.4334786638749,1.1058406140636079E-7,{"$f":"Tone!BA64","v":47619047619045.344},{"$f":"Tone!BB64","v":-62933.027852526546},2.1000000000001002E-14,2.1000000000001002E-14,2.7753465282966859E-23,40000.025120443694,1.0000000000000001E-15,6.9115038378975481E-11,14468631188.657856,209341.28847340285,-14468631187.143414,1000000000209341.3,-14468631187.143414,9.9999999968598808E-16,9.9999999958131728E-16,6.9115038378976945E-7,40000.025120443694,6.9115038378976945E-7,2.499998429973255E-5,2.499998429973255E-5,-4.3196844730648259E-16,3.9999999999999998E-6,0,250000,250000,0,250000.00002599999,-4.3348897815082006E-16,250000.00002599999,3.9999999995839999E-6,3.9999999995839999E-6,6.9358236489704695E-27,6.2015221556461479E-6,7.6050828747993681E-8,161238.61041040398,161226.48765415451,-1977.1610411910372,167566.48765415451,-214.72756252716226,167566.6252350868,0.96223582819189113,0.96223582809181862,0.95691259058102751,-1000,110.00000000000006,-5.4592992057487253,true,1000,{"$f":"Strings!E79","v":-50},{"$f":"Strings!B79","v":0.82369581057361119},{"$f":"harmonics!BA38","v":-8.0279897381162311},{"$f":"harmonics!BB38","v":-7.0754574137123596},-7.2042939275426203,-100,-9.0767445827679083,-11.413856999003006,-100,-100,-100,-100,-9.0767445827679083,1.1204280713319332,-5.0767445827679083,null,489999.99999999994,8293.8046054770584,2.0405240485765891E-6,2.201522135062148E-6,-3.4533232658367135E-8,null,null,1.5196625698715886E-4,1.4641433228543694E-4,-4.0701186273828246E-5,1.1058406140636079E-7,1.4641433228543694E-4,-4.0590602212421887E-5,6581.689310229388,6342.4688984529275,1758.3294482391807]
[116.54094037952254,6340.0000000000009,1867.2332269076455,1.1715973188440133E-7,{"$f":"Tone!BA65","v":47619047619045.344},{"$f":"Tone!BB65","v":-59400.868409281371},2.1000000000001002E-14,2.1000000000001002E-14,2.6195782968495587E-23,40000.025120443694,1.0000000000000001E-15,7.3224832427750815E-11,13656569318.795301,186501.88555906116,-13656569317.521812,1000000000186501.9,-13656569317.521812,9.9999999972024712E-16,9.9999999962699607E-16,7.3224832427752179E-7,40000.025120443694,7.3224832427752179E-7,2.499998429973255E-5,2.499998429973255E-5,-4.576546278489051E-16,3.9999999999999998E-6,0,250000,250000,0,250000.00002599999,-4.5926557416231558E-16,250000.00002599999,3.9999999995839999E-6,3.9999999995839999E-6,7.3482491850686132E-27,6.2014505978698758E-6,8.0574329571777368E-8,161238.9856571061,161225.37773218739,-2094.7722658936746,167565.37773218739,-227.53903898602903,167565.53222111313,0.96224434416704052,0.96224434406696713,0.95698366535180779,-1000,116.54094037952254,-5.0287163007701725,true,1000,{"$f":"Strings!E80","v":-50},{"$f":"Strings!B80","v":0.60989707579942065},{"$f":"harmonics!BA39","v":-7.5502417981808545},{"$f":"harmonics!BB39","v":-6.6040069863354587},-6.9403447223814343,-100,-8.646806799084116,-10.93106943238128,-100,-100,-100,-100,-8.646806799084116,1.1204280713319332,-4.646806799084116,null,489999.99999999994,8786.9798913300983,2.0404882642498307E-6,2.2014505772858755E-6,-3.6585402312623988E-8,null,null,1.5130314233388726E-4,1.451393431798882E-4,-4.2745899703002961E-5,1.1715973188440133E-7,1.451393431798882E-4,-4.2628739971118558E-5,6610.692421403166,6342.7713438455294,1862.929405557074]
[123.4708253140311,6340.0000000000009,1978.2646924700666,1.2412641207655322E-7,{"$f":"Tone!BA66","v":47619047619045.344},{"$f":"Tone!BB66","v":-56066.953842506169},2.1000000000001002E-14,2.1000000000001002E-14,2.4725526644547583E-23,40000.025120443694,1.0000000000000001E-15,7.7579007547845759E-11,12890084979.498957,166154.29077870463,-12890084978.428083,1000000000166154.3,-12890084978.428083,9.9999999975076855E-16,9.9999999966769124E-16,7.7579007547847054E-7,40000.025120443694,7.7579007547847054E-7,2.499998429973255E-5,2.499998429973255E-5,-4.8486818816865187E-16,3.9999999999999998E-6,0,250000,250000,0,250000.00002599999,-4.8657492633470447E-16,250000.00002599999,3.9999999995839999E-6,3.9999999995839999E-6,7.7851988197359503E-27,6.2013702829607505E-6,8.53670544322306E-8,161239.40656678873,161224.13144285328,-2219.3851643543708,167564.13144285328,-241.12047188430415,167564.30492583965,0.96225390388573406,0.96225390378565967,0.95706345521927494,-1000,123.4708253140311,-4.620062060824849,true,1000,{"$f":"Strings!E81","v":0.22578949380794655},{"$f":"Strings!B81","v":0.35301002231268375},{"$f":"harmonics!BA40","v":-7.0754574137123596},{"$f":"harmonics!BB40","v":-6.1363082738308616},-6.7224473913996761,-100,-8.2388767272911938,-10.453783150450693,-100,-100,-100,-100,-8.2388767272911938,1.1204280713319332,-4.2388767272911938,null,489999.99999999994,9309.4809057414914,2.0404480999436079E-6,2.2013702623767502E-6,-3.8759357644322638E-8,null,null,1.5056906313630841E-4,1.4373441118554732E-4,-4.4849323460779622E-5,1.2412641207655322E-7,1.4373441118554732E-4,-4.4725197048703068E-5,6643.0997476731227,6343.1108530690599,1973.7575745800725]
[130.8127826502994,6340.0000000000009,2095.8984325460765,1.3150735263034209E-7,{"$f":"Tone!BA67","v":47619047619045.344},{"$f":"Tone!BB67","v":-52920.157522251757},2.1000000000001002E-14,2.1000000000001002E-14,2.3337789467315253E-23,40000.025120443694,1.0000000000000001E-15,8.2192095393963782E-11,12166620100.543478,148026.64467094862,-12166620099.642988,1000000000148026.6,-12166620099.642988,9.9999999977795999E-16,9.9999999970394669E-16,8.2192095393965018E-7,40000.025120443694,8.2192095393965018E-7,2.499998429973255E-5,2.499998429973255E-5,-5.1369995099354404E-16,3.9999999999999998E-6,0,250000,250000,0,250000.00002599999,-5.1550817709221127E-16,250000.00002599999,3.9999999995839999E-6,3.9999999995839999E-6,8.2481308317597694E-27,6.2012801400555202E-6,9.0445058102480649E-8,161239.87865596241,161222.73197098033,-2351.4176155933874,167562.73197098033,-255.51918304731089,167562.92679358253,0.96226463539032503,0.96226463529024953,0.95715303034840993,-1000,130.8127826502994,-4.2389478418904067,true,1000,{"$f":"Strings!E82","v":-50},{"$f":"Strings!B82","v":5.338681829777156E-2},{"$f":"harmonics!BA41","v":-6.6040069863354587},{"$f":"harmonics!BB41","v":-5.6728327304858741},-6.5506201680376872,{"$f":"IF(BF$44,OFFSET($BE66,BF$31,0),-100)","v":-100},-7.8585754150393718,-9.9838631661533697,-100,-100,-100,-100,-7.8585754150393718,1.1204280713319332,-3.8585754150393718,null,489999.99999999994,9863.0514472756549,2.0404030198592548E-6,2.2012801194715208E-6,-4.1062294527861472E-8,null,null,1.4975767992827336E-4,1.4218947950214475E-4,-4.7005474323830858E-5,1.3150735263034209E-7,1.4218947950214475E-4,-4.6873966971200516E-5,6679.292538863916,6343.4919717322609,2091.1858894635629]
[138.59131548843615,6340.0000000000009,2220.527038808063,1.3932718674874126E-7,{"$f":"Tone!BA68","v":47619047619045.344},{"$f":"Tone!BB68","v":-49949.977308322297},2.1000000000001002E-14,2.1000000000001002E-14,2.2027939992972236E-23,40000.025120443694,1.0000000000000001E-15,8.7079491717963273E-11,11483760185.152479,131876.74799009331,-11483760184.39526,1000000000131876.8,-11483760184.39526,9.9999999980218492E-16,9.999999997362466E-16,8.7079491717964412E-7,40000.025120443694,8.7079491717964412E-7,2.499998429973255E-5,2.499998429973255E-5,-5.4424613965183754E-16,3.9999999999999998E-6,0,250000,250000,0,250000.00002599999,-5.4616188846963276E-16,250000.00002599999,3.9999999995839999E-6,3.9999999995839999E-6,8.738590213696497E-27,6.2011789675541582E-6,9.5825358690024354E-8,161240.40809709864,161221.16041222576,-2491.3126367995865,167561.16041222576,-270.78559799152345,167561.37921231054,0.96227668246151854,0.96227668236144182,0.95725359271255839,-1000,138.59131548843615,-3.8913058695858975,true,1000,{"$f":"Strings!E83","v":-50},{"$f":"Strings!B83","v":-0.28622629088645124},{"$f":"harmonics!BA42","v":-6.1363082738308616},{"$f":"harmonics!BB42","v":-5.2141127740820794},-6.4225345647173127,-100,-7.5118459694541269,-9.5237804319528809,-100,-100,-100,-100,-7.5118459694541269,1.1204280713319332,-3.5118459694541269,null,489999.99999999994,10449.539006155592,2.0403524227344135E-6,2.2011789469701584E-6,-4.3501828058716926E-8,null,null,1.488623747291711E-4,1.4049444190745173E-4,-4.9206893857688519E-5,1.3932718674874126E-7,1.4049444190745173E-4,-4.9067566670939776E-5,6719.690498347064,6343.9198038503482,2215.6087009874232]
[146.8323839587039,6340.0000000000009,2352.5664476440738,1.4761201240119681E-7,{"$f":"Tone!BA69","v":47619047619045.344},{"$f":"Tone!BB69","v":-47146.500500358918},2.1000000000001002E-14,2.1000000000001002E-14,2.079160672066027E-23,40000.025120443694,1.0000000000000001E-15,9.2257507750747988E-11,10839226251.84017,117488.8257385811,-10839226251.203426,1000000000117488.9,-10839226251.203426,9.9999999982376678E-16,9.9999999976502247E-16,9.2257507750749077E-7,40000.025120443694,9.2257507750749077E-7,2.499998429973255E-5,2.499998429973255E-5,-5.7660869920863619E-16,3.9999999999999998E-6,0,250000,250000,0,250000.00002599999,-5.7863836437915263E-16,250000.00002599999,3.9999999995839999E-6,3.9999999995839999E-6,9.2582138281407341E-27,6.2010654172142536E-6,1.0152599655534028E-7,161241.00179387149,161219.39550946001,-2639.5399325589715,167559.39550946001,-286.97348491489765,167559.64125432083,0.96229020656078534,0.96229020646070718,0.9573664924312546,-1000,146.8323839587039,-3.5827294630962592,true,1000,{"$f":"Strings!E84","v":-50},{"$f":"Strings!B84","v":-0.66127047270679695},{"$f":"harmonics!BA43","v":-5.6728327304858741},{"$f":"harmonics!BB43","v":-4.760750136216191},-6.3341032031926714,-100,-7.2042939275426203,-9.0767445827679083,-11.413856999003006,-100,-100,-100,-7.2042939275426203,1.1204280713319332,-3.2042939275426203,null,489999.99999999994,11070.90093008976,2.0402956338655016E-6,2.2010653966302533E-6,-4.6086015845856565E-8,null,null,1.4787630740504051E-4,1.3863933052969527E-4,-5.1444516928706265E-5,1.4761201240119681E-7,1.3863933052969527E-4,-5.1296904916305068E-5,6764.7547256544904,6344.4000806819377,2347.4441664303304]
[155.5634918610406,6340.0000000000009,2492.4573283068457,1.5638947942317467E-7,{"$f":"Tone!BA70","v":47619047619045.344},{"$f":"Tone!BB70","v":-44500.370755123375},2.1000000000001002E-14,2.1000000000001002E-14,1.9624663503011283E-23,40000.025120443694,1.0000000000000001E-15,9.7743424639484144E-11,10230867228.522577,104670.64424765724,-10230867227.987139,1000000000104670.6,-10230867227.987139,9.9999999984299408E-16,9.9999999979065888E-16,9.774342463948517E-7,40000.025120443694,9.774342463948517E-7,2.499998429973255E-5,2.499998429973255E-5,-6.1089563669806907E-16,3.9999999999999998E-6,0,250000,250000,0,250000.00002599999,-6.1304599204013768E-16,250000.00002599999,3.9999999995839999E-6,3.9999999995839999E-6,9.8087358706019862E-27,6.2009379763247066E-6,1.0756609704206055E-7,161241.66746429278,161217.41335485197,-2796.5975463725426,167557.41335485197,-304.1402180656969,167557.68938321204,0.96230538901456064,0.96230538891448092,0.95749324616000298,-1000,155.5634918610406,-3.317630336738715,true,1000,{"$f":"Strings!E85","v":-50},{"$f":"Strings!B85","v":-1.0662169974307711},{"$f":"harmonics!BA44","v":-5.2141127740820794},{"$f":"harmonics!BB44","v":-4.3134254849416696},-6.2803297715128501,-100,-6.9403447223814343,-8.646806799084116,-10.93106943238128,-100,-100,-100,-6.9403447223814343,1.1204280713319332,-2.9403447223814343,null,489999.99999999994,11729.210956738098,2.0402318961634181E-6,2.2009379557407071E-6,-4.8823382381114146E-8,null,null,1.4679249021109454E-4,1.3661454305625301E-4,-5.370755820092253E-5,1.5638947942317467E-7,1.3661454305625301E-4,-5.3551168721499353E-5,6814.9906888554551,6344.9392381140142,2487.1357328918948]
[164.81377845643513,6340.0000000000009,2640.6665536064725,1.6568888179491598E-7,{"$f":"Tone!BA71","v":47619047619045.344},{"$f":"Tone!BB71","v":-42002.756860572619},2.1000000000001002E-14,2.1000000000001002E-14,1.8523215775514295E-23,40000.025120443694,1.0000000000000001E-15,1.0355555112182247E-10,9656652773.5145473,93250.94278822621,-9656652773.0643005,1000000000093251,-9656652773.0643005,9.999999998601234E-16,9.9999999981349778E-16,1.0355555112182344E-6,40000.025120443694,1.0355555112182344E-6,2.499998429973255E-5,2.499998429973255E-5,-6.4722138158672749E-16,3.9999999999999998E-6,0,250000,250000,0,250000.00002599999,-6.4949960371140762E-16,250000.00002599999,3.9999999995839999E-6,3.9999999995839999E-6,1.0391993657220987E-26,6.2007949477305672E-6,1.139659373031645E-7,161242.41373236611,161215.1870529351,-2963.0136224254761,167555.1870529351,-322.34706881900365,167555.49712252608,0.9623224334708429,0.9623224333707614,0.95763555779665821,-1000,164.81377845643513,-3.0984421232116981,true,1000,{"$f":"Strings!E86","v":-50},{"$f":"Strings!B86","v":-1.4953798263434213},{"$f":"harmonics!BA45","v":-4.760750136216191},{"$f":"harmonics!BB45","v":-3.8729095492302221},-6.2561299625596121,-100,-6.7224473913996761,-8.2388767272911938,-10.453783150450693,-100,-100,-100,-6.7224473913996761,1.1204280713319332,-2.7224473913996761,null,489999.99999999994,12426.666134618696,2.0401603601267459E-6,2.2007949271465669E-6,-5.1722944491751504E-8,null,null,1.4560388237668876E-4,1.3441111017046368E-4,-5.5983426350198455E-5,1.6568888179491598E-7,1.3441111017046368E-4,-5.5817737468403542E-5,6870.951184875461,6345.5445036724777,2635.1537216742231]
[174.61411571650211,6340.0000000000009,2797.6887580550092,1.7554125540737316E-7,{"$f":"Tone!BA72","v":47619047619045.344},{"$f":"Tone!BB72","v":-39645.323262509264},2.1000000000001002E-14,2.1000000000001002E-14,1.7483587558768255E-23,40000.025120443694,1.0000000000000001E-15,1.0971328462960821E-10,9114666499.4531803,83077.145396254098,-9114666499.0745716,1000000000083077.1,-9114666499.0745716,9.9999999987538431E-16,9.9999999983384586E-16,1.0971328462960914E-6,40000.025120443694,1.0971328462960914E-6,2.499998429973255E-5,2.499998429973255E-5,-6.8570716767137182E-16,3.9999999999999998E-6,0,250000,250000,0,250000.00002599999,-6.8812085993322319E-16,250000.00002599999,3.9999999995839999E-6,3.9999999995839999E-6,1.1009933756641505E-26,6.2006344274546738E-6,1.2074701753535203E-7,161243.2502288722,161212.68633921922,-3139.3482863839104,167552.68633921922,-341.65952832890116,167553.03468073049,0.96234156866283282,0.96234156856274933,0.95779534180498327,-1000,174.61411571650211,-2.9251657572408609,true,1000,{"$f":"Strings!E87","v":-50},{"$f":"Strings!B87","v":-1.9435060054591722},{"$f":"harmonics!BA46","v":-4.3134254849416696},{"$f":"harmonics!BB46","v":-3.4400760260108147},-6.2569314904008415,-100,-6.5506201680376872,-7.8585754150393718,-9.9838631661533697,-100,-100,-100,-6.5506201680376872,1.1204280713319332,-2.5506201680376872,null,489999.99999999994,13165.594155552986,2.0400800726032085E-6,2.2006344068706739E-6,-5.4794237872021147E-8,null,null,1.4430350608923701E-4,1.3202100185355858E-4,-5.8257677084047373E-5,1.7554125540737316E-7,1.3202100185355858E-4,-5.8082135828639999E-5,6933.2392399695018,6346.2239943759132,2791.9970221796989]
[184.9972113558174,6340.0000000000009,2964.0479886631742,1.8597948164161097E-7,{"$f":"Tone!BA73","v":47619047619045.344},{"$f":"Tone!BB73","v":-37420.202245444474},2.1000000000001002E-14,2.1000000000001002E-14,1.650230919024259E-23,40000.025120443694,1.0000000000000001E-15,1.1623717602600685E-10,8603099577.5332146,74013.322340952189,-8603099577.2148438,1000000000074013.4,-8603099577.2148438,9.9999999988897994E-16,9.9999999985197309E-16,1.1623717602600772E-6,40000.025120443694,1.1623717602600772E-6,2.499998429973255E-5,2.499998429973255E-5,-7.2648143768545919E-16,3.9999999999999998E-6,0,250000,250000,0,250000.00002599999,-7.2903865555803138E-16,250000.00002599999,3.9999999995839999E-6,3.9999999995839999E-6,1.1664618486502262E-26,6.2004542796329691E-6,1.2793213696508356E-7,161244.18770186117,161209.8771480775,-3326.1956549178785,167549.8771480775,-362.14766625470429,167550.26852639788,0.96236305151881529,0.96236305141872958,0.95797474949718087,-1000,184.9972113558174,-2.7954533246612985,true,1000,{"$f":"Strings!E88","v":-2.1479677005064355},{"$f":"Strings!B88","v":-2.4060942674191996},{"$f":"harmonics!BA47","v":-3.8729095492302221},{"$f":"harmonics!BB47","v":-3.0159166159871424},-6.2790038166494213,-100,-6.4225345647173127,-7.5118459694541269,-9.5237804319528809,-100,-100,-100,-6.4225345647173127,1.1204280713319332,-2.4225345647173127,null,489999.99999999994,13948.46112312082,2.0399899641951648E-6,2.2004542590489697E-6,-5.8047344676527433E-8,null,null,1.4288458446599657E-4,1.2943746839065004E-4,-6.051401700961504E-5,1.8597948164161097E-7,1.2943746839065004E-4,-6.0328037527973427E-5,7002.5108978278231,6346.9868268094315,2958.1949047527214]
[195.99771799087486,6340.0000000000009,3140.2994538985317,1.9703839710735892E-7,{"$f":"Tone!BA74","v":47619047619045.344},{"$f":"Tone!BB74","v":-35319.967674828869},2.1000000000001002E-14,2.1000000000001002E-14,1.5576105744601018E-23,40000.025120443694,1.0000000000000001E-15,1.2314899819209929E-10,8120244700.709115,65938.373999394462,-8120244700.4413958,1000000000065938.4,-8120244700.4413958,9.999999999010923E-16,9.9999999986812285E-16,1.2314899819210011E-6,40000.025120443694,1.2314899819210011E-6,2.499998429973255E-5,2.499998429973255E-5,-7.6968027196482539E-16,3.9999999999999998E-6,0,250000,250000,0,250000.00002599999,-7.723895499250516E-16,250000.00002599999,3.9999999995839999E-6,3.9999999995839999E-6,1.2358232796230313E-26,6.2002521084484744E-6,1.3554547496531047E-7,161245.23813735964,161206.72112266006,-3524.185984695253,167546.72112266006,-383.88653079672122,167547.16090648313,0.96238717066270718,0.96238717056261891,0.95817619866465598,-1000,195.99771799087486,-2.7051956297316675,true,1000,{"$f":"Strings!E89","v":-50},{"$f":"Strings!B89","v":-2.8794904415949727},{"$f":"harmonics!BA48","v":-3.4400760260108147},{"$f":"harmonics!BB48","v":-2.6015586187910067},-6.319566467605787,-100,-6.3341032031926714,-7.2042939275426203,-9.0767445827679083,-11.413856999003006,-100,-100,-6.3341032031926714,1.1204280713319332,-2.3341032031926714,null,489999.99999999994,14777.879783051916,2.0398888351483561E-6,2.2002520878644745E-6,-6.1492922142048473E-8,null,null,1.4134070104477697E-4,1.2665540851339598E-4,-6.2734370692099818E-5,1.9703839710735892E-7,1.2665540851339598E-4,-6.2537332294992454E-5,7079.4778400412506,6347.8432409769703,3134.3089630121208]
[207.65234878997279,6340.0000000000009,3327.0313766421436,2.0875490990695807E-7,{"$f":"Tone!BA75","v":47619047619045.344},{"$f":"Tone!BB75","v":-33337.610213018728},2.1000000000001002E-14,2.1000000000001002E-14,1.4701886103942664E-23,40000.025120443694,1.0000000000000001E-15,1.3047181869184879E-10,7664490385.7165489,58744.412872741421,-7664490385.4914255,1000000000058744.4,-7664490385.4914255,9.9999999991188333E-16,9.9999999988251108E-16,1.3047181869184955E-6,40000.025120443694,1.3047181869184955E-6,2.499998429973255E-5,2.499998429973255E-5,-8.1544784260315723E-16,3.9999999999999998E-6,0,250000,250000,0,250000.00002599999,-8.1831822261437791E-16,250000.00002599999,3.9999999995839999E-6,3.9999999995839999E-6,1.3093091559106684E-26,6.200025226714007E-6,1.4361267772233773E-7,161246.41489068512,161203.17505842773,-3733.9879727801417,167543.17505842773,-406.95659613799808,167543.6692994698,0.96241425035565575,0.96241425025556471,0.95840240700099111,-1000,207.65234878997279,-2.6493718562104704,true,1000,{"$f":"Strings!E90","v":-50},{"$f":"Strings!B90","v":-3.3608417494297873},{"$f":"harmonics!BA49","v":-3.0159166159871424},{"$f":"harmonics!BB49","v":-2.1982856278745229},-6.3767583654169293,-100,-6.2803297715128501,-6.9403447223814343,-8.646806799084116,-10.93106943238128,-100,-100,-6.2803297715128501,1.1204280713319332,-2.2803297715128501,null,489999.99999999994,15656.618243021854,2.0397753395447806E-6,2.2000252061300071E-6,-6.514223218462037E-8,null,null,1.3966597897171332E-4,1.2367175322468564E-4,-6.489902261559515E-5,2.0875490990695807E-7,1.2367175322468564E-4,-6.4690267705688189E-5,7164.9097837231757,6348.8047396972934,3320.9351975142899]
[220.00000000000026,6340.0000000000009,3524.8669573277521,2.2116812281272174E-7,{"$f":"Tone!BA76","v":47619047619045.344},{"$f":"Tone!BB76","v":-31466.513926263255},2.1000000000001002E-14,2.1000000000001002E-14,1.3876732641483421E-23,40000.025120443694,1.0000000000000001E-15,1.3823007675795106E-10,7234315594.8968382,52335.322126567597,-7234315594.7075338,1000000000052335.4,-7234315594.7075338,9.9999999992149698E-16,9.9999999989532928E-16,1.3823007675795179E-6,40000.025120443694,1.3823007675795179E-6,2.499998429973255E-5,2.499998429973255E-5,-8.6393689461295206E-16,3.9999999999999998E-6,0,250000,250000,0,250000.00002599999,-8.6697795630162701E-16,250000.00002599999,3.9999999995839999E-6,3.9999999995839999E-6,1.387164729794073E-26,6.1997706207153855E-6,1.5216095091833609E-7,161247.73282858694,161199.1902705353,-3956.3112217206767,167539.1902705353,-431.44426439292465,167539.74579382621,0.96244465493589682,0.96244465483580266,0.95865642982443111,-1000,220.00000000000026,-2.6228701729688915,true,1000,{"$f":"Strings!E91","v":-50},{"$f":"Strings!B91","v":-3.8479830327470492},{"$f":"harmonics!BA50","v":-2.6015586187910067},{"$f":"harmonics!BB50","v":-1.8075620101351748},-6.4495416515380555,-100,-6.2561299625596121,-6.7224473913996761,-8.2388767272911938,-10.453783150450693,-100,-100,-6.2561299625596121,1.1204280713319332,-2.2561299625596121,null,489999.99999999994,16587.609210954128,2.0396479676003418E-6,2.1997706001313856E-6,-6.9007171894385691E-8,null,null,1.3785527644460469E-4,1.2048584972454054E-4,-6.6986843930534693E-5,2.2116812281272174E-7,1.2048584972454054E-4,-6.6765675807721974E-5,7259.6366048431119,6349.8842455457716,3518.7062540865268]
[233.08188075904525,6340.0000000000009,3734.4664538152942,2.3431946376880282E-7,{"$f":"Tone!BA77","v":47619047619045.344},{"$f":"Tone!BB77","v":-29700.434204640675},2.1000000000001002E-14,2.1000000000001002E-14,1.3097891484247788E-23,40000.025120443694,1.0000000000000001E-15,1.4644966485550173E-10,6828284659.8752041,46625.47139628703,-6828284659.7160177,1000000000046625.5,-6828284659.7160177,9.9999999993006184E-16,9.9999999990674922E-16,1.4644966485550243E-6,40000.025120443694,1.4644966485550243E-6,2.499998429973255E-5,2.499998429973255E-5,-9.1530925569779817E-16,3.9999999999999998E-6,0,250000,250000,0,250000.00002599999,-9.1853114832461913E-16,250000.00002599999,3.9999999995839999E-6,3.9999999995839999E-6,1.4696498370137034E-26,6.1994849108849989E-6,1.6121915894767219E-7,161249.2084821832,161194.71187367648,-4191.9088841489947,167534.71187367648,-457.44243033370049,167535.33638063603,0.96247879382191404,0.96247879372181622,0.95894170268060064,-1000,233.08188075904525,-2.6210873756361424,true,1000,{"$f":"Strings!E92","v":-50},{"$f":"Strings!B92","v":-4.339304049905035},{"$f":"harmonics!BA51","v":-2.1982856278745229},{"$f":"harmonics!BB51","v":-1.431062047805123},-6.5375896777795575,{"$f":"IF(BF$44,OFFSET($BE76,BF$31,0),-100)","v":-100},-6.2569314904008415,-6.5506201680376872,-7.8585754150393718,-9.9838631661533697,-100,-100,-6.2569314904008415,1.1204280713319332,-2.2569314904008415,null,489999.99999999994,17573.959782660208,2.0395050258456591E-6,2.199484890300999E-6,-7.310030482113063E-8,null,null,{"$f":"G179","v":1.3590439315527971E-4},1.170998258602567E-4,-6.8975610634501767E-5,2.3431946376880282E-7,1.170998258602567E-4,-6.8741291170732962E-5,7364.5501440762446,6351.0962776148363,3728.2938319129853]
[246.94165062806238,6340.0000000000009,3956.529384940136,2.4825282415310665E-7,{"$f":"Tone!BA78","v":47619047619045.344},{"$f":"Tone!BB78","v":-28033.47692125307},2.1000000000001002E-14,2.1000000000001002E-14,1.2362763322273784E-23,40000.025120443694,1.0000000000000001E-15,1.5515801509569162E-10,6445042490.1510515,41538.57269985247,-6445042490.0171928,1000000000041538.6,-6445042490.0171928,9.999999999376921E-16,9.9999999991692277E-16,1.5515801509569226E-6,40000.025120443694,1.5515801509569226E-6,2.499998429973255E-5,2.499998429973255E-5,-9.6973637633729211E-16,3.9999999999999998E-6,0,250000,250000,0,250000.00002599999,-9.731498526693973E-16,250000.00002599999,3.9999999995839999E-6,3.9999999995839999E-6,1.5570397639471714E-26,6.1991643078301085E-6,1.7081793124551131E-7,161250.86021030851,161189.67796107693,-4441.5805034661353,167529.67796107693,-485.0511185259993,167530.38014739216,0.96251712715294402,0.9625171270528422,0.95926208949160174,-1000,246.94165062806238,-2.6402581910868794,true,1000,{"$f":"Strings!E93","v":-6.1010244841594465},{"$f":"Strings!B93","v":-4.8336245619362357},{"$f":"harmonics!BA52","v":-1.8075620101351748},{"$f":"harmonics!BB52","v":-1.0707048797055476},-6.6411865720714101,-100,-6.2790038166494213,-6.4225345647173127,-7.5118459694541269,-9.5237804319528809,-11.413856999003006,-100,-6.2790038166494213,1.1204280713319332,-2.2790038166494213,null,489999.99999999994,18618.961811482994,2.0393446149439644E-6,2.1991642872461086E-6,-7.7434892907595337E-8,null,null,1.3381028058508898E-4,1.1351891214624995E-4,{"$f":"I180","v":-7.0842415087235888E-5},2.4825282415310665E-7,1.1351891214624995E-4,-7.0594162263082781E-5,7480.6056653449532,6352.4571506771572,3950.4112784875551]
[261.62556530059896,6340.0000000000009,4191.7968650921557,{"$f":"2*PI()*$B$10*0.000000001*$A78","v":2.6301470526068433E-7},{"$f":"Tone!BA79","v":47619047619045.344},{"$f":"Tone!BB79","v":-26460.07876112586},2.1000000000001002E-14,2.1000000000001002E-14,1.1668894733657619E-23,40000.025120443694,1.0000000000000001E-15,1.6438419078792769E-10,6083310050.6094189,37006.661171845575,-6083310050.4968586,1000000000037006.6,-6083310050.4968586,9.9999999994448991E-16,9.9999999992598639E-16,{"$f":"-Q78*R78^2+2*PI()*A78*$K$9*0.000000001","v":1.643841907879283E-6},{"$f":"J78+S78","v":40000.025120443694},1.643841907879283E-6,2.499998429973255E-5,2.499998429973255E-5,-1.0273999019870772E-15,{"$f":"1/($H$16*1000*$H$15/100)+H78*$V$42","v":3.9999999999999998E-6},{"$f":"I78*$V$42","v":0},250000,250000,0,{"$f":"X78+AC78+E181","v":250000.00002599999},{"$f":"Y78+AD78+F181","v":-1.0310163541844117E-15},250000.00002599999,3.9999999995839999E-6,3.9999999995839999E-6,1.6496261663519364E-26,{"$f":"H78*$AF$43+AI78+BT78","v":6.1988045631909885E-6},{"$f":"+D78+I78*$AF$43+AJ78+BU78","v":1.8098977637629424E-7},161252.70837240209,161184.01866702925,-4706.1750691750649,{"$f":"B78+AN78","v":167524.01866702925},{"$f":"C78+AO78","v":-514.37820408290918},167524.80835771159,0.96256017215123846,0.9625601720511322,{"$f":"IF($AO$42=0,1,AK181)","v":0.95962193701733733},-1000,{"$f":"A78","v":261.62556530059896},{"$f":"IF(AW78<$BM$40,NA(),20*LOG(AU78)+BO78)","v":-2.6775631194414302},true,1000,{"$f":"Strings!E94","v":-50},{"$f":"Strings!B94","v":-5.3300884544402027},{"$f":"harmonics!BA53","v":-1.431062047805123},{"$f":"harmonics!BB53","v":-0.72869673358162568},-6.761150502245326,-100,-6.319566467605787,-6.3341032031926714,-7.2042939275426203,-9.0767445827679083,-10.93106943238128,-100,-6.319566467605787,{"$f":"$B$7","v":1.1204280713319332},{"$f":"BM78+BN78*$BN$44+$BD$43","v":-2.319566467605787},null,{"$f":"$B$11*1000","v":489999.99999999994},{"$f":"2*PI()*$B$13*A78","v":19726.102894551321},2.0391646048732921E-6,{"$f":"BQ78*BS78^2+1/$B$12/1000","v":2.1988045426069891E-6},-8.202492888439009E-8,null,null,1.3157124721543601E-4,{"$f":"H181","v":1.097516962148529E-4},-7.2564166582329167E-5,{"$f":"D78","v":2.6301470526068433E-7},1.097516962148529E-4,-7.2301151877068482E-5,7608.8229560448135,6353.9851996931966,4185.8163909223631]
[277.18263097687247,6340.0000000000009,4441.0540776161288,2.7865437349748268E-7,{"$f":"Tone!BA80","v":47619047619045.344},{"$f":"Tone!BB80","v":-24974.988654161145},2.1000000000001002E-14,2.1000000000001002E-14,1.1013969996486116E-23,40000.025120443694,1.0000000000000001E-15,1.7415898343592665E-10,5741880092.8601942,32969.187000784194,-5741880092.765542,1000000000032969.1,-5741880092.765542,9.9999999995054639E-16,9.9999999993406196E-16,1.7415898343592724E-6,40000.025120443694,1.7415898343592724E-6,2.499998429973255E-5,2.499998429973255E-5,-1.0884922793036652E-15,3.9999999999999998E-6,0,250000,250000,0,250000.00002599999,-1.0923237769392557E-15,250000.00002599999,3.9999999995839999E-6,3.9999999995839999E-6,1.7477180427392836E-26,6.198400914750951E-6,1.9176920460914374E-7,161254.77550940862,161177.65509462007,-4986.5943076875183,167517.65509462007,-545.54023007138949,167518.54339905991,0.9626085103024693,0.96260851020235794,0.96002613651164814,-1000,277.18263097687247,-2.6346686359658555,true,1000,{"$f":"Strings!E95","v":-50},{"$f":"Strings!B95","v":-5.8280793095945143},{"$f":"harmonics!BA54","v":-1.0707048797055476},{"$f":"harmonics!BB54","v":-0.40758243267749661},-6.8987841893000619,-100,-6.3767583654169293,-6.2803297715128501,-6.9403447223814343,-8.646806799084116,-10.453783150450693,-100,-6.2803297715128501,1.1204280713319332,-2.2803297715128501,null,489999.99999999994,20899.078012311198,2.0389626071709705E-6,2.1984008941669511E-6,-8.688516888833892E-8,null,null,1.2918714823375162E-4,1.0581028416399745E-4,-7.4118169391205378E-5,2.7865437349748268E-7,1.0581028416399745E-4,-7.3839515017707892E-5,7750.2870820992639,6355.7010330173443,4435.3144458828356]
[293.66476791740797,6340.0000000000009,4705.1328952881504,2.9522402480239379E-7,{"$f":"Tone!BA81","v":47619047619045.344},{"$f":"Tone!BB81","v":-23573.250250179441},2.1000000000001002E-14,2.1000000000001002E-14,1.0395803360330126E-23,40000.025120443694,1.0000000000000001E-15,1.8451501550149611E-10,5419613126.1588612,29372.206437233424,-5419613126.0792685,1000000000029372.3,-5419613126.0792685,9.999999999559416E-16,9.9999999994125558E-16,1.8451501550149667E-6,40000.025120443694,1.8451501550149667E-6,2.499998429973255E-5,2.499998429973255E-5,-1.1532173984172631E-15,3.9999999999999998E-6,0,250000,250000,0,250000.00002599999,-1.157276728758296E-15,250000.00002599999,3.9999999995839999E-6,3.9999999995839999E-6,1.8516427656281319E-26,6.1979480251636769E-6,2.0319285979864868E-7,161257.08653028563,161170.49808700959,-5283.7962319968437,167510.49808700959,-578.66333670869335,167511.49757737614,0.96266279546452327,0.96266279536440635,0.96048019359305103,-1000,293.66476791740797,-2.6063616916076366,true,1000,{"$f":"Strings!E96","v":-50},{"$f":"Strings!B96","v":-6.327155628022723},{"$f":"harmonics!BA55","v":-0.72869673358162568},{"$f":"harmonics!BB55","v":-0.11030885141051347},-7.0558523616043489,-100,-6.4495416515380555,-6.2561299625596121,-6.7224473913996761,-8.2388767272911938,-9.9838631661533697,-100,-6.2561299625596121,1.1204280713319332,-2.2561299625596121,null,489999.99999999994,22141.80186017953,2.0387359439068162E-6,2.1979480045796774E-6,-9.2031165003745105E-8,null,null,1.2665954838053312E-4,1.0171034518239028E-4,-7.5482758818419104E-5,2.9522402480239379E-7,1.0171034518239028E-4,-7.5187534793616709E-5,7906.1488398246165,6357.6278181335438,4699.7614836877256]
[311.12698372208138,6340.0000000000009,4984.9146566136942,3.127789588463495E-7,{"$f":"Tone!BA82","v":47619047619045.344},{"$f":"Tone!BB82","v":-22250.18537756168},2.1000000000001002E-14,2.1000000000001002E-14,9.8123317515056386E-24,40000.025120443694,1.0000000000000001E-15,1.9548684927896839E-10,5115433614.4620752,26167.661063968531,-5115433614.3951454,1000000000026167.6,-5115433614.3951454,9.9999999996074853E-16,9.9999999994766468E-16,1.9548684927896894E-6,40000.025120443694,1.9548684927896894E-6,2.499998429973255E-5,2.499998429973255E-5,-1.2217912733961295E-15,3.9999999999999998E-6,0,250000,250000,0,250000.00002599999,-1.2260919840802667E-15,250000.00002599999,3.9999999995839999E-6,3.9999999995839999E-6,1.9617471741203832E-26,6.1974399136032107E-6,2.1529966149473476E-7,161259.66890055026,161162.44681666905,-5598.7989765145439,167502.44681666905,-613.88431990084973,167503.57173364772,0.96272376303099927,0.96272376293087603,0.96099030751166759,-1000,311.12698372208138,-2.6025513419295483,true,1000,{"$f":"Strings!E97","v":-13.395226036080958},{"$f":"Strings!B97","v":-6.8270023736401972},{"$f":"harmonics!BA56","v":-0.40758243267749661},{"$f":"harmonics!BB56","v":0.15969601490520768},-7.2345848063176934,-100,-6.5375896777795575,-6.2569314904008415,-6.5506201680376872,-7.8585754150393718,-9.5237804319528809,-100,-6.2569314904008415,1.1204280713319332,-2.2569314904008415,null,489999.99999999994,23458.42191347621,2.0384816130172275E-6,2.1974398930192104E-6,-9.7479297351614733E-8,null,null,1.2399184642290716E-4,9.7471020389153801E-5,-7.66379681597768E-5,3.127789588463495E-7,9.7471020389153801E-5,-7.6325189200930448E-5,8077.6249788748837,6359.7916043043297,4980.0678759594866]
[329.62755691287043,6340.0000000000009,5281.3331072129477,3.3137776358983211E-7,{"$f":"Tone!BA83","v":47619047619045.344},{"$f":"Tone!BB83","v":-21001.378430286299},2.1000000000001002E-14,2.1000000000001002E-14,9.2616078877571416E-24,40000.025120443694,1.0000000000000001E-15,2.0711110224364504E-10,4828326386.9261141,23312.735698686985,-4828326386.8698339,1000000000023312.8,-4828326386.8698339,9.9999999996503086E-16,9.9999999995337445E-16,2.0711110224364548E-6,40000.025120443694,2.0711110224364548E-6,2.499998429973255E-5,2.499998429973255E-5,-1.2944427631734463E-15,3.9999999999999998E-6,0,250000,250000,0,250000.00002599999,-1.2989992074228066E-15,250000.00002599999,3.9999999995839999E-6,3.9999999995839999E-6,2.0783987314441836E-26,6.1968698795790457E-6,2.2813095832663345E-7,161262.55282777519,161153.38716221522,-5932.6849466454405,167493.38716221522,-651.35183943249285,167494.6536528568,0.96279224029443933,0.96279224019430898,0.96156346118557268,-1000,329.62755691287043,-2.6194447756178953,true,1000,{"$f":"Strings!E98","v":-50},{"$f":"Strings!B98","v":-7.3273953450261704},{"$f":"harmonics!BA57","v":-0.11030885141051347},{"$f":"harmonics!BB57","v":0.3984232578144391},-7.4377041964366839,-100,-6.6411865720714101,-6.2790038166494213,-6.4225345647173127,-7.5118459694541269,-9.0767445827679083,-11.413856999003006,-6.2790038166494213,1.1204280713319332,-2.2790038166494213,null,489999.99999999994,24853.332269237406,2.0381962495957361E-6,2.1968698589950458E-6,-1.0324680526319866E-7,null,null,1.2118935053532419E-4,9.3114684051321151E-5,-7.7566193004403118E-5,3.3137776358983211E-7,9.3114684051321151E-5,-7.7234815240813292E-5,8265.9983044824221,6362.2216871597684,5277.202210749575]
[349.22823143300445,6340.0000000000009,5595.377516110022,3.5108251081474658E-7,{"$f":"Tone!BA84","v":47619047619045.344},{"$f":"Tone!BB84","v":-19822.661631254625},2.1000000000001002E-14,2.1000000000001002E-14,8.7417937793841244E-24,40000.025120443694,1.0000000000000001E-15,2.1942656925921658E-10,4557333249.8685656,20769.286350357583,-4557333249.8212395,1000000000020769.3,-4557333249.8212395,9.9999999996884599E-16,9.9999999995846123E-16,2.1942656925921704E-6,40000.025120443694,2.1942656925921704E-6,2.499998429973255E-5,2.499998429973255E-5,-1.3714143353427359E-15,3.9999999999999998E-6,0,250000,250000,0,250000.00002599999,-1.3762417198664387E-15,250000.00002599999,3.9999999995839999E-6,3.9999999995839999E-6,2.2019867513282886E-26,6.1962304180936845E-6,2.4173069384582276E-7,161265.77143695895,161143.18983672204,-6286.6053163568777,167483.18983672204,-691.22780024685562,167484.61623013412,0.96286915817611507,0.96286915807597662,0.96220752360753026,-1000,349.22823143300445,-2.6541915000732574,true,1000,{"$f":"Strings!E99","v":-50},{"$f":"Strings!B99","v":-7.8281752846227857},{"$f":"harmonics!BA58","v":0.15969601490520768},{"$f":"harmonics!BB58","v":0.60115528491057879},-7.6684792697175777,-100,-6.761150502245326,-6.319566467605787,-6.3341032031926714,-7.2042939275426203,-8.646806799084116,-10.93106943238128,-6.319566467605787,1.1204280713319332,-2.319566467605787,null,489999.99999999994,26331.188311105987,2.0378760826965443E-6,2.196230397509685E-6,-1.0935181696892385E-7,null,null,1.182592957105229E-4,8.8666554879156045E-5,-7.8252815079142752E-5,3.5108251081474658E-7,8.8666554879156045E-5,-7.7901732568328005E-5,8472.6178006024256,6364.9510210028793,5592.1955344318458]
[369.99442271163502,6340.0000000000009,5928.0959773263521,3.719589632832222E-7,{"$f":"Tone!BA85","v":47619047619045.344},{"$f":"Tone!BB85","v":-18710.10112272223},2.1000000000001002E-14,2.1000000000001002E-14,8.2511545951212907E-24,40000.025120443694,1.0000000000000001E-15,2.3247435205201382E-10,4301549788.885994,18503.33058626514,-4301549788.8461971,1000000000018503.4,-4301549788.8461971,9.9999999997224499E-16,9.9999999996299323E-16,2.3247435205201425E-6,40000.025120443694,2.3247435205201425E-6,2.499998429973255E-5,2.499998429973255E-5,-1.4529628753709109E-15,3.9999999999999998E-6,0,250000,250000,0,250000.00002599999,-1.4580773111160553E-15,250000.00002599999,3.9999999995839999E-6,3.9999999995839999E-6,2.3329236973004404E-26,6.1955131252538535E-6,2.5614558617408746E-7,161269.36092612887,161131.70822442175,-6661.7849111061996,167471.70822442175,-733.6889337798475,167473.31535219992,0.96295556451471687,0.96295556441456953,0.96293136649504107,-1000,369.99442271163502,-2.6084230989019801,true,1000,{"$f":"Strings!E100","v":-32.656234056848106},{"$f":"Strings!B100","v":-8.3292292170949498},{"$f":"harmonics!BA59","v":0.3984232578144391},{"$f":"harmonics!BB59","v":0.76229954726305738},-7.9308059592805105,-100,-6.8987841893000619,-6.3767583654169293,-6.2803297715128501,-6.9403447223814343,-8.2388767272911938,-10.453783150450693,-6.2803297715128501,1.1204280713319332,-2.2803297715128501,null,489999.99999999994,27896.922246241658,2.0375168871663813E-6,2.1955131046698536E-6,-1.1581337710913477E-7,null,null,1.1521079718225473E-4,8.4154166171929821E-5,-7.8686746681241412E-5,3.719589632832222E-7,8.4154166171929821E-5,-7.8314787717958186E-5,8698.8989460034736,6368.0166854859481,5926.1459960207612]
[391.99543598174995,6340.0000000000009,6280.5989077970671,3.9407679421471804E-7,{"$f":"Tone!BA86","v":47619047619045.344},{"$f":"Tone!BB86","v":-17659.983837414431},2.1000000000001002E-14,2.1000000000001002E-14,7.7880528723005075E-24,40000.025120443694,1.0000000000000001E-15,2.4629799638419874E-10,4060122350.4549499,16484.593500663828,-4060122350.4214854,1000000000016484.6,-4060122350.4214854,9.9999999997527304E-16,9.9999999996703062E-16,2.4629799638419916E-6,40000.025120443694,2.4629799638419916E-6,2.499998429973255E-5,2.499998429973255E-5,-1.5393605439296441E-15,3.9999999999999998E-6,0,250000,250000,0,250000.00002599999,-1.5447790998500965E-15,250000.00002599999,3.9999999995839999E-6,3.9999999995839999E-6,2.471646559246052E-26,6.1947085933810051E-6,2.7142532298875407E-7,161273.36068922226,161118.77587425368,-7059.5275180416002,167458.77587425368,-778.92861024453305,167460.58744398152,0.96305263913618477,0.96305263903602734,0.96374499738256703,{"$f":"IF(AY85,-1000,AX85)","v":-1000},391.99543598174995,-2.5768872280674895,{"$f":"OR(AW85<$K$26,AW85>$M$26,ISNA(AX85))","v":true},{"$f":"IF(AV85=-1000,1000,AV85)","v":1000},{"$f":"Strings!E101","v":-50},{"$f":"Strings!B101","v":-8.8304770746202603},{"$f":"harmonics!BA60","v":0.60115528491057879},{"$f":"harmonics!BB60","v":0.87516814656194519},{"$f":"(BA85*$BA$44+BB85*$BB$44+BC85*$BC$44+BD85*$BD$44)","v":-8.2293217897096813},-100,-7.0558523616043489,-6.4495416515380555,-6.2561299625596121,-6.7224473913996761,-7.8585754150393718,-9.9838631661533697,-6.2561299625596121,1.1204280713319332,-2.2561299625596121,null,489999.99999999994,29555.75956610385,2.0371139299771279E-6,2.1947085727970056E-6,-1.2265147122596398E-7,null,null,1.120547375413031E-4,7.9606715062555063E-5,-7.8860859254762706E-5,3.9407679421471804E-7,7.9606715062555063E-5,-7.8466782460547991E-5,8946.3244205459505,6371.460414343268,6280.2239471306711]
[415.30469757994587,6340.0000000000009,6654.0627532842918,4.1750981981391646E-7,{"$f":"Tone!BA87","v":47619047619045.344},{"$f":"Tone!BB87","v":-16668.805106509357},2.1000000000001002E-14,2.1000000000001002E-14,7.350943051971329E-24,40000.025120443694,1.0000000000000001E-15,2.6094363738369774E-10,3832245192.9426937,14686.103218832384,-3832245192.9145536,1000000000014686.1,-3832245192.9145536,9.9999999997797094E-16,9.9999999997062803E-16,2.6094363738369813E-6,40000.025120443694,2.6094363738369813E-6,2.499998429973255E-5,2.499998429973255E-5,-1.6308956852063084E-15,3.9999999999999998E-6,0,250000,250000,0,250000.00002599999,-1.6366364452287497E-15,250000.00002599999,3.9999999995839999E-6,3.9999999995839999E-6,2.618618311821327E-26,6.193806294603744E-6,2.8762277359132734E-7,161277.81338904824,161104.20358845789,-7481.221670381381,167444.20358845789,-827.15891709708922,167446.24662036193,0.96316171096209224,0.96316171086192348,0.96465971174730769,-2.5694486716766622,415.30469757994587,-2.5694486716766622,false,-2.5694486716766622,{"$f":"Strings!E102","v":-50},{"$f":"Strings!B102","v":-9.3318621493947891},{"$f":"harmonics!BA61","v":0.76229954726305738},{"$f":"harmonics!BB61","v":0.93167953296304873},-8.5695626021317324,{"$f":"IF(BF$44,OFFSET($BE86,BF$31,0),-100)","v":-100},-7.2345848063176934,-6.5375896777795575,-6.2569314904008415,-6.5506201680376872,-7.5118459694541269,-9.5237804319528809,-6.2569314904008415,1.1204280713319332,-2.2569314904008415,null,489999.99999999994,31313.236486043726,2.0366619104875543E-6,2.1938062740197441E-6,-1.2988704622258913E-7,null,null,1.0880358945649824E-4,7.5054321638439505E-5,-7.8772265944378468E-5,4.1750981981391646E-7,7.5054321638439505E-5,-7.8354756124564547E-5,9216.4454170579229,6375.3291950822904,6655.6775597935493]
[440.0000000000008,6340.0000000000009,7049.7339146555087,4.4233624562544374E-7,{"$f":"Tone!BA88","v":47619047619045.344},{"$f":"Tone!BB88","v":-15733.25696313162},2.1000000000001002E-14,2.1000000000001002E-14,6.9383663207417074E-24,40000.025120443694,1.0000000000000001E-15,2.7646015351590228E-10,3617157797.5194063,13083.830532155444,-3617157797.4957433,1000000000013083.9,-3617157797.4957433,9.999999999803742E-16,9.9999999997383238E-16,2.764601535159027E-6,40000.025120443694,2.764601535159027E-6,2.499998429973255E-5,2.499998429973255E-5,-1.7278737892258986E-15,3.9999999999999998E-6,0,250000,250000,0,250000.00002599999,-1.7339559126032485E-15,250000.00002599999,3.9999999995839999E-6,3.9999999995839999E-6,2.7743294595881373E-26,6.1927944518573317E-6,3.0479422005221114E-7,161282.76495770656,161087.77603192633,-7928.3469582735279,167427.77603192633,-878.61304361801922,167430.08137093319,0.96328427745544998,0.96328427735526845,0.96568826723455659,-2.5822647183408063,440.0000000000008,-2.5822647183408063,false,-2.5822647183408063,{"$f":"Strings!E103","v":-14.555112587150221},{"$f":"Strings!B103","v":-9.83334429722116},{"$f":"harmonics!BA62","v":0.87516814656194519},{"$f":"harmonics!BB62","v":0.93167953296304873},-8.9581761506592148,-100,-7.4377041964366839,-6.6411865720714101,-6.2790038166494213,-6.4225345647173127,-7.2042939275426203,-9.0767445827679083,-6.2790038166494213,1.1204280713319332,-2.2790038166494213,null,489999.99999999994,33175.218421908277,2.0361548940181478E-6,2.1927944312733318E-6,-1.375420255732326E-7,null,null,1.0547118025631707E-4,7.0527236941947749E-5,-7.8422437567286091E-5,4.4233624562544374E-7,7.0527236941947749E-5,-7.7980101321660652E-5,9510.8837843649762,6379.6759499748541,7053.8390350935206]
[466.16376151809078,6340.0000000000009,7468.932907630593,4.6863892753760595E-7,{"$f":"Tone!BA89","v":47619047619045.344},{"$f":"Tone!BB89","v":-14850.217102320332},2.1000000000001002E-14,2.1000000000001002E-14,6.5489457421238917E-24,40000.025120443694,1.0000000000000001E-15,2.9289932971100368E-10,3414142329.9972939,11656.367849479351,-3414142329.9773951,1000000000011656.4,-3414142329.9773951,9.9999999998251557E-16,9.9999999997668766E-16,2.9289932971100401E-6,40000.025120443694,2.9289932971100401E-6,2.499998429973255E-5,2.499998429973255E-5,-1.8306185113955908E-15,3.9999999999999998E-6,0,250000,250000,0,250000.00002599999,-1.8370622966492327E-15,250000.00002599999,3.9999999995839999E-6,3.9999999995839999E-6,2.9392996740273982E-26,6.1916598961674099E-6,3.2299960970736757E-7,161288.26449493534,161069.24777283589,-8402.4809241684197,167409.24777283589,-933.5480165378267,167411.85069094106,0.963422026751795,0.96342202665159915,0.96684508362535693,-2.6124286036586208,466.16376151809078,-2.6124286036586208,false,-2.6124286036586208,{"$f":"Strings!E104","v":-50},{"$f":"Strings!B104","v":-10.334895108977095},{"$f":"harmonics!BA63","v":0.93167953296304873},{"$f":"harmonics!BB63","v":0.93167953296304873},-9.4032155760140466,-100,-7.6684792697175777,-6.761150502245326,-6.319566467605787,-6.3341032031926714,-6.9403447223814343,-8.646806799084116,-6.319566467605787,1.1204280713319332,-2.319566467605787,null,489999.99999999994,35147.919565320437,2.035586238079513E-6,2.19165987558341E-6,-1.4563931783023836E-7,null,null,1.0207240861994111E-4,6.6055043653359292E-5,-7.7817143416017428E-5,4.6863892753760595E-7,6.6055043653359292E-5,-7.7348504488479819E-5,9831.3352292238142,6384.5603104024103,7476.1314884244484]
[493.88330125612504,6340.0000000000009,7913.0587698802765,4.9650564830621351E-7,{"$f":"Tone!BA90","v":47619047619045.344},{"$f":"Tone!BB90","v":-14016.738460626531},2.1000000000001002E-14,2.1000000000001002E-14,6.1813816611368906E-24,40000.025120443694,1.0000000000000001E-15,3.103160301913834E-10,3222521245.1257215,10384.643175286632,-3222521245.1089897,1000000000010384.6,-3222521245.1089897,9.9999999998442303E-16,9.9999999997923075E-16,3.1031603019138377E-6,40000.025120443694,3.1031603019138377E-6,2.499998429973255E-5,2.499998429973255E-5,-1.9394727526745795E-15,3.9999999999999998E-6,0,250000,250000,0,250000.00002599999,-1.9462997053387899E-15,250000.00002599999,3.9999999995839999E-6,3.9999999995839999E-6,3.1140795278943354E-26,6.1903879090612262E-6,3.4230283160743161E-7,161294.36402609744,161048.33864658297,-8905.3066066675583,167388.33864658297,-992.24783678728181,167391.27955372332,0.96357686288150324,0.96357686278129118,0.9681464728929412,-2.561508419624186,493.88330125612504,-2.561508419624186,false,-2.561508419624186,{"$f":"Strings!E105","v":-11.549548063727094},{"$f":"Strings!B105","v":-10.836494484926416},{"$f":"harmonics!BA64","v":0.92194498524941859},{"$f":"harmonics!BB64","v":0.93167953296304873},-9.9145494996769976,-100,-7.9308059592805105,-6.8987841893000619,-6.3767583654169293,-6.2803297715128501,-6.7224473913996761,-8.2388767272911938,-6.2803297715128501,1.1204280713319332,-2.2803297715128501,null,489999.99999999994,37237.923622966009,2.034948510553834E-6,2.1903878884772259E-6,-1.5420281669878189E-7,null,null,9.8622926828348463E-5,6.1665893953843175E-5,-7.6966221286114481E-5,4.9650564830621351E-7,6.1665893953843175E-5,-7.6469715637808266E-5,10179.573800375158,6390.0494986531412,7924.076612580614]
[523.25113060119827,6340.0000000000009,8383.5937301843169,5.2602941052136899E-7,{"$f":"Tone!BA91","v":47619047619045.344},{"$f":"Tone!BB91","v":-13230.039380562925},2.1000000000001002E-14,2.1000000000001002E-14,5.8344473668288067E-24,40000.025120443694,1.0000000000000001E-15,3.287683815758556E-10,3041655025.3469176,9251.6652932181587,-3041655025.3328476,1000000000009251.6,-3041655025.3328476,9.9999999998612263E-16,9.9999999998149695E-16,3.2876838157585588E-6,40000.025120443694,3.2876838157585588E-6,2.499998429973255E-5,2.499998429973255E-5,-2.0547998039741497E-15,3.9999999999999998E-6,0,250000,250000,0,250000.00002599999,-2.0620327083688187E-15,250000.00002599999,3.9999999995839999E-6,3.9999999995839999E-6,3.2992523327038653E-26,6.1889620489366058E-6,3.627720198910501E-7,161301.11807043708,161024.72831250346,-9438.6208027194825,167364.72831250346,-1055.0270725351656,167368.0535981759,0.96375093455824867,0.96375093445801863,0.96961090455737242,-2.5241801412460805,523.25113060119827,-2.5241801412460805,false,-2.5241801412460805,{"$f":"Strings!E106","v":-50},{"$f":"Strings!B106","v":-11.33812820667954},{"$f":"harmonics!BA65","v":0.83367938053467938},{"$f":"harmonics!BB65","v":0.93167953296304873},-10.504448826144861,-100,-8.2293217897096813,-7.0558523616043489,-6.4495416515380555,-6.2561299625596121,-6.5506201680376872,-7.8585754150393718,-6.2561299625596121,1.1204280713319332,-2.2561299625596121,null,489999.99999999994,39452.205789102671,2.0342333990925414E-6,2.1889620283526063E-6,-1.6325739063031888E-7,null,null,9.513880408945791E-5,5.7385825556248099E-5,-7.5883193585932554E-5,5.2602941052136899E-7,5.7385825556248099E-5,-7.5357164175411185E-5,10557.457869002143,6396.2193337211238,8399.3032384053968]
[554.36526195374529,6340.0000000000009,8882.108155232263,5.5730874699496567E-7,{"$f":"Tone!BA92","v":47619047619045.344},{"$f":"Tone!BB92","v":-12487.494327080569},2.1000000000001002E-14,2.1000000000001002E-14,5.5069849982430568E-24,40000.025120443694,1.0000000000000001E-15,3.483179668718535E-10,2870940046.46559,8242.2967503998443,-2870940046.4537587,1000000000008242.3,-2870940046.4537587,9.9999999998763666E-16,9.9999999998351545E-16,3.4831796687185379E-6,40000.025120443694,3.4831796687185379E-6,2.499998429973255E-5,2.499998429973255E-5,-2.1769845586073261E-15,3.9999999999999998E-6,0,250000,250000,0,250000.00002599999,-2.184647553878507E-15,250000.00002599999,3.9999999995839999E-6,3.9999999995839999E-6,3.4954360854785604E-26,6.1873639602346908E-6,3.8447988747728229E-7,161308.58295626935,160998.04984541092,-10004.343123574316,167338.04984541092,-1122.2349683420525,167341.81287828035,0.96394666809066187,0.9639466679904114,0.97125931261073239,-2.5102275719343989,554.36526195374529,-2.5102275719343989,false,-2.5102275719343989,{"$f":"Strings!E107","v":-11.721354257571416},{"$f":"Strings!B107","v":-11.839786217450747},{"$f":"harmonics!BA66","v":0.65133433024943688},{"$f":"harmonics!BB66","v":0.93167953296304873},-11.18845188720131,-100,-8.5695626021317324,-7.2345848063176934,-6.5375896777795575,-6.2569314904008415,-6.4225345647173127,-7.5118459694541269,-6.2569314904008415,1.1204280713319332,-2.2569314904008415,null,489999.99999999994,41798.156024622418,2.0334316109644508E-6,2.1873639396506909E-6,-1.7282885951768341E-7,null,null,9.1636187179225192E-5,5.3238189676729612E-5,-7.4584756892347344E-5,5.5730874699496567E-7,5.3238189676729612E-5,-7.4027448145352372E-5,10966.937809783038,6403.1553806120155,8903.5569350337846]
[587.32953583481628,6340.0000000000009,9410.2657905763044,5.9044804960478789E-7,{"$f":"Tone!BA93","v":47619047619045.344},{"$f":"Tone!BB93","v":-11786.625125089718},2.1000000000001002E-14,2.1000000000001002E-14,5.1979016801650623E-24,40000.025120443694,1.0000000000000001E-15,3.6903003100299242E-10,2709806563.1092763,7343.0516094701088,-2709806563.0993276,1000000000007343,-2709806563.0993276,9.9999999998898541E-16,9.9999999998531385E-16,3.6903003100299266E-6,40000.025120443694,3.6903003100299266E-6,2.499998429973255E-5,2.499998429973255E-5,-2.3064347968345219E-15,3.9999999999999998E-6,0,250000,250000,0,250000.00002599999,-2.3145534575165877E-15,250000.00002599999,3.9999999995839999E-6,3.9999999995839999E-6,3.7032855312562569E-26,6.185573164317375E-6,4.0750409395201637E-7,161316.81580221382,160967.88217057654,-10604.525924564769,167307.88217057654,-1194.2601339884641,167312.14448948755,0.96416680507223784,0.9641668049719645,0.97311545160072732,-2.5157164456365404,587.32953583481628,-2.5157164456365404,false,-2.5157164456365404,{"$f":"Strings!E108","v":-50},{"$f":"Strings!B108","v":-12.341461404585212},{"$f":"harmonics!BA67","v":0.35477408124025533},{"$f":"harmonics!BB67","v":0.92194498524941859},-11.986687323344956,-100,-8.9581761506592148,-7.4377041964366839,-6.6411865720714101,-6.2790038166494213,-6.3341032031926714,-7.2042939275426203,-6.2790038166494213,1.1204280713319332,-2.2790038166494213,null,489999.99999999994,44283.603720359089,2.0325327625708617E-6,2.1855731437333751E-6,-1.829439556527715E-7,null,null,8.8130974012204575E-5,4.924321479935484E-5,-7.3090179754632423E-5,5.9044804960478789E-7,4.924321479935484E-5,-7.2499731705027634E-5,11410.065579271879,6410.9542662374588,9438.7108187239555]
[622.2539674441631,6340.0000000000009,9969.829313227392,6.2555791769269932E-7,{"$f":"Tone!BA94","v":47619047619045.344},{"$f":"Tone!BB94","v":-11125.092688780836},2.1000000000001002E-14,2.1000000000001002E-14,4.9061658757528171E-24,40000.025120443694,1.0000000000000001E-15,3.9097369855793704E-10,2557716807.2561345,6541.9152661205153,-2557716807.2477684,1000000000006541.9,-2557716807.2477684,9.9999999999018724E-16,9.9999999998691643E-16,3.9097369855793729E-6,40000.025120443694,3.9097369855793729E-6,2.499998429973255E-5,2.499998429973255E-5,-2.4435825467922554E-15,3.9999999999999998E-6,0,250000,250000,0,250000.00002599999,-2.4521839681605298E-15,250000.00002599999,3.9999999995839999E-6,3.9999999995839999E-6,3.9234943482407606E-26,6.183566831057284E-6,4.3192765206539971E-7,161325.87306159185,160933.7411101521,-11241.365191798788,167273.7411101521,-1271.5358785713961,167278.57384756926,0.96441444562169842,0.96441444552139932,0.97520631109627853,-2.4983997079564699,622.2539674441631,-2.4983997079564699,false,-2.4983997079564699,{"$f":"Strings!E109","v":-14.409345721589792},{"$f":"Strings!B109","v":-12.843148737959629},{"$f":"harmonics!BA68","v":-8.283957282098775E-2},{"$f":"harmonics!BB68","v":0.83367938053467938},-12.925988310780616,-100,-9.4032155760140466,-7.6684792697175777,-6.761150502245326,-6.319566467605787,-6.2803297715128501,-6.9403447223814343,-6.2803297715128501,1.1204280713319332,-2.2803297715128501,null,489999.99999999994,46916.843826952441,2.0315252578420685E-6,2.1835668104732837E-6,-1.9363026562729961E-7,null,null,8.4638513920626377E-5,4.5417718765307698E-5,-7.1420647300675467E-5,6.2555791769269932E-7,4.5417718765307698E-5,-7.0795089382982761E-5,11889.00638756656,6419.7251893329967,10006.777771942468]
[659.2551138257412,6340.0000000000009,10562.666214425903,6.6275552717966454E-7,{"$f":"Tone!BA95","v":47619047619045.344},{"$f":"Tone!BB95","v":-10500.689215143144},2.1000000000001002E-14,2.1000000000001002E-14,4.6308039438785686E-24,40000.025120443694,1.0000000000000001E-15,4.1422220448729029E-10,2414163193.4841614,5828.1839247736443,-2414163193.4771266,1000000000005828.1,-2414163193.4771266,9.9999999999125772E-16,9.9999999998834347E-16,4.1422220448729062E-6,40000.025120443694,4.1422220448729062E-6,2.499998429973255E-5,2.499998429973255E-5,-2.5888855263468906E-15,3.9999999999999998E-6,0,250000,250000,0,250000.00002599999,-2.5979984148456111E-15,250000.00002599999,3.9999999995839999E-6,3.9999999995839999E-6,4.1567974628883638E-26,6.1813195303228474E-6,4.5783937786537729E-7,161335.80849965449,160895.06875974263,-11917.212469150616,167235.06875974263,-1354.5462547247134,167240.55434801703,0.96469309808627435,0.96469309798594627,0.97756259980211901,-2.4532384084007823,659.2551138257412,-2.4532384084007823,false,-2.4532384084007823,{"$f":"Strings!E110","v":-50},{"$f":"Strings!B110","v":-13.344844660381217},{"$f":"harmonics!BA69","v":-0.69861473152068343},{"$f":"harmonics!BB69","v":0.65133433024943688},-14.0434593919019,-100,-9.9145494996769976,-7.9308059592805105,-6.8987841893000619,-6.3767583654169293,-6.2561299625596121,-6.7224473913996761,-6.2561299625596121,1.1204280713319332,-2.2561299625596121,null,489999.99999999994,49706.664538474834,2.0303961547493191E-6,2.1813195097388471E-6,-2.0491614931428725E-7,null,null,8.1173345666097854E-5,4.1774970375620308E-5,-6.9598591197982259E-5,6.6275552717966454E-7,4.1774970375620308E-5,-6.8935835670802593E-5,12406.052669090417,6429.5916571574444,10609.924314077685]
[698.45646286600925,6340.0000000000009,11190.755032220051,7.0216502162949348E-7,{"$f":"Tone!BA96","v":47619047619045.344},{"$f":"Tone!BB96","v":-9911.3308156273088},2.1000000000001002E-14,2.1000000000001002E-14,4.3708968896920607E-24,40000.025120443694,1.0000000000000001E-15,4.3885313851843336E-10,2278666624.9520292,5192.3215876702725,-2278666624.9461136,1000000000005192.4,-2278666624.9461136,9.9999999999221146E-16,9.9999999998961532E-16,4.3885313851843366E-6,40000.025120443694,4.3885313851843366E-6,2.499998429973255E-5,2.499998429973255E-5,-2.7428286706854691E-15,3.9999999999999998E-6,0,250000,250000,0,250000.00002599999,-2.7524834397328746E-15,250000.00002599999,3.9999999995839999E-6,3.9999999995839999E-6,4.4039735026565726E-26,6.1788029628030435E-6,4.8533439016936515E-7,161346.67043914637,160851.22085414582,-12634.587905005703,167191.22085414582,-1443.8328727856515,167197.45507651815,0.9650067362885747,0.96500673618821398,0.98021931315413768,-2.4304663880471673,698.45646286600925,-2.4304663880471673,false,-2.4304663880471673,{"$f":"Strings!E111","v":-21.334678745156435},{"$f":"Strings!B111","v":-13.846546656355581},{"$f":"harmonics!BA70","v":-1.5463681290625619},{"$f":"harmonics!BB70","v":0.35477408124025533},-15.392914785418144,-100,-10.504448826144861,-8.2293217897096813,-7.0558523616043489,-6.4495416515380555,-6.2569314904008415,-6.5506201680376872,-6.2569314904008415,1.1204280713319332,-2.2569314904008415,null,489999.99999999994,52662.376622212003,2.0291310192147743E-6,2.1788029422190432E-6,-2.1683063146012834E-7,null,null,7.7748980898191517E-5,3.8324691554684599E-5,-6.764704020092554E-5,7.0216502162949348E-7,3.8324691554684599E-5,-6.6944875179296046E-5,12963.640582494376,6440.6934882751675,11250.486413581635]
[739.98884542327039,6340.0000000000009,11856.191954652708,7.4391792656644471E-7,{"$f":"Tone!BA97","v":47619047619045.344},{"$f":"Tone!BB97","v":-9355.0505613611131},2.1000000000001002E-14,2.1000000000001002E-14,4.1255772975606446E-24,40000.025120443694,1.0000000000000001E-15,4.6494870410402785E-10,2150774894.4579196,4625.8326466304752,-2150774894.4529448,1000000000004625.9,-2150774894.4529448,9.9999999999306126E-16,9.9999999999074832E-16,4.6494870410402807E-6,40000.025120443694,4.6494870410402807E-6,2.499998429973255E-5,2.499998429973255E-5,-2.905925750741819E-15,3.9999999999999998E-6,0,250000,250000,0,250000.00002599999,-2.9161546222321078E-15,250000.00002599999,3.9999999995839999E-6,3.9999999995839999E-6,4.6658473946008761E-26,6.1759856699890925E-6,5.1451466582241177E-7,161358.49806737682,160801.45170924539,-13396.194487945953,167141.45170924539,-1540.0025332932455,167148.54617159121,0.96535986559960596,0.9653598654992086,0.98321640146114453,-2.4260215247637618,739.98884542327039,-2.4260215247637618,false,-2.4260215247637618,{"$f":"Strings!E112","v":-32.671700992653186},{"$f":"Strings!B112","v":-14.348252947069939},{"$f":"harmonics!BA71","v":-2.7093045628590682},{"$f":"harmonics!BB71","v":-8.283957282098775E-2},-17.057557509929008,{"$f":"IF(BF$44,OFFSET($BE96,BF$31,0),-100)","v":-100},-11.18845188720131,-8.5695626021317324,-7.2345848063176934,-6.5375896777795575,-6.2790038166494213,-6.4225345647173127,-6.2790038166494213,1.1204280713319332,-2.2790038166494213,null,489999.99999999994,55793.844492483346,2.0277137657885198E-6,2.1759856494050926E-6,-2.2940326074403294E-7,null,null,7.4377737292998568E-5,3.5073183082598813E-5,-6.5589020676335872E-5,7.4391792656644471E-7,3.5073183082598813E-5,-6.4845102749769434E-5,13564.36931151673,6453.1891288089346,11930.987590599492]
[783.99087196350035,6340.0000000000009,12561.197815594142,7.8815358842943651E-7,{"$f":"Tone!BA98","v":47619047619045.344},{"$f":"Tone!BB98","v":-8829.9919187072137},2.1000000000001002E-14,2.1000000000001002E-14,3.894026436150253E-24,40000.025120443694,1.0000000000000001E-15,4.9259599276839779E-10,2030061175.2400227,4121.1483752169024,-2030061175.2358394,1000000000004121.1,-2030061175.2358394,9.9999999999381817E-16,9.9999999999175747E-16,4.925959927683979E-6,40000.025120443694,4.925959927683979E-6,2.499998429973255E-5,2.499998429973255E-5,-3.0787210878592858E-15,3.9999999999999998E-6,0,250000,250000,0,250000.00002599999,-3.0895581997001906E-15,250000.00002599999,3.9999999995839999E-6,3.9999999995839999E-6,4.9432931184921E-26,6.1728327236420228E-6,5.454896580032422E-7,161371.31654571832,160744.89624047346,-14204.933521063864,167084.89624047346,-1643.7357054697222,167092.98135696549,0.96575759936305272,0.96575759926261395,0.98659955975501279,-2.4367481209400443,783.99087196350035,-2.4367481209400443,false,-2.4367481209400443,{"$f":"Strings!E113","v":-19.210163880612662},{"$f":"Strings!B113","v":-14.849962274668888},{"$f":"harmonics!BA72","v":-4.3280953215582638},{"$f":"harmonics!BB72","v":-0.69861473152068343},-19.178057596227152,-100,-11.986687323344956,-8.9581761506592148,-7.4377041964366839,-6.6411865720714101,-6.319566467605787,-6.3341032031926714,-6.319566467605787,1.1204280713319332,-2.319566467605787,null,489999.99999999994,59111.51913220773,2.0261264845972687E-6,2.1728327030580229E-6,-2.4266393042619431E-7,null,null,7.1070622298080723E-5,3.2023551463323087E-5,-6.344702913070355E-5,7.8815358842943651E-7,3.2023551463323087E-5,-6.2658875542274121E-5,14211.023501225631,6467.2583395989823,12654.159731932998]
[830.60939515989219,6340.0000000000009,13308.125506568591,8.3501963962783335E-7,{"$f":"Tone!BA99","v":47619047619045.344},{"$f":"Tone!BB99","v":-8334.4025532546748},2.1000000000001002E-14,2.1000000000001002E-14,3.6754715259856623E-24,40000.025120443694,1.0000000000000001E-15,5.2188727476739578E-10,1916122596.4818981,3671.5258047485308,-1916122596.4783804,1000000000003671.5,-1916122596.4783804,9.9999999999449284E-16,9.9999999999265716E-16,5.21887274767396E-6,40000.025120443694,5.21887274767396E-6,2.499998429973255E-5,2.499998429973255E-5,-3.2617913704126151E-15,3.9999999999999998E-6,0,250000,250000,0,250000.00002599999,-3.2732728904574978E-15,250000.00002599999,3.9999999995839999E-6,3.9999999995839999E-6,5.2372366236426517E-26,6.1693053957586185E-6,5.7837698571187136E-7,161385.13059827723,160680.54845476974,-15063.921351938881,167020.54845476974,-1755.7958453702904,167029.77706140516,0.96620574748745081,0.96620574738696541,0.99042116572273131,-2.363931514842422,830.60939515989219,-2.363931514842422,false,-2.363931514842422,{"$f":"Strings!E114","v":-50},{"$f":"Strings!B114","v":-15.351673749691946},{"$f":"harmonics!BA73","v":-6.6745113433075067},{"$f":"harmonics!BB73","v":-1.5463681290625619},-22.026185092999452,-100,-12.925988310780616,-9.4032155760140466,-7.6684792697175777,-6.761150502245326,-6.3767583654169293,-6.2803297715128501,-6.2803297715128501,1.1204280713319332,-2.2803297715128501,null,489999.99999999994,62626.472972087489,2.0243492542674074E-6,2.1693053751746191E-6,-2.5664265391596194E-7,null,null,6.7837265546410471E-5,2.9176011743802087E-5,-6.1242590862403351E-5,8.3501963962783335E-7,2.9176011743802087E-5,-6.0407571222775515E-5,14906.599250567288,6483.1053242590988,13422.967129944724]
[880.00000000000205,6340.0000000000009,14099.467829311025,8.8467249125088791E-7,{"$f":"Tone!BA100","v":47619047619045.344},{"$f":"Tone!BB100","v":-7866.6284815658082},2.1000000000001002E-14,2.1000000000001002E-14,3.469183160370853E-24,40000.025120443694,1.0000000000000001E-15,5.5292030703180488E-10,1808578898.7685757,3270.9576330709542,-1808578898.7656176,1000000000003271,-1808578898.7656176,9.9999999999509356E-16,9.9999999999345805E-16,5.5292030703180514E-6,40000.025120443694,5.5292030703180514E-6,2.499998429973255E-5,2.499998429973255E-5,-3.4557475784517956E-15,3.9999999999999998E-6,0,250000,250000,0,250000.00002599999,-3.4679118252064954E-15,250000.00002599999,3.9999999995839999E-6,3.9999999995839999E-6,5.5486589191762711E-26,6.1653608109423362E-6,6.1330320348998653E-7,161399.91617808767,160607.23569009354,-15976.507324208074,166947.23569009354,-1877.0394948970497,166957.78742493279,0.96671091937329345,0.96671091927275554,0.99474139875241052,-2.3019261102979618,880.00000000000205,-2.3019261102979618,false,-2.3019261102979618,{"$f":"Strings!E115","v":-16.182397193934268},{"$f":"Strings!B115","v":-15.853386743184355},{"$f":"harmonics!BA74","v":-10.405099645887804},{"$f":"harmonics!BB74","v":-2.7093045628590682},-26.258486389072161,-100,-14.0434593919019,-9.9145494996769976,-7.9308059592805105,-6.8987841893000619,-6.4495416515380555,-6.2561299625596121,-6.2561299625596121,1.1204280713319332,-2.2561299625596121,null,489999.99999999994,66350.436843816584,2.0223599408014772E-6,2.1653607903583368E-6,-2.7136928776090143E-7,null,null,6.4685895751414294E-5,2.6528240792092399E-5,-5.8995911295950017E-5,8.8467249125088791E-7,2.6528240792092399E-5,-5.8111238804699132E-5,15654.334196157934,6500.9623838997013,14240.634368177591]
[932.32752303618201,6340.0000000000009,14937.865815261192,9.3727785507521233E-7,{"$f":"Tone!BA101","v":47619047619045.344},{"$f":"Tone!BB101","v":-7425.1085511601659},2.1000000000001002E-14,2.1000000000001002E-14,3.2744728710619458E-24,40000.025120443694,1.0000000000000001E-15,5.8579865942200766E-10,1707071165.006108,2914.0919623953114,-1707071165.0036209,1000000000002914.1,-1707071165.0036209,9.999999999956288E-16,9.9999999999417178E-16,5.8579865942200777E-6,40000.025120443694,5.8579865942200777E-6,2.499998429973255E-5,2.499998429973255E-5,-3.6612370227911801E-15,3.9999999999999998E-6,0,250000,250000,0,250000.00002599999,-3.6741245932984639E-15,250000.00002599999,3.9999999995839999E-6,3.9999999995839999E-6,5.8785993480547941E-26,6.160951584234145E-6,6.504046613650096E-7,161415.60971402656,160523.58773192737,-16946.292840062797,166863.58773192737,-2008.4270248016055,166875.67435035153,0.96728064376320244,0.96728064366260536,0.99962958166572979,-2.2601494992137625,932.32752303618201,-2.2601494992137625,false,-2.2601494992137625,{"$f":"Strings!E116","v":-16.220474090638426},{"$f":"Strings!B116","v":-16.355100810402337},{"$f":"harmonics!BA75","v":-18.104999479621586},{"$f":"harmonics!BB75","v":-4.3280953215582638},-34.460100290023924,-100,-15.392914785418144,-10.504448826144861,-8.2293217897096813,-7.0558523616043489,-6.5375896777795575,-6.2569314904008415,-6.2569314904008415,1.1204280713319332,-2.2569314904008415,null,489999.99999999994,70295.839130640918,2.0201339827608221E-6,2.1609515636501447E-6,-2.8687319371020273E-7,null,null,6.1623356330002969E-5,2.407575720767444E-5,-5.672561996357227E-5,9.3727785507521233E-7,2.407575720767444E-5,-5.5788342108497057E-5,16457.742368377691,6521.0942042372699,15110.678814777224]
[987.76660251225053,6340.0000000000009,15826.11753976056,9.9301129661242744E-7,{"$f":"Tone!BA102","v":47619047619045.344},{"$f":"Tone!BB102","v":-7008.3692303132675},2.1000000000001002E-14,2.1000000000001002E-14,3.090690830568446E-24,40000.025120443694,1.0000000000000001E-15,6.2063206038276711E-10,1611260622.5691345,2596.1607938418751,-1611260622.5670431,1000000000002596.1,-1611260622.5670431,9.9999999999610567E-16,9.999999999948074E-16,6.2063206038276737E-6,40000.025120443694,6.2063206038276737E-6,2.499998429973255E-5,2.499998429973255E-5,-3.8789455053491582E-15,3.9999999999999998E-6,0,250000,250000,0,250000.00002599999,-3.892599410677579E-15,250000.00002599999,3.9999999995839999E-6,3.9999999995839999E-6,6.2281590557886696E-26,6.1560254489094178E-6,6.8982846593580324E-7,161432.09432702439,160427.99976790059,-17977.151311589496,166767.99976790059,-2151.0337718289356,166781.87159542862,0.96792350860900844,0.96792350850834441,1.0051657977014021,-2.2342497638466798,987.76660251225053,-2.2342497638466798,false,-2.2342497638466798,{"$f":"Strings!E117","v":-18.888212709798658},{"$f":"Strings!B117","v":-16.856815636861764},{"$f":"harmonics!BA76","v":-23.823611534883117},{"$f":"harmonics!BB76","v":-6.6745113433075067},-40.680427171744881,-100,-17.057557509929008,-11.18845188720131,-8.5695626021317324,-7.2345848063176934,-6.6411865720714101,-6.2790038166494213,-6.2790038166494213,1.1204280713319332,-2.2790038166494213,null,489999.99999999994,74475.847245932047,2.0176441635996423E-6,2.1560254283254179E-6,-3.0318283067662415E-7,null,null,5.8655153107316911E-5,2.1812307091511282E-5,-5.4448601868077334E-5,9.9301129661242744E-7,2.1812307091511282E-5,-5.3455590571464909E-5,17320.654685262718,6543.802906187002,16036.948657743211]
[1046.502261202397,6340.0000000000009,16767.187460368641,1.0520588210427384E-6,{"$f":"Tone!BA103","v":47619047619045.344},{"$f":"Tone!BB103","v":-6615.0196902814641},2.1000000000001002E-14,2.1000000000001002E-14,2.9172236834144044E-24,40000.025120443694,1.0000000000000001E-15,6.575367631517114E-10,1520827512.6787348,2312.9163233205873,-1520827512.6769762,1000000000002312.9,-1520827512.6769762,9.9999999999653067E-16,9.999999999953742E-16,6.5753676315171159E-6,40000.025120443694,6.5753676315171159E-6,2.499998429973255E-5,2.499998429973255E-5,-4.1095996079482986E-15,3.9999999999999998E-6,0,250000,250000,0,250000.00002599999,-4.1240654167376366E-15,250000.00002599999,3.9999999995839999E-6,3.9999999995839999E-6,6.5985046654077294E-26,6.1505248805534448E-6,7.3173355438211232E-7,161449.18226731691,160318.58794864384,-19073.248620470007,166658.58794864384,-2306.0611601013661,166674.54171261421,0.96864932465626907,0.96864932455552955,1.0114428495004706,-2.2207394985348317,1046.502261202397,-2.2207394985348317,false,-2.2207394985348317,{"$f":"Strings!E118","v":-26.399548684022321},{"$f":"Strings!B118","v":-17.358531000187359},{"$f":"harmonics!BA77","v":-11.752944726507975},{"$f":"harmonics!BB77","v":-4.0435377882219248},-29.111475726695332,-100,-19.178057596227152,-11.986687323344956,-8.9581761506592148,-7.4377041964366839,-6.761150502245326,-6.319566467605787,-6.319566467605787,1.1204280713319332,-2.319566467605787,null,489999.99999999994,78904.41157820537,2.0148603726317195E-6,2.1505248599694445E-6,-3.2032526666062613E-7,null,null,5.5785527159858519E-5,1.9730238756791003E-5,-5.2179907235480354E-5,1.0520588210427384E-6,1.9730238756791003E-5,-5.1127848414437615E-5,18247.266181056635,6569.4340235257205,17023.6676334119]
[1108.730523907491,6340.0000000000009,17764.216310464533,1.1146174939899318E-6,{"$f":"Tone!BA104","v":47619047619045.344},{"$f":"Tone!BB104","v":-6243.7471635402853},2.1000000000001002E-14,2.1000000000001002E-14,2.7534924991215287E-24,40000.025120443694,1.0000000000000001E-15,6.9663593374370732E-10,1435470023.237231,2060.5741876126967,-1435470023.2357521,1000000000002060.6,-1435470023.2357521,9.9999999999690912E-16,9.9999999999587887E-16,6.966359337437075E-6,40000.025120443694,6.966359337437075E-6,2.499998429973255E-5,2.499998429973255E-5,-4.3539691172146514E-15,3.9999999999999998E-6,0,250000,250000,0,250000.00002599999,-4.3692951077570132E-15,250000.00002599999,3.9999999995839999E-6,3.9999999995839999E-6,6.9908721709571196E-26,6.1443867259433872E-6,7.7629189391135929E-7,161466.59266296602,160193.13610595546,-20239.063484435716,166533.13610595546,-2474.8471739711822,166551.52442958666,0.96946931717355489,0.9694693170727301,1.0185686451837472,-2.2169523040951571,1108.730523907491,-2.2169523040951571,false,-2.2169523040951571,{"$f":"Strings!E119","v":-32.69750374923764},{"$f":"Strings!B119","v":-17.860246743135363},{"$f":"harmonics!BA78","v":-6.9426422319083647},{"$f":"harmonics!BB78","v":-2.1490735195637982},-24.802888975043729,-100,-22.026185092999452,-12.925988310780616,-9.4032155760140466,-7.6684792697175777,-6.8987841893000619,-6.3767583654169293,-6.3767583654169293,1.1204280713319332,-2.3767583654169293,null,489999.99999999994,83596.312049244865,2.01174935691767E-6,2.1443867053593877E-6,-3.3832560007857248E-7,null,null,5.3017546038801439E-5,1.7820853591770569E-5,-4.9932728397686306E-5,1.1146174939899318E-6,1.7820853591770569E-5,-4.8818110903696375E-5,19242.191356535408,6598.3836130860609,18075.487874358561]
[1174.659071669633,6340.0000000000009,18820.531581152616,1.1808960992095764E-6,{"$f":"Tone!BA105","v":47619047619045.344},{"$f":"Tone!BB105","v":-5893.312562544862},2.1000000000001002E-14,2.1000000000001002E-14,2.5989508400825322E-24,40000.025120443694,1.0000000000000001E-15,7.3806006200598504E-10,1354903281.5583684,1835.7629023776356,-1354903281.5571246,1000000000001835.8,-1354903281.5571246,9.9999999999724636E-16,9.9999999999632852E-16,7.3806006200598524E-6,40000.025120443694,7.3806006200598524E-6,2.499998429973255E-5,2.499998429973255E-5,-4.6128695936690438E-15,3.9999999999999998E-6,0,250000,250000,0,250000.00002599999,-4.6291069150331753E-15,250000.00002599999,3.9999999995839999E-6,3.9999999995839999E-6,7.4065710625125138E-26,6.1375418479404556E-6,8.2368981966159548E-7,161483.92348187111,160049.03194192023,-21479.406824980102,166389.03194192023,-2658.875243827486,166410.27482740238,0.97039635112290523,0.97039635102198407,1.026669120322188,-2.220931657329301,1174.659071669633,-2.220931657329301,false,-2.220931657329301,{"$f":"Strings!E120","v":-21.868599871219878},{"$f":"Strings!B120","v":-18.361962754517304},{"$f":"harmonics!BA79","v":-4.0435377882219248},{"$f":"harmonics!BB79","v":-0.96142879610589316},-22.40550054273923,-100,-26.258486389072161,-14.0434593919019,-9.9145494996769976,-7.9308059592805105,-7.0558523616043489,-6.4495416515380555,-6.4495416515380555,1.1204280713319332,-2.4495416515380555,null,489999.99999999994,88567.207440718208,2.00827446736674E-6,2.1375418273564553E-6,-3.5720627954798099E-7,null,null,5.0353207153568168E-5,1.6074724283921943E-5,-4.7718431552661478E-5,1.1808960992095764E-6,1.6074724283921943E-5,-4.6537535453451901E-5,20310.529403912769,6631.1067572892352,19197.552652373117]
[1244.5079348883266,6340.0000000000009,19939.658626454795,1.2511158353853991E-6,{"$f":"Tone!BA106","v":47619047619045.344},{"$f":"Tone!BB106","v":-5562.54634439042},2.1000000000001002E-14,2.1000000000001002E-14,2.4530829378764097E-24,40000.025120443694,1.0000000000000001E-15,7.8194739711587429E-10,1278858403.6312041,1635.4788165381522,-1278858403.6301584,1000000000001635.5,-1278858403.6301584,9.9999999999754672E-16,9.9999999999672887E-16,7.8194739711587458E-6,40000.025120443694,7.8194739711587458E-6,2.499998429973255E-5,2.499998429973255E-5,-4.8871650935845108E-15,3.9999999999999998E-6,0,250000,250000,0,250000.00002599999,-4.9043679363210596E-15,250000.00002599999,3.9999999995839999E-6,3.9999999995839999E-6,7.8469886964815213E-26,6.1299148007764326E-6,8.7412952423563893E-7,161500.6163945772,159883.19075301624,-22799.438819036728,166223.19075301624,-2859.7801925819331,166247.78941947923,0.97144519610468993,0.97144519600365964,1.0358918351816668,-2.2313014776294313,1244.5079348883266,-2.2313014776294313,false,-2.2313014776294313,{"$f":"Strings!E121","v":-19.088530717284144},{"$f":"Strings!B121","v":-18.863678955710867},{"$f":"harmonics!BA80","v":-2.1490735195637982},{"$f":"harmonics!BB80","v":-0.3798660552905716},-21.012752475274667,-100,-34.460100290023924,-15.392914785418144,-10.504448826144861,-8.2293217897096813,-7.2345848063176934,-6.5375896777795575,-6.5375896777795575,1.1204280713319332,-2.5375896777795575,null,489999.99999999994,93833.687653904912,2.0043954035822392E-6,2.1299147801924327E-6,-3.7698631114976014E-7,null,null,4.7793547861240066E-5,1.4481975196823851E-5,-4.5546631176885335E-5,1.2511158353853991E-6,1.4481975196823851E-5,-4.4295515341499938E-5,21457.941523069865,6668.1277898740655,20395.571239496952]
[1318.5102276514829,6340.0000000000009,21125.332428851809,1.3255110543593295E-6,{"$f":"Tone!BA107","v":47619047619045.344},{"$f":"Tone!BB107","v":-5250.3446075715765},2.1000000000001002E-14,2.1000000000001002E-14,2.3154019719392865E-24,40000.025120443694,1.0000000000000001E-15,8.2844440897458089E-10,1207081596.7447183,1457.0459811997789,-1207081596.743839,1000000000001457,-1207081596.743839,9.9999999999781454E-16,9.9999999999708603E-16,8.2844440897458108E-6,40000.025120443694,8.2844440897458108E-6,2.499998429973255E-5,2.499998429973255E-5,-5.1777710526937797E-15,3.9999999999999998E-6,0,250000,250000,0,250000.00002599999,-5.1959968296912207E-15,250000.00002599999,3.9999999995839999E-6,3.9999999995839999E-6,8.3135949257767253E-26,6.1214235538320538E-6,9.2783071169251905E-7,161515.9129853558,159691.96450687008,-24204.681766748865,166031.96450687008,-3079.3493378970561,166060.51797569275,0.9726328386437878,0.97263283854263394,1.0464104258154527,-2.2471454109621436,1318.5102276514829,-2.2471454109621436,false,-2.2471454109621436,{"$f":"Strings!E122","v":-19.236813264953426},{"$f":"Strings!B122","v":-19.365395291121605},{"$f":"harmonics!BA81","v":-0.96142879610589316},{"$f":"harmonics!BB81","v":-0.3798660552905716},-20.326824087227497,{"$f":"IF(BF$44,OFFSET($BE106,BF$31,0),-100)","v":-100},-40.680427171744881,-17.057557509929008,-11.18845188720131,-8.5695626021317324,-7.4377041964366839,-6.6411865720714101,-6.6411865720714101,1.1204280713319332,-2.6411865720714101,null,489999.99999999994,99413.329076949696,2.0000679634714709E-6,2.1214235332480543E-6,-3.9768034266681046E-7,null,null,4.5338757689154011E-5,1.3032522695365513E-5,-4.3425295635039776E-5,1.3255110543593295E-6,1.3032522695365513E-5,-4.2099784580680444E-5,22690.743139408347,6710.0526692878475,21675.908686696159]
[1396.9129257320189,6340.0000000000009,22381.510064440106,1.4043300432589874E-6,{"$f":"Tone!BA108","v":47619047619045.344},{"$f":"Tone!BB108","v":-4955.6654078136589},2.1000000000001002E-14,2.1000000000001002E-14,2.1854484448460322E-24,40000.025120443694,1.0000000000000001E-15,8.7770627703686703E-10,1139333312.4782324,1298.0803969226215,-1139333312.4774926,1000000000001298.1,-1139333312.4774926,9.9999999999805297E-16,9.9999999999740394E-16,8.7770627703686716E-6,40000.025120443694,8.7770627703686716E-6,2.499998429973255E-5,2.499998429973255E-5,-5.4856573413709375E-15,3.9999999999999998E-6,0,250000,250000,0,250000.00002599999,-5.5049668794657485E-15,250000.00002599999,3.9999999995839999E-6,3.9999999995839999E-6,8.8079470053131441E-26,6.1119792862526595E-6,9.8503242777455582E-7,161528.80050024597,159471.03387224232,-25701.026181193716,165811.03387224232,-3319.5161167536098,165844.25869179578,0.9739788508472299,0.97397885074593615,1.058430137162597,-2.2679065578499662,1396.9129257320189,-2.2679065578499662,false,-2.2679065578499662,{"$f":"Strings!E123","v":-22.102181031122676},{"$f":"Strings!B123","v":-19.86711172143827},{"$f":"harmonics!BA82","v":-0.3798660552905716},{"$f":"harmonics!BB82","v":-0.3798660552905716},-20.246977776728841,-100,-29.111475726695332,-19.178057596227152,-11.986687323344956,-8.9581761506592148,-7.6684792697175777,-6.761150502245326,-6.761150502245326,1.1204280713319332,-2.761150502245326,null,489999.99999999994,105324.75324442404,1.9952438054124525E-6,2.1119792656686596E-6,-4.1929761548443152E-7,null,null,4.2988289026962834E-5,1.1716275578572497E-5,-4.1360873782267214E-5,1.4043300432589874E-6,1.1716275578572497E-5,-3.9956543739008227E-5,24016.014600049821,6757.5840485389535,23045.694068453176]
[1479.9776908465412,6340.0000000000009,23712.383909305427,1.4878358531328898E-6,{"$f":"Tone!BA109","v":47619047619045.344},{"$f":"Tone!BB109","v":-4677.5252806805602},2.1000000000001002E-14,2.1000000000001002E-14,2.0627886487803242E-24,40000.025120443694,1.0000000000000001E-15,9.29897408208056E-10,1075387447.2308249,1156.4581616616304,-1075387447.2302029,1000000000001156.5,-1075387447.2302029,9.9999999999826518E-16,9.9999999999768674E-16,9.298974082080563E-6,40000.025120443694,9.298974082080563E-6,2.499998429973255E-5,2.499998429973255E-5,-5.8118515014836396E-15,3.9999999999999998E-6,0,250000,250000,0,250000.00002599999,-5.8323092444642172E-15,250000.00002599999,3.9999999995839999E-6,3.9999999995839999E-6,9.3316947892017545E-26,6.1014862794895993E-6,1.0459950761685525E-6,161537.94505510328,159215.28065659068,-27294.726561528758,165555.28065659068,-3582.3426522233312,165594.03410799691,0.97550582619269766,0.97550582609124503,1.0721947275340882,-2.2933108438530754,1479.9776908465412,-2.2933108438530754,false,-2.2933108438530754,{"$f":"Strings!E124","v":-32.733679297435827},{"$f":"Strings!B124","v":-20.36882821886357},{"$f":"harmonics!BA83","v":-0.40773595521057315},{"$f":"harmonics!BB83","v":-0.3798660552905716},-20.776564174074142,-100,-24.802888975043729,-22.026185092999452,-12.925988310780616,-9.4032155760140466,-7.9308059592805105,-6.8987841893000619,-6.8987841893000619,1.1204280713319332,-2.8987841893000619,null,489999.99999999994,111587.68898496672,1.9898702328343713E-6,2.1014862589055994E-6,-4.4184077696433738E-7,null,null,{"$f":"G211","v":4.0740963494904567E-5},1.0523297515166551E-5,-3.9358433859853166E-5,1.4878358531328898E-6,1.0523297515166551E-5,-3.7870598006720275E-5,25441.734924307351,6811.5397568887465,24512.951721468478]
[1567.9817439270012,6340.0000000000009,25122.39563118829,1.5763071768588737E-6,{"$f":"Tone!BA110","v":47619047619045.344},{"$f":"Tone!BB110","v":-4414.9959593536114},2.1000000000001002E-14,2.1000000000001002E-14,1.9470132180751287E-24,40000.025120443694,1.0000000000000001E-15,9.851919855367958E-10,1015030587.6215799,1030.28709380741,-1015030587.621057,1000000000001030.3,-1015030587.621057,9.999999999984545E-16,9.9999999999793918E-16,9.8519198553679598E-6,40000.025120443694,9.8519198553679598E-6,2.499998429973255E-5,2.499998429973255E-5,-6.1574421757185723E-15,3.9999999999999998E-6,0,250000,250000,0,250000.00002599999,-6.1791163994003821E-15,250000.00002599999,3.9999999995839999E-6,3.9999999995839999E-6,9.8865862369842011E-26,6.0898419399945042E-6,1.1110026274161879E-6,161541.60997555521,158918.63809359891,-28992.382102375224,165258.63809359891,-3869.9864711869341,165303.94508250029,0.97723989524226207,0.97723989514062914,1.0879951060142146,-2.3233135248721819,1567.9817439270012,-2.3233135248721819,false,-2.3233135248721819,{"$f":"Strings!E125","v":-21.209938766599041},{"$f":"Strings!B125","v":-20.870544763741862},{"$f":"harmonics!BA84","v":-1.1436757441514114},{"$f":"harmonics!BB84","v":-0.3798660552905716},-22.014220507893274,-100,-22.40550054273923,-26.258486389072161,-14.0434593919019,-9.9145494996769976,-8.2293217897096813,-7.0558523616043489,-7.0558523616043489,1.1204280713319332,-3.0558523616043489,null,489999.99999999994,118223.0382644155,1.9838900134249025E-6,2.0898419194105044E-6,-4.6530454944268584E-7,null,null,3.8595071983709567E-5,9.4439345462517671E-6,{"$f":"I212","v":-3.7421807568767114E-5},1.5763071768588737E-6,9.4439345462517671E-6,-3.5845500391908241E-5,26976.944499942339,6872.8756339907077,26086.761299031848]
[1661.2187903197848,6340.0000000000009,26616.251013137186,{"$f":"2*PI()*$B$10*0.000000001*$A110","v":1.6700392792556671E-6},{"$f":"Tone!BA111","v":47619047619045.344},{"$f":"Tone!BB111","v":-4167.2012766273456},2.1000000000001002E-14,2.1000000000001002E-14,1.8377357629928348E-24,{"$f":"(1/($H$16*1000*(100.00000001-$H$15)/100)+1/$K$8/1000)","v":40000.025120443694},1.0000000000000001E-15,1.0437745495347918E-9,958061298.24226809,917.8814511896602,-958061298.24182844,1000000000000917.9,-958061298.24182844,9.9999999999862312E-16,9.99999999998164E-16,{"$f":"-Q110*R110^2+2*PI()*A110*$K$9*0.000000001","v":1.043774549534792E-5},{"$f":"J110+S110","v":40000.025120443694},1.043774549534792E-5,2.499998429973255E-5,2.499998429973255E-5,-6.5235827408252302E-15,{"$f":"1/($H$16*1000*$H$15/100)+H110*$V$42","v":3.9999999999999998E-6},{"$f":"I110*$V$42","v":0},250000,250000,0,{"$f":"X110+AC110+E213","v":250000.00002599999},{"$f":"Y110+AD110+F213","v":-6.5465457809149956E-15},250000.00002599999,3.9999999995839999E-6,3.9999999995839999E-6,1.0474473247285303E-25,{"$f":"H110*$AF$43+AI110+BT110","v":6.0769369896455937E-6},{"$f":"+D110+I110*$AF$43+AJ110+BU110","v":1.1803650223988948E-6},161537.55673883285,158573.91663889776,-30800.89607384082,{"$f":"B110+AN110","v":164913.91663889776},{"$f":"C110+AO110","v":-4184.645060703635},164967.00020145057,0.97921133645862601,0.97921133635678803,{"$f":"IF($AO$42=0,1,AK213)","v":1.1061801413939141},-2.358067654959334,{"$f":"A110","v":1661.2187903197848},{"$f":"IF(AW110<$BM$40,NA(),20*LOG(AU110)+BO110)","v":-2.358067654959334},false,-2.358067654959334,{"$f":"Strings!E126","v":-21.545806522842202},{"$f":"Strings!B126","v":-21.372261342174482},{"$f":"harmonics!BA85","v":-2.8400672362495771},{"$f":"harmonics!BB85","v":-0.3798660552905716},-24.21232857842406,-100,-21.012752475274667,-34.460100290023924,-15.392914785418144,-10.504448826144861,-8.5695626021317324,-7.2345848063176934,-7.2345848063176934,{"$f":"$B$7","v":1.1204280713319332},{"$f":"BM110+BN110*$BN$44+$BD$43","v":-3.2345848063176934},null,{"$f":"$B$11*1000","v":489999.99999999994},{"$f":"2*PI()*$B$13*A110","v":125252.94594417501},1.9772412478000596E-6,{"$f":"BQ110*BS110^2+1/$B$12/1000","v":2.0769369690615938E-6},-4.8967425685677229E-7,null,null,3.6548467044166582E-5,{"$f":"H213","v":8.4689114103858854E-6},-3.5553733739251164E-5,{"$f":"D110","v":1.6700392792556671E-6},8.4689114103858854E-6,-3.3883694459995498E-5,28631.944366430514,6942.7139646122114,27777.454185147184]
[1760.0000000000045,{"$f":"$B$8*1000","v":6340.0000000000009},{"$f":"2*PI()*A111*$B$9","v":28198.935658622053},1.7693449825017764E-6,{"$f":"Tone!BA112","v":47619047619045.344},{"$f":"Tone!BB112","v":-3933.3142407829109},{"$f":"1/(E111^2+F111^2)^0.5","v":2.1000000000001002E-14},{"$f":"E111*G111^2","v":2.1000000000001002E-14},{"$f":"-F111*G111^2","v":1.7345915801854294E-24},40000.025120443694,1.0000000000000001E-15,1.10584061406361E-9,904289449.38539708,817.73940826974467,-904289449.38502741,1000000000000817.8,-904289449.38502741,{"$f":"1/(P111^2+Q111^2)^0.5","v":9.999999999987734E-16},{"$f":"P111*R111^2","v":9.9999999999836457E-16},1.1058406140636103E-5,40000.025120443694,{"$f":"T111","v":1.1058406140636103E-5},{"$f":"1/(U111^2+V111^2)^0.5","v":2.499998429973255E-5},{"$f":"U111*W111^2","v":2.499998429973255E-5},{"$f":"-V111*W111^2","v":-6.9114951569035913E-15},3.9999999999999998E-6,0,{"$f":"1/(Z111^2+AA111^2)^0.5","v":250000},{"$f":"Z111*AB111^2","v":250000},{"$f":"-AA111*AB111^2","v":0},250000.00002599999,-6.9358236504129909E-15,{"$f":"(AE111^2+AF111^2)^0.5","v":250000.00002599999},{"$f":"1/(AE111^2+AF111^2)^0.5","v":3.9999999995839999E-6},{"$f":"AE111*AH111^2","v":3.9999999995839999E-6},{"$f":"-AF111*AH111^2","v":1.1097317838352542E-25},6.0626558667598159E-6,1.2544207658066268E-6,{"$f":"1/(AK111^2+AL111^2)^0.5","v":161522.92588827063},{"$f":"AK111*AM111^2","v":158172.60350934698},{"$f":"-AL111*AM111^2","v":-32727.405741712631},164512.60350934698,-4528.4700830905786,{"$f":"(AP111^2+AQ111^2)^0.5","v":164574.91836460697},{"$f":"AM111/AR111","v":0.98145530007449366},{"$f":"AS111*AB111/AG111","v":0.98145529997242231},1.1271701446396103,-2.3979146545594849,1760.0000000000045,-2.3979146545594849,false,-2.3979146545594849,{"$f":"Strings!E127","v":-24.701857139602872},{"$f":"Strings!B127","v":-21.873977944333603},{"$f":"harmonics!BA86","v":-6.1502333478547522},{"$f":"harmonics!BB86","v":-0.40773595521057315},-28.024211292188355,-100,-20.326824087227497,-40.680427171744881,-17.057557509929008,-11.18845188720131,-8.9581761506592148,-7.4377041964366839,{"$f":"IF(MAX(BF111:BL111)<-80,#N/A,(MAX(BF111:BL111)))","v":-7.4377041964366839},1.1204280713319332,-3.4377041964366839,null,489999.99999999994,132700.8736876332,{"$f":"1/(BQ111^2+BR111^2)^0.5","v":1.9698573053029629E-6},2.062655846175816E-6,{"$f":"-BR111*BS111^2","v":-5.1492421669514967E-7},null,null,3.4598646871483851E-5,7.5894007562406348E-6,-3.3755997415256654E-5,1.7693449825017764E-6,{"$f":"BY111","v":7.5894007562406348E-6},{"$f":"BZ111+CA111","v":-3.1986652432754878E-5},{"$f":"1/(CB111^2+CC111^2)^0.5","v":30418.542077862272},{"$f":"CB111*CD111^2","v":7022.379186381796},{"$f":"-CC111*CD111^2","v":29596.856128740248}]
[{"$f":"A111*2^(1/12)","v":1864.6550460723645},6340.0000000000009,29875.731630522394,1.8745557101504251E-6,{"$f":"Tone!BA113","v":47619047619045.344},{"$f":"Tone!BB113","v":-3712.5542755800884},2.1000000000001002E-14,2.1000000000001002E-14,1.6372364355309753E-24,40000.025120443694,{"$f":"1/$K$10/1000","v":1.0000000000000001E-15},{"$f":"2*PI()*$K$6*0.000000001*$A112","v":1.1715973188440155E-9},{"$f":"1/(K112^2+L112^2)^0.5","v":853535582.5039866},{"$f":"K112*M112^2","v":728.5229906004198},{"$f":"-L112*M112^2","v":-853535582.5036757},{"$f":"$K$7*1000+N112","v":1000000000000728.5},{"$f":"O112","v":-853535582.5036757},9.9999999999890731E-16,9.9999999999854305E-16,1.1715973188440157E-5,40000.025120443694,1.1715973188440157E-5,2.499998429973255E-5,2.499998429973255E-5,-7.3224740455823617E-15,3.9999999999999998E-6,0,250000,250000,0,250000.00002599999,-7.3482491865969294E-15,250000.00002599999,3.9999999995839999E-6,3.9999999995839999E-6,1.1757198696109591E-25,6.0468773853140257E-6,1.3335396963473477E-6,161494.09537394188,157704.63532434995,-34779.172472352235,164044.63532434995,-4903.4408418298408,164117.90307820865,0.98401266616831906,0.98401266606598181,1.1514735288593352,-2.4434001006984731,1864.6550460723645,-2.4434001006984731,false,-2.4434001006984731,{"$f":"Strings!E128","v":-32.780279750075152},{"$f":"Strings!B128","v":-22.375694563269903},{"$f":"harmonics!BA87","v":-13.670213763125075},{"$f":"harmonics!BB87","v":-1.1436757441514114},-36.045908326394979,-100,-20.246977776728841,-29.111475726695332,-19.178057596227152,-11.986687323344956,-9.4032155760140466,-7.6684792697175777,-7.6684792697175777,1.1204280713319332,-3.6684792697175777,null,489999.99999999994,140591.67826128186,1.9616668475337556E-6,2.0468773647300262E-6,-5.4101601380307739E-7,null,null,3.2742830582634198E-5,6.7970693319299612E-6,-3.2029561393500576E-5,1.8745557101504251E-6,6.7970693319299612E-6,-3.0155005683350151E-5,32350.357332479714,7113.4431350350214,31558.589105087489]
[1975.5332050245017,6340.0000000000009,31652.235079521131,1.9860225932248557E-6,{"$f":"Tone!BA114","v":47619047619045.344},{"$f":"Tone!BB114","v":-3504.1846151566397},2.1000000000001002E-14,2.1000000000001002E-14,1.5453454152842256E-24,40000.025120443694,1.0000000000000001E-15,1.2412641207655346E-9,805630311.28535128,649.04019846173207,-805630311.28508985,1000000000000649,-805630311.28508985,9.9999999999902643E-16,9.9999999999870181E-16,1.2412641207655347E-5,40000.025120443694,1.2412641207655347E-5,2.499998429973255E-5,2.499998429973255E-5,-7.7578910106983164E-15,3.9999999999999998E-6,0,250000,250000,0,250000.00002599999,-7.7851988213551579E-15,250000.00002599999,3.9999999995839999E-6,3.9999999995839999E-6,1.2456318111577339E-25,6.0294757036718031E-6,1.418125909403559E-6,161446.51414989814,157158.14512315462,-36963.419114074502,163498.14512315462,-5311.184034553371,163584.38841943638,0.98693106175843226,0.98693106165579148,1.1797069782275424,-2.4953229918362725,1975.5332050245017,-2.4953229918362725,false,-2.4953229918362725,{"$f":"Strings!E129","v":-50},{"$f":"Strings!B129","v":-22.877411194069438},{"$f":"harmonics!BA88","v":-19.475636253811743},{"$f":"harmonics!BB88","v":-2.8400672362495771},-42.353047447881181,-100,-20.776564174074142,-24.802888975043729,-22.026185092999452,-12.925988310780616,-9.9145494996769976,-7.9308059592805105,-7.9308059592805105,1.1204280713319332,-3.9308059592805105,null,489999.99999999994,148951.69449186415,1.9525939630933222E-6,2.0294756830878032E-6,-5.6789668382129663E-7,null,null,3.0978024832369431E-5,6.0841050627444486E-6,-3.0374688279888318E-5,1.9860225932248557E-6,6.0841050627444486E-6,-2.8388665686663463E-5,34443.204945051817,7217.7829276839657,33678.449734150119]
[2093.0045224047949,6340.0000000000009,33534.374920737297,2.1041176420854781E-6,{"$f":"Tone!BA115","v":47619047619045.344},{"$f":"Tone!BB115","v":-3307.5098451407398},2.1000000000001002E-14,2.1000000000001002E-14,1.4586118417072055E-24,40000.025120443694,1.0000000000000001E-15,1.3150735263034234E-9,760413756.34002662,578.2290808311493,-760413756.3398068,1000000000000578.3,-760413756.3398068,9.9999999999913253E-16,9.9999999999884341E-16,1.3150735263034235E-5,40000.025120443694,1.3150735263034235E-5,2.499998429973255E-5,2.499998429973255E-5,-8.2191992158965989E-15,3.9999999999999998E-6,0,250000,250000,0,250000.00002599999,-8.2481308334752747E-15,250000.00002599999,3.9999999995839999E-6,3.9999999995839999E-6,1.3197009330815461E-25,6.0103216559157648E-6,1.5086207942393403E-6,161374.50968373762,156519.18805503243,-39287.098979946677,162859.18805503243,-5752.7240592093804,162960.75898217282,0.99026606584098731,0.99026606573799958,1.2126188520195544,-2.5548354752071827,2093.0045224047949,-2.5548354752071827,false,-2.5548354752071827,{"$f":"Strings!E130","v":-50},{"$f":"Strings!B130","v":-23.379127833257574},{"$f":"harmonics!BA89","v":-7.8050767863499608},{"$f":"harmonics!BB89","v":-2.2096527017487193},-31.184204619607534,-100,-22.014220507893274,-22.40550054273923,-26.258486389072161,-14.0434593919019,-10.504448826144861,-8.2293217897096813,-8.2293217897096813,1.1204280713319332,-4.2293217897096813,null,489999.99999999994,157808.8231564108,1.9425584396174073E-6,2.0103216353317649E-6,-5.954968478461379E-7,null,null,2.9301082068093108E-5,5.4432286216895494E-6,-2.8791051952527671E-5,2.1041176420854781E-6,5.4432286216895494E-6,-2.6686934310442193E-5,36715.578842431205,7337.6557806952796,35974.887593692511]
[2217.461047814983,6340.0000000000009,35528.432620929081,2.2292349879798644E-6,{"$f":"Tone!BA116","v":47619047619045.344},{"$f":"Tone!BB116","v":-3121.8735817701513},2.1000000000001002E-14,2.1000000000001002E-14,1.3767462495607682E-24,40000.025120443694,1.0000000000000001E-15,1.3932718674874151E-9,717735011.61916995,515.1435469039701,-717735011.61898518,1000000000000515.1,-717735011.61898518,9.9999999999922739E-16,9.9999999999897002E-16,1.3932718674874152E-5,40000.025120443694,1.3932718674874152E-5,2.499998429973255E-5,2.499998429973255E-5,-8.7079382344293045E-15,3.9999999999999998E-6,0,250000,250000,0,250000.00002599999,-8.7385902155140279E-15,250000.00002599999,3.9999999995839999E-6,3.9999999995839999E-6,1.3981744341914241E-25,5.9892844978557374E-6,1.6055061317359779E-6,161271.06950957433,155771.45455014598,-41756.57802183694,162111.45455014598,-6228.1454009078589,162231.04971459345,0.99408263580425582,0.9940826357008713,1.2511139311243828,-2.6236254025772174,2217.461047814983,-2.6236254025772174,false,-2.6236254025772174,{"$f":"Strings!E131","v":-50},{"$f":"Strings!B131","v":-23.880844478377323},{"$f":"harmonics!BA90","v":-3.7868214663692563},{"$f":"harmonics!BB90","v":-2.2096527017487193},-27.667665944746581,-100,-24.21232857842406,-21.012752475274667,-34.460100290023924,-15.392914785418144,-11.18845188720131,-8.5695626021317324,-8.5695626021317324,1.1204280713319332,-4.5695626021317324,null,489999.99999999994,167192.62409848982,1.9314762011725919E-6,1.9892844772717371E-6,-6.2372885624388653E-7,null,null,2.7708750899611523E-5,4.8676927164820204E-6,-2.7277837964813674E-5,2.2292349879798644E-6,4.8676927164820204E-6,-2.5048602976833809E-5,39189.269361924496,7475.7967939669852,38469.615223144443]
[2349.318143339267,6340.0000000000009,37641.063162305254,2.3617921984191537E-6,{"$f":"Tone!BA117","v":47619047619045.344},{"$f":"Tone!BB117","v":-2946.6562812724396},2.1000000000001002E-14,2.1000000000001002E-14,1.29947542004127E-24,40000.025120443694,1.0000000000000001E-15,1.4761201240119707E-9,677451640.77965033,458.94072559504042,-677451640.77949488,1000000000000459,-677451640.77949488,9.999999999993114E-16,9.9999999999908184E-16,1.4761201240119708E-5,40000.025120443694,1.4761201240119708E-5,2.499998429973255E-5,2.499998429973255E-5,-9.2257391873380891E-15,3.9999999999999998E-6,0,250000,250000,0,250000.00002599999,-9.2582138300663522E-15,250000.00002599999,3.9999999995839999E-6,3.9999999995839999E-6,1.481314212502503E-25,5.9662341147887025E-6,1.7093071802956421E-6,161127.59933192006,154895.98620006719,-44377.209528950298,161235.98620006719,-6736.1463666450436,161376.63682758145,0.99845679337135118,0.99845679326751169,1.2962736887666528,-2.7042420308887358,2349.318143339267,-2.7042420308887358,false,-2.7042420308887358,{"$f":"Strings!E132","v":-50},{"$f":"Strings!B132","v":-24.382561127691371},{"$f":"harmonics!BA91","v":-2.2096527017487193},{"$f":"harmonics!BB91","v":-2.2096527017487193},-26.592213829440091,{"$f":"IF(BF$44,OFFSET($BE116,BF$31,0),-100)","v":-100},-28.024211292188355,-20.326824087227497,-40.680427171744881,-17.057557509929008,-11.986687323344956,-8.9581761506592148,-8.9581761506592148,1.1204280713319332,-4.9581761506592148,null,489999.99999999994,177134.41488143647,1.9192599400811029E-6,1.966234094204703E-6,-6.5248501812351156E-7,null,null,2.6197719171393383E-5,4.3512719052254406E-6,-2.5833832905513424E-5,2.3617921984191537E-6,4.3512719052254406E-6,-2.3472040707094269E-5,41890.158415511192,7635.5482892175814,41188.393685596064]
[2489.0158697766542,6340.0000000000009,39879.317252909605,2.502231670770799E-6,{"$f":"Tone!BA118","v":47619047619045.344},{"$f":"Tone!BB118","v":-2781.2731721952196},2.1000000000001002E-14,2.1000000000001002E-14,1.2265414689382089E-24,40000.025120443694,1.0000000000000001E-15,1.5638947942317492E-9,639429201.81599402,408.86970413503929,-639429201.81586337,1000000000000408.9,-639429201.81586337,9.9999999999938674E-16,9.9999999999918223E-16,1.5638947942317495E-5,40000.025120443694,1.5638947942317495E-5,2.499998429973255E-5,2.499998429973255E-5,-9.7743301871690231E-15,3.9999999999999998E-6,0,250000,250000,0,250000.00002599999,-9.8087358726421209E-15,250000.00002599999,3.9999999995839999E-6,3.9999999995839999E-6,1.5693977392963047E-25,5.9410437278821139E-6,1.8205956576991289E-6,160933.66375576353,153870.91831204289,-47152.779638763386,160210.91831204289,-7273.4623858537816,160375.93834944977,1.0034776127395026,1.003477612635141,1.3493571800276132,{"$f":"IF(AY117,-1000,AX117)","v":-2.8006770898758457},2489.0158697766542,-2.8006770898758457,{"$f":"OR(AW117<$K$26,AW117>$M$26,ISNA(AX117))","v":false},{"$f":"IF(AV117=-1000,1000,AV117)","v":-2.8006770898758457},{"$f":"Strings!E133","v":-50},{"$f":"Strings!B133","v":-24.884277779971242},{"$f":"harmonics!BA92","v":-2.4362947313215031},{"$f":"harmonics!BB92","v":-2.2096527017487193},{"$f":"(BA117*$BA$44+BB117*$BB$44+BC117*$BC$44+BD117*$BD$44)","v":-27.320572511292745},-100,-36.045908326394979,-20.246977776728841,-29.111475726695332,-19.178057596227152,-12.925988310780616,-9.4032155760140466,-9.4032155760140466,1.1204280713319332,-5.4032155760140466,null,489999.99999999994,187667.37530780991,1.9058199717521929E-6,1.9410437072981145E-6,-6.8163601307167005E-7,null,null,2.4764650385902932E-5,3.888245341386255E-6,-2.4457503079856504E-5,2.502231670770799E-6,3.888245341386255E-6,-2.1955271409085706E-5,44849.254893489509,7821.0331169017572,44162.055041466527]
[2637.0204553029671,6340.0000000000009,42250.664857703647,2.6510221087186607E-6,{"$f":"Tone!BA119","v":47619047619045.344},{"$f":"Tone!BB119","v":-2625.1723037857982},2.1000000000001002E-14,2.1000000000001002E-14,1.1577009859696477E-24,40000.025120443694,1.0000000000000001E-15,1.6568888179491626E-9,603540798.37268865,364.2614953003424,-603540798.37257874,1000000000000364.3,-603540798.37257874,9.9999999999945359E-16,9.9999999999927156E-16,1.6568888179491628E-5,40000.025120443694,1.6568888179491628E-5,2.499998429973255E-5,2.499998429973255E-5,-1.0355542105387564E-14,3.9999999999999998E-6,0,250000,250000,0,250000.00002599999,-1.0391993659382446E-14,250000.00002599999,3.9999999995839999E-6,3.9999999995839999E-6,1.6627189851553458E-25,5.9135931193875825E-6,1.9399925065345644E-6,160676.72077624351,152671.28441662283,-50084.803223987845,159011.28441662283,-7834.1383662841981,159204.15288479821,1.0092495570295259,1.0092495569245639,1.411747214858893,-2.9194107072890958,2637.0204553029671,-2.9194107072890958,false,-2.9194107072890958,{"$f":"Strings!E134","v":-50},{"$f":"Strings!B134","v":-25.385994434348245},{"$f":"harmonics!BA93","v":-4.8164202341360332},{"$f":"harmonics!BB93","v":-2.2096527017487193},-30.202414668484277,-100,-42.353047447881181,-20.776564174074142,-24.802888975043729,-22.026185092999452,-14.0434593919019,-9.9145494996769976,-9.9145494996769976,1.1204280713319332,-5.9145494996769976,null,489999.99999999994,198826.65815389951,1.8910653385699526E-6,1.9135930988035826E-6,-7.1102960218409623E-7,null,null,2.3406214148870101E-5,3.4733744573627428E-6,-2.3147063110937145E-5,2.6510221087186607E-6,3.4733744573627428E-6,-2.0496041002218485E-5,48104.058929014929,8037.3901804736124,47427.848828857583]
[2793.8258514640393,6340.0000000000009,44763.020128880242,2.8086600865179761E-6,{"$f":"Tone!BA120","v":47619047619045.344},{"$f":"Tone!BB120","v":-2477.8327039068399},2.1000000000001002E-14,2.1000000000001002E-14,1.0927242224230207E-24,40000.025120443694,1.0000000000000001E-15,1.7554125540737349E-9,569666656.23939335,324.52009923097114,-569666656.23930097,1000000000000324.5,-569666656.23930097,9.9999999999951315E-16,9.9999999999935085E-16,1.755412554073735E-5,40000.025120443694,1.755412554073735E-5,2.499998429973255E-5,2.499998429973255E-5,-1.097131468274188E-14,3.9999999999999998E-6,0,250000,250000,0,250000.00002599999,-1.1009933758931502E-14,250000.00002599999,3.9999999995839999E-6,3.9999999995839999E-6,1.7615894010626297E-25,5.8837723726821186E-6,2.0681703121225363E-6,160341.86795362647,151268.93182950484,-53171.654873802843,157608.93182950484,-8408.6347449226014,157833.07806258809,1.0158952098117451,1.015895209706092,1.4847619406633281,-3.0713122937426793,2793.8258514640393,-3.0713122937426793,false,-3.0713122937426793,{"$f":"Strings!E135","v":-50},{"$f":"Strings!B135","v":-25.887711090208157},{"$f":"harmonics!BA94","v":-11.749937052995916},{"$f":"harmonics!BB94","v":-2.2096527017487193},-37.637648143204075,-100,-31.184204619607534,-22.014220507893274,-22.40550054273923,-26.258486389072161,-15.392914785418144,-10.504448826144861,-10.504448826144861,1.1204280713319332,-6.504448826144861,null,489999.99999999994,210649.50648884819,1.8749051837345922E-6,1.883772352098119E-6,-7.4048977439543988E-7,null,null,2.2119111301302535E-5,3.1018772373746569E-6,-2.1900535207242457E-5,2.8086600865179761E-6,3.1018772373746569E-6,-1.909187512072448E-5,51700.38301897145,8291.0994967089246,51031.238211942546]
[2959.9553816930838,6340.0000000000009,47424.767818610868,2.975671706265781E-6,{"$f":"Tone!BA121","v":47619047619045.344},{"$f":"Tone!BB121","v":-2338.7626403402924},2.1000000000001002E-14,2.1000000000001002E-14,1.0313943243901674E-24,40000.025120443694,1.0000000000000001E-15,1.8597948164161128E-9,537693723.61564541,289.1145404156581,-537693723.61556756,1000000000000289.1,-537693723.61556756,9.999999999995662E-16,9.9999999999942145E-16,1.8597948164161129E-5,40000.025120443694,1.8597948164161129E-5,2.499998429973255E-5,2.499998429973255E-5,-1.1623703002967281E-14,3.9999999999999998E-6,0,250000,250000,0,250000.00002599999,-1.1664618488928436E-14,250000.00002599999,3.9999999995839999E-6,3.9999999995839999E-6,1.8663389578403511E-25,5.8514860906977349E-6,2.20585522708441E-6,159911.62680195135,149632.61296839252,-56407.530726825949,155972.61296839252,-8982.7629082150816,156231.06613491816,1.0235584430042532,1.0235584428978031,1.5691600138529496,-3.2751072335634062,2959.9553816930838,-3.2751072335634062,false,-3.2751072335634062,{"$f":"Strings!E136","v":-50},{"$f":"Strings!B136","v":-26.389427747116653},{"$f":"harmonics!BA95","v":-18.337339489288428},{"$f":"harmonics!BB95","v":-2.4362947313215031},-44.726767236405081,-100,-27.667665944746581,-24.21232857842406,-21.012752475274667,-34.460100290023924,-17.057557509929008,-11.18845188720131,-11.18845188720131,1.1204280713319332,-7.1884518872013103,null,489999.99999999994,223175.37796993353,1.8572504076182466E-6,1.8514860701137352E-6,-7.6981647918137091E-7,null,null,2.0900094377105882E-5,2.7694004111220549E-6,-2.0715799920225382E-5,2.975671706265781E-6,2.7694004111220549E-6,-1.7740128213959601E-5,55694.818219032437,8590.4385183683407,55028.330362761342]
[3135.9634878540037,6340.0000000000009,50244.791262376602,3.1526143537177486E-6,{"$f":"Tone!BA122","v":47619047619045.344},{"$f":"Tone!BB122","v":-2207.4979796768175},2.1000000000001002E-14,2.1000000000001002E-14,9.735066090375695E-25,40000.025120443694,1.0000000000000001E-15,1.9703839710735924E-9,507515293.81098574,257.57177345205122,-507515293.81092036,1000000000000257.6,-507515293.81092036,9.9999999999961354E-16,9.9999999999948475E-16,1.9703839710735923E-5,40000.025120443694,1.9703839710735923E-5,2.499998429973255E-5,2.499998429973255E-5,-1.2314884351437146E-14,3.9999999999999998E-6,0,250000,250000,0,250000.00002599999,-1.2358232798800766E-14,250000.00002599999,3.9999999995839999E-6,3.9999999995839999E-6,1.9773172473968405E-25,5.8166580156614256E-6,2.3538282488717758E-6,159365.80206633368,147728.33270341356,-59781.256133636074,154068.33270341356,-9536.4648712594717,154363.19284159192,1.0324080445127579,1.0324080444053876,1.6640002181062221,-3.5636197457614003,3135.9634878540037,-3.5636197457614003,false,-3.5636197457614003,{"$f":"Strings!E137","v":-50},{"$f":"Strings!B137","v":-26.891144404766596},{"$f":"harmonics!BA96","v":-6.7992520969477042},{"$f":"harmonics!BB96","v":-3.9673719929262314},-33.690396501714304,-100,-26.592213829440091,-28.024211292188355,-20.326824087227497,-40.680427171744881,-19.178057596227152,-11.986687323344956,-11.986687323344956,1.1204280713319332,-7.986687323344956,null,489999.99999999994,236446.07652883109,1.8380156072358061E-6,1.8166579950774255E-6,-7.9878610484597296E-7,null,null,1.9745983986144835E-5,2.4719906219040996E-6,-1.9590639242921767E-5,3.1526143537177486E-6,2.4719906219040996E-6,-1.6438024889204017E-5,60158.127731668108,8946.1348818160295,59489.217534407442]
[3322.437580639571,6340.0000000000009,53232.5020262744,3.3400785585113355E-6,{"$f":"Tone!BA123","v":47619047619045.344},{"$f":"Tone!BB123","v":-2083.6006383136851},2.1000000000001002E-14,2.1000000000001002E-14,9.1886788149642292E-25,40000.025120443694,1.0000000000000001E-15,2.0875490990695844E-9,479030649.12129867,229.47036279757279,-479030649.12124372,1000000000000229.5,-479030649.12124372,9.9999999999965594E-16,9.9999999999954136E-16,2.0875490990695847E-5,40000.025120443694,2.0875490990695847E-5,2.499998429973255E-5,2.499998429973255E-5,-1.3047165481650465E-14,3.9999999999999998E-6,0,250000,250000,0,250000.00002599999,-1.3093091561829996E-14,250000.00002599999,3.9999999995839999E-6,3.9999999995839999E-6,2.0948946494570611E-25,5.779235925292169E-6,2.5129256991691494E-6,158681.46340696458,145520.04421793428,-63274.983680648242,151860.04421793428,-10042.481654373842,152191.73587173317,1.0426417866782263,1.0426417865697917,1.7643096991706619,-3.99449187813725,3322.437580639571,-3.99449187813725,false,-3.99449187813725,{"$f":"Strings!E138","v":-50},{"$f":"Strings!B138","v":-27.392861062940817},{"$f":"harmonics!BA97","v":-3.9673719929262314},{"$f":"harmonics!BB97","v":-3.9673719929262314},-31.360233055867049,-100,-27.320572511292745,-36.045908326394979,-20.246977776728841,-29.111475726695332,-22.026185092999452,-12.925988310780616,-12.925988310780616,1.1204280713319332,-8.9259883107806157,null,489999.99999999994,250505.89188835013,1.8171212836362701E-6,1.7792359047081687E-6,-8.2715285934218605E-7,null,null,1.865368167572122E-5,2.2060653859749329E-6,-1.8522772891010161E-5,3.3400785585113355E-6,2.2060653859749329E-6,-1.5182694332498826E-5,65180.000765963647,9372.3198825722939,64502.652037491927]
[3520.0000000000105,6340.0000000000009,56397.871317244135,3.5386899650035542E-6,{"$f":"Tone!BA124","v":47619047619045.344},{"$f":"Tone!BB124","v":-1966.65712039147},2.1000000000001002E-14,2.1000000000001002E-14,8.6729579009272114E-25,40000.025120443694,1.0000000000000001E-15,2.2116812281272208E-9,452144724.69283694,204.43485206756134,-452144724.69279069,1000000000000204.4,-452144724.69279069,9.9999999999969341E-16,9.9999999999959125E-16,2.2116812281272212E-5,40000.025120443694,2.2116812281272212E-5,2.499998429973255E-5,2.499998429973255E-5,-1.3822990313807187E-14,3.9999999999999998E-6,0,250000,250000,0,250000.00002599999,-1.3871647300825986E-14,250000.00002599999,3.9999999995839999E-6,3.9999999995839999E-6,2.2194635676705094E-25,5.7391966281206438E-6,2.6840387706734779E-6,157833.10684248456,142970.78936370797,-66862.867155614877,149310.78936370797,-10464.995838370742,149677.0789343201,1.0544908276286138,1.0544908275189466,1.8571690783289452,-4.666430509969917,3520.0000000000105,-4.666430509969917,false,-4.666430509969917,{"$f":"Strings!E139","v":-50},{"$f":"Strings!B139","v":-27.894577721485774},{"$f":"harmonics!BA98","v":-4.8844876818430629},{"$f":"harmonics!BB98","v":-3.9673719929262314},-32.779065403328836,-100,-30.202414668484277,-42.353047447881181,-20.776564174074142,-24.802888975043729,-26.258486389072161,-14.0434593919019,-14.0434593919019,1.1204280713319332,-10.0434593919019,null,489999.99999999994,265401.74737526651,1.7944962825465724E-6,1.7391966075366442E-6,-8.5465119433007628E-7,null,null,1.7620179772746139E-5,1.9683844613194766E-6,-1.7509888572927248E-5,3.5386899650035542E-6,1.9683844613194766E-6,-1.3971198607923694E-5,70875.846876653595,9887.9542969933573,70182.718886513787]
[3729.3100921447308,6340.0000000000009,59751.463261044817,3.7491114203008519E-6,{"$f":"Tone!BA125","v":47619047619045.344},{"$f":"Tone!BB125","v":-1856.2771377900597},2.1000000000001002E-14,2.1000000000001002E-14,8.1861821776549445E-25,40000.025120443694,1.0000000000000001E-15,2.3431946376880323E-9,426767791.25210965,182.13074765020423,-426767791.25207072,1000000000000182.1,-426767791.25207072,9.9999999999972693E-16,9.9999999999963602E-16,2.3431946376880324E-5,40000.025120443694,2.3431946376880324E-5,2.499998429973255E-5,2.499998429973255E-5,-1.464494809116473E-14,3.9999999999999998E-6,0,250000,250000,0,250000.00002599999,-1.4696498373193865E-14,250000.00002599999,3.9999999995839999E-6,3.9999999995839999E-6,2.351439739221919E-25,5.6965508274352295E-6,2.8681120404974643E-6,156793.05933511103,140044.36702008094,-70509.848401542607,146384.36702008094,-10758.38514049779,146779.17345012215,1.068224160482766,1.0682241603716709,1.9177653763295175,-5.7370053147339792,3729.3100921447308,-5.7370053147339792,false,-5.7370053147339792,{"$f":"Strings!E140","v":-50},{"$f":"Strings!B140","v":-28.396294380292876},{"$f":"harmonics!BA99","v":-11.288019193018958},{"$f":"harmonics!BB99","v":-3.9673719929262314},-39.684313573311833,-100,-37.637648143204075,-31.184204619607534,-22.014220507893274,-22.40550054273923,-34.460100290023924,-15.392914785418144,-15.392914785418144,1.1204280713319332,-11.392914785418144,null,489999.99999999994,281183.35652256384,1.7700804111047339E-6,1.6965508068512298E-6,-8.8099937980338755E-7,null,null,1.6642568657251124E-5,1.756022080181753E-6,-1.6549667004663013E-5,3.7491114203008519E-6,1.756022080181753E-6,-1.2800555584362161E-5,77396.729466185963,10519.017819391984,76678.575861692239]
[3951.0664100490053,6340.0000000000009,63304.470159042292,3.9720451864497131E-6,{"$f":"Tone!BA126","v":47619047619045.344},{"$f":"Tone!BB126","v":-1752.0923075783362},2.1000000000001002E-14,2.1000000000001002E-14,7.7267270764212004E-25,40000.025120443694,1.0000000000000001E-15,2.4825282415310705E-9,402815155.64277345,162.26004961551183,-402815155.64274079,1000000000000162.3,-402815155.64274079,9.9999999999975671E-16,9.9999999999967566E-16,2.4825282415310705E-5,40000.025120443694,2.4825282415310705E-5,2.499998429973255E-5,2.499998429973255E-5,-1.5515782021396639E-14,3.9999999999999998E-6,0,250000,250000,0,250000.00002599999,-1.5570397642710322E-14,250000.00002599999,3.9999999995839999E-6,3.9999999995839999E-6,2.4912636223154687E-25,5.6513475751672601E-6,3.0661409023817684E-6,155532.18819711899,136707.57604019484,-74170.750424937622,143047.57604019484,-10866.28026589533,143459.69837481296,1.0841524829556284,1.0841524828428766,1.9123414586873715,-7.426248701089416,3951.0664100490053,-7.426248701089416,false,-7.426248701089416,{"$f":"Strings!E141","v":-50},{"$f":"Strings!B141","v":-28.89801103928534},{"$f":"harmonics!BA100","v":-17.07796385356653},{"$f":"harmonics!BB100","v":-3.9673719929262314},-45.975974892851866,-100,-44.726767236405081,-27.667665944746581,-24.21232857842406,-21.012752475274667,-40.680427171744881,-17.057557509929008,-17.057557509929008,1.1204280713319332,-13.057557509929008,null,489999.99999999994,297903.38898372848,1.7438271492713803E-6,1.65134755458326E-6,-9.0590428406794449E-7,null,null,1.571804186736185E-5,1.5663403665138475E-6,-1.563980236449199E-5,3.9720451864497131E-6,1.5663403665138475E-6,-1.1667757178042276E-5,84944.269213760475,11301.974138366688,84189.038792680745]
[4186.0090448095916,6340.0000000000009,67068.749841474622,4.2082352841709578E-6,{"$f":"Tone!BA127","v":47619047619045.344},{"$f":"Tone!BB127","v":-1653.7549225703872},2.1000000000001002E-14,2.1000000000001002E-14,7.2930592085361039E-25,40000.025120443694,1.0000000000000001E-15,2.6301470526068481E-9,380206878.17009556,144.55727020784991,-380206878.17006809,1000000000000144.5,-380206878.17006809,9.9999999999978334E-16,9.9999999999971116E-16,2.6301470526068481E-5,40000.025120443694,2.6301470526068481E-5,2.499998429973255E-5,2.499998429973255E-5,-1.6438398431793204E-14,3.9999999999999998E-6,0,250000,250000,0,250000.00002599999,-1.6496261666950556E-14,250000.00002599999,3.9999999995839999E-6,3.9999999995839999E-6,2.6394018661630931E-25,5.60367800082119E-6,3.2791679421705029E-6,154020.96289027308,132933.01047038464,-77789.920535551966,139273.01047038464,-10721.170694077344,139685.05627494809,1.1026302096847569,1.1026302095700833,1.8170135432705801,-9.9908943087812752,4186.0090448095916,-9.9908943087812752,false,-9.9908943087812752,{"$f":"Strings!E142","v":-50},{"$f":"Strings!B142","v":-29.399727698408871},{"$f":"harmonics!BA101","v":-6.6555341414425415},{"$f":"harmonics!BB101","v":-4.8844876818430629},-36.055261839851411,{"$f":"IF(BF$44,OFFSET($BE126,BF$31,0),-100)","v":-100},-33.690396501714304,-26.592213829440091,-28.024211292188355,-20.326824087227497,-29.111475726695332,-19.178057596227152,-19.178057596227152,1.1204280713319332,-15.178057596227152,null,489999.99999999994,315617.64631282177,1.7157063504375464E-6,1.6036779802371901E-6,-9.290673420004549E-7,null,null,1.4843899387816823E-5,1.3969641528858858E-6,-1.4778018818203623E-5,4.2082352841709578E-6,1.3969641528858858E-6,-1.0569783534032666E-5,93793.67849154702,12289.44865641853,92985.071794869]
[4434.9220956299678,6340.0000000000009,71056.865241858191,4.4584699759597305E-6,{"$f":"Tone!BA128","v":47619047619045.344},{"$f":"Tone!BB128","v":-1560.9367908850936},2.1000000000001002E-14,2.1000000000001002E-14,6.8837312478039201E-25,40000.025120443694,1.0000000000000001E-15,2.7865437349748313E-9,358867505.80965412,128.78588672604215,-358867505.80963099,1000000000000128.8,-358867505.80963099,9.9999999999980681E-16,9.9999999999974251E-16,2.7865437349748317E-5,40000.025120443694,2.7865437349748317E-5,2.499998429973255E-5,2.499998429973255E-5,-1.7415876468858618E-14,3.9999999999999998E-6,0,250000,250000,0,250000.00002599999,-1.7477180431028065E-14,250000.00002599999,3.9999999995839999E-6,3.9999999995839999E-6,2.7963488683828497E-25,5.5536779840465094E-6,3.5082783700766912E-6,152230.88592121273,128702.28108205997,-81301.69415597507,135042.28108205998,-10244.828914116879,135430.32968772404,1.1240531295480674,1.124053129431166,1.6413718927271566,-11.94283793311044,4434.9220956299678,-11.94283793311044,false,-11.94283793311044,{"$f":"Strings!E143","v":-50},{"$f":"Strings!B143","v":-29.901444357625088},{"$f":"harmonics!BA102","v":-5.8545425919784231},{"$f":"harmonics!BB102","v":-5.8545425919784231},-35.755986949603511,-100,-31.360233055867049,-27.320572511292745,-36.045908326394979,-20.246977776728841,-24.802888975043729,-22.026185092999452,-20.246977776728841,1.1204280713319332,-16.246977776728841,null,489999.99999999994,334385.24819697975,1.6857068043913069E-6,1.5536779634625093E-6,-9.5019160588303943E-7,null,null,1.4017549429400667E-5,1.245757327316081E-6,-1.3962083679993088E-5,4.4584699759597305E-6,1.245757327316081E-6,-9.5036137040333575E-6,104330.61313486873,13559.91507674748,103445.66467575644]
[4698.6362866785366,6340.0000000000009,75282.126324610537,4.7235843968383099E-6,{"$f":"Tone!BA129","v":47619047619045.344},{"$f":"Tone!BB129","v":-1473.3281406362391},2.1000000000001002E-14,2.1000000000001002E-14,6.4973771002064353E-25,40000.025120443694,1.0000000000000001E-15,2.9522402480239431E-9,338725820.38988334,114.73518139879951,-338725820.38986397,1000000000000114.8,-338725820.38986397,9.9999999999982791E-16,9.9999999999977072E-16,2.9522402480239433E-5,40000.025120443694,2.9522402480239433E-5,2.499998429973255E-5,2.499998429973255E-5,-1.8451478374676188E-14,3.9999999999999998E-6,0,250000,250000,0,250000.00002599999,-1.8516427660132714E-14,250000.00002599999,3.9999999995839999E-6,3.9999999995839999E-6,2.9626284250050074E-25,5.5015294499894185E-6,3.754594723415349E-6,150136.25973582026,124009.4058549335,-84631.931012875211,130349.4058549335,-9349.804688264674,130684.30071911037,1.1488469457285422,1.1488469456090622,1.424734047210986,-13.701888116773937,4698.6362866785366,-13.701888116773937,false,-13.701888116773937,{"$f":"Strings!E144","v":-50},{"$f":"Strings!B144","v":-30.403161016906843},{"$f":"harmonics!BA103","v":-12.855809319199938},{"$f":"harmonics!BB103","v":-5.8545425919784231},-43.258970336106785,-100,-32.779065403328836,-30.202414668484277,-42.353047447881181,-20.776564174074142,-22.40550054273923,-26.258486389072161,-20.776564174074142,1.1204280713319332,-16.776564174074142,null,489999.99999999994,354268.82976287318,1.6538385201290975E-6,1.5015294294054186E-6,-9.689896734229609E-7,null,null,1.3236508965738712E-5,1.1108007752645157E-6,-1.3189817710558135E-5,4.7235843968383099E-6,1.1108007752645157E-6,-8.4662333137198251E-6,117112.57164112225,15235.026340977392,116117.3906388992]
[4978.0317395533111,6340.0000000000009,79758.634505819238,5.0044633415416013E-6,{"$f":"Tone!BA130","v":47619047619045.344},{"$f":"Tone!BB130","v":-1390.6365860976307},2.1000000000001002E-14,2.1000000000001002E-14,6.1327073446911371E-25,40000.025120443694,1.0000000000000001E-15,3.1277895884635001E-9,319714600.90804589,102.21742603379107,-319714600.90802956,1000000000000102.3,-319714600.90802956,9.9999999999984664E-16,9.9999999999979557E-16,3.1277895884635004E-5,40000.025120443694,3.1277895884635004E-5,2.499998429973255E-5,2.499998429973255E-5,-1.9548660374338056E-14,3.9999999999999998E-6,0,250000,250000,0,250000.00002599999,-1.9617471745284251E-14,250000.00002599999,3.9999999995839999E-6,3.9999999995839999E-6,3.1387954785926108E-25,5.4474600097446504E-6,4.0192711557147004E-6,147716.19023629438,118863.9743032617,-87700.789453451624,125203.9743032617,-7942.1549476323853,125455.62166178133,1.1774377925807566,1.177437792458303,1.2074280158398005,-15.375527504699082,4978.0317395533111,-15.375527504699082,false,-15.375527504699082,{"$f":"Strings!E145","v":-50},{"$f":"Strings!B145","v":-30.904877676234932},{"$f":"harmonics!BA104","v":-13.903735204563525},{"$f":"harmonics!BB104","v":-5.8545425919784231},-44.808612880798457,-100,-39.684313573311833,-37.637648143204075,-31.184204619607534,-22.014220507893274,-21.012752475274667,-34.460100290023924,-21.012752475274667,1.1204280713319332,-17.012752475274667,null,489999.99999999994,375334.75061562,1.6201345790535146E-6,1.4474599891606503E-6,-9.8519218582690091E-7,null,null,1.2498403256947196E-5,9.9037193239052106E-7,-1.2459102993747236E-5,5.0044633415416013E-6,9.9037193239052106E-7,-7.4546396522056342E-6,132976.26742943234,17512.43758677617,131818.06488199247]
[5274.0409106059369,6340.0000000000009,84501.329715407323,5.302044217437324E-6,{"$f":"Tone!BA131","v":47619047619045.344},{"$f":"Tone!BB131","v":-1312.586151892921},2.1000000000001002E-14,2.1000000000001002E-14,5.7885049298483338E-25,40000.025120443694,1.0000000000000001E-15,3.3137776358983268E-9,301770399.18638533,91.065373825110356,-301770399.18637156,1000000000000091.1,-301770399.18637156,9.9999999999986341E-16,9.9999999999981805E-16,3.313777635898327E-5,40000.025120443694,3.313777635898327E-5,2.499998429973255E-5,2.499998429973255E-5,-2.0711084210775138E-14,3.9999999999999998E-6,0,250000,250000,0,250000.00002599999,-2.0783987318764902E-14,250000.00002599999,3.9999999995839999E-6,3.9999999995839999E-6,3.3254379703106933E-25,5.3917407463611111E-6,4.3034877207366229E-6,144956.65404209419,113293.5833740785,-90426.741162888909,119633.5833740785,-5925.4114474815869,119780.23531344617,1.2101884226789608,1.2101884225531012,1.0126227879221246,-1000,5274.0409106059369,-16.217870157961492,true,1000,{"$f":"Strings!E146","v":-50},{"$f":"Strings!B146","v":-31.406594335595791},{"$f":"harmonics!BA105","v":-6.9518925470767527},{"$f":"harmonics!BB105","v":-5.8545425919784231},-38.358486882672544,-100,-45.975974892851866,-44.726767236405081,-27.667665944746581,-24.21232857842406,-20.326824087227497,-40.680427171744881,-20.326824087227497,1.1204280713319332,-16.326824087227497,null,489999.99999999994,397653.31630779919,1.5846524135688312E-6,1.391740725777111E-6,-9.985564967007006E-7,null,null,1.180096455663271E-5,8.8292592672015543E-7,-1.1767888777296752E-5,5.302044217437324E-6,8.8292592672015543E-7,-6.465844559859428E-6,153236.76857841862,20732.431544508909,151827.77587321785]
[5587.6517029280812,6340.0000000000009,89526.040257760513,5.6173201730359555E-6,{"$f":"Tone!BA132","v":47619047619045.344},{"$f":"Tone!BB132","v":-1238.9163519534434},2.1000000000001002E-14,2.1000000000001002E-14,5.4636211121152072E-25,40000.025120443694,1.0000000000000001E-15,3.5108251081474714E-9,284833328.11973119,81.130024807762453,-284833328.11971962,1000000000000081.1,-284833328.11971962,9.999999999998784E-16,9.9999999999983797E-16,3.510825108147472E-5,40000.025120443694,3.510825108147472E-5,2.499998429973255E-5,2.499998429973255E-5,-2.1942629365483772E-14,3.9999999999999998E-6,0,250000,250000,0,250000.00002599999,-2.2019867517863016E-14,250000.00002599999,3.9999999995839999E-6,3.9999999995839999E-6,3.5231788021252613E-25,5.3346820576507258E-6,4.6084451298743374E-6,141852.39245024472,107345.01246784194,-92731.599480096877,113685.01246784194,-3205.5592223363637,113730.1968245078,1.2472711417982603,1.247271141668544,0.8476371397273007,-1000,5587.6517029280812,-17.682778230176037,true,1000,{"$f":"Strings!E147","v":-50},{"$f":"Strings!B147","v":-31.908310994979825},{"$f":"harmonics!BA106","v":-10.765312681723902},{"$f":"harmonics!BB106","v":-6.9518925470767527},-42.673623676703727,-100,-36.055261839851411,-33.690396501714304,-26.592213829440091,-28.024211292188355,-20.246977776728841,-29.111475726695332,-20.246977776728841,1.1204280713319332,-16.246977776728841,null,489999.99999999994,421299.01297769655,1.5474743837424063E-6,1.3346820370667257E-6,-1.0088750431616181E-6,null,null,1.1142030169536588E-5,7.8707826213479489E-7,-1.1114195612285146E-5,5.6173201730359555E-6,7.8707826213479489E-7,-5.4968754392491905E-6,180084.81562370699,25525.373707299699,178266.64330526683]
[5919.9107633861713,6340.0000000000009,94849.535637221794,5.9513434125315661E-6,{"$f":"Tone!BA133","v":47619047619045.344},{"$f":"Tone!BB133","v":-1169.381320170171},2.1000000000001002E-14,2.1000000000001002E-14,5.1569716219509463E-25,40000.025120443694,1.0000000000000001E-15,3.7195896328322281E-9,268846861.80785167,72.2786351039301,-268846861.80784196,1000000000000072.3,-268846861.80784196,9.9999999999989141E-16,9.9999999999985512E-16,3.7195896328322279E-5,40000.025120443694,3.7195896328322279E-5,2.499998429973255E-5,2.499998429973255E-5,-2.3247406005934574E-14,3.9999999999999998E-6,0,250000,250000,0,250000.00002599999,-2.3329236977856884E-14,250000.00002599999,3.9999999995839999E-6,3.9999999995839999E-6,3.7326779156807046E-25,5.2766276028950059E-6,4.9353604961875933E-6,138408.36138958504,101083.69278535074,-94546.081650308508,107423.69278535074,303.45398691328592,107424.12138790613,1.2884290753451499,1.2884290752111534,0.71139082429596956,-1000,5919.9107633861713,-19.734398989221937,true,1000,{"$f":"Strings!E148","v":-50},{"$f":"Strings!B148","v":-32.410027654380237},{"$f":"harmonics!BA107","v":-17.02060737946719},{"$f":"harmonics!BB107","v":-6.9518925470767527},-49.430635033847423,-100,-35.755986949603511,-31.360233055867049,-27.320572511292745,-36.045908326394979,-20.776564174074142,-24.802888975043729,-20.776564174074142,1.1204280713319332,-16.776564174074142,null,489999.99999999994,446350.75593986735,1.5087075559052637E-6,1.276627582311006E-6,-1.0159829163439731E-6,null,null,1.0519540001488582E-5,7.0158897648410264E-7,-1.0496118080080575E-5,5.9513434125315661E-6,7.0158897648410264E-7,-4.5447746675490093E-6,217457.06591537953,33176.441707053993,214911.37529731684]
[6271.926975708011,6340.0000000000009,100489.58252475328,6.3052287074355006E-6,{"$f":"Tone!BA134","v":47619047619045.344},{"$f":"Tone!BB134","v":-1103.7489898384347},2.1000000000001002E-14,2.1000000000001002E-14,4.8675330451879614E-25,40000.025120443694,1.0000000000000001E-15,3.9407679421471873E-9,253757646.90551722,64.392943363025154,-253757646.90550902,1000000000000064.4,-253757646.90550902,9.9999999999990344E-16,9.999999999998713E-16,3.940767942147188E-5,40000.025120443694,3.940767942147188E-5,2.499998429973255E-5,2.499998429973255E-5,-2.4629768702874315E-14,3.9999999999999998E-6,0,250000,250000,0,250000.00002599999,-2.4716465597601553E-14,250000.00002599999,3.9999999995839999E-6,3.9999999995839999E-6,3.9546344947936846E-25,5.2179465487174127E-6,5.2854645684853209E-6,134640.48284995978,94591.246139925279,-95815.216827842029,100931.24613992528,4674.365696911249,101039.42865053544,1.3325538816697009,1.3325538815311153,0.59980967278205199,-1000,6271.926975708011,-22.45395120599872,true,1000,{"$f":"Strings!E149","v":-50},{"$f":"Strings!B149","v":-32.911744313792241},{"$f":"harmonics!BA108","v":-8.141452690310425},{"$f":"harmonics!BB108","v":-6.9518925470767527},-41.053197004102664,-100,-43.258970336106785,-32.779065403328836,-30.202414668484277,-42.353047447881181,-22.014220507893274,-22.40550054273923,-22.014220507893274,1.1204280713319332,-18.014220507893274,null,489999.99999999994,472892.15305766248,1.4684826304120776E-6,1.2179465281334126E-6,-1.0197641389501799E-6,null,null,9.9315337209878937E-6,6.2534819540409855E-7,-9.9118263546949044E-6,6.3052287074355006E-6,6.2534819540409855E-7,-3.6065976472594038E-6,273193.38312446559,46672.627797635818,269177.06142510433]
[6644.8751612791457,6340.0000000000009,106465.00405254886,6.6801571170226753E-6,{"$f":"Tone!BA135","v":47619047619045.344},{"$f":"Tone!BB135","v":-1041.800319156871},2.1000000000001002E-14,2.1000000000001002E-14,4.5943394074822395E-25,40000.025120443694,1.0000000000000001E-15,4.1750981981391712E-9,239515324.56066981,57.367590699403003,-239515324.56066296,1000000000000057.4,-239515324.56066296,9.9999999999991389E-16,9.999999999998851E-16,4.1750981981391714E-5,40000.025120443694,4.1750981981391714E-5,2.499998429973255E-5,2.499998429973255E-5,-2.6094330963300943E-14,3.9999999999999998E-6,0,250000,250000,0,250000.00002599999,-2.6186183123660005E-14,250000.00002599999,3.9999999995839999E-6,3.9999999995839999E-6,4.189789298914125E-25,5.1590244534013256E-6,5.6600009000746383E-6,130575.51821403696,87961.19130112305,-96502.822662093866,94301.19130112305,9962.1813904549927,94825.94443962755,1.3770020323622503,1.3770020322190422,0.50840159818471031,-1000,6644.8751612791457,-22.888614333083336,true,1000,{"$f":"Strings!E150","v":-50},{"$f":"Strings!B150","v":-33.41346097321243},{"$f":"harmonics!BA109","v":-15.920459603500838},{"$f":"harmonics!BB109","v":-8.141452690310425},-49.333920576713268,-100,-44.808612880798457,-39.684313573311833,-37.637648143204075,-31.184204619607534,-24.21232857842406,-21.012752475274667,-21.012752475274667,1.1204280713319332,-17.012752475274667,null,489999.99999999994,501011.78377670055,1.4269520180116466E-6,1.1590244328173253E-6,-1.0201562169480374E-6,null,null,9.3761476323634668E-6,5.5736299564736787E-7,-9.3595668123561177E-6,6.6801571170226753E-6,5.5736299564736787E-7,-2.6794096953334424E-6,365394.73505387362,74415.379760904121,357736.86371428223]
[7040.0000000000255,6340.0000000000009,112795.74263448834,7.0773799300071126E-6,{"$f":"Tone!BA136","v":47619047619045.344},{"$f":"Tone!BB136","v":-983.32856019576457},2.1000000000001002E-14,2.1000000000001002E-14,4.3364789504637361E-25,40000.025120443694,1.0000000000000001E-15,4.4233624562544448E-9,226072362.34643564,51.108713016898093,-226072362.34642985,1000000000000051.1,-226072362.34642985,9.9999999999992336E-16,9.9999999999989772E-16,4.4233624562544452E-5,40000.025120443694,4.4233624562544452E-5,2.499998429973255E-5,2.499998429973255E-5,-2.764598062761439E-14,3.9999999999999998E-6,0,250000,250000,0,250000.00002599999,-2.7743294601651989E-14,250000.00002599999,3.9999999995839999E-6,3.9999999995839999E-6,4.4389271353410215E-25,5.1002532508971177E-6,6.0602272915060531E-6,126250.00917012416,81293.267141291552,-96594.355595712972,87633.267141291552,16201.38703877537,89118.317151061419,1.4166561174637318,1.4166561173163994,0.43318907393907091,-1000,7040.0000000000255,-23.593274204238096,true,1000,{"$f":"Strings!E151","v":-50},{"$f":"Strings!B151","v":-33.915177632638411},{"$f":"harmonics!BA110","v":-11.579735113686624},{"$f":"harmonics!BB110","v":-8.141452690310425},-45.494912746325035,-100,-38.358486882672544,-45.975974892851866,-44.726767236405081,-27.667665944746581,-28.024211292188355,-20.326824087227497,-20.326824087227497,1.1204280713319332,-16.326824087227497,null,489999.99999999994,530803.49475053337,1.3842871205451156E-6,1.1002532303131178E-6,-1.0171526385010597E-6,null,null,8.851611343771239E-6,4.9674548823667931E-7,-8.8376618684523218E-6,7.0773799300071126E-6,4.9674548823667931E-7,-1.7602819384452092E-6,546738.064732317,148488.40888385833,526187.8978600509]
[7458.6201842894661,6340.0000000000009,119502.92652208971,7.4982228406017088E-6,{"$f":"Tone!BA137","v":47619047619045.344},{"$f":"Tone!BB137","v":-928.13856889506098},2.1000000000001002E-14,2.1000000000001002E-14,4.09309108882761E-25,40000.025120443694,1.0000000000000001E-15,4.6863892753760671E-9,213383895.62606931,45.532686912557246,-213383895.62606445,1000000000000045.5,-213383895.62606445,9.9999999999993184E-16,9.9999999999990916E-16,4.6863892753760676E-5,40000.025120443694,4.6863892753760676E-5,2.499998429973255E-5,2.499998429973255E-5,-2.9289896182329478E-14,3.9999999999999998E-6,0,250000,250000,0,250000.00002599999,-2.9392996746387749E-14,250000.00002599999,3.9999999995839999E-6,3.9999999995839999E-6,4.7028794784438408E-25,5.0420208794004935E-6,6.4874197043947151E-6,121708.38080639034,74687.102135921275,-96097.693692678135,81027.102135921275,23405.232829411572,84339.766447056187,1.4430723006897594,1.4430723005396799,0.37092144745863376,-1000,7458.6201842894661,-24.861338859219032,true,1000,{"$f":"Strings!E152","v":-50},{"$f":"Strings!B152","v":-34.416894292068491},{"$f":"harmonics!BA111","v":-11.285482785953009},{"$f":"harmonics!BB111","v":-8.141452690310425},-45.702377078021499,{"$f":"IF(BF$44,OFFSET($BE136,BF$31,0),-100)","v":-100},-42.673623676703727,-36.055261839851411,-33.690396501714304,-26.592213829440091,-36.045908326394979,-20.246977776728841,-20.246977776728841,1.1204280713319332,-16.246977776728841,null,489999.99999999994,562366.71304512804,1.3406749261562926E-6,1.0420208588164936E-6,-1.0108031362069942E-6,null,null,8.35624429896478E-6,4.4270203109044202E-7,-8.3445091944133999E-6,7.4982228406017088E-6,4.4270203109044202E-7,-8.4628635381169113E-7,1047028.1899587576,485320.0837521106,927756.6743899805]
[7902.1328200980151,6340.0000000000009,126608.94031808466,7.9440903728994314E-6,{"$f":"Tone!BA138","v":47619047619045.344},{"$f":"Tone!BB138","v":-876.04615378920153},2.1000000000001002E-14,2.1000000000001002E-14,3.8633635382107476E-25,40000.025120443694,1.0000000000000001E-15,4.9650564830621435E-9,201407577.82139888,40.565012403882854,-201407577.8213948,1000000000000040.6,-201407577.8213948,9.9999999999993914E-16,9.9999999999991902E-16,4.9650564830621437E-5,40000.025120443694,4.9650564830621437E-5,2.499998429973255E-5,2.499998429973255E-5,-3.1031564042793291E-14,3.9999999999999998E-6,0,250000,250000,0,250000.00002599999,-3.1140795285420657E-14,250000.00002599999,3.9999999995839999E-6,3.9999999995839999E-6,4.9825272446309393E-25,4.9847011330258799E-6,6.9428786797344084E-6,117000.43672670414,68236.083217732681,-95041.77576909092,74576.083217732681,31567.164548993736,80981.961360301939,1.444771585688696,1.4447715855384398,0.31902649251614651,-1000,7902.1328200980151,-26.700029191561221,true,1000,{"$f":"Strings!E153","v":-50},{"$f":"Strings!B153","v":-34.918610951501464},{"$f":"harmonics!BA112","v":-16.424502188799934},{"$f":"harmonics!BB112","v":-11.280950328645869},-51.343113140301398,-100,-49.430635033847423,-35.755986949603511,-31.360233055867049,-27.320572511292745,-42.353047447881181,-20.776564174074142,-20.776564174074142,1.1204280713319332,-16.776564174074142,null,489999.99999999994,595806.77796745719,1.2963140759053246E-6,9.8470111244188002E-7,-1.0012116931650232E-6,null,null,7.88845222954388E-6,3.945234821832255E-7,-7.8785804431891049E-6,7.9440903728994314E-6,3.945234821832255E-7,6.5509929710326451E-8,2500466.3110239729,2466691.7026774925,-409589.8149464287]
[8372.0180896191869,6340.0000000000009,134137.4996829493,8.416470568341919E-6,{"$f":"Tone!BA139","v":47619047619045.344},{"$f":"Tone!BB139","v":-826.87746128522883},2.1000000000001002E-14,2.1000000000001002E-14,3.6465296042682076E-25,40000.025120443694,1.0000000000000001E-15,5.2602941052136986E-9,190103439.08505797,36.13931755196635,-190103439.08505452,1000000000000036.1,-190103439.08505452,9.9999999999994584E-16,9.999999999999277E-16,5.2602941052136988E-5,40000.025120443694,5.2602941052136988E-5,2.499998429973255E-5,2.499998429973255E-5,-3.2876796863586427E-14,3.9999999999999998E-6,0,250000,250000,0,250000.00002599999,-3.299252333390113E-14,250000.00002599999,3.9999999995839999E-6,3.9999999995839999E-6,5.27880373232619E-25,4.9286442939421778E-6,7.427938128206205E-6,112178.5628023225,62022.207419667167,-93473.395889880863,68362.207419667175,40664.10379306844,79542.194718168554,1.4103025846821315,1.4103025845354602,0.27549160905230075,-1000,8372.0180896191869,-29.212052995700169,true,1000,{"$f":"Strings!E154","v":-50},{"$f":"Strings!B154","v":-35.420327610936496},{"$f":"harmonics!BA113","v":-11.280950328645869},{"$f":"harmonics!BB113","v":-11.280950328645869},-46.701277939582369,-100,-41.053197004102664,-43.258970336106785,-32.779065403328836,-30.202414668484277,-31.184204619607534,-22.014220507893274,-22.014220507893274,1.1204280713319332,-18.014220507893274,null,489999.99999999994,631235.29262564378,1.2514105924813632E-6,9.286442733581777E-7,-9.8853244013571361E-7,null,null,7.4467235739820958E-6,3.5157640719948634E-7,-7.438419591364913E-6,8.416470568341919E-6,3.5157640719948634E-7,9.7805097697700596E-7,962165.95830103511,325476.54594017507,-905443.73064050893]
[8869.8441912599392,6340.0000000000009,142113.73048371644,8.916939951919466E-6,{"$f":"Tone!BA140","v":47619047619045.344},{"$f":"Tone!BB140","v":-780.46839544258467},2.1000000000001002E-14,2.1000000000001002E-14,3.4418656239021272E-25,40000.025120443694,1.0000000000000001E-15,5.5730874699496652E-9,179433752.90483567,32.196471681513628,-179433752.90483281,1000000000000032.3,-179433752.90483281,9.9999999999995156E-16,9.9999999999993539E-16,5.5730874699496655E-5,40000.025120443694,5.5730874699496655E-5,2.499998429973255E-5,2.499998429973255E-5,-3.4831752937717249E-14,3.9999999999999998E-6,0,250000,250000,0,250000.00002599999,-3.4954360862056143E-14,250000.00002599999,3.9999999995839999E-6,3.9999999995839999E-6,5.5926977367657021E-25,4.8741690294096709E-6,7.9439762113709766E-6,107294.97513417719,56112.465674744803,-91452.735798030059,62452.465674744803,50660.994685686383,80416.707538908362,1.3342373546226598,1.334237354483899,0.23874370809425743,-1000,8869.8441912599392,-32.653689880194356,true,1000,{"$f":"Strings!E155","v":-50},{"$f":"Strings!B155","v":-35.922044270372965},{"$f":"harmonics!BA114","v":-17.412722036970003},{"$f":"harmonics!BB114","v":-11.280950328645869},-53.334766307342967,-100,-49.333920576713268,-44.808612880798457,-39.684313573311833,-37.637648143204075,-27.667665944746581,-24.21232857842406,-24.21232857842406,1.1204280713319332,-20.21232857842406,null,489999.99999999994,668770.49639395985,1.2061734791167241E-6,8.7416900882567083E-7,-9.7296374054848963E-7,null,null,7.0296259009199904E-6,3.1329515954565216E-7,-7.0226409882529566E-6,8.916939951919466E-6,3.1329515954565216E-7,1.8942989636665094E-6,520824.6854362663,84983.928968626904,-513844.41689760634]
[9397.2725733570769,6340.0000000000009,150564.25264922113,9.4471687936766232E-6,{"$f":"Tone!BA141","v":47619047619045.344},{"$f":"Tone!BB141","v":-736.66407031815947},2.1000000000001002E-14,2.1000000000001002E-14,3.2486885501033935E-25,40000.025120443694,1.0000000000000001E-15,5.9044804960478886E-9,169362910.19494888,28.683795349702322,-169362910.19494647,1000000000000028.6,-169362910.19494647,9.9999999999995708E-16,9.9999999999994289E-16,5.9044804960478887E-5,40000.025120443694,5.9044804960478887E-5,2.499998429973255E-5,2.499998429973255E-5,-3.6902956749352388E-14,3.9999999999999998E-6,0,250000,250000,0,250000.00002599999,-3.703285532026544E-14,250000.00002599999,3.9999999995839999E-6,3.9999999995839999E-6,5.9252568500100175E-25,4.8215559237056183E-6,8.4924279179584404E-6,102399.30109436664,50556.988107290817,-89048.345398070218,56896.988107290817,61515.907251150915,83794.236678982852,1.22203274536243,1.2220327452353388,0.20754816870244816,-1000,9397.2725733570769,-36.249835714602973,true,1000,{"$f":"Strings!E156","v":-50},{"$f":"Strings!B156","v":-36.423760929810463},{"$f":"harmonics!BA115","v":-13.172197613207683},{"$f":"harmonics!BB115","v":-11.280950328645869},-49.595958543018142,-100,-45.494912746325035,-38.358486882672544,-45.975974892851866,-44.726767236405081,-26.592213829440091,-28.024211292188355,-26.592213829440091,1.1204280713319332,-22.592213829440091,null,489999.99999999994,708537.6595257466,1.1608103964964441E-6,8.215559031216186E-7,-9.5474087571818323E-7,null,null,{"$f":"G243","v":6.635802366771871E-6},2.7917475514242178E-7,-6.6299271871526865E-6,9.4471687936766232E-6,2.7917475514242178E-7,2.8172416065239367E-6,353227.05327854422,34832.453061561551,-351505.40732904471]
[9956.0634791066259,6340.0000000000009,159517.26901163856,1.0008926683083206E-5,{"$f":"Tone!BA142","v":47619047619045.344},{"$f":"Tone!BB142","v":-695.31829304885753},2.1000000000001002E-14,2.1000000000001002E-14,3.0663536723457545E-25,40000.025120443694,1.0000000000000001E-15,6.2555791769270026E-9,159857300.45402899,25.5543565084497,-159857300.45402697,1000000000000025.5,-159857300.45402697,9.9999999999996182E-16,9.999999999999492E-16,6.2555791769270034E-5,40000.025120443694,6.2555791769270034E-5,2.499998429973255E-5,2.499998429973255E-5,-3.9097320748676124E-14,3.9999999999999998E-6,0,250000,250000,0,250000.00002599999,-3.9234943490568521E-14,250000.00002599999,3.9999999995839999E-6,3.9999999995839999E-6,6.2775909571852244E-25,4.7710428744178549E-6,9.0747988697968115E-6,97536.690367072646,45388.867753936145,-86332.245724166671,51728.867753936145,73185.023287471893,89620.998614677446,1.0883240744329179,1.0883240743197322,0.18092953169009282,-1000,9956.0634791066259,-38.170383329619582,true,1000,{"$f":"Strings!E157","v":-50},{"$f":"Strings!B157","v":-36.925477589248686},{"$f":"harmonics!BA116","v":-14.134766984331577},{"$f":"harmonics!BB116","v":-11.280950328645869},-51.060244573580263,-100,-45.702377078021499,-42.673623676703727,-36.055261839851411,-33.690396501714304,-27.320572511292745,-36.045908326394979,-27.320572511292745,1.1204280713319332,-23.320572511292745,null,489999.99999999994,750669.50123124034,1.1155236084121745E-6,7.7104285383385526E-7,-9.3412781328639494E-7,null,null,6.2639682314393206E-6,2.4876446934840987E-7,{"$f":"I244","v":-6.259026621070632E-6},1.0008926683083206E-5,2.4876446934840987E-7,3.7499000620125741E-6,266088.90663870412,17613.346903956524,-265505.32244575041]
[10548.081821211877,6340.0000000000009,169002.65943081473,1.0604088434874651E-5,{"$f":"Tone!BA143","v":47619047619045.344},{"$f":"Tone!BB143","v":-656.29307594650516},2.1000000000001002E-14,2.1000000000001002E-14,2.8942524649243643E-25,40000.025120443694,1.0000000000000001E-15,6.6275552717966562E-9,150885199.59319779,22.766343456279138,-150885199.59319609,1000000000000022.8,-150885199.59319609,9.9999999999996596E-16,9.9999999999995472E-16,6.6275552717966568E-5,40000.025120443694,6.6275552717966568E-5,2.499998429973255E-5,2.499998429973255E-5,-4.1422168421550288E-14,3.9999999999999998E-6,0,250000,250000,0,{"$f":"X142+AC142+E245","v":250000.00002599999},{"$f":"Y142+AD142+F245","v":-4.1567974637529816E-14},250000.00002599999,3.9999999995839999E-6,3.9999999995839999E-6,6.6508759406213885E-25,4.7228224338137753E-6,9.6926798713649432E-6,92746.544601980524,40625.348002271348,-83375.671723240172,46965.348002271348,85626.987707574561,97661.276547296773,0.94967573516268677,0.94967573506392056,{"$f":"IF($AO$42=0,1,AK245)","v":0.15811104417060853},-1000,10548.081821211877,{"$f":"IF(AW142<$BM$40,NA(),20*LOG(AU142)+BO142)","v":-42.223170532985975},true,1000,{"$f":"Strings!E158","v":-50},{"$f":"Strings!B158","v":-37.427194248687414},{"$f":"harmonics!BA117","v":-21.539994598558248},{"$f":"harmonics!BB117","v":-13.172197613207683},-58.967188847245666,-100,-51.343113140301398,-49.430635033847423,-35.755986949603511,-31.360233055867049,-30.202414668484277,-42.353047447881181,-30.202414668484277,1.1204280713319332,{"$f":"BM142+BN142*$BN$44+$BD$43","v":-26.202414668484277},null,489999.99999999994,795306.63261559873,1.070506356107993E-6,{"$f":"BQ142*BS142^2+1/$B$12/1000","v":7.2282241322977545E-7},-9.1140856350970833E-7,null,null,5.9129074506860834E-6,{"$f":"H245","v":2.2166208845920286E-7},-5.9087511742261487E-6,1.0604088434874651E-5,2.2166208845920286E-7,4.6953372606485026E-6,212740.31231148567,10032.080437732759,-212503.64195580111]
[11175.303405856166,6340.0000000000009,{"$f":"2*PI()*A143*$B$9","v":179052.08051552111},1.1234640346071914E-5,{"$f":"Tone!BA144","v":47619047619045.344},{"$f":"Tone!BB144","v":-619.45817597676933},{"$f":"1/(E143^2+F143^2)^0.5","v":2.1000000000001002E-14},{"$f":"E143*G143^2","v":2.1000000000001002E-14},{"$f":"-F143*G143^2","v":2.7318105560578135E-25},40000.025120443694,1.0000000000000001E-15,7.0216502162949453E-9,142416664.05986989,20.282506201941839,-142416664.05986845,1000000000000020.3,-142416664.05986845,{"$f":"1/(P143^2+Q143^2)^0.5","v":9.9999999999996971E-16},{"$f":"P143*R143^2","v":9.9999999999995965E-16},7.0216502162949467E-5,40000.025120443694,{"$f":"T143","v":7.0216502162949467E-5},{"$f":"1/(U143^2+V143^2)^0.5","v":2.499998429973255E-5},{"$f":"U143*W143^2","v":2.499998429973255E-5},{"$f":"-V143*W143^2","v":-4.3885258730967557E-14},3.9999999999999998E-6,0,{"$f":"1/(Z143^2+AA143^2)^0.5","v":250000},{"$f":"Z143*AB143^2","v":250000},{"$f":"-AA143*AB143^2","v":0},250000.00002599999,-4.4039735035726044E-14,{"$f":"(AE143^2+AF143^2)^0.5","v":250000.00002599999},{"$f":"1/(AE143^2+AF143^2)^0.5","v":3.9999999995839999E-6},{"$f":"AE143*AH143^2","v":3.9999999995839999E-6},{"$f":"-AF143*AH143^2","v":7.0463576042505245E-25},4.6770410360103063E-6,1.0347761742649709E-5,{"$f":"1/(AK143^2+AL143^2)^0.5","v":88061.856087826076},{"$f":"AK143*AM143^2","v":36269.941087195883},{"$f":"-AL143*AM143^2","v":-80245.759209844429},42609.941087195883,98806.321305676684,{"$f":"(AP143^2+AQ143^2)^0.5","v":107602.49165058829},{"$f":"AM143/AR143","v":0.81839978551597625},{"$f":"AS143*AB143/AG143","v":0.81839978543086267},0.13846908453364665,{"$f":"IF(AY143,-1000,AX143)","v":-1000},11175.303405856166,-44.357148200719294,{"$f":"OR(AW143<$K$26,AW143>$M$26,ISNA(AX143))","v":true},{"$f":"IF(AV143=-1000,1000,AV143)","v":1000},{"$f":"Strings!E159","v":-50},{"$f":"Strings!B159","v":-37.928910908126511},{"$f":"harmonics!BA118","v":0},{"$f":"harmonics!BB118","v":0},-37.928910908126511,-100,-46.701277939582369,-41.053197004102664,-43.258970336106785,-32.779065403328836,-37.637648143204075,-31.184204619607534,{"$f":"IF(MAX(BF143:BL143)<-80,#N/A,(MAX(BF143:BL143)))","v":-31.184204619607534},1.1204280713319332,-27.184204619607534,null,489999.99999999994,842598.02595539344,{"$f":"1/(BQ143^2+BR143^2)^0.5","v":1.0259397810685089E-6},{"$f":"BQ143*BS143^2+1/$B$12/1000","v":6.7704101542630603E-7},{"$f":"-BR143*BS143^2","v":-8.8687860342220487E-7},null,null,5.5814693593587169E-6,1.9750875332797772E-7,-5.5779736913882115E-6,1.1234640346071914E-5,{"$f":"BY143","v":1.9750875332797772E-7},{"$f":"BZ143+CA143","v":5.6566666546837029E-6},{"$f":"1/(CB143^2+CC143^2)^0.5","v":176674.89542703229},{"$f":"CB143*CD143^2","v":6165.0419146881341},{"$f":"-CC143*CD143^2","v":-176567.29859275452}]
[11839.821526772346,6340.0000000000009,{"$f":"2*PI()*A144*$B$9","v":189699.07127444368},1.1902686825063136E-5,{"$f":"Tone!BA145","v":47619047619045.344},{"$f":"Tone!BB145","v":-584.69066008513573},{"$f":"1/(E144^2+F144^2)^0.5","v":2.1000000000001002E-14},{"$f":"E144*G144^2","v":2.1000000000001002E-14},{"$f":"-F144*G144^2","v":2.5784858109756949E-25},40000.025120443694,1.0000000000000001E-15,7.4391792656644579E-9,134423430.90392947,18.069658775983502,-134423430.90392825,1000000000000018.1,-134423430.90392825,{"$f":"1/(P144^2+Q144^2)^0.5","v":9.9999999999997286E-16},{"$f":"P144*R144^2","v":9.9999999999996399E-16},7.4391792656644586E-5,40000.025120443694,{"$f":"T144","v":7.4391792656644586E-5},{"$f":"1/(U144^2+V144^2)^0.5","v":2.499998429973255E-5},{"$f":"U144*W144^2","v":2.499998429973255E-5},{"$f":"-V144*W144^2","v":-4.6494812011869167E-14},3.9999999999999998E-6,0,{"$f":"1/(Z144^2+AA144^2)^0.5","v":250000},{"$f":"Z144*AB144^2","v":250000},{"$f":"-AA144*AB144^2","v":0},250000.00002599999,-4.6658473955713788E-14,{"$f":"(AE144^2+AF144^2)^0.5","v":250000.00002599999},{"$f":"1/(AE144^2+AF144^2)^0.5","v":3.9999999995839999E-6},{"$f":"AE144*AH144^2","v":3.9999999995839999E-6},{"$f":"-AF144*AH144^2","v":7.4653558313614119E-25},4.6337999332288387E-6,1.1041850038475421E-5,{"$f":"1/(AK144^2+AL144^2)^0.5","v":83509.074598386142},{"$f":"AK144*AM144^2","v":32315.034294897581},{"$f":"-AL144*AM144^2","v":-77003.273299246284},38655.034294897581,112695.79797519739,{"$f":"(AP144^2+AQ144^2)^0.5","v":119140.90211848411},{"$f":"AM144/AR144","v":0.70092699579643458},{"$f":"AS144*AB144/AG144","v":0.70092699572353823},0.12149887346040868,{"$f":"IF(AY144,-1000,AX144)","v":-1000},11839.821526772346,-41.976220921400923,{"$f":"OR(AW144<$K$26,AW144>$M$26,ISNA(AX144))","v":true},{"$f":"IF(AV144=-1000,1000,AV144)","v":1000},{"$f":"Strings!E160","v":-50},{"$f":"Strings!B160","v":-38.430627567565864},{"$f":"harmonics!BA119","v":0},{"$f":"harmonics!BB119","v":0},-38.430627567565864,-100,-53.334766307342967,-49.333920576713268,-44.808612880798457,-39.684313573311833,-44.726767236405081,-27.667665944746581,{"$f":"IF(MAX(BF144:BL144)<-80,#N/A,(MAX(BF144:BL144)))","v":-27.667665944746581},1.1204280713319332,-23.667665944746581,null,489999.99999999994,892701.51187973493,{"$f":"1/(BQ144^2+BR144^2)^0.5","v":9.8199047136176114E-7},{"$f":"BQ144*BS144^2+1/$B$12/1000","v":6.3379991264483906E-7},{"$f":"-BR144*BS144^2","v":-8.6083678658771382E-7},null,null,5.2685654560067948E-6,1.7598433765320608E-7,-5.265625459252571E-6,1.1902686825063136E-5,{"$f":"BY144","v":1.7598433765320608E-7},{"$f":"BZ144+CA144","v":6.6370613658105647E-6},{"$f":"1/(CB144^2+CC144^2)^0.5","v":150616.15328478371},{"$f":"CB144*CD144^2","v":3992.2444070628412},{"$f":"-CC144*CD144^2","v":-150563.23460559599}]
[12543.853951416026,6340.0000000000009,{"$f":"2*PI()*A145*$B$9","v":200979.16504950658},1.2610457414871005E-5,{"$f":"Tone!BA146","v":47619047619045.344},{"$f":"Tone!BB146","v":-551.87449491927111},{"$f":"1/(E145^2+F145^2)^0.5","v":2.1000000000001002E-14},{"$f":"E145*G145^2","v":2.1000000000001002E-14},{"$f":"-F145*G145^2","v":2.4337665225942181E-25},40000.025120443694,1.0000000000000001E-15,7.8815358842943763E-9,126878823.45276168,16.09823584075707,-126878823.45276068,1000000000000016.1,-126878823.45276068,{"$f":"1/(P145^2+Q145^2)^0.5","v":9.9999999999997582E-16},{"$f":"P145*R145^2","v":9.9999999999996773E-16},7.8815358842943773E-5,40000.025120443694,{"$f":"T145","v":7.8815358842943773E-5},{"$f":"1/(U145^2+V145^2)^0.5","v":2.499998429973255E-5},{"$f":"U145*W145^2","v":2.499998429973255E-5},{"$f":"-V145*W145^2","v":-4.9259537405748636E-14},3.9999999999999998E-6,0,{"$f":"1/(Z145^2+AA145^2)^0.5","v":250000},{"$f":"Z145*AB145^2","v":250000},{"$f":"-AA145*AB145^2","v":0},250000.00002599999,-4.9432931195203113E-14,{"$f":"(AE145^2+AF145^2)^0.5","v":250000.00002599999},{"$f":"1/(AE145^2+AF145^2)^0.5","v":3.9999999995839999E-6},{"$f":"AE145*AH145^2","v":3.9999999995839999E-6},{"$f":"-AF145*AH145^2","v":7.9092689895873701E-25},4.5931575783666039E-6,1.1776879346749722E-5,{"$f":"1/(AK145^2+AL145^2)^0.5","v":79108.382710759644},{"$f":"AK145*AM145^2","v":28744.605782892249},{"$f":"-AL145*AM145^2","v":-73701.315140899169},35084.605782892249,127277.84990860742,{"$f":"(AP145^2+AQ145^2)^0.5","v":132024.92431468747},{"$f":"AM145/AR145","v":0.59919278970538303},{"$f":"AS145*AB145/AG145","v":0.59919278964306699},0.10678860023788021,{"$f":"IF(AY145,-1000,AX145)","v":-1000},12543.853951416026,-42.021715951249988,{"$f":"OR(AW145<$K$26,AW145>$M$26,ISNA(AX145))","v":true},{"$f":"IF(AV145=-1000,1000,AV145)","v":1000},{"$f":"Strings!E161","v":-50},{"$f":"Strings!B161","v":-38.932344227005395},{"$f":"harmonics!BA120","v":0},{"$f":"harmonics!BB120","v":0},-38.932344227005395,-100,-49.595958543018142,-45.494912746325035,-38.358486882672544,-45.975974892851866,-33.690396501714304,-26.592213829440091,{"$f":"IF(MAX(BF145:BL145)<-80,#N/A,(MAX(BF145:BL145)))","v":-26.592213829440091},1.1204280713319332,-22.592213829440091,null,489999.99999999994,945784.30611532519,{"$f":"1/(BQ145^2+BR145^2)^0.5","v":9.3880866234488544E-7},{"$f":"BQ145*BS145^2+1/$B$12/1000","v":5.9315755778260379E-7},{"$f":"-BR145*BS145^2","v":-8.3357806812128242E-7},null,null,4.9731662964541729E-6,1.5680330829727014E-7,-4.9706936874740879E-6,1.2610457414871005E-5,{"$f":"BY145","v":1.5680330829727014E-7},{"$f":"BZ145+CA145","v":7.6397637273969157E-6},{"$f":"1/(CB145^2+CC145^2)^0.5","v":130866.53881221799},{"$f":"CB145*CD145^2","v":2685.4214518398617},{"$f":"-CC145*CD145^2","v":-130838.98307582398}]
["Bass Control",null,null,null,null,null,"Total Impedance",null,null,null,null,null,null,null,null,null,null,null,null,null,null,null,null,null,null,null,null,null,null,null,null,null,null,null,null,null,null,null,null,null,null,null,null,null,null,null,null,null,null,null,null,-100,null,null,null,null,-50]
[null,"1/R7","1/C7","1/R7+C7)=Tbass",null,null,"1/(R1+L1)=1/A",null,null,"1/A+1/C1+1/mod.tone+V",null,"Q",null,null,"Q+Tbass+F=R",null,"1/R","!/R+1/Vol lower+1/50s.tone=S",null,null,"Impedance=1/S=U",null,"phase",null,null,"1/load",null,"load",null,null,"load+impedance",null,null,null,null,"Vnoload","vout","check","check2",null,null,null,null,null,null,null,null,null,null,null,null,-100,null,null,null,null,-50]
[null,null,"j","mag",null,"j","Mag",null,"j","=1/Q","j","Mag",null,"j",null,"j","Mag 1/R",null,"j","Mag",null,"j",null,null,null,null,"j","Mag",null,"j",null,"j","mag",null,null,null,null,null,null,null,null,null,null,null,null,null,null,null,null,null,null,-100,null,null,null,null,-50]
[{"$f":"A46","v":41.203444614108754},{"$f":"1/($O$7*1000+0.000001)","v":1000000},{"$f":"2*PI()*$E$8*0.000000001*A149","v":5.695555311700233E-7},{"$f":"1/(B149^2+C149^2)^0.5","v":9.9999999999999995E-7},{"$f":"B149*D149^2","v":9.9999999999999995E-7},{"$f":"-C149*D149^2","v":-5.6955553117002328E-19},{"$f":"1/(B46^2+C46^2)^0.5","v":1.568805126446212E-4},{"$f":"B46*G149^2","v":1.5603687987003224E-4},{"$f":"-C46*G149^2","v":-1.6247688083671332E-5},{"$f":"H149+H46*$AF$43+BT46","v":1.5823890450809047E-4},{"$f":"I149+D46+I46*$AF$43+BU46","v":-1.6219204395746549E-5},{"$f":"1/(J149^2+K149^2)^0.5","v":6286.6214388639792},{"$f":"J149*L149^2","v":6253.8561308470071},{"$f":"-K149*L149^2","v":641.00905629446027},{"$f":"M149+E149+X46","v":6253.8561568469913},{"$f":"N149+F149+Y46","v":641.00905629446027},{"$f":"1/(O149^2+P149^2)^0.5","v":1.5906795177832362E-4},{"$f":"O149*Q149^2+1/($H$16*$H$15*1000/100)+H46*$V$42","v":1.6223890386390211E-4},{"$f":"-P149*Q149^2+I46*$V$42","v":-1.6219204262288153E-5},{"$f":"1/(R149^2+S149^2)^0.5","v":6133.1777504163929},{"$f":"R149*T149^2","v":6102.7574060729912},{"$f":"-S149*T149^2","v":610.09946797546718},{"$f":"ATAN(V149/U149)","v":9.9640054294362498E-2},null,null,{"$f":"1/($L$15*1000)","v":9.9999999999999995E-7},{"$f":"2*PI()*$L$14*0.000000001*$A46","v":1.29444438902278E-7},{"$f":"1/(Z149^2+AA149^2)^0.5","v":991725.90434178826},{"$f":"Z149*AB149^2","v":983520.26934253762},{"$f":"-AA149*AB149^2","v":-127311.22941406212},{"$f":"U149+AC149","v":989623.02674861066},{"$f":"V149+AD149","v":-126701.12994608666},{"$f":"(AE149^2+AF149^2)^0.5","v":997700.81256892672},null,null,{"$f":"AT46","v":0.96217606566731462},{"$f":"AJ149*AB149/AG149","v":0.9564139036862005},{"$f":"AK149/AM149","v":3.6949106568391228},0.2588462868285919,null,null,null,null,null,null,null,null,null,null,null,null,-100,null,null,null,null,-50]
[43.6535289291255,1000000,{"$f":"2*PI()*$E$8*0.000000001*A150","v":6.0342306546284489E-7},{"$f":"1/(B150^2+C150^2)^0.5","v":9.9999999999999995E-7},{"$f":"B150*D150^2","v":9.9999999999999995E-7},{"$f":"-C150*D150^2","v":-6.0342306546284486E-19},{"$f":"1/(B47^2+C47^2)^0.5","v":1.5677757882787721E-4},{"$f":"B47*G150^2","v":1.5583218647465216E-4},{"$f":"-C47*G150^2","v":-1.7191244331359065E-5},1.5803420106735039E-4,-1.7161066847735423E-5,{"$f":"1/(J150^2+K150^2)^0.5","v":6290.7626619798884},{"$f":"J150*L150^2","v":6253.9972519624571},{"$f":"-K150*L150^2","v":679.12682306497629},6253.9972779624413,679.12682306497629,{"$f":"1/(O150^2+P150^2)^0.5","v":1.5896323699110654E-4},{"$f":"O150*Q150^2+1/($H$16*$H$15*1000/100)+H47*$V$42","v":1.620342004256628E-4},{"$f":"-P150*Q150^2+I47*$V$42","v":-1.7161066706709662E-5},{"$f":"1/(R150^2+S150^2)^0.5","v":6137.2121633527177},{"$f":"R150*T150^2","v":6103.0786201508035},{"$f":"-S150*T150^2","v":646.37798095440621},{"$f":"ATAN(V150/U150)","v":0.10551679875523634},null,null,{"$f":"1/($L$15*1000)","v":9.9999999999999995E-7},{"$f":"2*PI()*$L$14*0.000000001*$A47","v":1.3714160578701018E-7},{"$f":"1/(Z150^2+AA150^2)^0.5","v":990726.69485959504},{"$f":"Z150*AB150^2","v":981539.38390741707},{"$f":"-AA150*AB150^2","v":-134609.88725225584},{"$f":"U150+AC150","v":987642.46252756787},{"$f":"V150+AD150","v":-133963.50927130145},{"$f":"(AE150^2+AF150^2)^0.5","v":996686.43795518775},null,null,0.96217725976996005,0.95642386626295595,{"$f":"AK150/AM150","v":3.6918273778353696},0.25906516431538473,null,null,null,null,null,null,null,null,null,null,null,null,-100,null,null,null,null,-50]
[46.249302838954314,1000000,6.3930446814303726E-7,9.9999999999999995E-7,9.9999999999999995E-7,-6.3930446814303723E-19,1.5666228052808976E-4,1.5560306468926041E-4,-1.8186709421215605E-5,1.5780506800654108E-4,-1.8154737410793519E-5,6295.4078256781331,6254.1556553805303,719.51145222380558,6254.1556813805146,719.51145222380558,1.5884594351746418E-4,1.6180506736764748E-4,-1.8154737261818313E-5,6141.7375058384187,6103.4391716316059,684.81374753666864,0.11173397578949089,null,null,9.9999999999999995E-7,1.4529647003250843E-7,989608.70986109588,979325.39863294258,-142292.52343454573,985428.83780457417,-141607.70968700905,995551.474219025,null,null,0.9621786001217979,0.95643504909622024,3.6881530328853427,0.25932629166094417,null,null,null,null,null,null,null,null,null,null,null,null,-100,null,null,null,null,-50]
[48.99942949771868,1000000,6.7731949005654573E-7,9.9999999999999995E-7,9.9999999999999995E-7,-6.7731949005654577E-19,1.5653316508740746E-4,1.5534668543626509E-4,-1.9236400293393132E-5,1.5754867609746588E-4,-1.9202527032874977E-5,6300.6178202294077,6254.3334576110792,762.29778800612155,6254.3334836110635,762.29778800612155,1.5871459346304651E-4,1.6154867546169216E-4,-1.9202526875557763E-5,6146.8130925562727,6103.8438780802917,725.53504866611672,0.11831015414838073,null,null,9.9999999999999995E-7,1.53936247740124E-7,988358.31132990727,976852.15157490585,-150372.95481030789,982955.9954529861,-149647.41976164177,994282.07227038336,null,null,0.96218010463720527,0.95644760167802179,3.6838198048185951,0.25963474120719671,null,null,null,null,null,null,null,null,null,null,null,null,-100,null,null,null,null,-50]
[51.913087197493162,1000000,7.1759500280516792E-7,9.9999999999999995E-7,9.9999999999999995E-7,-7.1759500280516788E-19,1.5638861748829439E-4,1.5505991397056639E-4,-2.0342634031526241E-5,1.5726189042598486E-4,-2.030674644864485E-5,6306.4607823152137,6254.533034377836,807.62870228601741,6254.5330603778202,807.62870228601741,1.5856754373474048E-4,1.612618897936928E-4,-2.0306746282584126E-5,6152.5052961845513,6104.2981470893728,768.677794020497,0.12526470031742107,null,null,9.9999999999999995E-7,1.6308977336481085E-7,986960.41669538349,974090.86412352498,-158864.25826663847,980195.16227061441,-158095.58047261796,992862.9153632893,null,null,0.96218179342553545,0.95646169182228502,3.6787548725543817,0.25999603805027538,null,null,null,null,null,null,null,null,null,null,null,null,-100,null,null,null,null,-50]
[55.000000000000021,1000000,7.6026542216873032E-7,9.9999999999999995E-7,9.9999999999999995E-7,-7.6026542216873033E-19,1.5622684432518651E-4,1.5473928246869046E-4,-2.150770440751151E-5,1.5694124297889299E-4,-2.1469682702957501E-5,6313.0129292558995,6254.7570523679688,855.65557370083002,6254.757078367953,855.65557370083002,1.5840296972707106E-4,1.6094124235048365E-4,-2.1469682527744728E-5,6158.888359695653,6104.8080485502505,814.38597578217855,0.13261777135775638,null,null,9.9999999999999995E-7,1.7278759594743868E-7,985398.3764755805,971009.96036070981,-167778.47669174479,977114.76840926008,-166964.09071596261,991277.09457653167,null,null,0.96218368906021479,0.95647750791241515,3.6728799766082041,0.26041621670297371,null,null,null,null,null,null,null,null,null,null,null,null,-100,null,null,null,null,-50]
[58.270470189761262,1000000,8.0547315670525899E-7,9.9999999999999995E-7,9.9999999999999995E-7,-8.0547315670525895E-19,1.5604585674200452E-4,1.5438096163623488E-4,-2.2733853404505701E-5,1.5658290424883447E-4,-2.2693570651270711E-5,6320.3594821768038,6255.0085048711808,906.5387956019465,6255.008530871165,906.5387956019465,1.5821884795458432E-4,1.6058290362475143E-4,-2.2693570466492713E-5,6166.0452951909674,6105.3803957789805,862.81214941861117,0.14039029807793241,null,null,9.9999999999999995E-7,1.8306208106937703E-7,983653.84951768373,967574.89567095798,-177126.27399201095,973680.27606673702,-176263.46184259234,989505.98178188503,null,null,0.96218581688087435,0.95649526142512498,3.6661109512610639,0.26090188598795983,null,null,null,null,null,null,null,null,null,null,null,null,-100,null,null,null,null,-50]
[61.735412657015537,1000000,8.5336908302630326E-7,9.9999999999999995E-7,9.9999999999999995E-7,-8.5336908302630328E-19,1.5584345242158597E-4,1.5398073174138571E-4,-2.4023236981442283E-5,1.5618265426497921E-4,-2.3980558700215711E-5,6328.5956858062264,6255.2907517850981,960.44831460989371,6255.2907777850824,960.44831460989371,1.58012937717297E-4,1.6018265364571284E-4,-2.3980558505457781E-5,6174.0688767396987,6106.0228365817784,914.11794308371782,0.14860395655309705,null,null,9.9999999999999995E-7,1.9394751886961435E-7,981706.67820480501,963748.00203191256,-186916.53380963751,969854.02486849437,-186002.41586655378,987529.10248853557,null,null,0.96218820533257587,0.95651518976459915,3.658357247206959,0.26146030175015533,null,null,null,null,null,null,null,null,null,null,null,null,-100,null,null,null,null,-50]
[65.406391325149684,1000000,9.0411304933360166E-7,9.9999999999999995E-7,9.9999999999999995E-7,-9.0411304933360156E-19,1.5561719676794906E-4,1.5353395363565845E-4,-2.5377884287663911E-5,1.5573585361057618E-4,-2.5332667996836174E-5,6337.8279328036779,6255.6075645222172,1017.5642016693342,6255.6075905222015,1017.5642016693342,1.5778276194199209E-4,1.5973585299666691E-4,-2.5332667791685668E-5,6183.0627348822136,6106.743955479069,968.47459734830954,0.1572811257278888,null,null,9.9999999999999995E-7,2.0548023848490942E-7,979534.76675834449,959488.35928832425,-197155.89689005935,965595.10324380337,-196187.42229271104,985324.01172115444,null,null,0.96219088634670324,0.95653755944531771,3.6495214748217455,0.26209944674788854,null,null,null,null,null,null,null,null,null,null,null,null,-100,null,null,null,null,-50]
[69.295657744218047,1000000,9.5787440889759562E-7,9.9999999999999995E-7,9.9999999999999995E-7,-9.5787440889759568E-19,1.5536440349133365E-4,1.5303554050986168E-4,-2.6799649495327626E-5,1.552374151753402E-4,-2.6751744234062461E-5,6348.1750005906106,6255.9631764191072,1078.0772576266272,6255.9632024190914,1078.0772576266272,1.5752558741225525E-4,1.592374145673826E-4,-2.6751744018113271E-5,6193.1425605216318,6107.5533884559118,1026.063537070266,0.16644482854072593,null,null,9.9999999999999995E-7,2.1769872929490807E-7,977113.96666436631,954751.70385057235,-207848.23272041799,960859.25723902823,-206822.16918334772,982866.1769984978,null,null,0.96219389576865577,0.95656266966666414,3.6394990045310442,0.26282811685778135,null,null,null,null,null,null,null,null,null,null,null,null,-100,null,null,null,null,-50]
[73.416191979351922,1000000,1.0148325852582277E-6,9.9999999999999995E-7,9.9999999999999995E-7,-1.0148325852582276E-18,1.550821148914507E-4,1.5247993135736044E-4,-2.8290155398296334E-5,1.5468177761470182E-4,-2.8239401221038139E-5,6359.7694085558542,6256.3623393226189,1142.1896554900461,6256.3623653226032,1142.1896554900461,1.5723840468696357E-4,1.586817770133485E-4,-2.8239400993896002E-5,6204.4374258197759,6108.4619517751262,1087.0769773243942,0.17611865369737795,null,null,9.9999999999999995E-7,2.3064376937686989E-7,974417.97429597727,949490.38863107574,-218994.04222098039,955598.85058285086,-217906.96524365601,980128.87353498861,null,null,0.96219727383810705,0.95659085632780338,3.628177667315363,0.26365601247846943,null,null,null,null,null,null,null,null,null,null,null,null,-100,null,null,null,null,-50]
[77.781745930520259,1000000,1.0751776710343253E-6,9.9999999999999995E-7,9.9999999999999995E-7,-1.0751776710343252E-18,1.547670822385506E-4,1.5186106738098137E-4,-2.9850727939923214E-5,1.5406288175220912E-4,-2.9796955380602E-5,6372.7589031823954,6256.8103871104258,1210.1156216814904,6256.8104131104101,1210.1156216814904,1.5691790811276301E-4,1.5806288115817414E-4,-2.9796955141890697E-5,6217.0912293834062,6109.4817865777541,1151.7185654276634,0.18632665491049014,null,null,9.9999999999999995E-7,2.4435856159871022E-7,971418.24698848499,943653.41058218118,-230589.79005757894,949762.89236875891,-229438.07149215127,977083.09798640374,null,null,0.96220106572832931,0.95662249653741549,3.6154376054411745,0.26459383370292833,null,null,null,null,null,null,null,null,null,null,null,null,-100,null,null,null,null,-50]
[82.406889228217523,1000000,1.1391110623400468E-6,9.9999999999999995E-7,9.9999999999999995E-7,-1.1391110623400468E-18,1.5441574677680354E-4,1.511723728857244E-4,-3.1482320891850013E-5,1.5337415146718679E-4,-3.1425350395935992E-5,6387.3080780324653,6257.3133069963433,1282.0821587500832,6257.3133329963275,1282.0821587500832,1.5656047646292842E-4,1.5737415088124907E-4,-3.1425350145304635E-5,6231.2642724169336,6110.6265212075696,1220.2040612186242,0.19709322412347099,null,null,9.9999999999999995E-7,2.5888887780455601E-7,968083.94513474335,937186.52482764877,-242627.16770618167,943297.15134885639,-241406.96364496305,973697.50838704919,null,null,0.96220532215186516,0.95665801367969661,3.6011513313036718,0.26565337739732581,null,null,null,null,null,null,null,null,null,null,null,null,-100,null,null,null,null,-50]
[87.307057858251014,1000000,1.20684613092569E-6,9.9999999999999995E-7,9.9999999999999995E-7,-1.2068461309256899E-18,1.5402422202157354E-4,1.5040674254568524E-4,-3.3185430028054996E-5,1.5260848095598973E-4,-3.3125071350496175E-5,6403.6001345670784,6257.8778195753584,1358.329812193738,6257.8778455753427,1358.329812193738,1.5616215488442389E-4,1.56608480378996E-4,-3.3125071087627652E-5,6247.1349715622719,6111.9114534342534,1292.7620578805418,0.20844293497157454,null,null,9.9999999999999995E-7,2.742832115740204E-7,964381.9092716811,930032.4669304929,-255092.29189780453,936144.37838392716,-253799.52983992398,969938.39934647176,null,null,0.96221010004076879,0.95669788310581472,3.5851840610175407,0.26684763371236409,null,null,null,null,null,null,null,null,null,null,null,null,-100,null,null,null,null,-50]
[92.498605677908643,1000000,1.2786089362860747E-6,9.9999999999999995E-7,9.9999999999999995E-7,-1.2786089362860747E-18,1.5358827819203743E-4,1.495565373152863E-4,-3.495999634233462E-5,1.5175823063687472E-4,-3.4896047909283446E-5,6421.8387883913365,6258.5114686804818,1439.1134842264503,6258.5114946804661,1439.1134842264503,1.5571863900756488E-4,1.5575823006974156E-4,-3.4896047633903968E-5,6264.9017127737015,6113.3537550173896,1369.6347457368515,0.22040035252645579,null,null,9.9999999999999995E-7,2.9059294006501691E-7,960276.68256947829,922131.30708664248,-267964.84765230445,928244.66084165988,-266595.21290656761,965769.72303222795,null,null,0.96221546331063401,0.95674263852870378,3.5673943992245012,0.26819087868072156,null,null,null,null,null,null,null,null,null,null,null,null,-100,null,null,null,null,-50]
[97.998858995437374,1000000,1.3546389801130917E-6,9.9999999999999995E-7,9.9999999999999995E-7,-1.3546389801130917E-18,1.5310332981238758E-4,1.4861359166172224E-4,-3.6805298165394749E-5,1.5081523437531164E-4,-3.6737546397493166E-5,6442.250323631235,6259.2227222556448,1524.7032975387044,6259.2227482556291,1524.7032975387044,1.5522526226754049E-4,1.5481523381902665E-4,-3.6737546109383081E-5,6284.7848487094934,6114.9727013537477,1451.0787215953742,0.23298980525688173,null,null,9.9999999999999995E-7,3.0787249548024805E-7,955730.5905263928,913420.96166792745,-281217.19089267286,919535.93436928117,-279766.11217107752,961153.16787477059,null,null,0.96222148371880845,0.9567928792090058,3.5476354625375928,0.26969875831735546,null,null,null,null,null,null,null,null,null,null,null,null,-100,null,null,null,null,-50]
[103.82617439498634,1000000,1.435190005610336E-6,9.9999999999999995E-7,9.9999999999999995E-7,-1.435190005610336E-18,1.5256442772556598E-4,1.4756923520983469E-4,-3.8719832473990878E-5,1.4977082112085623E-4,-3.8648051068835718E-5,6465.0857956839491,6260.0210855966425,1615.385512328186,6260.0211115966267,1615.385512328186,1.5467698770116163E-4,1.5377082057647823E-4,-3.8648050767841672E-5,6307.0288396866672,6116.7899292879802,1537.3658463750573,0.24623511516014102,null,null,9.9999999999999995E-7,3.2617954672962176E-7,950703.8908932812,903837.88815962384,-294813.43267696467,909954.67808891181,-293276.06683058961,956048.30816832453,null,null,0.9622282418284821,0.95684927803112418,3.5257565410670644,0.27138835789879451,null,null,null,null,null,null,null,null,null,null,null,null,-100,null,null,null,null,-50]
[110.00000000000006,1000000,1.5205308443374609E-6,9.9999999999999995E-7,9.9999999999999995E-7,-1.5205308443374609E-18,1.5196625698715886E-4,1.4641433228543694E-4,-4.0701186273828246E-5,1.4861585444149908E-4,-4.0625135445080253E-5,6490.623379471519,6260.9172284787564,1711.4635001308566,6260.9172544787407,1711.4635001308566,1.5406840570950098E-4,1.5261585391015639E-4,-4.0625135131128412E-5,6331.9045351707018,6118.8297265462179,1628.7841539165481,0.26015928222753376,null,null,9.9999999999999995E-7,3.4557519189487742E-7,945155.00773991528,893317.98865583935,-308708.53535288759,899436.81838238554,-307079.75119897106,950412.83864342363,null,null,0.96223582809181862,0.95691259058102751,3.5016054104814667,0.27327824766224962,null,null,null,null,null,null,null,null,null,null,null,null,-100,null,null,null,null,-50]
[116.54094037952254,1000000,1.6109463134105182E-6,9.9999999999999995E-7,9.9999999999999995E-7,-1.6109463134105181E-18,1.5130314233388726E-4,1.451393431798882E-4,-4.2745899703002961E-5,1.4734079377817406E-4,-4.266532537343118E-5,6519.170856510671,6261.9231278766274,1813.2587782613555,6261.9231538766117,1813.2587782613555,1.5339373950760098E-4,1.5134079326106092E-4,-4.2665325046541555E-5,6359.7115890016494,6121.1193566784877,1725.638814056354,0.27478411986343704,null,null,9.9999999999999995E-7,3.6612416213875406E-7,939040.86392462836,881797.74412031239,-322847.46024189284,887918.86347699084,-321121.82142783649,944202.90844468516,null,null,0.96224434406696713,0.95698366535180779,3.4750314209878703,0.27538849276929983,null,null,null,null,null,null,null,null,null,null,null,null,-100,null,null,null,null,-50]
[123.4708253140311,1000000,1.706738166052607E-6,9.9999999999999995E-7,9.9999999999999995E-7,-1.7067381660526069E-18,1.5056906313630841E-4,1.4373441118554732E-4,-4.4849323460779622E-5,1.4593578146892408E-4,-4.4763956406347394E-5,6551.0682295586503,6263.0522281920667,1921.1121089803937,6263.0522541920509,1921.1121089803937,1.5264686020115574E-4,1.4993578096729495E-4,-4.476395606664914E-5,6390.7809970607905,6123.6894238751975,1828.2531532346268,0.29012983864859548,null,null,9.9999999999999995E-7,3.8789503773922876E-7,932317.3257934273,869215.59597460763,-337164.41640409664,875339.28539848281,-335336.16325086204,937373.56851243426,null,null,0.96225390378565967,0.95706345521927494,3.4458895045508955,0.2777406106479347,null,null,null,null,null,null,null,null,null,null,null,null,-100,null,null,null,null,-50]
[130.8127826502994,1000000,1.8082260986672035E-6,9.9999999999999995E-7,9.9999999999999995E-7,-1.8082260986672035E-18,1.4975767992827336E-4,1.4218947950214475E-4,-4.7005474323830858E-5,1.4439075964261627E-4,-4.6915029265728378E-5,6586.6904483162316,6264.3196211418535,2035.3846678496595,6264.3196471418378,2035.3846678496595,1.5182131361607778E-4,1.4839075915777709E-4,-4.6915028913475564E-5,6425.4777408652471,6126.5742825619946,1936.9697361096612,0.30621457699671639,null,null,9.9999999999999995E-7,4.1096047696981895E-7,924939.77243768156,855513.5826370701,-351582.269974689,861640.15691963211,-349645.30023857934,929879.34485900623,null,null,0.96226463529024953,0.95715303034840993,3.4140452580209835,0.280357452233437,null,null,null,null,null,null,null,null,null,null,null,null,-100,null,null,null,null,-50]
[138.59131548843615,1000000,1.9157488177951921E-6,9.9999999999999995E-7,9.9999999999999995E-7,-1.9157488177951921E-18,1.488623747291711E-4,1.4049444190745173E-4,-4.9206893857688519E-5,1.4269562087542188E-4,-4.9111068498998491E-5,6626.4502237308125,6265.7422477231621,2156.4592861167662,6265.7422737231464,2156.4592861167662,1.5091036113252471E-4,1.4669562040871845E-4,-4.9111068134586126E-5,6464.2035147045199,6129.8124972834003,2052.1515118690691,0.32305387887076942,null,null,9.9999999999999995E-7,4.3539745858981634E-7,916863.79899353988,840639.22590486624,-366012.18254988932,846769.03840214969,-363960.03103802027,921674.94735926169,null,null,0.96227668236144182,0.95725359271255839,3.3793812785866102,0.28326297443208875,null,null,null,null,null,null,null,null,null,null,null,null,-100,null,null,null,null,-50]
[146.8323839587039,1000000,2.0296651705164562E-6,9.9999999999999995E-7,9.9999999999999995E-7,-2.0296651705164561E-18,1.4787630740504051E-4,1.3863933052969527E-4,-5.1444516928706265E-5,1.4084039594732553E-4,-5.1342990932150928E-5,6670.8009019882074,6267.3391249730066,2284.7417723999538,6267.3391509729909,2284.7417723999538,1.4990703680574629E-4,1.4484039550012798E-4,-5.1342990556130444E-5,6507.3995075404982,6133.4473590675798,2174.183029159512,0.34066012086479092,null,null,9.9999999999999995E-7,4.6128753875373998E-7,908046.05900625838,824547.64527679724,-380353.55387492565,830681.09263586486,-378179.37084576616,912716.11917179031,null,null,0.96229020646070718,0.9573664924312546,3.3418049509666852,0.28648185830065181,null,null,null,null,null,null,null,null,null,null,null,null,-100,null,null,null,null,-50]
[155.5634918610406,1000000,2.1503553420686518E-6,9.9999999999999995E-7,9.9999999999999995E-7,-2.1503553420686519E-18,1.4679249021109454E-4,1.3661454305625301E-4,-5.370755820092253E-5,1.3881548103299372E-4,-5.3599992103880466E-5,6720.2393625513705,6269.1316005741164,2420.6623194216609,6269.1316265741007,2420.6623194216609,1.4880422295124099E-4,1.4281548060667771E-4,-5.3599991716974247E-5,6555.5492042119686,6137.5274652317694,2303.4717238051494,0.35904189366238581,null,null,9.9999999999999995E-7,4.8871712319742077E-7,898445.24461201264,807203.85756593919,-394494.34710348642,813341.38503117091,-392190.8753796813,902960.62557317759,null,null,0.96230538891448092,0.95749324616000298,3.3012579161244804,0.29003890955725581,null,null,null,null,null,null,null,null,null,null,null,null,-100,null,null,null,null,-50]
[164.81377845643513,1000000,2.2782221246800945E-6,9.9999999999999995E-7,9.9999999999999995E-7,-2.2782221246800943E-18,1.4560388237668876E-4,1.3441111017046368E-4,-5.5983426350198455E-5,1.3661190511861024E-4,-5.5869460412895292E-5,6775.3088979529184,6271.1436387378071,2564.6770020800536,6271.1436647377914,2564.6770020800536,1.4759474608607603E-4,1.4061190471453366E-4,-5.5869460016008992E-5,6609.1811638596109,6142.1073704515247,2440.4492837511998,0.37820334616512691,null,null,9.9999999999999995E-7,5.1777775560911233E-7,888023.19513935922,788585.19510551647,-408311.8724283083,794727.30247596803,-405871.42314455711,892369.37275217869,null,null,0.9623224333707614,0.95763555779665821,3.2577274937079475,0.29395815323603902,null,null,null,null,null,null,null,null,null,null,null,null,-100,null,null,null,null,-50]
[174.61411571650211,1000000,2.4136922618513812E-6,9.9999999999999995E-7,9.9999999999999995E-7,-2.4136922618513814E-18,1.4430350608923701E-4,1.3202100185355858E-4,-5.8257677084047373E-5,1.3422163628142925E-4,-5.813693006651202E-5,6836.6020269594137,6273.4021412199108,2717.2693737579657,6273.4021672198951,2717.2693737579657,1.4627149460606976E-4,1.3822163590090526E-4,-5.8136929660744092E-5,6668.8717273853435,6147.2483178893572,2585.5730959549464,0.39814350440333907,null,null,9.9999999999999995E-7,5.4856642314804113E-7,876746.1148271868,768683.74986456661,-421674.09519522887,774830.99818245601,-419088.52209927392,880907.63709924475,null,null,0.96234156856274933,0.95779534180498327,3.2112603913851077,0.29826150018057518,null,null,null,null,null,null,null,null,null,null,null,null,-100]
[184.9972113558174,1000000,2.5572178725721507E-6,9.9999999999999995E-7,9.9999999999999995E-7,-2.5572178725721508E-18,1.4288458446599657E-4,1.2943746839065004E-4,-6.051401700961504E-5,1.31637922670699E-4,-6.0386084872649952E-5,6904.7631878137099,6275.9373078050621,2878.9521684612769,6275.9373338050464,2878.9521684612769,1.4482755879916733E-4,1.3563792231496553E-4,-6.0386084459297067E-5,6735.2476007761325,6153.0190602734656,2739.3277802541411,0.4188555815910055,null,null,9.9999999999999995E-7,5.8118588013003424E-7,864585.86907980661,747508.72501248447,-434441.51625126053,753661.74407275789,-431702.1884710064,868546.37412716635,null,null,0.96236305141872958,0.95797474949718087,3.1619791218257505,0.30296681685362903,null,null,null,null,null,null,null,null,null,null,null,null,-100]
[195.99771799087486,1000000,2.709277960226185E-6,9.9999999999999995E-7,9.9999999999999995E-7,-2.709277960226185E-18,1.4134070104477697E-4,1.2665540851339598E-4,-6.2734370692099818E-5,1.2885566062226044E-4,-6.2598825217134507E-5,6980.4912552614642,6278.7830411343894,3050.2691171673646,6278.7830671343736,3050.2691171673646,1.4325639272107338E-4,1.3285566029244624E-4,-6.2598824797691679E-5,6808.9882579680034,6159.4967820517613,2902.2268155745764,0.44032630017339641,null,null,9.9999999999999995E-7,6.1574499096049653E-7,851521.31672507664,725088.55283720826,-446469.64441230631,731248.04961926001,-443567.41759673174,855263.56406981649,null,null,0.96238717056261891,0.95817619866465598,3.1101016709430205,0.30808516892443755,null,null,null,null,null,null,null,null,null,null,null,null,-100]
[207.65234878997279,1000000,2.8703800112206738E-6,9.9999999999999995E-7,9.9999999999999995E-7,-2.8703800112206738E-18,1.3966597897171332E-4,1.2367175322468564E-4,-6.489902261559515E-5,1.2587177845181565E-4,-6.4755409937872804E-5,7064.5418247979969,6281.9774013598117,3231.7968876655664,6281.9774273597959,3231.7968876655664,1.4155199608517142E-4,1.2987177814890435E-4,-6.4755409514027383E-5,6890.8281063933391,6166.768135137735,3074.8142641971513,0.46253525115069666,null,null,9.9999999999999995E-7,6.5235909345924394E-7,837539.62412357714,701472.62197706278,-457612.04375943565,707639.39011220052,-454537.22949523851,841045.539454062,null,null,0.96241425025556471,0.95840240700099111,3.0559651258271954,0.31361693198038987,null,null,null,null,null,null,null,null,null,null,null,null,-100]
[220.00000000000026,1000000,3.0410616886749238E-6,9.9999999999999995E-7,9.9999999999999995E-7,-3.0410616886749236E-18,1.3785527644460469E-4,1.2048584972454054E-4,-6.6986843930534693E-5,1.2268562034567192E-4,-6.6834682979616361E-5,7157.7292108776655,6285.5631167942665,3424.1471582055224,6285.5631427942508,3424.1471582055224,1.3970911267367685E-4,1.2668562007046502E-4,-6.6834682553234585E-5,6981.5583612614028,6174.9304023350396,3257.666600193676,0.4854543199528713,null,null,9.9999999999999995E-7,6.9115038378975526E-7,822637.4969959599,676732.45146377792,-467723.89355217206,682907.38186611293,-464466.2269519784,825888.22983878129,null,null,0.96244465483580266,0.95865642982443111,3.0000541769560169,0.31954637259155261,null,null,null,null,null,null,null,null,null,null,null,null,-100]
[233.08188075904525,1000000,3.2218926268210389E-6,9.9999999999999995E-7,9.9999999999999995E-7,-3.2218926268210389E-18,1.3590439315527971E-4,1.170998258602567E-4,-6.8975610634501767E-5,1.1929931077155771E-4,-6.881439147555409E-5,7260.9281134915718,6289.5881575007443,3627.9688364591366,6289.5881835007285,3627.9688364591366,1.3772343993326614E-4,1.2329931052463834E-4,-6.8814391048659866E-5,7082.0285817215536,6184.0928042995884,3451.3946485632528,0.50904721121033014,null,null,9.9999999999999995E-7,7.3224832427750876E-7,806822.25896991009,650962.15756930865,-476665.94904819794,657146.2503736082,-473214.55439963471,809798.25195892947,null,null,0.96247879372181622,0.95894170268060064,2.9430356389287287,0.32583421348905495,null,null,null,null,null,null,null,null,null,null,null,null,-100]
[246.94165062806238,1000000,3.413476332105216E-6,9.9999999999999995E-7,9.9999999999999995E-7,-3.4134763321052158E-18,1.3381028058508898E-4,1.1351891214624995E-4,-7.0842415087235888E-5,1.1571807645449606E-4,-7.0671597155990375E-5,7375.0749201494164,6294.1063796371309,3843.9504366768424,6294.1064056371151,3843.9504366768424,1.3559184249901452E-4,1.19718076236195E-4,-7.06715967307356E-5,7193.1478339340265,6194.3779679006311,3656.6456420628197,0.5332691063728715,null,null,9.9999999999999995E-7,7.7579007547845815E-7,790112.70357513323,624278.08435080631,-484308.74217805936,630472.46231870691,-480652.09653599653,792793.77119567618,null,null,0.9625171270528422,0.95926208949160174,2.8858003350874779,0.33240764367106618]
[261.62556530059896,1000000,3.6164521973344096E-6,9.9999999999999995E-7,9.9999999999999995E-7,-3.6164521973344093E-18,1.3157124721543601E-4,1.097516962148529E-4,-7.2564166582329167E-5,{"$f":"H181+H78*$AF$43+BT78","v":1.1195050077845989E-4},{"$f":"I181+D78+I78*$AF$43+BU78","v":-7.2383176805952869E-5},7501.1686281997318,6299.1782493610144,4072.8226295119889,{"$f":"M181+E181+X78","v":6299.1782753609987},{"$f":"N181+F181+Y78","v":4072.8226295119889},1.3331256056955051E-4,1.1595050058882668E-4,-7.2383176384579822E-5,7315.8854630051628,6205.9235761059417,3874.1054032308798,0.55806648773105805,null,null,9.9999999999999995E-7,8.2192095393963843E-7,772539.64997313404,596817.51078061236,-490536.81778868142,603023.43435671832,-486662.71238545055,774905.06386894593,null,null,{"$f":"AT78","v":0.9625601720511322},{"$f":"AJ181*AB181/AG181","v":0.95962193701733733},2.8295137507555443,0.33914729580695502]
[277.18263097687247,1000000,3.8314976355903867E-6,9.9999999999999995E-7,9.9999999999999995E-7,-3.8314976355903866E-18,1.2918714823375162E-4,1.0581028416399745E-4,-7.4118169391205378E-5,1.080086850791644E-4,-7.3926400186596233E-5,7640.2713954619521,6304.8716562157115,4315.3609808406372,6304.8716822156957,4315.3609808406372,1.3088540255071831E-4,1.1200868491794467E-4,-7.3926399771392432E-5,7451.2714775918112,6218.8842220787792,4104.5006596604253,0.58337715951311764,null,null,9.9999999999999995E-7,8.7079491717963322E-7,754146.14283474768,568736.4047525276,-495252.77047351963,574955.28897460643,-491148.26981385919,756174.72006211674,null,null,0.96260851020235794,0.96002613651164814,2.7756765656511488,0.34587103857557505]
[293.66476791740797,1000000,4.0593303410329149E-6,9.9999999999999995E-7,9.9999999999999995E-7,-4.0593303410329152E-18,1.2665954838053312E-4,1.0171034518239028E-4,-7.5482758818419104E-5,1.0390829320796997E-4,-7.5279565958620459E-5,7793.5087546591858,6311.2628271835147,4572.388898066406,6311.2628531834989,4572.388898066406,1.2831191043450834E-4,1.0790829307459214E-4,-7.5279565551867811E-5,7600.3965770740533,6233.433493077574,4348.601501192963,0.60913049104771688,null,null,9.9999999999999995E-7,9.225750775074805E-7,734987.25346966926,540206.26276288775,-498380.83473849762,546439.69625596527,-494032.23323730467,736657.44353922748,null,null,0.96266279536440635,0.96048019359305103,2.7261951779447191,0.35231527124817158]
[311.12698372208138,1000000,4.3007106841373053E-6,9.9999999999999995E-7,9.9999999999999995E-7,-4.3007106841373054E-18,1.2399184642290716E-4,9.7471020389153801E-5,-7.66379681597768E-5,9.9668460303173014E-5,-7.6422668498282061E-5,7962.0695578844716,6318.4373540263323,4844.7808049317709,6318.4373800263165,4844.7808049317709,1.2559548621606396E-4,1.0366846019674526E-4,-7.642266810220196E-5,7764.4118802943876,6249.7663130431856,4607.223988391188,0.63524789842953544,null,null,9.9999999999999995E-7,9.7743424639484195E-7,715129.4616778132,511410.14695959887,-499869.7915921309,517659.91327264206,-495262.56760373974,716419.42790441425,null,null,0.96272376293087603,0.96099030751166759,2.6834601295568006,0.35811611170477292]
[329.62755691287043,1000000,4.5564442493601915E-6,9.9999999999999995E-7,9.9999999999999995E-7,-4.5564442493601917E-18,1.2118935053532419E-4,9.3114684051321151E-5,-7.7566193004403118E-5,9.5311553931316204E-5,-7.7338062046076485E-5,8147.2057495034724,6326.4913481623898,5133.465568830562,6326.4913741623741,5133.465568830562,1.2274146845780168E-4,9.9311553850635207E-5,-7.7338061662773734E-5,7944.5284451753023,6268.1015765005986,4881.2329224152199,0.66164356995789608,null,null,9.9999999999999995E-7,1.0355555112182253E-6,694649.62404711905,482538.1001888038,-499694.98902328796,488806.20176530437,-494813.75610087276,695537.31467900227,null,null,0.96279224019430898,0.96156346118557268,2.6504263757260027,0.36279576372770661]
[349.22823143300445,1000000,4.827384523702765E-6,9.9999999999999995E-7,9.9999999999999995E-7,-4.827384523702765E-18,1.182592957105229E-4,8.8666554879156045E-5,-7.8252815079142752E-5,9.0862785297665734E-5,-7.8011084385296923E-5,8350.2320972668931,6335.5327391801684,5439.4302081194573,6335.5327651801526,5439.4302081194573,1.1975714997968477E-4,9.4862785241237553E-5,-7.8011084016705318E-5,8142.0166978468733,6288.6851106607501,5171.5447872923905,0.68822542746318505,null,null,9.9999999999999995E-7,1.0971328462960829E-6,673633.56205347937,453782.17592485878,-497859.33027087018,460070.86103551951,-492687.78548357781,674096.76689528499,null,null,0.96286915807597662,0.96220752360753026,2.6306833275376942,0.36576334123353094]
[369.99442271163502,1000000,5.1144357451443048E-6,9.9999999999999995E-7,9.9999999999999995E-7,-5.1144357451443048E-18,1.1521079718225473E-4,8.4154166171929821E-5,-7.8686746681241412E-5,8.634967929759968E-5,-7.8430601095067322E-5,8572.526039554823,6345.6827352023083,5763.7239110666014,6345.6827612022926,5763.7239110666014,1.1665173055652104E-4,9.0349679263672096E-5,-7.8430600742899754E-5,8358.20591583243,6311.7930074635306,5479.1308765524745,0.71489630146800753,null,null,9.9999999999999995E-7,1.1623717602600691E-6,652174.32941422053,425331.35594688822,-494393.15690578648,431643.14895435172,-488914.026029234,652190.7181855191,null,null,0.96295556441456953,0.96293136649504107,2.6284952362992873,0.36634320397352976]
[391.99543598174995,1000000,5.4185559204523735E-6,9.9999999999999995E-7,9.9999999999999995E-7,-5.4185559204523731E-18,1.120547375413031E-4,7.9606715062555063E-5,-7.8860859254762706E-5,8.1801423656352077E-5,-7.8589433931773952E-5,8815.5278292948733,6357.0774657240418,6107.4624029834167,6357.077491724026,6107.4624029834167,1.1343620226006947E-4,8.5801423642957588E-5,-7.8589433597480338E-5,8594.4839300462681,6337.7353728503977,5805.0206173229381,0.74155528419816286,null,null,9.9999999999999995E-7,1.2314899819209937E-6,630370.23983503529,397366.6392696799,-489353.03541022417,403704.37464253028,-483548.01479290123,629917.3792773718,null,null,0.96305263903602734,0.96374499738256703,2.6487864423245595,0.3638439785039031]
[415.30469757994587,1000000,5.7407600224413509E-6,9.9999999999999995E-7,9.9999999999999995E-7,-5.7407600224413507E-18,1.0880358945649824E-4,7.5054321638439505E-5,-7.8772265944378468E-5,7.7248127933459253E-5,-7.848464317078714E-5,9080.7411703401667,6369.8698303141764,6471.8327039227561,6369.8698563141606,6471.8327039227561,1.1012316937936572E-4,8.1248127938465966E-5,-7.8484642855522154E-5,8852.2972229834031,6366.8605469092372,6150.3051062732056,0.76809921213872934,null,null,9.9999999999999995E-7,1.3047181869184887E-6,608322.75119840063,370056.56962559122,-482819.5365791769,376423.43017250043,-476669.23147290369,607378.09889376152,null,null,0.96316171086192348,0.96465971174730769,2.6970462311212704,0.35767266449350404]
[440.0000000000008,1000000,6.0821233773498519E-6,9.9999999999999995E-7,9.9999999999999995E-7,-6.0821233773498519E-18,1.0547118025631707E-4,7.0527236941947749E-5,-7.8422437567286091E-5,7.2720031394221094E-5,-7.8117643347233882E-5,9369.7345488974042,6384.2315797409356,6858.098326288432,6384.2316057409198,6858.098326288432,1.0672660926418207E-4,7.6720031415389357E-5,-7.811764305183678E-5,9133.1516044059263,6399.5598558313613,6516.1408733002572,0.79442422043888794,null,null,9.9999999999999995E-7,1.3823007675795116E-6,586134.30887583224,343553.42804134946,-474894.1672861299,349952.98789718084,-468378.02641282964,584675.18278488761,null,null,0.96328427735526845,0.96568826723455659,2.7791395868529096,0.34747742495658501]
[466.16376151809078,1000000,6.4437852536420813E-6,9.9999999999999995E-7,9.9999999999999995E-7,-6.4437852536420809E-18,1.0207240861994111E-4,6.6055043653359292E-5,-7.7817143416017428E-5,6.8246703549942707E-5,-7.7494143806310054E-5,9684.1434609198714,6400.3556597458555,7267.6049700321701,6400.3556857458398,7267.6049700321701,1.0326158449232634E-4,7.2246703584983676E-5,-7.7494143531296793E-5,9438.6136409138417,6436.2729650279871,6903.753890608692,0.82042730606205749,null,null,9.9999999999999995E-7,1.4644966485550184E-6,563906.24881109828,317990.25744820427,-465695.66630604264,324426.53041323228,-458791.91241543397,561909.77259145363,null,null,0.96342202665159915,0.96684508362535693,2.9010321592925137,0.33327623774468784]
[493.88330125612504,1000000,6.8269526642104363E-6,9.9999999999999995E-7,9.9999999999999995E-7,-6.8269526642104362E-18,9.8622926828348463E-5,6.1665893953843175E-5,-7.6966221286114481E-5,6.385628186332041E-5,-7.6623918454507044E-5,10025.673727306765,6418.4588519268091,7701.7867831128315,6418.4588779267933,7701.7867831128315,9.9743920013679874E-5,6.7856281909953981E-5,-7.6623918200075436E-5,9770.3130029609729,6477.4939124738594,7314.4438469163424,0.8460078357813362,null,null,9.9999999999999995E-7,1.5515801509569171E-6,541736.8510313438,293478.81576535635,-455355.90526786895,299956.3096778302,-448041.46142095263,539179.87617099122,null,null,0.96357686278129118,0.9681464728929412,3.0684570495692922,0.31551573225665203]
[523.25113060119827,1000000,7.2329043946688243E-6,9.9999999999999995E-7,9.9999999999999995E-7,-7.2329043946688248E-18,9.513880408945791E-5,5.7385825556248099E-5,-7.5883193585932554E-5,5.9574787605600702E-5,-7.5520421566041497E-5,10396.106074424655,6438.7847511204591,8162.1732669325165,6438.7847771204433,8162.1732669325165,9.6189861020285801E-5,6.3574787661609328E-5,-7.5520421332087771E-5,10129.945874079,6523.7779126287332,7749.5887089875714,0.87106893902428417,null,null,9.9999999999999995E-7,1.6438419078792779E-6,519719.61793727253,270108.48126886453,-444015.64118338446,276632.25918149325,-436266.05247439689,516578.62456885504,null,null,0.96375093445801863,0.96961090455737242,3.2865445428868783,0.29502442212624719]
[554.36526195374529,1000000,7.6629952711807785E-6,9.9999999999999995E-7,9.9999999999999995E-7,-7.6629952711807778E-18,9.1636187179225192E-5,5.3238189676729612E-5,-7.4584756892347344E-5,5.5425553637380304E-5,-7.4200277004870052E-5,10797.302140884669,6461.6071244375935,8650.3969210071518,6461.6071504375777,8650.3969210071518,9.2615728031947262E-5,5.9425553700656174E-5,-7.4200276791015415E-5,10519.279545036068,6575.749034442736,8210.64959565561,0.89551873371446211,null,null,9.9999999999999995E-7,1.7415898343592675E-6,497941.83133710723,247946.06739535212,-431820.35044510313,254521.81642979485,-423609.70084944752,494192.81023956696,null,null,0.9639466679904114,0.97125931261073239,3.5593880725583529,0.27287255359953716]
[587.32953583481628,1000000,8.1186606820658333E-6,9.9999999999999995E-7,9.9999999999999995E-7,-8.1186606820658334E-18,8.8130974012204575E-5,4.924321479935484E-5,-7.3090179754632423E-5,5.1428787964088214E-5,-7.2682675660680406E-5,11231.212056197684,6487.2337038828318,9168.2017387537271,6487.2337298828161,9168.2017387537271,8.9037585049516138E-5,5.5428788032672305E-5,-7.2682675466305467E-5,10940.158293583339,6634.1088723659459,8699.1759930613971,0.91927134470471517,null,null,9.9999999999999995E-7,1.8451501550149621E-6,476483.4201613717,227036.44968867829,-418916.34033711138,233670.55856104422,-410217.16434404999,472101.73888760858,null,null,0.9641668049719645,0.97311545160072732,3.889442501171771,0.25019407056604054]
[622.2539674441631,1000000,8.6014213682746156E-6,9.9999999999999995E-7,9.9999999999999995E-7,-8.6014213682746154E-18,8.4638513920626377E-5,4.5417718765307698E-5,-7.1420647300675467E-5,4.760128559678098E-5,-7.0988719648610064E-5,11699.883726590229,6516.0104725143065,9717.4526877065273,6516.0104985142907,9717.4526877065273,8.5470934765759704E-5,5.1601285668892326E-5,-7.0988719472894109E-5,11394.510631642401,6699.646347442721,9216.8113441585137,0.94224768789302682,null,null,9.9999999999999995E-7,1.9548684927896852E-6,455416.14940188191,207403.86913603722,-405447.28905671422,214103.51548347995,-396230.47771255573,450376.40569939371,null,null,0.96441444552139932,0.97520631109627853,4.2765878644039841,0.22803373671177696]
[659.2551138257412,1000000,9.112888498720388E-6,9.9999999999999995E-7,9.9999999999999995E-7,-9.112888498720388E-18,8.1173345666097854E-5,4.1774970375620308E-5,-6.9598591197982259E-5,4.3956289906359156E-5,-6.9140751820116883E-5,12205.473961448364,6548.3265136671262,10300.146333620612,6548.3265396671104,10300.146333620612,8.1930452026335901E-5,4.7956289980414606E-5,-6.9140751662080091E-5,11884.357989341364,6773.2487970950197,9765.2990507957693,0.96437600727344341,null,null,9.9999999999999995E-7,2.0711110224364514E-6,434803.12188980018,189053.75480511642,-391551.31540987489,195827.00360221145,-381786.01635907911,429078.98763182934,null,null,0.96469309798594627,0.97756259980211901,4.7167087446085008,0.20725523934873771]
[698.45646286600925,1000000,9.6547690474055352E-6,9.9999999999999995E-7,9.9999999999999995E-7,-9.6547690474055347E-18,7.7748980898191517E-5,3.8324691554684599E-5,-6.764704020092554E-5,4.0503494517903645E-5,-6.7161705810756171E-5,12750.261583749314,6584.6195042650916,10918.422799932476,6584.6195302650758,10918.422799932476,7.8429763372184235E-5,4.4503494592527799E-5,-6.7161705669301479E-5,12411.824901834825,6855.9145378758285,10346.488933118804,0.98559216568896513,null,null,9.9999999999999995E-7,2.1942656925921666E-6,414698.56929405814,171974.90337453873,-377358.63046160317,178830.81791241455,-367012.14152848435,408262.62805276137,null,null,0.96500673618821398,0.98021931315413768,5.199820125077375,0.18851023488808696]
[739.98884542327039,1000000,1.0228871490288615E-5,9.9999999999999995E-7,9.9999999999999995E-7,-1.0228871490288614E-17,7.4377737292998568E-5,3.5073183082598813E-5,-6.5589020676335872E-5,3.7249168753003903E-5,-6.5074506010513473E-5,13336.662692173721,6625.3819471859997,11574.579293379102,6625.381973185984,11574.579293379102,7.498127695906612E-5,4.1249168827030817E-5,-6.5074505884467042E-5,12979.150772377834,6948.7671163188706,10962.344198905708,1.0058397018371499,null,null,9.9999999999999995E-7,2.3247435205201395E-6,395147.8977789483,156141.86111912219,-362989.7799186348,163090.62823544105,-352027.43571972911,387971.47900024668,null,null,0.9653598654992086,0.98321640146114453,5.7081992691199632,0.17224633463308081]
[783.99087196350035,1000000,1.0837111840904752E-5,9.9999999999999995E-7,9.9999999999999995E-7,-1.0837111840904752E-17,7.1070622298080723E-5,3.2023551463323087E-5,-6.344702913070355E-5,3.4196384187381109E-5,-6.2901539472700317E-5,13967.248283725541,6671.1682546998436,12271.085475079994,6671.1682806998278,12271.085475079994,7.1596063791325423E-5,3.8196384259848541E-5,-6.2901539360848098E-5,13588.703305153909,7053.0715003411296,11614.948985104347,1.0250696753808404,null,null,9.9999999999999995E-7,2.4629799638419887E-6,376187.94713870302,141517.37157243161,-348554.45071848086,148570.44307277273,-336939.50173337653,368240.95967610128,null,null,0.96575759926261395,0.98659955975501279,6.2156303860749915,0.1587288011792517]
[830.60939515989219,1000000,1.1481520044882709E-5,9.9999999999999995E-7,9.9999999999999995E-7,-1.1481520044882709E-17,6.7837265546410471E-5,2.9176011743802087E-5,-6.1242590862403351E-5,3.1345317139976707E-5,-6.0664213876691477E-5,14644.764505822835,6722.6028160590349,13010.60101642209,6722.6028420590192,13010.60101642209,6.8283788297682566E-5,3.5345317210114737E-5,-6.0664213777811514E-5,14242.993734960879,7170.252509183435,12306.516545663259,1.0432403284510121,null,null,9.9999999999999995E-7,2.6094363738369787E-6,357847.4195241814,128054.77566011547,-334150.78945103951,135225.02816929889,-321844.27290537627,349098.18711270619,null,null,0.96620574738696541,0.99042116572273131,6.6893366293471059,0.14805969868187044]
[880.00000000000205,1000000,1.2164246754699709E-5,9.9999999999999995E-7,9.9999999999999995E-7,-1.2164246754699708E-17,6.4685895751414294E-5,2.6528240792092399E-5,-5.8995911295950017E-5,2.8693601603450736E-5,-5.8382608092460037E-5,15372.155888343672,6780.389208583877,13795.995753683686,6780.3892345838613,13795.995753683686,6.5052683990294565E-5,3.2693601670666048E-5,-5.8382608005349299E-5,14944.694028957896,7301.9158358503264,13039.398174199912,1.0603165953530824,null,null,9.9999999999999995E-7,2.7646015351590244E-6,340147.43441220064,115700.27713720233,-319865.16379183414,123002.19297305265,-306825.76561763423,330562.53557084699,null,null,0.96671091927275554,0.99474139875241052,7.0955989308588503,0.14019132259945916]
[932.32752303618201,1000000,1.2887570507284169E-5,9.9999999999999995E-7,9.9999999999999995E-7,-1.2887570507284169E-17,6.1623356330002969E-5,2.407575720767444E-5,-5.672561996357227E-5,2.6236708792324584E-5,-5.6075215302207263E-5,16152.592011999752,6845.3207446660599,14630.372948382506,6845.3207706660442,14630.372948382506,6.1909568357508606E-5,3.0236708856182235E-5,-5.6075215225703403E-5,15696.656299317687,7449.8720853902241,13816.092967631374,1.0762694931327985,null,null,9.9999999999999995E-7,2.928993297110038E-6,323102.1694344189,104395.01189322793,-305772.29008698731,111844.88397861815,-291956.19711935596,312646.28433516808,null,null,0.96728064366260536,0.99962958166572979,7.407887960701494,0.13494123925317431]
[987.76660251225053,1000000,1.3653905328420879E-5,9.9999999999999995E-7,9.9999999999999995E-7,-1.3653905328420879E-17,5.8655153107316911E-5,2.1812307091511282E-5,-5.4448601868077334E-5,2.39683325408367E-5,-5.3758773402141533E-5,16989.498203752381,6918.2925891935329,15517.09627686879,6918.2926151935171,15517.09627686879,5.885989023242364E-5,2.7968332601040307E-5,-5.3758773335139154E-5,16501.934746306,7616.1643390555964,14639.258558131934,1.0910754242370089,null,null,9.9999999999999995E-7,3.1031603019138356E-6,306719.55126846291,94076.883130327231,-291935.64905781893,101693.04746938283,-277296.390499687,295355.31836715766,null,null,0.96792350850834441,1.0051657977014021,7.6138146262370263,0.13201868538243949]
[1046.502261202397,1000000,1.4465808789337654E-5,9.9999999999999995E-7,9.9999999999999995E-7,-1.4465808789337653E-17,5.5785527159858519E-5,1.9730238756791003E-5,-5.2179907235480354E-5,2.1880763637760448E-5,-5.1448173681098243E-5,17886.591018531726,7000.3157359554134,16459.821319235358,7000.3157619553976,16459.821319235358,5.5907802576524077E-5,2.5880763694132228E-5,-5.1448173622560562E-5,17363.810551271486,7803.0998635931301,15511.722966171097,1.1047154193222706,null,null,9.9999999999999995E-7,3.2876838157585571E-6,291001.96626913262,84682.144372501396,-278408.11553720245,92485.244236094528,-262896.39257103135,278689.85203676124,null,null,0.96864932455552955,1.0114428495004706,7.7171055996502158,0.13106505236190044]
[1108.730523907491,1000000,1.5325990542361564E-5,9.9999999999999995E-7,9.9999999999999995E-7,-1.5325990542361565E-17,5.3017546038801439E-5,1.7820853591770569E-5,-4.9932728397686306E-5,1.9965240318129955E-5,-4.9156436503774947E-5,18847.919477354331,7092.5332016850352,17462.532502699261,7092.5332276850195,17462.532502699261,5.3056253804691729E-5,2.3965240370591275E-5,-4.9156436452741131E-5,18285.820261587771,8013.2867235543754,16436.497757283974,1.1171743438324495,null,null,9.9999999999999995E-7,3.4831796687185362E-6,275946.966282674,76146.728200611222,-265232.73550780542,84160.014924165604,-248796.23775052145,262645.15230791864,null,null,0.9694693170727301,1.0185686451837472,7.7339558892054479,0.13170086043617071]
[1174.659071669633,1000000,1.6237321364131673E-5,9.9999999999999995E-7,9.9999999999999995E-7,-1.6237321364131673E-17,5.0353207153568168E-5,1.6074724283921943E-5,-4.7718431552661478E-5,1.82122661322784E-5,-4.6894741732999879E-5,19877.913296280753,7196.238888136857,18529.586689381984,7196.2389141368412,18529.586689381984,5.030709132399656E-5,2.2212266180831551E-5,-4.689474168858881E-5,19271.788359417737,8249.6762318240744,17416.792719679073,1.1284400867431659,null,null,9.9999999999999995E-7,3.6903003100299254E-6,261547.95069185999,68407.330511111621,-252443.5929934748,76657.0067429357,-235026.80027379573,247212.24389120608,null,null,0.97039635102198407,1.026669120322188,7.6865444975130686,0.13356705612702302]
[1244.5079348883266,1000000,1.7202842736549238E-5,9.9999999999999995E-7,9.9999999999999995E-7,-1.7202842736549237E-17,4.7793547861240066E-5,1.4481975196823851E-5,-4.5546631176885335E-5,1.6611889998016285E-5,-4.46725016526497E-5,20981.439673931425,7312.8996836947026,19665.76489758386,7312.8997096946869,19665.76489758386,4.7661171736015325E-5,2.061189004272787E-5,-4.4672501614060796E-5,20325.864889621738,8515.612401898421,18456.032318236536,1.1385027442193849,null,null,9.9999999999999995E-7,3.9097369855793721E-6,247794.81087801457,61402.268298071001,-240066.71936343599,69917.880699969421,-221610.68704519945,232378.58475819256,null,null,0.97144519600365964,1.0358918351816668,7.5971728618024352,0.13635227919980494]
[1318.5102276514829,1000000,1.8225776997440783E-5,9.9999999999999995E-7,9.9999999999999995E-7,-1.8225776997440782E-17,4.5338757689154011E-5,1.3032522695365513E-5,-4.3425295635039776E-5,1.5153946249613567E-5,-4.2497464923347254E-5,22163.87062849788,7444.1815371950843,20876.334028705205,7444.1815631950685,20876.334028705205,4.5118473048665822E-5,1.9153946290599744E-5,-4.2497464889859047E-5,21452.569247580606,8814.8898613806323,19557.874221243219,1.147353805100805,null,null,9.9999999999999995E-7,4.1422220448729046E-6,234674.52777824501,55072.133987942289,-228121.00746304891,63887.023849322919,-208563.13324180568,218128.70596041033,null,null,0.97263283854263394,1.0464104258154527,7.4847891883824449,0.13980492963511174]
[1396.9129257320189,1000000,1.9309538094811077E-5,9.9999999999999995E-7,9.9999999999999995E-7,-1.9309538094811076E-17,4.2988289026962834E-5,1.1716275578572497E-5,-4.1360873782267214E-5,1.3828254865241156E-5,-4.0375841354492659E-5,23431.163416922227,7591.9804528737141,22167.120964926813,7591.9804788736983,22167.120964926813,4.2678205168346675E-5,1.782825490265482E-5,-4.0375841325459656E-5,22656.841505955777,9151.8220719481869,20726.230235848547,1.1549853392455576,null,null,9.9999999999999995E-7,4.3885313851843349E-6,222171.71698293503,49360.271827145385,-216619.10209465763,58512.093899093568,-195892.87185880909,204444.81499306395,null,null,0.97397885074593615,1.058430137162597,7.3638209233889445,0.14373382353729089]
[1479.9776908465412,1000000,2.0457742980577236E-5,9.9999999999999995E-7,9.9999999999999995E-7,-2.0457742980577235E-17,4.0740963494904567E-5,1.0523297515166551E-5,-3.9358433859853166E-5,1.262478379507215E-5,-3.8312438783684613E-5,24789.957268077655,7758.4596475783519,23544.602040595513,7758.4596735783362,23544.602040595513,4.0338915830220843E-5,1.6624783829092035E-5,-3.8312438758532953E-5,23944.103004177956,9531.3222065968184,21965.29002013673,1.1613891838375885,null,null,9.9999999999999995E-7,4.6494870410402798E-6,210269.11885529899,44213.102344183848,-205568.24639347044,53744.424550780663,-183602.9563733337,191307.36723744549,null,null,0.97550582609124503,1.0721947275340882,7.2444378389483246,0.14800247463918315]
[1567.9817439270012,1000000,2.1674223681809511E-5,9.9999999999999995E-7,9.9999999999999995E-7,-2.1674223681809511E-17,3.8595071983709567E-5,9.4439345462517671E-6,-3.7421807568767114E-5,1.1533776486662271E-5,-3.6310804941350929E-5,26247.69057160935,7946.0945092349903,25016.011720361337,7946.0945352349745,25016.011720361337,3.8098589930108588E-5,1.5533776517483864E-5,-3.6310804919573312E-5,25320.328352960729,9958.9997005322402,23279.547952366815,1.1665561167010183,null,null,9.9999999999999995E-7,4.925959927683979E-6,198948.03350687449,39580.320036252451,-194971.0704234869,49539.319736784688,-171691.52247112009,178695.6157504557,null,null,0.97723989514062914,1.0879951060142146,7.1334110010933776,0.15252101776379512]
[1661.2187903197848,{"$f":"1/($O$7*1000+0.000001)","v":1000000},2.2963040089765424E-5,9.9999999999999995E-7,9.9999999999999995E-7,-2.2963040089765425E-17,3.6548467044166582E-5,8.4689114103858854E-6,-3.5553733739251164E-5,{"$f":"H213+H110*$AF$43+BT110","v":1.0545848400447478E-5},{"$f":"I213+D110+I110*$AF$43+BU110","v":-3.4373368716852268E-5},27812.743857992002,8157.727541079782,26589.47540429822,{"$f":"M213+E213+X110","v":8157.7275670797662},{"$f":"N213+F213+Y110","v":26589.47540429822},3.595474092134415E-5,1.4545848428275613E-5,-3.4373368698002472E-5,26792.131539797909,10441.276371877686,24673.833511878587,1.1704749992707886,null,null,9.9999999999999995E-7,5.2188727476739592E-6,188188.70220538464,35414.987637746941,-184826.31384184767,45856.264009624625,-160152.48032996908,166588.15655610553,null,null,{"$f":"AT110","v":0.97921133635678803},{"$f":"AJ213*AB213/AG213","v":1.1061801413939141},7.0350591544319707,0.15723821464913182]
[{"$f":"A111","v":1760.0000000000045},1000000,{"$f":"2*PI()*$E$8*0.000000001*A214","v":2.4328493509399424E-5},{"$f":"1/(B214^2+C214^2)^0.5","v":9.9999999999999995E-7},{"$f":"B214*D214^2","v":9.9999999999999995E-7},{"$f":"-C214*D214^2","v":-2.4328493509399423E-17},{"$f":"1/(B111^2+C111^2)^0.5","v":3.4598646871483851E-5},{"$f":"B111*G214^2","v":7.5894007562406348E-6},{"$f":"-C111*G214^2","v":-3.3755997415256654E-5},9.6520566234164507E-6,-3.2501576649450025E-5,{"$f":"1/(J214^2+K214^2)^0.5","v":29494.615485482856},{"$f":"J214*L214^2","v":8396.6362296686748},{"$f":"-K214*L214^2","v":28274.172714035343},8396.6362556686599,28274.172714035343,{"$f":"1/(O214^2+P214^2)^0.5","v":3.3904493524970449E-5},{"$f":"O214*Q214^2+1/($H$16*$H$15*1000/100)+H111*$V$42","v":1.3652056648459382E-5},{"$f":"-P214*Q214^2+I111*$V$42","v":-3.2501576633137269E-5},{"$f":"1/(R214^2+S214^2)^0.5","v":28366.869486668729},{"$f":"R214*T214^2","v":10985.52717547668},{"$f":"-S214*T214^2","v":26153.34542941994},{"$f":"ATAN(V214/U214)","v":1.1731318648535543},null,null,{"$f":"1/($L$15*1000)","v":9.9999999999999995E-7},{"$f":"2*PI()*$L$14*0.000000001*$A111","v":5.5292030703180506E-6},{"$f":"1/(Z214^2+AA214^2)^0.5","v":177970.63801370742},{"$f":"Z214*AB214^2","v":31673.54799500608},{"$f":"-AA214*AB214^2","v":-175129.47882185376},{"$f":"U214+AC214","v":42659.075170482756},{"$f":"V214+AD214","v":-148976.13339243381},{"$f":"(AE214^2+AF214^2)^0.5","v":154963.49574968012},null,null,0.98145529997242231,1.1271701446396103,{"$f":"AK214/AM214","v":6.95205880714619},0.16213472525303796]
[1864.6550460723645,1000000,2.5775141014568345E-5,9.9999999999999995E-7,9.9999999999999995E-7,-2.5775141014568345E-17,3.2742830582634198E-5,6.7970693319299612E-6,-3.2029561393500576E-5,8.843946717659987E-6,-3.0696021697153228E-5,31304.139059732071,8666.6178233827777,30080.539519338203,8666.6178493827629,30080.539519338203,3.1944657473631098E-5,1.2843946740124762E-5,-3.0696021683036577E-5,30052.767240415029,11600.252206092884,27723.689645528786,1.1745089197894227,null,null,9.9999999999999995E-7,5.8579865942200777E-6,168272.90925288771,28315.771988430577,-165873.41271321874,39916.024194523459,-138149.72306768995,143800.67792321846,null,null,0.98401266606598181,1.1514735288593352,6.8860591384346863,0.16721807142671213]
[1975.5332050245017,1000000,2.7307810656841765E-5,9.9999999999999995E-7,9.9999999999999995E-7,-2.7307810656841763E-17,3.0978024832369431E-5,6.0841050627444486E-6,-3.0374688279888318E-5,8.113580766832251E-6,-2.895656237048476E-5,33253.754456551287,8972.0964796494445,32020.519518216228,8972.0965056494297,32020.519518216228,3.0071792377478092E-5,1.2113580786921202E-5,-2.8956562358267817E-5,31859.070008644558,12295.288639337299,29390.920691449908,1.1745834155974928,null,null,9.9999999999999995E-7,6.2063206038276737E-6,159074.37983585149,25304.658320160754,-157048.82230523307,37599.946959498055,-127657.90161378316,133080.03552671379,null,null,0.98693106165579148,1.1797069782275424,6.8381136446281081,0.17251935834004423]
[2093.0045224047949,1000000,2.8931617578675321E-5,9.9999999999999995E-7,9.9999999999999995E-7,-2.8931617578675318E-17,2.9301082068093108E-5,5.4432286216895494E-6,-2.8791051952527671E-5,7.4535502780213142E-6,-2.728243115828833E-5,35357.848193113561,9318.2603223604947,34107.879638171384,9318.2603483604798,34107.879638171384,2.8282264077398574E-5,1.1453550295929468E-5,-2.7282431147714082E-5,33796.228536154922,13082.074069399559,31161.585346556996,1.1733263385242405,null,null,9.9999999999999995E-7,6.5753676315171176E-6,150353.91071049936,22606.298465940814,-148644.7232013623,35688.372535340372,-117483.1378548053,122784.15050173383,null,null,0.99026606573799958,1.2126188520195544,6.8089576206553302,0.1780917020750741]
[2217.461047814983,1000000,3.0651981084723134E-5,9.9999999999999995E-7,9.9999999999999995E-7,-3.0651981084723136E-17,2.7708750899611523E-5,4.8676927164820204E-6,-2.7277837964813674E-5,6.856977214753758E-6,-2.5672331833077696E-5,37633.184229913764,9711.238929818639,36358.60824798722,9711.2389558186242,36358.60824798722,2.6572293051589338E-5,1.0856977230667063E-5,-2.5672331823923913E-5,35876.1259025947,13973.976414642044,33042.766121223183,1.1707008483020849,null,null,9.9999999999999995E-7,6.9663593374370759E-6,142090.52664897966,20189.7177633844,-140648.82886117211,34163.694178026446,-107606.06273994892,112899.1706713718,null,null,0.9940826357008713,1.2511139311243828,6.799150541517327,0.18401032944994611]
[2349.318143339267,1000000,3.247464272826336E-5,9.9999999999999995E-7,9.9999999999999995E-7,-3.2474642728263358E-17,2.6197719171393383E-5,4.3512719052254406E-6,-2.5833832905513424E-5,6.3175060204301431E-6,-2.4124525725217782E-5,40099.453727212662,10158.336081050958,38791.421697139274,10158.336107050944,38791.421697139274,2.4937995580650908E-5,1.0317506034524264E-5,-2.4124525717292634E-5,38112.355770336624,14986.710541906159,35042.119934413648,1.1666603793064347,null,null,9.9999999999999995E-7,7.3806006200598541E-6,134263.5524805474,18026.701524696706,-133047.88445081041,33013.412066602861,-98005.764516396768,103416.70684528074,null,null,0.99845679326751169,1.2962736887666528,6.809075401087723,0.19037440656914714]
[2489.0158697766542,1000000,3.440568547309849E-5,9.9999999999999995E-7,9.9999999999999995E-7,-3.4405685473098486E-17,2.4764650385902932E-5,3.888245341386255E-6,-2.4457503079856504E-5,5.829289069684369E-6,-2.2636907422157375E-5,42779.982794231822,10668.338896795436,41428.413837098473,10668.338922795421,41428.413837098473,2.3375418467519163E-5,9.8292890821240362E-6,-2.2636907415295611E-5,40520.564480023946,16138.868445476352,37167.90377569585,1.161146293263702,null,null,9.9999999999999995E-7,7.8194739711587458E-6,126852.7226339047,16091.613239634358,-125827.95088127433,32230.48168511071,-88660.047105578473,94336.673157461148,null,null,1.003477612635141,1.3493571800276132,6.8387400063616699,0.19731078806510952]
[2637.0204553029671,1000000,3.6451553994881586E-5,9.9999999999999995E-7,9.9999999999999995E-7,-3.6451553994881583E-17,2.3406214148870101E-5,3.4733744573627428E-6,-2.3147063110937145E-5,5.3869675771663249E-6,-2.1207070604402582E-5,45702.652343459187,11251.933884396154,44295.896142738478,11251.933910396139,44295.896142738478,2.1880568163634285E-5,9.386967588105048E-6,-2.1207070598462012E-5,43118.872221146463,17452.598787021398,39428.973321693469,1.1540849413036289,null,null,9.9999999999999995E-7,8.2844440897458125E-6,119838.26756683827,14361.210373421121,-118974.64439968487,31813.809160442521,-79545.671077991399,85671.653658284515,null,null,1.0092495569245639,1.411747214858893,6.8872420287076972,0.20498004992047439]
[2793.8258514640393,1000000,3.8619076189622175E-5,9.9999999999999995E-7,9.9999999999999995E-7,-3.8619076189622176E-17,2.2119111301302535E-5,3.1018772373746569E-6,-2.1900535207242457E-5,4.985649610472776E-6,-1.9832364895119921E-5,48901.106117110001,11922.274550025242,47425.494715718822,11922.274576025227,47425.494715718822,2.0449435182008763E-5,8.9856496200528862E-6,-1.9832364889978309E-5,45928.391787510744,18954.483611795909,41834.731064000465,1.1453839518574429,null,null,9.9999999999999995E-7,8.777062770368675E-6,113200.98034332487,12814.461950689825,-112473.33690970561,31768.945562485736,-70638.60584570514,77453.718683979736,null,null,1.015895209706092,1.4847619406633281,6.9516089031543906,0.21358536726506527]
[2959.9553816930838,1000000,4.0915485961154486E-5,9.9999999999999995E-7,9.9999999999999995E-7,-4.0915485961154488E-17,2.0900094377105882E-5,2.7694004111220549E-6,-2.0715799920225382E-5,4.6208865022357899E-6,-1.850994469314097E-5,52416.355481148436,12695.767009427836,50855.597744677463,12695.767035427822,50855.597744677463,1.9078014690271768E-5,8.6208865105886865E-6,-1.8509944688693288E-5,48973.86703392068,20676.676044595999,44394.985302429966,1.1349275060923654,null,null,9.9999999999999995E-7,9.2989740820805647E-6,106922.26629096284,11432.371028795567,-106309.32189349871,32109.047073391564,-61914.336591068743,69745.078532276588,null,null,1.0235584428978031,1.5691600138529496,7.0244648281759234,0.22338499120372432]
[3135.9634878540037,1000000,4.3348447363619042E-5,9.9999999999999995E-7,9.9999999999999995E-7,-4.334844736361904E-17,1.9745983986144835E-5,2.4719906219040996E-6,-1.9590639242921767E-5,4.2886486379815249E-6,-1.7236810994049991E-5,56298.93868015537,13593.174192852162,54633.287580692711,13593.174218852148,54633.287580692711,1.7762324181094767E-5,8.2886486452281152E-6,-1.7236810990206016E-5,52284.45668977125,22658.38381959945,47119.65676899907,1.1225702893419227,null,null,9.9999999999999995E-7,9.8519198553679632E-6,100984.17834873589,10197.804276769299,-100467.95043545979,32856.188096368751,-53348.293666460719,62654.365636776631,null,null,1.0324080444053876,1.6640002181062221,7.0896268355445757,0.23470914008669475]
[3322.437580639571,1000000,4.5926080179530869E-5,9.9999999999999995E-7,9.9999999999999995E-7,-4.5926080179530868E-17,1.865368167572122E-5,2.2060653859749329E-6,-1.8522772891010161E-5,3.9853013116831016E-6,-1.6009847191841012E-5,60611.867862867337,14641.194083832568,58816.953012080077,14641.194109832553,58816.953012080077,1.6498419124103788E-5,7.9853013179343443E-6,-1.6009847188523204E-5,55894.691718411974,24947.810632417048,50018.229746217243,1.1081297087774373,null,null,9.9999999999999995E-7,1.0437745495347922E-5,95369.440406298585,9095.3301634105374,-94934.741441840422,34043.140795827581,-44916.51169562318,56359.812438896515,null,null,1.0426417865697917,1.7643096991706619,7.1146784263384513,0.24798165053239923]
[3520.0000000000105,1000000,4.8656987018798869E-5,9.9999999999999995E-7,9.9999999999999995E-7,-4.8656987018798871E-17,1.7620179772746139E-5,1.9683844613194766E-6,-1.7509888572927248E-5,3.707581089856121E-6,-1.482584980225377E-5,65434.716229857215,15874.757694170064,63479.87205589917,15874.75772017005,63479.87205589917,1.5282407527998307E-5,7.7075810952136677E-6,-1.482584979939543E-5,59845.633882329726,27604.70088149951,53098.779496526964,1.091375835960823,null,null,9.9999999999999995E-7,1.1058406140636104E-5,90061.460647253945,8111.0666939168705,-89695.469735119317,35715.767575416379,-36596.690238592353,51136.42331959329,null,null,1.0544908275189466,1.8571690783289452,7.0415450137936704,0.26374454394467972]
[3729.3100921447308,1000000,5.1550282029136718E-5,9.9999999999999995E-7,9.9999999999999995E-7,-5.1550282029136715E-17,1.6642568657251124E-5,1.756022080181753E-6,-1.6549667004663013E-5,3.4525729080329828E-6,-1.3681554964165549E-5,70869.389610482467,17340.445178375943,68715.204611338369,17340.445204375927,68715.204611338369,1.4110464410749217E-5,7.4525729125898615E-6,-1.3681554961709249E-5,64186.255287109154,30703.671569177935,56366.30127970082,1.0720183581191935,null,null,9.9999999999999995E-7,1.1715973188440161E-5,85044.336643708797,7232.5391951684715,-84736.235294936385,37936.210764346404,-28369.934015235565,47370.974691109448,null,null,1.0682241603716709,1.9177653763295175,6.784315141591545,0.2826763403976581]
[3951.0664100490053,1000000,5.4615621313683558E-5,9.9999999999999995E-7,9.9999999999999995E-7,-5.4615621313683558E-17,1.571804186736185E-5,1.5663403665138475E-6,-1.563980236449199E-5,3.2176879420971075E-6,-1.257366146211022E-5,77048.444585146601,19101.684812067109,74643.073692947903,19101.684838067093,74643.073692947903,1.2978847338199482E-5,7.2176879459384356E-6,-1.2573661460006402E-5,68975.034681946869,34338.550330385719,59819.891094713144,1.0496895950327128,null,null,9.9999999999999995E-7,1.2412641207655352E-5,80302.853709238771,6448.5483138474019,-80043.516530018707,40787.09864423312,-20223.625435305563,45525.624010681517,null,null,1.0841524828428766,1.9123414586873715,6.2582161533136507,0.30557293194080704]
[4186.0090448095916,1000000,5.7863235157350669E-5,9.9999999999999995E-7,9.9999999999999995E-7,-5.7863235157350672E-17,1.4843899387816823E-5,1.3969641528858858E-6,-1.4778018818203623E-5,3.0006421541230759E-6,-1.149885087603312E-5,84147.357050614242,21246.880046404418,81420.806842583304,21246.880072404401,81420.806842583304,1.1883914539591399E-5,7.0006421573267869E-6,-1.1498850874238916E-5,74281.708656762698,38627.948964649295,63448.040156908115,1.0239223580057848,null,null,9.9999999999999995E-7,1.315073526303424E-5,75822.477802415451,5749.0481400977842,-75604.210104865342,44376.997104747075,-12156.169947957227,46011.849993652162,null,null,1.1026302095700833,1.8170135432705801,5.4532579239518011,0.33319780003250765]
[4434.9220956299678,1000000,6.1303962169446296E-5,9.9999999999999995E-7,9.9999999999999995E-7,-6.1303962169446296E-17,1.4017549429400667E-5,1.245757327316081E-6,-1.3962083679993088E-5,2.7994353117785903E-6,-1.0453805309916398E-5,92403.099298923786,23902.510232190878,89258.068344810046,23902.510258190861,89258.068344810046,1.0822147823118112E-5,6.7994353144161639E-6,-1.0453805308394632E-5,80188.989892582118,43722.232796865552,67220.833520935543,0.99412111747568777,null,null,9.9999999999999995E-7,1.3932718674874157E-5,71589.344082452182,5125.0341861557308,-71405.659514820436,48847.266983021284,-4184.8259938848933,49026.199733506328,null,null,1.124053129431166,1.6413718927271566,4.4876875891964403,0.36575003497983211]
[4698.6362866785366,1000000,6.4949285456526761E-5,9.9999999999999995E-7,9.9999999999999995E-7,-6.4949285456526754E-17,1.3236508965738712E-5,1.1108007752645157E-6,-1.3189817710558135E-5,2.6123302256699343E-6,-9.4352229871427856E-6,102143.12660536951,27255.01154933295,98439.741254059947,27255.011575332934,98439.741254059947,9.790183962114108E-6,6.6123302278071104E-6,-9.4352229858610943E-6,86793.802554794485,49811.769098901132,71077.083656818737,0.9595246985454553,null,null,9.9999999999999995E-7,1.4761201240119717E-5,67590.242050924047,4568.4408205025011,-67435.674305015054,54380.209919403635,3641.4093518036825,54501.99164201074,null,null,1.1488469456090622,1.424734047210986,3.5494819593094098,0.4013921083538014]
[4978.0317395533111,1000000,6.881137094619702E-5,9.9999999999999995E-7,9.9999999999999995E-7,-6.8811370946197021E-17,1.2498403256947196E-5,9.9037193239052106E-7,-1.2459102993747236E-5,2.4378319425511713E-6,-8.439831838032536E-6,113832.19142290032,31588.860257093205,109361.3812632122,31588.860283093189,109361.3812632122,8.7848611841398682E-6,6.4378319442486502E-6,-8.4398318369626385E-6,94207.057359783852,57135.56315814246,74903.251458074359,0.91915879881571461,null,null,9.9999999999999995E-7,1.5638947942317502E-5,63812.598067176114,4072.0476720829683,-63682.541562340717,61207.610830225429,11220.709895733642,62227.614080153704,null,null,1.177437792458303,1.2074280158398005,2.7869954009543036,0.43323645795266164]
[5274.0409106059369,1000000,7.2903107989763199E-5,9.9999999999999995E-7,9.9999999999999995E-7,-7.2903107989763202E-17,1.180096455663271E-5,8.8292592672015543E-7,-1.1767888777296752E-5,2.2746666734972665E-6,-7.464401056560129E-6,128151.01498498701,37356.128894456924,122585.48966212552,37356.128920456911,122585.48966212552,7.8032936380410992E-6,6.2746666748113884E-6,-7.46440105567722E-6,102549.95825273362,65987.494046349428,78499.32845012375,0.87177766859050454,null,null,9.9999999999999995E-7,1.6568888179491635E-5,60244.455898040113,3629.3944664508999,-60135.03107389067,69616.888512800331,18364.29737623308,71998.323482747786,null,null,1.2101884225531012,1.0126227879221246,2.2660224496765724,0.44687235471416248]
[5587.6517029280812,1000000,7.723815237924439E-5,9.9999999999999995E-7,9.9999999999999995E-7,-7.7238152379244388E-17,1.1142030169536588E-5,7.8707826213479489E-7,-1.1114195612285146E-5,2.1217603202015208E-6,-6.5057504824108086E-6,146134.72499866638,45310.950910758824,138932.62963752847,45310.950936758811,138932.62963752847,6.8430005253984643E-6,6.1217603211849157E-6,-6.5057504816930177E-6,111942.8975472992,76713.0783035692,81524.940530340682,0.81579781005095231,null,null,9.9999999999999995E-7,1.7554125540737357E-5,56874.455852878316,3234.7037285610045,-56782.395338251088,79947.782032130199,24742.545192089594,83688.956227447343,null,null,1.247271141668544,0.8476371397273007,1.9824045853537771,0.4275802961664521]
[5919.9107633861713,1000000,8.1830971922309027E-5,9.9999999999999995E-7,9.9999999999999995E-7,-8.1830971922309024E-17,1.0519540001488582E-5,7.0158897648410264E-7,-1.0496118080080575E-5,1.9782165797951086E-6,-5.5607575838929821E-6,169429.80565450864,56787.593228296471,159629.659836329,56787.593254296458,159629.659836329,5.9021492475043499E-6,5.9782165804973339E-6,-5.5607575833209638E-6,122479.6022540055,89680.739223322249,83418.33120278694,0.74923576262135494,null,null,9.9999999999999995E-7,1.859794816416114E-5,53691.812960847084,2882.8107790225868,-53614.365435347063,92563.55000234484,29803.965767439877,97243.442784093786,null,null,1.2884290752111534,0.71139082429596956,1.8831542016635179,0.37776557207452782]
[6271.926975708011,1000000,8.6696894727238138E-5,9.9999999999999995E-7,9.9999999999999995E-7,-8.6696894727238142E-17,9.9315337209878937E-6,6.2534819540409855E-7,-9.9118263546949044E-6,1.8432947445375112E-6,-4.6263617862095834E-6,200800.95027821045,74323.527269814513,186539.63366214023,74323.527295814492,186539.63366214023,4.980056113113861E-6,5.8432947450056534E-6,-4.6263617857661414E-6,134174.02780186391,105194.90546780304,83286.863311060792,0.66968314093209469,null,null,9.9999999999999995E-7,1.9703839710735937E-5,50686.29456680116,2569.1004569125366,-50621.143603783079,107764.00592471557,32665.719707277713,112606.08428027575,null,null,1.3325538815311153,0.59980967278205199,1.8970517986621416,0.31617991306566112]
[6644.8751612791457,1000000,9.1852160359061778E-5,9.9999999999999995E-7,9.9999999999999995E-7,-9.1852160359061772E-17,9.3761476323634668E-6,5.5736299564736787E-7,-9.3595668123561177E-6,1.7163874494646932E-6,-3.6995659122814798E-6,245198.41535518912,103193.09746244,222426.27436704328,103193.09748843998,222426.27436704328,4.0783297824612588E-6,5.7163874497439538E-6,-3.6995659119512856E-6,146862.23876504684,123294.00088922353,79794.150912267825,0.57439446689254492,null,null,9.9999999999999995E-7,2.0875490990695857E-5,47848.197653749114,2289.4500187122421,-47793.393239275872,125583.45090793578,32000.757672991953,129596.4954525834,null,null,1.3770020322190422,0.50840159818471031,1.965923272374638,0.2586070399230852]
[7040.0000000000255,1000000,9.7313974037597806E-5,9.9999999999999995E-7,9.9999999999999995E-7,-9.7313974037597803E-17,8.851611343771239E-6,4.9674548823667931E-7,-8.8376618684523218E-6,1.5969987395497971E-6,-2.7774345769462687E-6,312126.10235633905,155583.93512767254,270585.18603639043,155583.93515367253,270585.18603639043,3.2038332981739132E-6,5.5969987396840542E-6,-2.7774345767156204E-6,160044.99772486099,143363.77177567559,71142.323823464976,0.46063220883324091,null,null,9.9999999999999995E-7,2.2116812281272223E-5,45168.326141676283,2040.1776864408371,-45122.226911452257,145403.94946211643,26020.096912012719,147713.75684915824,null,null,1.4166561173163994,0.43318907393907091,2.0546616862756037,0.21083231211864079]
[7458.6201842894661,1000000,1.0310056405827349E-4,9.9999999999999995E-7,9.9999999999999995E-7,-1.0310056405827349E-16,8.35624429896478E-6,4.4270203109044202E-7,-8.3445091944133999E-6,1.4847229109069356E-6,-1.8570894900186853E-6,420584.68924176262,262634.83432452369,328503.30991318793,262634.83435052366,328503.30991318793,2.3776424238462289E-6,5.4847229109392897E-6,-1.857089489875308E-6,172693.886028938,163571.86914423568,55384.310923192541,0.32647687703440414,null,null,9.9999999999999995E-7,2.3431946376880335E-5,42637.968363476801,1817.9963461648485,-42599.192896699111,165389.86549040052,12785.11802649343,165883.29285942012,null,null,1.4430723005396799,0.37092144745863376,2.1456087784917712,0.17287468767692513]
[7902.1328200980151,1000000,1.0923124262736718E-4,9.9999999999999995E-7,9.9999999999999995E-7,-1.0923124262736718E-16,7.88845222954388E-6,3.945234821832255E-7,-7.8785804431891049E-6,1.3792246156251055E-6,-9.3570176345469675E-7,599997.78032064496,496517.18790814711,336850.14249883685,496517.18793414708,336850.14249883685,1.6666728324056964E-6,5.3792246155984103E-6,-9.3570176338758855E-7,183150.19772564273,180440.68321651476,31387.175204203981,0.17222409500315583,null,null,9.9999999999999995E-7,2.4825282415310718E-5,40248.874877439608,1619.9719288997892,-40216.260639812928,182060.65514541455,-8829.0854356089476,182274.61398013396,null,null,1.4447715855384398,0.31902649251614651,2.2309684716812033,0.14299910400604449]
[8372.0180896191869,1000000,1.1572647031470138E-4,9.9999999999999995E-7,9.9999999999999995E-7,-1.1572647031470137E-16,7.4467235739820958E-6,3.5157640719948634E-7,-7.438419591364913E-6,1.2802207015576641E-6,-1.0481463158707649E-8,781089.1396217458,781062.96243903984,6394.7432309718079,781062.9624650398,6394.7432309718079,1.2802636078783269E-6,5.2802207015150539E-6,-1.0481463158009885E-8,189385.65002061048,189385.27689465281,375.93784704325674,1.9850400169831367E-3,null,null,9.9999999999999995E-7,2.6301470526068491E-5,37993.236741112836,1443.4860380662462,-37965.805484990757,190828.76293271905,-37589.8676379475,194495.79664216476,null,null,1.4103025845354602,0.27549160905230075,2.3078619855431213,0.11937092026214377]
[8869.8441912599392,1000000,1.2260792433889265E-4,9.9999999999999995E-7,9.9999999999999995E-7,-1.2260792433889264E-16,7.0296259009199904E-6,3.1329515954565216E-7,-7.0226409882529566E-6,1.187464189371323E-6,9.213352231180198E-7,665347.65902312321,525675.56208101963,-407863.59337204194,525675.56210701959,-407863.59337204194,1.5029736505533755E-6,5.1874641893567316E-6,9.2133522306112915E-7,189802.04257391224,186877.4396353146,-33190.931300259435,-0.17577505985660152,null,null,9.9999999999999995E-7,2.7865437349748324E-5,35863.664342462391,1286.2024200688084,-35840.592955522057,188163.64205538342,-69031.524255781493,200426.81340734579,null,null,1.334237354483899,0.23874370809425743,2.3757072223704627,0.10049374175662974]
[9397.2725733570769,1000000,1.2989857091305358E-4,9.9999999999999995E-7,9.9999999999999995E-7,-1.2989857091305358E-16,6.635802366771871E-6,2.7917475514242178E-7,-6.6299271871526865E-6,1.1007306792640404E-6,1.8625007308057535E-6,462224.63320279337,235172.88349568326,-397926.2826300654,235172.88352168325,-397926.2826300654,2.16345025370521E-6,5.1007306793227299E-6,1.8625007306991476E-6,184157.49561643382,172986.09452402548,-63164.818475491229,-0.35010183867474026,null,null,9.9999999999999995E-7,2.9522402480239444E-5,33853.16686020077,1146.0369064645956,-33833.762809856322,174132.13143049009,-96998.581285347551,199325.67312791309,null,null,1.2220327452353388,0.20754816870244816,2.4349292536140106,8.5237864054734908E-2]
[9956.0634791066259,1000000,1.3762274189239407E-4,9.9999999999999995E-7,9.9999999999999995E-7,-1.3762274189239407E-16,6.2639682314393206E-6,2.4876446934840987E-7,-6.259026621070632E-6,1.0198073441822651E-6,2.815772248726179E-6,333916.70611451683,113708.89276050658,-313959.6380580602,113708.89278650656,-313959.6380580602,2.9947588175793003E-6,5.0198073443613673E-6,2.815772248576859E-6,173743.54947814235,151532.02568474857,-84999.212803063085,-0.51119779447986968,null,null,9.9999999999999995E-7,3.127789588463501E-5,31955.132405260309,1021.1304870377174,-31938.813058192365,152553.15617178628,-116938.02586125545,192215.93937626781,null,null,1.0883240743197322,0.18092953169009282,2.4863445047889727,7.2769292968694665E-2]
[10548.081821211877,1000000,1.4580621597952645E-4,9.9999999999999995E-7,9.9999999999999995E-7,-1.4580621597952645E-16,5.9129074506860834E-6,2.2166208845920286E-7,-5.9087511742261487E-6,{"$f":"H245+H142*$AF$43+BT142","v":9.4448452268897828E-7},{"$f":"I245+D142+I142*$AF$43+BU142","v":3.7839286971387945E-6},256408.84541843453,62095.603416835431,-248776.26905537784,{"$f":"M245+E245+X142","v":62095.603442835418},{"$f":"N245+F245+Y142","v":-248776.26905537784},3.9000214612079387E-6,4.944484523038056E-6,3.7839286969529546E-6,160610.62058007499,127546.79266031811,-97609.359823649211,-0.65321053373102289,null,null,9.9999999999999995E-7,3.3137776358983277E-5,30163.308878989847,909.82520252934762,-30149.58408718419,128456.61786284746,-127758.9439108334,181172.43284223208,null,null,{"$f":"AT142","v":0.94967573506392056},{"$f":"AJ245*AB245/AG245","v":0.15811104417060853},2.5308731790117855,6.2472922579370482E-2]
[11175.303405856166,1000000,{"$f":"2*PI()*$E$8*0.000000001*A246","v":1.5447630475848881E-4},{"$f":"1/(B246^2+C246^2)^0.5","v":9.9999999999999995E-7},{"$f":"B246*D246^2","v":9.9999999999999995E-7},{"$f":"-C246*D246^2","v":-1.544763047584888E-16},{"$f":"1/(B143^2+C143^2)^0.5","v":5.5814693593587169E-6},{"$f":"B143*G246^2","v":1.9750875332797772E-7},{"$f":"-C143*G246^2","v":-5.5779736913882115E-6},8.7454978975428372E-7,4.7697880512614981E-6,{"$f":"1/(J246^2+K246^2)^0.5","v":206215.30856858613},{"$f":"J246*L246^2","v":37190.014222315673},{"$f":"-K246*L246^2","v":-202834.06107008053},37190.01424831566,-202834.06107008053,{"$f":"1/(O246^2+P246^2)^0.5","v":4.8493005049848999E-6},{"$f":"O246*Q246^2+1/($H$16*$H$15*1000/100)+H143*$V$42","v":4.8745497903259206E-6},{"$f":"-P246*Q246^2+I143*$V$42","v":4.7697880510445849E-6},{"$f":"1/(R246^2+S246^2)^0.5","v":146628.01724015942},{"$f":"R246*T246^2","v":104801.72586203634},{"$f":"-S246*T246^2","v":-102549.3719928068},{"$f":"ATAN(V246/U246)","v":-0.7745360782163756},null,null,9.9999999999999995E-7,3.5108251081474727E-5,{"$f":"1/(Z246^2+AA246^2)^0.5","v":28471.785570221284},{"$f":"Z246*AB246^2","v":810.64257355666086},{"$f":"-AA246*AB246^2","v":-28460.243009760095},{"$f":"U246+AC246","v":105612.368435593},-131009.61500256689,{"$f":"(AE246^2+AF246^2)^0.5","v":168278.01873594851},null,null,0.81839978543086267,{"$f":"AJ246*AB246/AG246","v":0.13846908453364665},{"$f":"AK246/AM246","v":2.2164656112850283},6.2472922579370482E-2]
[11839.821526772346,1000000,{"$f":"2*PI()*$E$8*0.000000001*A247","v":1.6366194384461811E-4},{"$f":"1/(B247^2+C247^2)^0.5","v":9.9999999999999995E-7},{"$f":"B247*D247^2","v":9.9999999999999995E-7},{"$f":"-C247*D247^2","v":-1.636619438446181E-16},{"$f":"1/(B144^2+C144^2)^0.5","v":5.2685654560067948E-6},{"$f":"B144*G247^2","v":1.7598433765320608E-7},{"$f":"-C144*G247^2","v":-5.265625459252571E-6},8.0978427129804514E-7,5.7762245792228512E-6,{"$f":"1/(J247^2+K247^2)^0.5","v":171446.85392808862},{"$f":"J247*L247^2","v":23802.818080107136},{"$f":"-K247*L247^2","v":-169786.48230434803},23802.818106107119,-169786.48230434803,{"$f":"1/(O247^2+P247^2)^0.5","v":5.8327112867196965E-6},{"$f":"O247*Q247^2+1/($H$16*$H$15*1000/100)+H144*$V$42","v":4.8097842721484787E-6},{"$f":"-P247*Q247^2+I144*$V$42","v":5.7762245789796214E-6},{"$f":"1/(R247^2+S247^2)^0.5","v":133039.43959529916},{"$f":"R247*T247^2","v":85130.740592980917},{"$f":"-S247*T247^2","v":-102236.24354367606},{"$f":"ATAN(V247/U247)","v":-0.87643990523420867},null,null,9.9999999999999995E-7,3.7195896328322293E-5,{"$f":"1/(Z247^2+AA247^2)^0.5","v":26874.975502416793},{"$f":"Z247*AB247^2","v":722.26430825550278},{"$f":"-AA247*AB247^2","v":-26865.268331519099},85853.004901236418,-129101.51187519515,{"$f":"(AE247^2+AF247^2)^0.5","v":155041.73250784088},null,null,0.70092699572353823,{"$f":"AJ247*AB247/AG247","v":0.12149887346040868},{"$f":"AK247/AM247","v":1.9448245486842242},6.2472922579370482E-2]
[12543.853951416026,1000000,{"$f":"2*PI()*$E$8*0.000000001*A248","v":1.7339378945447633E-4},{"$f":"1/(B248^2+C248^2)^0.5","v":9.9999999999999995E-7},{"$f":"B248*D248^2","v":9.9999999999999995E-7},{"$f":"-C248*D248^2","v":-1.7339378945447633E-16},{"$f":"1/(B145^2+C145^2)^0.5","v":4.9731662964541729E-6},{"$f":"B145*G248^2","v":1.5680330829727014E-7},{"$f":"-C145*G248^2","v":-4.9706936874740879E-6},7.4996088707987395E-7,6.8061856592756329E-6,{"$f":"1/(J248^2+K248^2)^0.5","v":146041.27250876962},{"$f":"J248*L248^2","v":15995.205754541304},{"$f":"-K248*L248^2","v":-145162.69034724659},15995.20578054129,-145162.69034724659,{"$f":"1/(O248^2+P248^2)^0.5","v":6.8473793935235129E-6},{"$f":"O248*Q248^2+1/($H$16*$H$15*1000/100)+H145*$V$42","v":4.7499608882696782E-6},{"$f":"-P248*Q248^2+I145*$V$42","v":6.8061856590102058E-6},{"$f":"1/(R248^2+S248^2)^0.5","v":120485.17060086454},{"$f":"R248*T248^2","v":68953.644817587337},{"$f":"-S248*T248^2","v":-98803.194285860242},{"$f":"ATAN(V248/U248)","v":-0.96148866651310871},null,null,9.9999999999999995E-7,3.9407679421471887E-5,{"$f":"1/(Z248^2+AA248^2)^0.5","v":25367.598533270186},{"$f":"Z248*AB248^2","v":643.51505534517162},{"$f":"-AA248*AB248^2","v":-25359.435003933264},69597.159872932505,-124162.62928979351,{"$f":"(AE248^2+AF248^2)^0.5","v":142338.05947297867},null,null,0.59919278964306699,{"$f":"AJ248*AB248/AG248","v":0.10678860023788021},{"$f":"AK248/AM248","v":1.7093581639662789},6.2472922579370482E-2]

{"sheet":"Tone","index":1,"n_rows":146,"n_cols":54,"rows_kept":146,"cut":false,"hidden":false,"merged":[[25,13,25,14],[41,11,41,14],[0,9,0,10],[36,11,36,13],[37,12,37,13]]}
["Tone Circuits",null,null,null,"Tone control Position",{"$f":"Main!E10","v":10},null,"Current Tone Type:",2,{"$f":"R3","v":"No-load"}]
[null,"Volume",{"$f":"Main!H13","v":10},null,null,null,"Type",1,2,3,4,5,6,7,8,null,1,{"$f":"HLOOKUP($I$1,$H$2:$O$22,Q2)","v":2}]
[null,2,{"$f":"Main!H15/100","v":1},null,null,null,null,"Standard","No-load","Gibson Varitone","Torres Mid-shaper","Fender Greasebucket","Std.w/ load resistor.","Fender TBX","'Custom'","units",2,{"$f":"HLOOKUP($I$1,$H$2:$O$25,Q3)","v":"No-load"}]
[null,null,null,"R1",null,null,"Tone pot",{"$f":"Main!$X$6","v":500},{"$f":"Main!$X$6","v":500},{"$f":"Main!$X$6","v":500},{"$f":"Main!$X$6","v":500},{"$f":"Main!$X$6","v":500},{"$f":"Main!$X$6","v":500},950,{"$f":"Main!$X$6","v":500},"k",3,{"$f":"HLOOKUP($I$1,$H$2:$O$25,Q4)","v":500}]
[null,null,null,null,null,null,"R1",1E-3,0,1,0,4.7,null,0.2,0,"k",4,0]
[null,"Bass",{"$f":"Main!E5","v":10},null,null,null,"L1",0,0,15,1.5,0,null,0,1.5,"H",5,0]
[null,1,null,"L1",null,null,"C1",{"$f":"Main!$E$16","v":22},{"$f":"Main!$E$16","v":22},4.7,{"$f":"Main!$E$16","v":22},{"$f":"Main!$E$16","v":22},{"$f":"Main!$E$16","v":22},1000000,33,"nF",6,22]
[null,null,{"$f":"Main!O8","v":0},null,null,null,"R2a(10)",{"$f":"H4","v":500},{"$f":"I4","v":500},500,500,500,500,950,500,"k",7,500]
[null,null,null,null,null,"     C4","R2a(5.1)",null,null,null,null,null,null,null,null,"k",8,0]
[null,null,"C1",null,"R5",null,"R2a(5)",{"$f":"IF($B$13=2,H4/10,H4/2)","v":50},{"$f":"IF($B$13=2,I4/10,I4/2)","v":50},{"$f":"IF($B$13=2,J4/10,J4/2)","v":50},{"$f":"IF($B$13=2,K4/10,K4/2)","v":50},{"$f":"IF($B$13=2,L4/10,L4/2)","v":50},{"$f":"M4/10","v":50},1,{"$f":"IF($B$13=2,O4/10,O4/2)","v":50},"k",9,50]
[null,null,null,null,null,"       R6","R2a",{"$f":"IF($F$1<5,H10*$F$1/5,($F$1-5)/5*(H8-H10)+H10)","v":500},{"$f":"(IF($F$1<5,I10*$F$1/5,($F$1-5)/5*(I8-I10)+I10))*IF($F$1<10,1,100000000)","v":50000000000},0,{"$f":"IF($F$1<5,K10*$F$1/5,($F$1-5)/5*(K8-K10)+K10)","v":500},{"$f":"IF($F$1<5,L10*$F$1/5,($F$1-5)/5*(L8-L10)+L10)","v":500},{"$f":"IF($F$1<5,M10*$F$1/5,($F$1-5)/5*(M8-M10)+M10)","v":500},{"$f":"IF($F$1<5,N10*$F$1/5,($F$1-5)/5*(N8-N10)+N10)","v":950},{"$f":"IF($F$1<5,O10*$F$1/5,($F$1-5)/5*(O8-O10)+O10)","v":500},"k",10,50000000000]
[null,"Tone/Treble",{"$f":"Main!E10","v":10},null,null,null,"R2b",{"$f":"H8-H11","v":0},9.9999999999999998E+23,{"$f":"IF($F$1<5,J10*$F$1/5,($F$1-5)/5*(J8-J10)+J10)","v":500},{"$f":"K8-K11","v":0},{"$f":"L8-L11","v":0},1,{"$f":"N8-N11","v":0},{"$f":"O8-O11","v":0},"k",11,9.9999999999999998E+23]
[null,2,null,"R2a","R2b",null,"R3(10)",null,null,null,null,null,null,100000,null,"k",12,0]
[null,null,{"$f":"R11/R4","v":100000000},null,null,null,"R3(5)",null,null,null,null,null,null,100000,null,"k",13,0]
[null,"Main tone cap",null,null,null,null,"R3(4.9)",null,null,null,null,null,null,230,null,"k",14,0]
[null,null,null,null,null,"R3 R7","R3(2.5)",null,null,null,null,null,null,25,null,"k",15,0]
[null,{"$f":"Main!E16","v":22},"nF",null,null,null,"R3",1,1,1,null,{"$f":"L8-L11","v":0},1,{"$f":"IF($F$1<2.5,N16*$F$1/2.5,N16)+IF($F$1>2.5,(N15-N16)*($F$1-2.5)/2.5,0)+IF($F$1>4.9,100000,0)","v":100640},null,"k",16,1]
[null,"Main Tone pot",null,"R4",null,"C3   C5","R4",9.9999999999999995E-7,9.9999999999999995E-7,9.9999999999999995E-7,9.9999999999999995E-7,100000,9.9999999999999995E-7,82,9.9999999999999995E-7,"k",17,9.9999999999999995E-7]
[null,null,null,null,null,null,"C2",1,1,1,null,100,1,1E-3,1.0000000000000001E-5,"nF",18,1]
[null,{"$f":"R4","v":500},"k","C2",null,null,"C3",1000000,1000000,1000000,100000,1000000,1000000,{"$f":"H7","v":22},1.0000000000000001E-5,"nF",19,1000000]
[null,null,null,null,null,null,"C4",1.0000000000000001E-9,1.0000000000000001E-9,{"$f":"Main!$E$16","v":22},10,1.0000000000000001E-9,1000000,1.0000000000000001E-9,1.8,"nF",20,1.0000000000000001E-9]
[null,null,null,null,null,null,"R5",1000000000000,1000000000000,100000000,220,1000000000000,1000000000000,1000000000000,240,"k",21,1000000000000]
[null,null,null,null,null,null,"R6",1000000000000,1000000000000,1000000000000,1000000000000,1000000000000,1.0000000000000001E-5,1000000000000,1100,"k",22,1000000000000]
[null,null,null,null,null,null,"R7",1000000000000,1000000000000,1000000000000,1000000000000,1000000000000,1000000000000,1000000000000,500,"k",23,1000000000000]
[null,null,null,null,null,null,"C5",1,1,1,1,1,1,1,15,"nF",24,1]
[null,null,null,null,null,null,null,null,null,null,null,null,null,{"$f":"R3","v":"No-load"}]
[null,null,null,null,null,null,null,null,null,null,null,null,null,null,null,{"$f":"H3","v":"Standard"}]
[null,null,null,null,null,null,null,null,null,null,null,null,null,null,null,{"$f":"I3","v":"No-load"}]
[null,null,null,null,null,null,null,null,null,null,null,null,null,null,null,{"$f":"J3","v":"Gibson Varitone"}]
[null,null,null,null,null,null,null,null,null,null,null,null,null,null,null,{"$f":"K3","v":"Torres Mid-shaper"}]
[null,null,null,null,null,null,null,null,null,null,null,null,null,null,null,{"$f":"L3","v":"Fender Greasebucket"}]
[null,null,null,null,null,null,null,null,null,null,null,null,null,null,null,{"$f":"M3","v":"Std.w/ load resistor."}]
[null,null,null,null,null,null,null,null,null,null,null,null,null,null,null,{"$f":"N3","v":"Fender TBX"}]
[null,null,null,null,null,null,null,null,null,null,"Strings",{"$f":"Main!J26","v":"range: from Hz"},{"$f":"Main!K26","v":400},{"$f":"Main!L26","v":"to Hz"},{"$f":"Main!M26","v":5000},{"$f":"O3","v":"'Custom'"}]
[null,null,null,null,null,null,null,null,null,null,null,{"$f":"Main!J27","v":"Max db"},{"$f":"Main!K27","v":-2.2169523040951571},{"$f":"Main!L27","v":"@ freq.(Hz)"},{"$f":"Main!M27","v":1108.730523907491}]
[null,null,null,null,null,null,null,null,null,null,null,{"$f":"Main!J28","v":"Min db"},{"$f":"Main!K28","v":-15.375527504699082},{"$f":"Main!L28","v":"@ freq.(Hz)"},{"$f":"Main!M28","v":4978.0317395533111}]
[null,null,null,null,null,null,null,null,null,null,null,{"$f":"Main!J29","v":"diff.max-min (all traces wrt. Reference) db"},null,null,{"$f":"Main!M29","v":43.819426735358128}]
[null,null,null,null,null,null,null,null,null,null,null,{"$f":"Main!K30","v":"Legend:"}]
[]
[null,null,null,null,null,null,null,null,null,null,null,null,null,null,null,null,null,null,null,null,null,null,null,null,{"$f":"R12","v":9.9999999999999998E+23}]
[null,null,null,null,null,null,null,null,null,null,null,null,null,null,null,null,null,null,null,null,null,null,null,null,9.9999999999999995E-8]
[null,null,null,null,null,null,null,null,null,null,null,{"$f":"Main!K34","v":"GuitarFreak"}]
[null,null,null,null,null,null,null,null,null,null,null,{"$f":"Main!K35","v":"ver 6.6.0"},null,{"$f":"Main!L35","v":"©J Hewitt"},{"$f":"Main!M35","v":"2019-12-01"}]
[]
["Freq.","1/R4 =A","1/C2=B","R3+C3 = C",null,"1/C = D",null,null,"A+B+D=E",null,"1/E=F",null,null,null,"!/R5=G","1/C1=H","1/(G+H)=J",null,null,"J+L1+R1+R2a=K",null,"1/K=L",null,null,"1/C4+1/R6=Q",null,"1/Q ",null,null,"R2b+1/Q==M",null,"1/M==N",null,null,"L+M=N",null,"1/N=P",null,null,"F+P=S",null,"1/S=T",null,null,"R7+C5=U",null,"1/U=V",null,null,"U+V",null,"Total=1/(U+V)"]
[null,null,"j",null,"j","mag",null,"j",null,null,"mag",null,null,"j",null,"j","mag",null,"j",null,"j","mag",null,"j",null,"j","mag",null,"j",null,"j","mag",null,"j",null,"j","mag",null,"j",null,"j","mag",null,"j",null,null,"mag",null,"j",null,null,"mag",null,"j"]
[{"$f":"Main!A46","v":41.203444614108754},{"$f":"1/$R$18/1000","v":1000},{"$f":"2*PI()*A47*$R$19/1000000000","v":2.5888887780455601E-7},{"$f":"$R$17*1000","v":1000},{"$f":"-1/(2*PI()*A47*$R$20/1000000000)","v":-3.8626611095859205},{"$f":"1/(D47^2+E47^2)^0.5","v":9.9999254000805423E-4},{"$f":"D47*F47^2","v":9.999850800717601E-4},{"$f":"-E47*F47^2","v":3.8626034789593506E-6},{"$f":"B47+G47","v":1000.0009999850801},{"$f":"C47+H47","v":4.1214923567639069E-6},{"$f":"1/(I47^2+J47^2)^0.5","v":9.9999900001591989E-4},{"$f":"I47*K47^2","v":9.9999900001591989E-4},null,{"$f":"-J47*K47^2","v":-4.1214841139145421E-12},{"$f":"1/$R$22/1000","v":1.0000000000000001E-15},{"$f":"2*PI()*A47*$R$7/1000000000","v":5.6955553117002315E-6},{"$f":"1/(O47^2+P47^2)^0.5","v":175575.50498117821},{"$f":"O47*Q47^2","v":3.0826757949395737E-5},{"$f":"-P47*Q47^2","v":-175575.50498117821},{"$f":"R47+$R$5*1000+$R$11*1000","v":50000000000000},{"$f":"S47+2*PI()*A47*$R$6","v":-175575.50498117821},{"$f":"1/(T47^2+U47^2)^0.5","v":2E-14},{"$f":"T47*V47^2","v":2E-14},{"$f":"-U47*V47^2","v":7.0230201992471281E-23},{"$f":"1/($R$23*1000)","v":1.0000000000000001E-15},{"$f":"2*PI()*A47*$R$21/1000000000","v":2.5888887780455603E-16},{"$f":"1/(Y47^2+Z47^2)^0.5","v":968083945134743.38},{"$f":"Y47*AA47^2","v":937186524827648.88},{"$f":"-Z47*AA47^2","v":-242627167706181.69},{"$f":"$R$12*1000+AB47","v":1.0000000000009372E+27},{"$f":"AC47","v":-242627167706181.69},{"$f":"1/(AD47^2+AE47^2)^0.5","v":9.9999999999906285E-28},{"$f":"AD47*AF47^2","v":9.9999999999906285E-28},{"$f":"-AE47*AF47^2","v":2.4262716770572695E-40},{"$f":"W47+AG47","v":2.0000000000001E-14},{"$f":"X47+AH47","v":7.0230201992471281E-23},{"$f":"1/(AI47^2+AJ47^2)^0.5","v":49999999999997.5},{"$f":"AI47*AK47^2","v":49999999999997.492},{"$f":"-AJ47*AK47^2","v":-175575.50498116063},{"$f":"L47+AL47","v":49999999999997.492},{"$f":"N47+AM47","v":-175575.50498116063},{"$f":"1/(AN47^2+AO47^2)^0.5","v":2.0000000000001003E-14},{"$f":"AN47*AP47^2","v":2.0000000000001003E-14},{"$f":"-AO47*AP47^2","v":7.0230201992471293E-23},{"$f":"$R$24*1000","v":1000000000000000},{"$f":"-1/(2*PI()*A47*$R$25/1000000000)","v":-3862661.1095859203},{"$f":"1/(AS47^2+AT47^2)^0.5","v":1.0000000000000001E-15},{"$f":"AS47*AU47^2","v":1.0000000000000001E-15},{"$f":"-AT47*AU47^2","v":3.8626611095859205E-24},{"$f":"AQ47+AV47","v":2.1000000000001002E-14},{"$f":"AR47+AW47","v":7.4092863102057215E-23},{"$f":"1/(AX47^2+AY47^2)^0.5","v":47619047619045.344},{"$f":"AX47*AZ47^2","v":47619047619045.344},{"$f":"-AY47*AZ47^2","v":-168011.02744229056}]
[{"$f":"Main!A47","v":43.6535289291255},1000,{"$f":"2*PI()*A48*$R$19/1000000000","v":2.7428321157402035E-7},1000,{"$f":"-1/(2*PI()*A48*$R$20/1000000000)","v":-3.6458665999327184},{"$f":"1/(D48^2+E48^2)^0.5","v":9.9999335389462434E-4},{"$f":"D48*F48^2","v":9.9998670783341928E-4},{"$f":"-E48*F48^2","v":3.6458181384665413E-6},{"$f":"B48+G48","v":1000.0009999867078},{"$f":"C48+H48","v":3.9201013500405619E-6},{"$f":"1/(I48^2+J48^2)^0.5","v":9.9999900001429207E-4},{"$f":"I48*K48^2","v":9.9999900001429185E-4},null,{"$f":"-J48*K48^2","v":-3.9200935099538344E-12},1.0000000000000001E-15,{"$f":"2*PI()*A48*$R$7/1000000000","v":6.0342306546284478E-6},{"$f":"1/(O48^2+P48^2)^0.5","v":165721.20908785082},{"$f":"O48*Q48^2","v":2.7463519141539172E-5},{"$f":"-P48*Q48^2","v":-165721.20908785082},{"$f":"R48+$R$5*1000+$R$11*1000","v":50000000000000},{"$f":"S48+2*PI()*A48*$R$6","v":-165721.20908785082},{"$f":"1/(T48^2+U48^2)^0.5","v":2E-14},{"$f":"T48*V48^2","v":2E-14},{"$f":"-U48*V48^2","v":6.6288483635140323E-23},{"$f":"1/($R$23*1000)","v":1.0000000000000001E-15},{"$f":"2*PI()*A48*$R$21/1000000000","v":2.7428321157402033E-16},{"$f":"1/(Y48^2+Z48^2)^0.5","v":964381909271681},{"$f":"Y48*AA48^2","v":930032466930492.75},{"$f":"-Z48*AA48^2","v":-255092291897804.41},{"$f":"$R$12*1000+AB48","v":1.0000000000009301E+27},{"$f":"AC48","v":-255092291897804.41},{"$f":"1/(AD48^2+AE48^2)^0.5","v":9.9999999999907002E-28},{"$f":"AD48*AF48^2","v":9.999999999990702E-28},{"$f":"-AE48*AF48^2","v":2.5509229189732996E-40},{"$f":"W48+AG48","v":2.0000000000001E-14},{"$f":"X48+AH48","v":6.6288483635140323E-23},{"$f":"1/(AI48^2+AJ48^2)^0.5","v":49999999999997.5},{"$f":"AI48*AK48^2","v":49999999999997.492},{"$f":"-AJ48*AK48^2","v":-165721.20908783423},{"$f":"L48+AL48","v":49999999999997.492},{"$f":"N48+AM48","v":-165721.20908783423},{"$f":"1/(AN48^2+AO48^2)^0.5","v":2.0000000000001003E-14},{"$f":"AN48*AP48^2","v":2.0000000000001003E-14},{"$f":"-AO48*AP48^2","v":6.6288483635140334E-23},{"$f":"$R$24*1000","v":1000000000000000},{"$f":"-1/(2*PI()*A48*$R$25/1000000000)","v":-3645866.5999327186},{"$f":"1/(AS48^2+AT48^2)^0.5","v":1.0000000000000001E-15},{"$f":"AS48*AU48^2","v":1.0000000000000001E-15},{"$f":"-AT48*AU48^2","v":3.6458665999327187E-24},{"$f":"AQ48+AV48","v":2.1000000000001002E-14},{"$f":"AR48+AW48","v":6.9934350235073054E-23},{"$f":"1/(AX48^2+AY48^2)^0.5","v":47619047619045.344},{"$f":"AX48*AZ48^2","v":47619047619045.344},{"$f":"-AY48*AZ48^2","v":-158581.29305003711}]
[{"$f":"Main!A48","v":46.249302838954314},1000,2.9059294006501685E-7,1000,-3.4412398311406376,9.9999407898680032E-4,9.9998815800865894E-4,3.4411990800083549E-6,1000.000999988158,3.731792020073372E-6,9.9999900001284205E-4,9.9999900001284205E-4,null,-3.7317845565889111E-12,1.0000000000000001E-15,6.3930446814303717E-6,156419.99232457441,2.4467213998819921E-5,-156419.99232457441,50000000000000,-156419.99232457441,2E-14,2E-14,6.2567996929829767E-23,1.0000000000000001E-15,2.905929400650169E-16,960276682569478.13,922131307086642.25,-267964847652304.31,1.0000000000009221E+27,-267964847652304.31,9.9999999999907792E-28,9.9999999999907792E-28,2.6796484765181016E-40,2.0000000000001E-14,6.2567996929829767E-23,49999999999997.5,49999999999997.492,-156419.99232455876,49999999999997.492,-156419.99232455876,2.0000000000001003E-14,2.0000000000001003E-14,6.2567996929829779E-23,1000000000000000,-3441239.8311406374,1.0000000000000001E-15,1.0000000000000001E-15,3.4412398311406376E-24,2.1000000000001002E-14,6.600923676097042E-23,47619047619045.344,47619047619045.344,-149680.80898177804]
[{"$f":"Main!A49","v":48.99942949771868},1000,3.07872495480248E-7,1000,-3.2480978803907359,9.9999472497181883E-4,9.9998944997146369E-4,3.2480636128654089E-6,1000.00099998945,3.555936108345657E-6,9.9999900001155012E-4,9.9999900001155034E-4,null,-3.5559289965591395E-12,1.0000000000000001E-15,6.7731949005654558E-6,147640.81274503347,2.1797809588014041E-5,-147640.81274503347,50000000000000,-147640.81274503347,2E-14,2E-14,5.9056325098013391E-23,1.0000000000000001E-15,3.0787249548024802E-16,955730590526392.75,913420961667927.38,-281217190892672.75,1.0000000000009134E+27,-281217190892672.75,9.9999999999908653E-28,9.9999999999908653E-28,2.81217190892159E-40,2.0000000000001E-14,5.9056325098013391E-23,49999999999997.5,49999999999997.492,-147640.81274501869,49999999999997.492,-147640.81274501869,2.0000000000001003E-14,2.0000000000001003E-14,5.9056325098013403E-23,1000000000000000,-3248097.8803907363,1.0000000000000001E-15,1.0000000000000001E-15,3.2480978803907366E-24,2.1000000000001002E-14,6.2304422978404142E-23,47619047619045.344,47619047619045.344,-141279.87069931562]
[{"$f":"Main!A50","v":51.913087197493162},1000,3.2617954672962171E-7,1000,-3.0657961543766716,9.9999530048009832E-4,9.9999060098228203E-4,3.0657673389042969E-6,1000.000999990601,3.3919468856339184E-6,9.9999900001039891E-4,9.9999900001039891E-4,null,-3.3919401018140845E-12,1.0000000000000001E-15,7.1759500280516783E-6,139354.37065348504,1.941964062022889E-5,-139354.37065348501,50000000000000,-139354.37065348501,2E-14,2E-14,5.5741748261393998E-23,1.0000000000000001E-15,3.2617954672962175E-16,950703890893281,903837888159623.63,-294813432676964.56,1.0000000000009038E+27,-294813432676964.56,9.9999999999909621E-28,9.9999999999909621E-28,2.9481343267643165E-40,2.0000000000001E-14,5.5741748261393998E-23,49999999999997.5,49999999999997.492,-139354.37065347104,49999999999997.492,-139354.37065347104,2.0000000000001003E-14,2.0000000000001003E-14,5.5741748261394009E-23,1000000000000000,-3065796.1543766712,1.0000000000000001E-15,1.0000000000000001E-15,3.0657961543766715E-24,2.1000000000001002E-14,5.8807544415770679E-23,47619047619045.344,47619047619045.344,-133350.44085207497]
[{"$f":"Main!A51","v":55.000000000000021},1000,3.4557519189487737E-7,1000,-2.8937262380344593,9.9999581320052368E-4,9.9999162641857672E-4,2.893702007182188E-6,1000.0009999916264,3.2392771990770652E-6,9.9999900000937369E-4,9.9999900000937391E-4,null,-3.2392707205866346E-12,1.0000000000000001E-15,7.6026542216873019E-6,131533.01081974816,1.730093293530799E-5,-131533.01081974816,50000000000000,-131533.01081974816,2E-14,2E-14,5.2613204327899261E-23,1.0000000000000001E-15,3.4557519189487744E-16,945155007739915.25,893317988655839.38,-308708535352887.63,1.0000000000008934E+27,-308708535352887.63,9.9999999999910662E-28,9.9999999999910662E-28,3.0870853535233602E-40,2.0000000000001E-14,5.2613204327899261E-23,49999999999997.5,49999999999997.492,-131533.01081973498,49999999999997.492,-131533.01081973498,2.0000000000001003E-14,2.0000000000001003E-14,5.2613204327899267E-23,1000000000000000,-2893726.2380344598,1.0000000000000001E-15,1.0000000000000001E-15,2.8937262380344599E-24,2.1000000000001002E-14,5.550693056593373E-23,47619047619045.344,47619047619045.344,-125866.05570505312]
[{"$f":"Main!A52","v":58.270470189761262},1000,3.6612416213875406E-7,1000,-2.731313864013758,9.9999626998315775E-4,9.9999253998022861E-4,2.7312934883583306E-6,1000.00099999254,3.0974176504970847E-6,9.9999900000845993E-4,9.9999900000845993E-4,null,-3.0974114557172893E-12,1.0000000000000001E-15,8.0547315670525889E-6,124150.63018244355,1.5413378974697865E-5,-124150.63018244354,50000000000000,-124150.63018244354,2E-14,2E-14,4.966025207297741E-23,1.0000000000000001E-15,3.6612416213875408E-16,939040863924628.25,881797744120312.25,-322847460241892.75,1.0000000000008818E+27,-322847460241892.75,9.9999999999911809E-28,9.9999999999911792E-28,3.2284746024132331E-40,2.0000000000001E-14,4.966025207297741E-23,49999999999997.5,49999999999997.492,-124150.63018243109,49999999999997.492,-124150.63018243109,2.0000000000001003E-14,2.0000000000001003E-14,4.9660252072977416E-23,1000000000000000,-2731313.864013758,1.0000000000000001E-15,1.0000000000000001E-15,2.7313138640137582E-24,2.1000000000001002E-14,5.2391565936991174E-23,47619047619045.344,47619047619045.344,-118801.73681856274]
[{"$f":"Main!A53","v":61.735412657015537},1000,3.878950377392287E-7,1000,-2.5780169961139663,9.9999667693074818E-4,9.9999335387253915E-4,2.5779998622844136E-6,1000.0009999933538,2.9658949000236424E-6,9.9999900000764612E-4,9.9999900000764612E-4,null,-2.9658889682821631E-12,1.0000000000000001E-15,8.5336908302630301E-6,117182.59073245304,1.3731759570769591E-5,-117182.59073245306,50000000000000,-117182.59073245306,2E-14,2E-14,4.6873036292981224E-23,1.0000000000000001E-15,3.8789503773922873E-16,932317325793427.38,869215595974607.88,-337164416404096.69,1.0000000000008692E+27,-337164416404096.69,9.9999999999913083E-28,9.9999999999913083E-28,3.3716441640351056E-40,2.0000000000001E-14,4.6873036292981224E-23,49999999999997.5,49999999999997.492,-117182.59073244133,49999999999997.492,-117182.59073244133,2.0000000000001003E-14,2.0000000000001003E-14,4.6873036292981235E-23,1000000000000000,-2578016.9961139662,1.0000000000000001E-15,1.0000000000000001E-15,2.5780169961139666E-24,2.1000000000001002E-14,4.9451053289095201E-23,47619047619045.344,47619047619045.344,-112133.90768501241]
[{"$f":"Main!A54","v":65.406391325149684},1000,4.1096047696981884E-7,1000,-2.433324020288794,9.9999703948025313E-4,9.9999407896927094E-4,2.4333096125024961E-6,1000.0009999940789,2.8442700894723151E-6,9.9999900000692101E-4,9.9999900000692101E-4,null,-2.8442644009743509E-12,1.0000000000000001E-15,9.0411304933360147E-6,110605.63728585427,1.2233606999409959E-5,-110605.63728585427,50000000000000,-110605.63728585427,2E-14,2E-14,4.4242254914341708E-23,1.0000000000000001E-15,4.1096047696981885E-16,924939772437681.5,855513582637070.13,-351582269974688.81,1.0000000000008556E+27,-351582269974688.81,9.9999999999914446E-28,9.9999999999914446E-28,3.5158226997408722E-40,2.0000000000001E-14,4.4242254914341708E-23,49999999999997.5,49999999999997.492,-110605.6372858432,49999999999997.492,-110605.6372858432,2.0000000000001003E-14,2.0000000000001003E-14,4.424225491434172E-23,1000000000000000,-2433324.0202887943,1.0000000000000001E-15,1.0000000000000001E-15,2.4333240202887943E-24,2.1000000000001002E-14,4.6675578934630512E-23,47619047619045.344,47619047619045.344,-105840.31504450351]
[{"$f":"Main!A55","v":69.295657744218047},1000,4.3539745858981613E-7,1000,-2.2967520371819408,9.9999736247547463E-4,9.9999472495790592E-4,2.2967399217182647E-6,1000.0009999947249,2.7321373803080808E-6,9.9999900000627504E-4,9.9999900000627504E-4,null,-2.7321319160703408E-12,1.0000000000000001E-15,9.5787440889759549E-6,104397.81987190641,1.0898904794007019E-5,-104397.81987190641,50000000000000,-104397.81987190641,2E-14,2E-14,4.1759127948762561E-23,1.0000000000000001E-15,4.3539745858981617E-16,916863798993540,840639225904866.5,-366012182549889.19,1.0000000000008406E+27,-366012182549889.19,9.9999999999915935E-28,9.9999999999915935E-28,3.6601218254927381E-40,2.0000000000001E-14,4.1759127948762561E-23,49999999999997.5,49999999999997.492,-104397.81987189595,49999999999997.492,-104397.81987189595,2.0000000000001003E-14,2.0000000000001003E-14,4.1759127948762566E-23,1000000000000000,-2296752.0371819409,1.0000000000000001E-15,1.0000000000000001E-15,2.2967520371819409E-24,2.1000000000001002E-14,4.4055879985944507E-23,47619047619045.344,47619047619045.344,-99899.954616644667]
[{"$f":"Main!A56","v":73.416191979351922},1000,4.6128753875373977E-7,1000,-2.1678452504953838,9.9999765023176717E-4,9.9999530046905572E-4,2.1678350626395469E-6,1000.0009999953005,2.6291226013932868E-6,9.9999900000569955E-4,9.9999900000569955E-4,null,-2.6291173431806823E-12,1.0000000000000001E-15,1.0148325852582274E-5,98538.4204770629,9.7098203101144485E-6,-98538.4204770629,50000000000000,-98538.4204770629,2E-14,2E-14,3.9415368190825161E-23,1.0000000000000001E-15,4.6128753875373979E-16,908046059006258.5,824547645276797.5,-380353553874925.56,1.0000000000008245E+27,-380353553874925.56,9.9999999999917549E-28,9.9999999999917549E-28,3.8035355387429837E-40,2.0000000000001E-14,3.9415368190825161E-23,49999999999997.5,49999999999997.492,-98538.420477053034,49999999999997.492,-98538.420477053034,2.0000000000001003E-14,2.0000000000001003E-14,3.9415368190825167E-23,1000000000000000,-2167845.2504953835,1.0000000000000001E-15,1.0000000000000001E-15,2.1678452504953836E-24,2.1000000000001002E-14,4.1583213441320551E-23,47619047619045.344,47619047619045.344,-94293.001000717864]
[{"$f":"Main!A57","v":77.781745930520259},1000,4.8871712319742045E-7,1000,-2.0461734458116037,9.9999790659368844E-4,9.9999581319175921E-4,2.0461648788757587E-6,1000.0009999958132,2.5348820020731792E-6,9.9999900000518672E-4,9.9999900000518672E-4,null,-2.5348769323380053E-12,1.0000000000000001E-15,1.0751776710343251E-5,93007.883900527449,8.650466467653995E-6,-93007.883900527464,50000000000000,-93007.883900527464,2E-14,2E-14,3.7203153560210983E-23,1.0000000000000001E-15,4.8871712319742049E-16,898445244612012.75,807203857565939.38,-394494347103486.25,1.0000000000008072E+27,-394494347103486.25,9.9999999999919289E-28,9.9999999999919307E-28,3.9449434710284947E-40,2.0000000000001E-14,3.7203153560210983E-23,49999999999997.5,49999999999997.492,-93007.883900518151,49999999999997.492,-93007.883900518151,2.0000000000001003E-14,2.0000000000001003E-14,3.7203153560210989E-23,1000000000000000,-2046173.4458116039,1.0000000000000001E-15,1.0000000000000001E-15,2.0461734458116041E-24,2.1000000000001002E-14,3.9249327006022596E-23,47619047619045.344,47619047619045.344,-89000.741510246822]
[{"$f":"Main!A58","v":82.406889228217523},1000,5.1777775560911212E-7,1000,-1.9313305547929598,9.9999813498636149E-4,9.9999626997620129E-4,1.9313233508840274E-6,1000.00099999627,2.4491011064931396E-6,9.9999900000473005E-4,9.9999900000473027E-4,null,-2.4490962083165445E-12,1.0000000000000001E-15,1.1391110623400466E-5,87787.752490589075,7.7066894873489292E-6,-87787.752490589075,50000000000000,-87787.752490589075,2E-14,2E-14,3.5115100996235629E-23,1.0000000000000001E-15,5.1777775560911216E-16,888023195139359.13,788585195105516.38,-408311872428308.06,1.0000000000007886E+27,-408311872428308.06,9.9999999999921137E-28,9.9999999999921137E-28,4.0831187242766408E-40,2.0000000000001E-14,3.5115100996235629E-23,49999999999997.5,49999999999997.492,-87787.752490580286,49999999999997.492,-87787.752490580286,2.0000000000001003E-14,2.0000000000001003E-14,3.5115100996235635E-23,1000000000000000,-1931330.5547929597,1.0000000000000001E-15,1.0000000000000001E-15,1.9313305547929599E-24,2.1000000000001002E-14,3.7046431551028596E-23,47619047619045.344,47619047619045.344,-84005.513721145253]
[{"$f":"Main!A59","v":87.307057858251014},1000,5.4856642314804081E-7,1000,-1.8229332999663592,9.9999833846123299E-4,9.9999667692522677E-4,1.8229272422226969E-6,1000.0009999966769,2.3714936653707377E-6,9.9999900000432304E-4,9.9999900000432304E-4,null,-2.3714889224062825E-12,1.0000000000000001E-15,1.2068461309256897E-5,82860.604543925409,6.8658797853847931E-6,-82860.604543925423,50000000000000,-82860.604543925423,2E-14,2E-14,3.3144241817570167E-23,1.0000000000000001E-15,5.4856642314804076E-16,876746114827186.88,768683749864566.75,-421674095195228.63,1.0000000000007687E+27,-421674095195228.63,9.9999999999923127E-28,9.9999999999923127E-28,4.2167409519458037E-40,2.0000000000001E-14,3.3144241817570167E-23,49999999999997.5,49999999999997.492,-82860.604543917128,49999999999997.492,-82860.604543917128,2.0000000000001003E-14,2.0000000000001003E-14,3.3144241817570173E-23,1000000000000000,-1822933.2999663588,1.0000000000000001E-15,1.0000000000000001E-15,1.822933299966359E-24,2.1000000000001002E-14,3.4967175117536533E-23,47619047619045.344,47619047619045.344,-79290.646525018572]
[{"$f":"Main!A60","v":92.498605677908643},1000,5.8118588013003381E-7,1000,-1.7206199155703186,9.9999851973683993E-4,9.99997039475871E-4,1.7206148216335419E-6,1000.0009999970395,2.3018007017635757E-6,9.9999900000396049E-4,9.9999900000396049E-4,null,-2.3017960981827067E-12,1.0000000000000001E-15,1.2786089362860745E-5,78209.996162287192,6.1168034997049776E-6,-78209.996162287192,50000000000000,-78209.996162287192,2E-14,2E-14,3.1283998464914878E-23,1.0000000000000001E-15,5.8118588013003389E-16,864585869079806.75,747508725012484.75,-434441516251260.38,1.0000000000007475E+27,-434441516251260.38,9.9999999999925244E-28,9.9999999999925244E-28,4.3444151625061087E-40,2.0000000000001E-14,3.1283998464914878E-23,49999999999997.5,49999999999997.492,-78209.996162279363,49999999999997.492,-78209.996162279363,2.0000000000001003E-14,2.0000000000001003E-14,3.1283998464914883E-23,1000000000000000,-1720619.9155703185,1.0000000000000001E-15,1.0000000000000001E-15,1.7206199155703188E-24,2.1000000000001002E-14,3.3004618380485204E-23,47619047619045.344,47619047619045.344,-74840.404490889006]
[{"$f":"Main!A61","v":97.998858995437374},1000,6.1574499096049611E-7,1000,-1.6240489401953679,9.9999868123512863E-4,9.9999736247199629E-4,1.6240446567208088E-6,1000.0009999973624,2.239789647681305E-6,9.9999900000363761E-4,9.9999900000363761E-4,null,-2.2397851681205442E-12,1.0000000000000001E-15,1.3546389801130913E-5,73820.406372516722,5.4494523970035077E-6,-73820.406372516722,50000000000000,-73820.406372516722,2E-14,2E-14,2.952816254900669E-23,1.0000000000000001E-15,6.1574499096049624E-16,851521316725076.75,725088552837208.63,-446469644412306.25,1.0000000000007251E+27,-446469644412306.25,9.9999999999927486E-28,9.9999999999927486E-28,4.4646964441165872E-40,2.0000000000001E-14,2.952816254900669E-23,49999999999997.5,49999999999997.492,-73820.406372509329,49999999999997.492,-73820.406372509329,2.0000000000001003E-14,2.0000000000001003E-14,2.9528162549006696E-23,1000000000000000,-1624048.9401953677,1.0000000000000001E-15,1.0000000000000001E-15,1.6240489401953677E-24,2.1000000000001002E-14,3.1152211489202065E-23,47619047619045.344,47619047619045.344,-70639.935349657797]
[{"$f":"Main!A62","v":103.82617439498634},1000,6.5235909345924363E-7,1000,-1.5328980771883354,9.9999882511381298E-4,9.9999765022900635E-4,1.5328944752288973E-6,1000.0009999976502,2.1852535686881408E-6,9.9999900000334986E-4,9.9999900000334986E-4,null,-2.1852491981978293E-12,1.0000000000000001E-15,1.4351900056103358E-5,69677.185326742518,4.8549101550572226E-6,-69677.185326742518,50000000000000,-69677.185326742518,2E-14,2E-14,2.7870874130697005E-23,1.0000000000000001E-15,6.523590934592436E-16,837539624123577.25,701472621977063.13,-457612043759435.56,1.0000000000007015E+27,-457612043759435.56,9.9999999999929854E-28,9.9999999999929854E-28,4.5761204375879355E-40,2.0000000000001E-14,2.7870874130697005E-23,49999999999997.5,49999999999997.492,-69677.185326735533,49999999999997.492,-69677.185326735533,2.0000000000001003E-14,2.0000000000001003E-14,2.7870874130697011E-23,1000000000000000,-1532898.0771883351,1.0000000000000001E-15,1.0000000000000001E-15,1.5328980771883352E-24,2.1000000000001002E-14,2.9403772207885345E-23,47619047619045.344,47619047619045.344,-66675.2204260375]
[{"$f":"Main!A63","v":110.00000000000006},1000,6.9115038378975484E-7,1000,-1.4468631190172294,9.999989532952008E-4,9.9999790659149727E-4,1.4468600901416738E-6,1000.0009999979065,2.1380104739314287E-6,9.9999900000309334E-4,9.9999900000309334E-4,null,-2.1380061979258462E-12,1.0000000000000001E-15,1.5205308443374607E-5,65766.505409874066,4.325233233826995E-6,-65766.505409874066,50000000000000,-65766.505409874066,2E-14,2E-14,2.6306602163949625E-23,1.0000000000000001E-15,6.9115038378975497E-16,822637496995959.88,676732451463778,-467723893552171.88,1.0000000000006768E+27,-467723893552171.88,9.9999999999932329E-28,9.9999999999932329E-28,4.6772389355153888E-40,2.0000000000001E-14,2.6306602163949625E-23,49999999999997.5,49999999999997.492,-65766.505409867474,49999999999997.492,-65766.505409867474,2.0000000000001003E-14,2.0000000000001003E-14,2.6306602163949628E-23,1000000000000000,-1446863.1190172296,1.0000000000000001E-15,1.0000000000000001E-15,1.4468631190172298E-24,2.1000000000001002E-14,2.7753465282966859E-23,47619047619045.344,47619047619045.344,-62933.027852526546]
[{"$f":"Main!A64","v":116.54094037952254},1000,7.3224832427750813E-7,1000,-1.365656932006879,9.9999906749187635E-4,9.9999813498462221E-4,1.3656543850357E-6,1000.0009999981349,2.0979027093132081E-6,9.9999900000286501E-4,9.9999900000286501E-4,null,-2.0978985135219083E-12,1.0000000000000001E-15,1.6109463134105178E-5,62075.315091221775,3.8533447436744663E-6,-62075.315091221768,50000000000000,-62075.315091221768,2E-14,2E-14,2.4830126036488705E-23,1.0000000000000001E-15,7.3224832427750815E-16,806822258969910.38,650962157569309.13,-476665949048197.81,1.0000000000006509E+27,-476665949048197.81,9.9999999999934912E-28,9.9999999999934912E-28,4.7666594904757725E-40,2.0000000000001E-14,2.4830126036488705E-23,49999999999997.5,49999999999997.492,-62075.315091215547,49999999999997.492,-62075.315091215547,2.0000000000001003E-14,2.0000000000001003E-14,2.4830126036488708E-23,1000000000000000,-1365656.932006879,1.0000000000000001E-15,1.0000000000000001E-15,1.3656569320068791E-24,2.1000000000001002E-14,2.6195782968495587E-23,47619047619045.344,47619047619045.344,-59400.868409281371]
[{"$f":"Main!A65","v":123.4708253140311},1000,7.7579007547845751E-7,1000,-1.2890084980569829,9.999991692295812E-4,9.9999833845985258E-4,1.289006356317613E-6,1000.0009999983384,2.0647964317960708E-6,9.9999900000266161E-4,9.9999900000266161E-4,null,-2.0647923022162635E-12,1.0000000000000001E-15,1.7067381660526067E-5,58591.295366226492,3.432939892692394E-6,-58591.295366226484,50000000000000,-58591.295366226484,2E-14,2E-14,2.3436518146490594E-23,1.0000000000000001E-15,7.7579007547845766E-16,790112703575133.38,624278084350806.63,-484308742178059.19,1.0000000000006243E+27,-484308742178059.19,9.9999999999937566E-28,9.9999999999937566E-28,4.8430874217745445E-40,2.0000000000001E-14,2.3436518146490594E-23,49999999999997.5,49999999999997.492,-58591.29536622062,49999999999997.492,-58591.29536622062,2.0000000000001003E-14,2.0000000000001003E-14,2.34365181464906E-23,1000000000000000,-1289008.4980569831,1.0000000000000001E-15,1.0000000000000001E-15,1.2890084980569833E-24,2.1000000000001002E-14,2.4725526644547583E-23,47619047619045.344,47619047619045.344,-56066.953842506169]
[{"$f":"Main!A66","v":130.8127826502994},1000,8.219209539396379E-7,1000,-1.2166620101443968,9.9999925986759826E-4,9.9999851973574423E-4,1.2166602091631118E-6,1000.0009999985198,2.0385811631027496E-6,9.9999900000248012E-4,9.9999900000248012E-4,null,-2.038577085952574E-12,1.0000000000000001E-15,1.8082260986672033E-5,55302.81864292713,3.0584017498524888E-6,-55302.81864292713,50000000000000,-55302.81864292713,2E-14,2E-14,2.2121127457170851E-23,1.0000000000000001E-15,8.21920953939638E-16,772539649973134.13,596817510780612.63,-490536817788681.25,1.0000000000005968E+27,-490536817788681.25,9.9999999999940329E-28,9.9999999999940329E-28,4.9053681778809582E-40,2.0000000000001E-14,2.2121127457170851E-23,49999999999997.5,49999999999997.492,-55302.818642921593,49999999999997.492,-55302.818642921593,2.0000000000001003E-14,2.0000000000001003E-14,2.2121127457170857E-23,1000000000000000,-1216662.0101443967,1.0000000000000001E-15,1.0000000000000001E-15,1.2166620101443968E-24,2.1000000000001002E-14,2.3337789467315253E-23,47619047619045.344,47619047619045.344,-52920.157522251757]
[{"$f":"Main!A67","v":138.59131548843615},1000,8.7079491717963269E-7,1000,-1.1483760185909699,9.9999934061691218E-4,9.999986812342591E-4,1.1483745041520191E-6,1000.0009999986812,2.0191694213316515E-6,9.9999900000231879E-4,9.9999900000231879E-4,null,-2.0191653830041921E-12,1.0000000000000001E-15,1.915748817795192E-5,52198.909935953176,2.7247261985017513E-6,-52198.909935953168,50000000000000,-52198.909935953168,2E-14,2E-14,2.0879563974381266E-23,1.0000000000000001E-15,8.7079491717963264E-16,754146142834747.88,568736404752528,-495252770473519.63,1.0000000000005687E+27,-495252770473519.63,9.9999999999943127E-28,9.9999999999943127E-28,4.9525277047295625E-40,2.0000000000001E-14,2.0879563974381266E-23,49999999999997.5,49999999999997.492,-52198.909935947937,49999999999997.492,-52198.909935947937,2.0000000000001003E-14,2.0000000000001003E-14,2.0879563974381269E-23,1000000000000000,-1148376.01859097,1.0000000000000001E-15,1.0000000000000001E-15,1.1483760185909701E-24,2.1000000000001002E-14,2.2027939992972239E-23,47619047619045.344,47619047619045.344,-49949.977308322297]
[{"$f":"Main!A68","v":146.8323839587039},1000,9.2257507750747997E-7,1000,-1.0839226252476915,9.999994125563889E-4,9.99998825113123E-4,1.0839213517612234E-6,1000.0009999988251,2.0064964292687032E-6,9.9999900000217481E-4,9.9999900000217459E-4,null,-2.0064924162865784E-12,1.0000000000000001E-15,2.0296651705164555E-5,49269.210238531436,2.4274550775286109E-6,-49269.210238531436,50000000000000,-49269.210238531436,2E-14,2E-14,1.9707684095412575E-23,1.0000000000000001E-15,9.2257507750747997E-16,734987253469669.38,540206262762888.06,-498380834738497.5,1.0000000000005403E+27,-498380834738497.5,9.9999999999945979E-28,9.9999999999945979E-28,4.9838083473795907E-40,2.0000000000001E-14,1.9707684095412575E-23,49999999999997.5,49999999999997.492,-49269.210238526503,49999999999997.492,-49269.210238526503,2.0000000000001003E-14,2.0000000000001003E-14,1.9707684095412578E-23,1000000000000000,-1083922.6252476913,1.0000000000000001E-15,1.0000000000000001E-15,1.0839226252476914E-24,2.1000000000001002E-14,2.079160672066027E-23,47619047619045.344,47619047619045.344,-47146.500500358918]
[{"$f":"Main!A69","v":155.5634918610406},1000,9.7743424639484153E-7,1000,-1.0230867229058014,9.999994766471895E-4,9.9999895329465306E-4,1.0230856520354581E-6,1000.0009999989533,2.0005198984302996E-6,9.9999900000204665E-4,9.9999900000204665E-4,null,-2.0005158974006921E-12,1.0000000000000001E-15,2.1503553420686513E-5,46503.941950263703,2.1626166169134962E-6,-46503.941950263703,50000000000000,-46503.941950263703,2E-14,2E-14,1.860157678010548E-23,1.0000000000000001E-15,9.7743424639484158E-16,715129461677813.25,511410146959599.06,-499869791592130.81,1.0000000000005114E+27,-499869791592130.81,9.9999999999948867E-28,9.9999999999948884E-28,4.9986979159161962E-40,2.0000000000001E-14,1.860157678010548E-23,49999999999997.5,49999999999997.492,-46503.941950259046,49999999999997.492,-46503.941950259046,2.0000000000001003E-14,2.0000000000001003E-14,1.8601576780105483E-23,1000000000000000,-1023086.7229058014,1.0000000000000001E-15,1.0000000000000001E-15,1.0230867229058015E-24,2.1000000000001002E-14,1.9624663503011283E-23,47619047619045.344,47619047619045.344,-44500.370755123375]
[{"$f":"Main!A70","v":164.81377845643513},1000,1.0355555112182247E-6,1000,-0.96566527739647945,9.9999953374561206E-4,9.9999906749144159E-4,9.6566437690534362E-7,1000.0009999990675,2.0012198881235683E-6,9.9999900000193238E-4,9.9999900000193238E-4,null,-2.0012158856935275E-12,1.0000000000000001E-15,2.2782221246800943E-5,43893.876245294523,1.926672371837231E-6,-43893.87624529453,50000000000000,-43893.87624529453,2E-14,2E-14,1.7557550498117811E-23,1.0000000000000001E-15,1.0355555112182247E-15,694649624047119.13,482538100188803.94,-499694989023287.75,1.0000000000004826E+27,-499694989023287.75,9.9999999999951736E-28,9.9999999999951736E-28,4.9969498902280544E-40,2.0000000000001E-14,1.7557550498117811E-23,49999999999997.5,49999999999997.492,-43893.876245290136,49999999999997.492,-43893.876245290136,2.0000000000001003E-14,2.0000000000001003E-14,1.7557550498117814E-23,1000000000000000,-965665.27739647951,1.0000000000000001E-15,1.0000000000000001E-15,9.6566527739647958E-25,2.1000000000001002E-14,1.8523215775514295E-23,47619047619045.344,47619047619045.344,-42002.756860572619]
[{"$f":"Main!A71","v":174.61411571650211},1000,1.097132846296082E-6,1000,-0.91146664998317906,9.9999958461453181E-4,9.9999916922923621E-4,9.1146589276333404E-7,1000.0009999991693,2.0085987390594163E-6,9.9999900000183068E-4,9.9999900000183068E-4,null,-2.0085947218713007E-12,1.0000000000000001E-15,2.4136922618513808E-5,41430.302271962675,1.7164699463461957E-6,-41430.302271962675,50000000000000,-41430.302271962675,2E-14,2E-14,1.6572120908785069E-23,1.0000000000000001E-15,1.0971328462960823E-15,673633562053479.5,453782175924859.06,-497859330270870.13,1.0000000000004538E+27,-497859330270870.13,9.9999999999954624E-28,9.9999999999954624E-28,4.9785933027041829E-40,2.0000000000001E-14,1.6572120908785069E-23,49999999999997.5,49999999999997.492,-41430.302271958528,49999999999997.492,-41430.302271958528,2.0000000000001003E-14,2.0000000000001003E-14,1.6572120908785075E-23,1000000000000000,-911466.64998317906,1.0000000000000001E-15,1.0000000000000001E-15,9.1146664998317913E-25,2.1000000000001002E-14,1.7483587558768255E-23,47619047619045.344,47619047619045.344,-39645.323262509264]
[{"$f":"Main!A72","v":184.9972113558174},1000,1.1623717602600685E-6,1000,-0.86030995778515862,9.9999962993359368E-4,9.9999925986732439E-4,8.6030932104164774E-7,1000.0009999992599,2.0226810813017161E-6,9.9999900000174004E-4,9.9999900000174004E-4,null,-2.0226770359486154E-12,1.0000000000000001E-15,2.5572178725721504E-5,39104.998081143574,1.5292008749262427E-6,-39104.998081143574,50000000000000,-39104.998081143574,2E-14,2E-14,1.564199923245743E-23,1.0000000000000001E-15,1.1623717602600684E-15,652174329414220.88,425331355946888.75,-494393156905786.69,1.0000000000004254E+27,-494393156905786.69,9.9999999999957458E-28,9.9999999999957458E-28,4.9439315690536608E-40,2.0000000000001E-14,1.564199923245743E-23,49999999999997.5,49999999999997.492,-39104.99808113966,49999999999997.492,-39104.99808113966,2.0000000000001003E-14,2.0000000000001003E-14,1.5641999232457433E-23,1000000000000000,-860309.95778515865,1.0000000000000001E-15,1.0000000000000001E-15,8.6030995778515866E-25,2.1000000000001002E-14,1.650230919024259E-23,47619047619045.344,47619047619045.344,-37420.202245444474]
[{"$f":"Main!A73","v":195.99771799087486},1000,1.2314899819209929E-6,1000,-0.81202447009768353,9.9999967030829314E-4,9.999993406166949E-4,8.1202393466230461E-7,1000.0009999993406,2.0435139165832975E-6,9.9999900000165938E-4,9.9999900000165938E-4,null,-2.0435098295642897E-12,1.0000000000000001E-15,2.7092779602261847E-5,36910.203186258332,1.3623630992508748E-6,-36910.203186258332,50000000000000,-36910.203186258332,2E-14,2E-14,1.4764081274503333E-23,1.0000000000000001E-15,1.2314899819209931E-15,630370239835035.38,397366639269680.06,-489353035410224,1.0000000000003973E+27,-489353035410224,9.9999999999960256E-28,9.9999999999960256E-28,4.8935303540983505E-40,2.0000000000001E-14,1.4764081274503333E-23,49999999999997.5,49999999999997.492,-36910.203186254636,49999999999997.492,-36910.203186254636,2.0000000000001003E-14,2.0000000000001003E-14,1.4764081274503336E-23,1000000000000000,-812024.47009768349,1.0000000000000001E-15,1.0000000000000001E-15,8.120244700976836E-25,2.1000000000001002E-14,1.5576105744601021E-23,47619047619045.344,47619047619045.344,-35319.967674828869]
[{"$f":"Main!A74","v":207.65234878997279},1000,1.3047181869184879E-6,1000,-0.76644903859416724,9.9999970627806501E-4,9.999994125562163E-4,7.6644858834844389E-7,1000.0009999994126,2.0711667752669319E-6,9.9999900000158739E-4,9.9999900000158717E-4,null,-2.0711626329420278E-12,1.0000000000000001E-15,2.8703800112206734E-5,34838.592663371237,1.2137275387643042E-6,-34838.592663371237,50000000000000,-34838.592663371237,2E-14,2E-14,1.3935437065348494E-23,1.0000000000000001E-15,1.3047181869184878E-15,608322751198401,370056569625591.69,-482819536579177.13,1.0000000000003701E+27,-482819536579177.13,9.9999999999962983E-28,9.9999999999962983E-28,4.8281953657881963E-40,2.0000000000001E-14,1.3935437065348494E-23,49999999999997.5,49999999999997.492,-34838.592663367745,49999999999997.492,-34838.592663367745,2.0000000000001003E-14,2.0000000000001003E-14,1.3935437065348496E-23,1000000000000000,-766449.03859416721,1.0000000000000001E-15,1.0000000000000001E-15,7.6644903859416732E-25,2.1000000000001002E-14,1.4701886103942664E-23,47619047619045.344,47619047619045.344,-33337.610213018728]
[{"$f":"Main!A75","v":220.00000000000026},1000,1.3823007675795107E-6,1000,-0.72343155950861426,9.9999973832349208E-4,9.9999947664705267E-4,7.2343118089857538E-7,1000.0009999994767,2.105731948478086E-6,9.9999900000152342E-4,9.9999900000152342E-4,null,-2.1057277370227104E-12,1.0000000000000001E-15,3.0410616886749235E-5,32883.252704937011,1.0813083084567475E-6,-32883.252704937011,50000000000000,-32883.252704937011,2E-14,2E-14,1.3153301081974804E-23,1.0000000000000001E-15,1.3823007675795107E-15,586134308875832.5,343553428041349.81,-474894167286130,1.0000000000003436E+27,-474894167286130,9.9999999999965637E-28,9.9999999999965637E-28,4.7489416728580369E-40,2.0000000000001E-14,1.3153301081974804E-23,49999999999997.5,49999999999997.492,-32883.252704933715,49999999999997.492,-32883.252704933715,2.0000000000001003E-14,2.0000000000001003E-14,1.3153301081974805E-23,1000000000000000,-723431.55950861424,1.0000000000000001E-15,1.0000000000000001E-15,7.2343155950861433E-25,2.1000000000001002E-14,1.3876732641483421E-23,47619047619045.344,47619047619045.344,-31466.513926263255]
[{"$f":"Main!A76","v":233.08188075904525},1000,1.4644966485550173E-6,1000,-0.68282846600343894,9.9999976687272451E-4,9.9999953374550342E-4,6.8282814763159624E-7,1000.0009999995337,2.1473247961866136E-6,9.9999900000146617E-4,9.9999900000146595E-4,null,-2.1473205015454651E-12,1.0000000000000001E-15,3.2218926268210383E-5,31037.657545610862,9.6333618591861488E-7,-31037.657545610862,50000000000000,-31037.657545610862,2E-14,2E-14,1.2415063018244345E-23,1.0000000000000001E-15,1.4644966485550175E-15,563906248811098.63,317990257448204.69,-465695666306042.88,1.000000000000318E+27,-465695666306042.88,9.9999999999968202E-28,9.999999999996822E-28,4.6569566630574676E-40,2.0000000000001E-14,1.2415063018244345E-23,49999999999997.5,49999999999997.492,-31037.657545607755,49999999999997.492,-31037.657545607759,2.0000000000001003E-14,2.0000000000001003E-14,1.241506301824435E-23,1000000000000000,-682828.46600343904,1.0000000000000001E-15,1.0000000000000001E-15,6.8282846600343908E-25,2.1000000000001002E-14,1.3097891484247789E-23,47619047619045.344,47619047619045.344,-29700.434204640675]
[{"$f":"Main!A77","v":246.94165062806238},1000,1.5515801509569163E-6,1000,-0.64450424902849102,9.9999979230720108E-4,9.9999958461444529E-4,6.4450398131073602E-7,1000.0009999995846,2.1960841322676523E-6,9.9999900000141543E-4,9.9999900000141543E-4,null,-2.1960797401078007E-12,1.0000000000000001E-15,3.4134763321052161E-5,29295.647683113224,8.5823497317309734E-7,-29295.647683113224,50000000000000,-29295.647683113224,2E-14,2E-14,1.171825907324529E-23,1.0000000000000001E-15,1.5515801509569163E-15,541736851031343.94,293478815765356.56,-455355905267868.94,1.0000000000002934E+27,-455355905267868.94,9.999999999997066E-28,9.999999999997066E-28,4.5535590526760172E-40,2.0000000000001E-14,1.171825907324529E-23,49999999999997.5,49999999999997.492,-29295.647683110292,49999999999997.492,-29295.647683110295,2.0000000000001003E-14,2.0000000000001003E-14,1.1718259073245294E-23,1000000000000000,-644504.24902849097,1.0000000000000001E-15,1.0000000000000001E-15,6.4450424902849101E-25,2.1000000000001002E-14,1.2362763322273786E-23,47619047619045.344,47619047619045.344,-28033.47692125307]
[{"$f":"Main!A78","v":261.62556530059896},1000,1.6438419078792766E-6,1000,-0.60833100507219806,9.9999981496674546E-4,9.9999962993352516E-4,6.0833077994928752E-7,1000.0009999996299,2.2521726878285642E-6,9.9999900000137011E-4,9.9999900000137011E-4,null,-2.2521681834916122E-12,1.0000000000000001E-15,3.6164521973344093E-5,27651.409321463543,7.6460043746312104E-7,-27651.409321463543,50000000000000,-27651.409321463543,2E-14,2E-14,1.1060563728585417E-23,1.0000000000000001E-15,1.6438419078792768E-15,519719617937272.69,270108481268864.72,-444015641183384.44,1.0000000000002701E+27,-444015641183384.44,9.9999999999972991E-28,9.9999999999972991E-28,4.440156411831446E-40,2.0000000000001E-14,1.1060563728585417E-23,49999999999997.5,49999999999997.492,-27651.409321460775,49999999999997.492,-27651.409321460778,2.0000000000001003E-14,2.0000000000001003E-14,1.1060563728585421E-23,1000000000000000,-608331.00507219811,1.0000000000000001E-15,1.0000000000000001E-15,6.0833100507219813E-25,2.1000000000001002E-14,1.1668894733657619E-23,47619047619045.344,47619047619045.344,-26460.07876112586]
[{"$f":"Main!A79","v":277.18263097687247},1000,1.7415898343592664E-6,1000,-0.57418800929548452,9.9999983515410571E-4,9.999996703082385E-4,5.7418781999042833E-7,1000.0009999996703,2.3157776543496945E-6,9.9999900000132978E-4,9.9999900000132978E-4,null,-2.3157730228028605E-12,1.0000000000000001E-15,3.831497635590386E-5,26099.454967976573,6.8118154962543708E-7,-26099.454967976573,50000000000000,-26099.454967976573,2E-14,2E-14,1.0439781987190628E-23,1.0000000000000001E-15,1.7415898343592667E-15,497941831337107.38,247946067395352.31,-431820350445103.19,1.000000000000248E+27,-431820350445103.19,9.9999999999975198E-28,9.999999999997518E-28,4.3182035044488894E-40,2.0000000000001E-14,1.0439781987190628E-23,49999999999997.5,49999999999997.492,-26099.454967973958,49999999999997.492,-26099.454967973961,2.0000000000001003E-14,2.0000000000001003E-14,1.0439781987190631E-23,1000000000000000,-574188.00929548463,1.0000000000000001E-15,1.0000000000000001E-15,5.7418800929548468E-25,2.1000000000001002E-14,1.1013969996486116E-23,47619047619045.344,47619047619045.344,-24974.988654161145]
[{"$f":"Main!A80","v":293.66476791740797},1000,1.845150155014961E-6,1000,-0.54196131262384539,9.9999985313900031E-4,9.9999970627802229E-4,5.4196115343789673E-7,1000.0009999997063,2.3871113084528576E-6,9.9999900000129378E-4,9.9999900000129378E-4,null,-2.3871065342388044E-12,1.0000000000000001E-15,4.0593303410329144E-5,24634.605119265696,6.0686376938215166E-7,-24634.605119265692,50000000000000,-24634.605119265692,2E-14,2E-14,9.8538420477062771E-24,1.0000000000000001E-15,1.8451501550149611E-15,476483420161371.88,227036449688678.47,-418916340337111.44,1.0000000000002271E+27,-418916340337111.44,9.9999999999977296E-28,9.9999999999977296E-28,4.1891634033692123E-40,2.0000000000001E-14,9.8538420477062771E-24,49999999999997.5,49999999999997.492,-24634.605119263226,49999999999997.492,-24634.605119263229,2.0000000000001003E-14,2.0000000000001003E-14,9.85384204770628E-24,1000000000000000,-541961.31262384541,1.0000000000000001E-15,1.0000000000000001E-15,5.4196131262384544E-25,2.1000000000001002E-14,1.0395803360330126E-23,47619047619045.344,47619047619045.344,-23573.250250179441]
[{"$f":"Main!A81","v":311.12698372208138},1000,1.9548684927896839E-6,1000,-0.51154336145290047,9.9999986916172036E-4,9.9999973832345782E-4,5.1154322759400249E-7,1000.0009999997383,2.4664117203836864E-6,9.9999900000126169E-4,9.9999900000126169E-4,null,-2.4664067875689358E-12,1.0000000000000001E-15,4.3007106841373046E-5,23251.970975131841,5.4065415422837352E-7,-23251.970975131841,50000000000000,-23251.970975131841,2E-14,2E-14,9.3007883900527356E-24,1.0000000000000001E-15,1.9548684927896843E-15,455416149401882.06,207403869136037.38,-405447289056714.31,1.0000000000002074E+27,-405447289056714.31,9.9999999999979251E-28,9.9999999999979251E-28,4.054472890565461E-40,2.0000000000001E-14,9.3007883900527356E-24,49999999999997.5,49999999999997.492,-23251.970975129512,49999999999997.492,-23251.970975129516,2.0000000000001003E-14,2.0000000000001003E-14,9.3007883900527385E-24,1000000000000000,-511543.36145290046,1.0000000000000001E-15,1.0000000000000001E-15,5.1154336145290046E-25,2.1000000000001002E-14,9.8123317515056386E-24,47619047619045.344,47619047619045.344,-22250.18537756168]
[{"$f":"Main!A82","v":329.62755691287043},1000,2.0711110224364502E-6,1000,-0.4828326386982395,9.9999988343634199E-4,9.9999976687269762E-4,4.8283252613676892E-7,1000.0009999997669,2.5539435485732192E-6,9.9999900000123307E-4,9.9999900000123307E-4,null,-2.5539384406949744E-12,1.0000000000000001E-15,4.5564442493601906E-5,21946.938122647251,4.8166809295930723E-7,-21946.938122647251,50000000000000,-21946.938122647251,2E-14,2E-14,8.7787752490588998E-24,1.0000000000000001E-15,2.0711110224364502E-15,434803121889800.38,189053754805116.59,-391551315409875,1.0000000000001891E+27,-391551315409875,9.9999999999981081E-28,9.9999999999981063E-28,3.9155131540972679E-40,2.0000000000001E-14,8.7787752490588998E-24,49999999999997.5,49999999999997.492,-21946.938122645053,49999999999997.492,-21946.938122645057,2.0000000000001003E-14,2.0000000000001003E-14,8.7787752490589028E-24,1000000000000000,-482832.63869823952,1.0000000000000001E-15,1.0000000000000001E-15,4.8283263869823961E-25,2.1000000000001002E-14,9.261607887757143E-24,47619047619045.344,47619047619045.344,-21001.378430286299]
[{"$f":"Main!A83","v":349.22823143300445},1000,2.1942656925921658E-6,1000,-0.45573332499158925,9.999998961535844E-4,9.9999979230717961E-4,4.5573323033904959E-7,1000.0009999997923,2.6499989229312155E-6,9.999990000012077E-4,9.999990000012077E-4,null,-2.6499936229424203E-12,1.0000000000000001E-15,4.8273845237027644E-5,20715.151135981327,4.2911748658654846E-7,-20715.151135981327,50000000000000,-20715.151135981327,2E-14,2E-14,8.28606045439253E-24,1.0000000000000001E-15,2.1942656925921658E-15,414698569294058.31,171974903374538.91,-377358630461603.38,1.0000000000001719E+27,-377358630461603.38,9.9999999999982803E-28,9.9999999999982803E-28,3.7735863046147356E-40,2.0000000000001E-14,8.28606045439253E-24,49999999999997.5,49999999999997.492,-20715.151135979253,49999999999997.492,-20715.151135979257,2.0000000000001003E-14,2.0000000000001003E-14,8.2860604543925345E-24,1000000000000000,-455733.32499158918,1.0000000000000001E-15,1.0000000000000001E-15,4.557333249915892E-25,2.1000000000001002E-14,8.7417937793841244E-24,47619047619045.344,47619047619045.344,-19822.661631254625]
[{"$f":"Main!A84","v":369.99442271163502},1000,2.3247435205201382E-6,1000,-0.43015497889257903,9.9999990748335984E-4,9.9999981496672811E-4,4.3015489929959588E-7,1000.000999999815,2.7548984198197339E-6,9.9999900000118493E-4,9.9999900000118493E-4,null,-2.7548929100321776E-12,1.0000000000000001E-15,5.1144357451443035E-5,19552.499040571776,3.8230021873156025E-7,-19552.499040571776,50000000000000,-19552.499040571776,2E-14,2E-14,7.8209996162287106E-24,1.0000000000000001E-15,2.3247435205201383E-15,395147897778948.5,156141861119122.34,-362989779918634.94,1.0000000000001561E+27,-362989779918634.94,9.9999999999984381E-28,9.9999999999984381E-28,3.6298977991852154E-40,2.0000000000001E-14,7.8209996162287106E-24,49999999999997.5,49999999999997.492,-19552.499040569819,49999999999997.492,-19552.499040569823,2.0000000000001003E-14,2.0000000000001003E-14,7.8209996162287135E-24,1000000000000000,-430154.97889257909,1.0000000000000001E-15,1.0000000000000001E-15,4.3015497889257914E-25,2.1000000000001002E-14,8.2511545951212922E-24,47619047619045.344,47619047619045.344,-18710.10112272223]
[{"$f":"Main!A85","v":391.99543598174995},1000,2.4629799638419874E-6,1000,-0.40601223504884154,9.9999991757704267E-4,9.9999983515409205E-4,4.0601216811938606E-7,1000.0009999998351,2.8689921319613734E-6,9.9999900000116476E-4,9.9999900000116476E-4,null,-2.8689863939866621E-12,1.0000000000000001E-15,5.4185559204523721E-5,18455.101593129159,3.4059077481271843E-7,-18455.101593129159,50000000000000,-18455.101593129159,2E-14,2E-14,7.3820406372516636E-24,1.0000000000000001E-15,2.4629799638419873E-15,376187947138703.19,141517371572431.75,-348554450718481.06,1.0000000000001416E+27,-348554450718481.06,9.9999999999985834E-28,9.9999999999985816E-28,3.4855445071838228E-40,2.0000000000001E-14,7.3820406372516636E-24,49999999999997.5,49999999999997.492,-18455.10159312731,49999999999997.492,-18455.101593127314,2.0000000000001003E-14,2.0000000000001003E-14,7.3820406372516666E-24,1000000000000000,-406012.23504884145,1.0000000000000001E-15,1.0000000000000001E-15,4.0601223504884148E-25,2.1000000000001002E-14,7.7880528723005075E-24,47619047619045.344,47619047619045.344,-17659.983837414431]
[{"$f":"Main!A86","v":415.30469757994587},1000,2.6094363738369775E-6,1000,-0.38322451929708334,9.9999992656949204E-4,9.9999985313898947E-4,3.8322446301634313E-7,1000.0009999998531,2.9926608368533204E-6,9.9999900000114698E-4,9.999990000011472E-4,null,-2.9926548515415045E-12,1.0000000000000001E-15,5.7407600224413501E-5,17419.296331685608,3.0343188469107572E-7,-17419.296331685608,50000000000000,-17419.296331685608,2E-14,2E-14,6.9677185326742424E-24,1.0000000000000001E-15,2.6094363738369776E-15,357847419524181.56,128054775660115.61,-334150789451039.69,1.0000000000001281E+27,-334150789451039.69,9.9999999999987197E-28,9.9999999999987215E-28,3.3415078945095416E-40,2.0000000000001E-14,6.9677185326742424E-24,49999999999997.5,49999999999997.492,-17419.296331683861,49999999999997.492,-17419.296331683865,2.0000000000001003E-14,2.0000000000001003E-14,6.9677185326742453E-24,1000000000000000,-383224.51929708337,1.0000000000000001E-15,1.0000000000000001E-15,3.8322451929708338E-25,2.1000000000001002E-14,7.350943051971329E-24,47619047619045.344,47619047619045.344,-16668.805106509357]
[{"$f":"Main!A87","v":440.0000000000008},1000,2.7646015351590232E-6,1000,-0.36171577975430691,9.9999993458085379E-4,9.999998691617119E-4,3.617157324280335E-7,1000.0009999998691,3.1263172675870566E-6,9.9999900000113094E-4,9.9999900000113094E-4,null,-3.126311014962719E-12,1.0000000000000001E-15,6.0821233773498504E-5,16441.626352468498,2.703270771141866E-7,-16441.626352468498,50000000000000,-16441.626352468498,2E-14,2E-14,6.5766505409873988E-24,1.0000000000000001E-15,2.764601535159023E-15,340147434412200.81,115700277137202.45,-319865163791834.31,1.0000000000001157E+27,-319865163791834.31,9.9999999999988435E-28,9.9999999999988435E-28,3.1986516379176029E-40,2.0000000000001E-14,6.5766505409873988E-24,49999999999997.5,49999999999997.492,-16441.62635246685,49999999999997.492,-16441.626352466854,2.0000000000001003E-14,2.0000000000001003E-14,6.5766505409874011E-24,1000000000000000,-361715.77975430689,1.0000000000000001E-15,1.0000000000000001E-15,3.6171577975430694E-25,2.1000000000001002E-14,6.9383663207417074E-24,47619047619045.344,47619047619045.344,-15733.25696313162]
[{"$f":"Main!A88","v":466.16376151809078},1000,2.9289932971100367E-6,1000,-0.3414142330017193,9.999999417181658E-4,9.9999988343633483E-4,3.4141419320522497E-7,1000.0009999998834,3.2704074903152618E-6,9.9999900000111662E-4,9.9999900000111662E-4,null,-3.2704009495108552E-12,1.0000000000000001E-15,6.4437852536420806E-5,15518.828772805422,2.4083404647965346E-7,-15518.828772805424,50000000000000,-15518.828772805424,2E-14,2E-14,6.2075315091221696E-24,1.0000000000000001E-15,2.9289932971100366E-15,323102169434419.06,104395011893228.05,-305772290086987.5,1.0000000000001045E+27,-305772290086987.5,9.9999999999989547E-28,9.9999999999989547E-28,3.0577229008692359E-40,2.0000000000001E-14,6.2075315091221696E-24,49999999999997.5,49999999999997.492,-15518.82877280387,49999999999997.492,-15518.828772803874,2.0000000000001003E-14,2.0000000000001003E-14,6.2075315091221726E-24,1000000000000000,-341414.23300171923,1.0000000000000001E-15,1.0000000000000001E-15,3.4141423300171926E-25,2.1000000000001002E-14,6.5489457421238917E-24,47619047619045.344,47619047619045.344,-14850.217102320332]
[{"$f":"Main!A89","v":493.88330125612504},1000,3.1031603019138343E-6,1000,-0.32225212451424529,9.999999480767882E-4,9.9999989615357919E-4,3.2225209104951557E-7,1000.0009999998962,3.42541239296335E-6,9.9999900000110383E-4,9.9999900000110383E-4,null,-3.4254055421495514E-12,1.0000000000000001E-15,6.8269526642104349E-5,14647.823841556607,2.1455874329327415E-7,-14647.823841556607,50000000000000,-14647.823841556607,2E-14,2E-14,5.8591295366226427E-24,1.0000000000000001E-15,3.1031603019138342E-15,306719551268463,94076883130327.297,-291935649057818.94,1.000000000000094E+27,-291935649057818.94,9.9999999999990605E-28,9.9999999999990605E-28,2.9193564905776409E-40,2.0000000000001E-14,5.8591295366226427E-24,49999999999997.5,49999999999997.492,-14647.82384155514,49999999999997.492,-14647.823841555144,2.0000000000001003E-14,2.0000000000001003E-14,5.8591295366226456E-24,1000000000000000,-322252.12451424531,1.0000000000000001E-15,1.0000000000000001E-15,3.2225212451424532E-25,2.1000000000001002E-14,6.1813816611368906E-24,47619047619045.344,47619047619045.344,-14016.738460626531]
[{"$f":"Main!A90","v":523.25113060119827},1000,3.2876838157585558E-6,1000,-0.30416550253609881,9.9999995374167668E-4,9.999999074833555E-4,3.0416547439572712E-7,1000.0009999999074,3.5918492901542827E-6,9.9999900000109256E-4,9.9999900000109256E-4,null,-3.591842106467143E-12,1.0000000000000001E-15,7.2329043946688226E-5,13825.704660731764,1.9115010936578005E-7,-13825.704660731764,50000000000000,-13825.704660731764,2E-14,2E-14,5.5302818642927054E-24,1.0000000000000001E-15,3.2876838157585559E-15,291001966269132.69,84682144372501.453,-278408115537202.47,1.0000000000000847E+27,-278408115537202.47,9.9999999999991538E-28,9.9999999999991556E-28,2.7840811553715538E-40,2.0000000000001E-14,5.5302818642927054E-24,49999999999997.5,49999999999997.492,-13825.70466073038,49999999999997.492,-13825.704660730384,2.0000000000001003E-14,2.0000000000001003E-14,5.5302818642927084E-24,1000000000000000,-304165.50253609882,1.0000000000000001E-15,1.0000000000000001E-15,3.0416550253609883E-25,2.1000000000001002E-14,5.8344473668288074E-24,47619047619045.344,47619047619045.344,-13230.039380562925]
[{"$f":"Main!A91","v":554.36526195374529},1000,3.4831796687185346E-6,1000,-0.28709400464774215,9.9999995878851874E-4,9.999999175770392E-4,2.8709398098460428E-7,1000.0009999999176,3.7702736497031387E-6,9.9999900000108236E-4,9.9999900000108215E-4,null,-3.7702661091677708E-12,1.0000000000000001E-15,7.6629952711807761E-5,13049.727483988281,1.7029538740635911E-7,-13049.727483988281,50000000000000,-13049.727483988281,2E-14,2E-14,5.219890993595312E-24,1.0000000000000001E-15,3.4831796687185349E-15,275946966282674.13,76146728200611.297,-265232735507805.56,1.0000000000000762E+27,-265232735507805.56,9.9999999999992381E-28,9.9999999999992381E-28,2.6523273550776516E-40,2.0000000000001E-14,5.219890993595312E-24,49999999999997.5,49999999999997.492,-13049.727483986973,49999999999997.492,-13049.727483986977,2.0000000000001003E-14,2.0000000000001003E-14,5.2198909935953142E-24,1000000000000000,-287094.0046477422,1.0000000000000001E-15,1.0000000000000001E-15,2.870940046477422E-25,2.1000000000001002E-14,5.5069849982430568E-24,47619047619045.344,47619047619045.344,-12487.494327080569]
[{"$f":"Main!A92","v":587.32953583481628},1000,3.6903003100299237E-6,1000,-0.27098065631192253,9.9999996328474397E-4,9.9999992656948943E-4,2.7098063641367457E-7,1000.0009999999265,3.9612809464435986E-6,9.9999900000107347E-4,9.9999900000107369E-4,null,-3.9612730238941717E-12,1.0000000000000001E-15,8.1186606820658329E-5,12317.302559632843,1.5171594234553778E-7,-12317.302559632844,50000000000000,-12317.302559632844,2E-14,2E-14,4.9269210238531378E-24,1.0000000000000001E-15,3.6903003100299238E-15,261547950691860.06,68407330511111.672,-252443592993474.84,1.0000000000000685E+27,-252443592993474.84,9.9999999999993152E-28,9.9999999999993152E-28,2.5244359299344027E-40,2.0000000000001E-14,4.9269210238531378E-24,49999999999997.5,49999999999997.492,-12317.302559631611,49999999999997.492,-12317.302559631615,2.0000000000001003E-14,2.0000000000001003E-14,4.92692102385314E-24,1000000000000000,-270980.65631192253,1.0000000000000001E-15,1.0000000000000001E-15,2.7098065631192254E-25,2.1000000000001002E-14,5.1979016801650623E-24,47619047619045.344,47619047619045.344,-11786.625125089718]
[{"$f":"Main!A93","v":622.2539674441631},1000,3.9097369855793704E-6,1000,-0.25577168072645007,9.9999996729042539E-4,9.9999993458085184E-4,2.5577166399408461E-7,1000.0009999999346,4.1655086495734545E-6,9.9999900000106545E-4,9.9999900000106567E-4,null,-4.1655003185691972E-12,1.0000000000000001E-15,8.6014213682746133E-5,11625.985487565913,1.3516353855709325E-7,-11625.985487565913,50000000000000,-11625.985487565913,2E-14,2E-14,4.6503941950263649E-24,1.0000000000000001E-15,3.9097369855793703E-15,247794810878014.63,61402268298071.039,-240066719363435.97,1.0000000000000614E+27,-240066719363435.97,9.9999999999993852E-28,9.9999999999993852E-28,2.4006671936340645E-40,2.0000000000001E-14,4.6503941950263649E-24,49999999999997.5,49999999999997.492,-11625.985487564749,49999999999997.492,-11625.985487564752,2.0000000000001003E-14,2.0000000000001003E-14,4.6503941950263678E-24,1000000000000000,-255771.68072645005,1.0000000000000001E-15,1.0000000000000001E-15,2.5577168072645009E-25,2.1000000000001002E-14,4.9061658757528178E-24,47619047619045.344,47619047619045.344,-11125.092688780836]
[{"$f":"Main!A94","v":659.2551138257412},1000,4.1422220448729029E-6,1000,-0.24141631934911961,9.9999997085908161E-4,9.9999994171816407E-4,2.4141630527893334E-7,1000.0009999999418,4.383638350151836E-6,9.9999900000105829E-4,9.9999900000105829E-4,null,-4.3836295828887974E-12,1.0000000000000001E-15,9.1128884987203866E-5,10973.469061323618,1.2041702323982665E-7,-10973.469061323618,50000000000000,-10973.469061323618,2E-14,2E-14,4.389387624529447E-24,1.0000000000000001E-15,4.1422220448729036E-15,234674527778245.06,55072133987942.313,-228121007463048.94,1.0000000000000551E+27,-228121007463048.94,9.9999999999994479E-28,9.9999999999994479E-28,2.2812100746302376E-40,2.0000000000001E-14,4.389387624529447E-24,49999999999997.5,49999999999997.492,-10973.469061322519,49999999999997.492,-10973.469061322523,2.0000000000001003E-14,2.0000000000001003E-14,4.3893876245294492E-24,1000000000000000,-241416.31934911961,1.0000000000000001E-15,1.0000000000000001E-15,2.4141631934911962E-25,2.1000000000001002E-14,4.6308039438785686E-24,47619047619045.344,47619047619045.344,-10500.689215143144]
[{"$f":"Main!A95","v":698.45646286600925},1000,4.3885313851843341E-6,1000,-0.22786666249579449,9.9999997403839302E-4,9.9999994807678668E-4,2.2786665066422517E-7,1000.000999999948,4.6163980358485594E-6,9.9999900000105201E-4,9.9999900000105201E-4,null,-4.6163888030668169E-12,1.0000000000000001E-15,9.6547690474055341E-5,10357.575567990658,1.07279371646637E-7,-10357.575567990658,50000000000000,-10357.575567990658,2E-14,2E-14,4.1430302271962628E-24,1.0000000000000001E-15,4.388531385184334E-15,222171716982935.06,49360271827145.398,-216619102094657.63,1.0000000000000494E+27,-216619102094657.63,9.9999999999995071E-28,9.9999999999995071E-28,2.1661910209463627E-40,2.0000000000001E-14,4.1430302271962628E-24,49999999999997.5,49999999999997.492,-10357.575567989621,49999999999997.492,-10357.575567989627,2.0000000000001003E-14,2.0000000000001003E-14,4.1430302271962665E-24,1000000000000000,-227866.66249579444,1.0000000000000001E-15,1.0000000000000001E-15,2.2786666249579446E-25,2.1000000000001002E-14,4.3708968896920607E-24,47619047619045.344,47619047619045.344,-9911.3308156273088]
[{"$f":"Main!A96","v":739.98884542327039},1000,4.6494870410402781E-6,1000,-0.21507748944628943,9.9999997687083759E-4,9.9999995374167581E-4,2.1507747949716517E-7,1000.0009999999537,4.8645645205374433E-6,9.9999900000104637E-4,9.9999900000104659E-4,null,-4.8645547914234471E-12,1.0000000000000001E-15,1.0228871490288611E-4,9776.2495202858845,9.5575054682889997E-8,-9776.2495202858827,50000000000000,-9776.2495202858827,2E-14,2E-14,3.9104998081143531E-24,1.0000000000000001E-15,4.6494870410402783E-15,210269118855299.06,44213102344183.883,-205568246393470.5,1.0000000000000443E+27,-205568246393470.5,9.9999999999995574E-28,9.9999999999995574E-28,2.0556824639345231E-40,2.0000000000001E-14,3.9104998081143531E-24,49999999999997.5,49999999999997.492,-9776.2495202849041,49999999999997.492,-9776.2495202849095,2.0000000000001003E-14,2.0000000000001003E-14,3.910499808114356E-24,1000000000000000,-215077.48944628946,1.0000000000000001E-15,1.0000000000000001E-15,2.1507748944628948E-25,2.1000000000001002E-14,4.1255772975606454E-24,47619047619045.344,47619047619045.344,-9355.0505613611131]
[{"$f":"Main!A97","v":783.99087196350035},1000,4.9259599276839773E-6,1000,-0.2030061175244206,9.9999997939425873E-4,9.9999995878851788E-4,2.030061091582376E-7,1000.0009999999588,5.1289660368422146E-6,9.9999900000104116E-4,9.9999900000104116E-4,null,-5.1289557789259494E-12,1.0000000000000001E-15,1.083711184090475E-4,9227.5507965645738,8.5147693703179516E-8,-9227.5507965645738,50000000000000,-9227.5507965645738,2E-14,2E-14,3.6910203186258296E-24,1.0000000000000001E-15,4.925959927683977E-15,198948033506874.56,39580320036252.484,-194971070423486.94,1.0000000000000396E+27,-194971070423486.94,9.999999999999604E-28,9.999999999999604E-28,1.9497107042347149E-40,2.0000000000001E-14,3.6910203186258296E-24,49999999999997.5,49999999999997.492,-9227.5507965636498,49999999999997.492,-9227.5507965636552,2.0000000000001003E-14,2.0000000000001003E-14,3.6910203186258326E-24,1000000000000000,-203006.11752442061,1.0000000000000001E-15,1.0000000000000001E-15,2.0300611752442062E-25,2.1000000000001002E-14,3.894026436150253E-24,47619047619045.344,47619047619045.344,-8829.9919187072137]
[{"$f":"Main!A98","v":830.60939515989219},1000,5.2188727476739575E-6,1000,-0.19161225964854159,9.9999998164237145E-4,9.999999632847431E-4,1.9161225261344826E-7,1000.0009999999633,5.4104850002874058E-6,9.9999900000103683E-4,9.9999900000103683E-4,null,-5.4104741793340351E-12,1.0000000000000001E-15,1.1481520044882707E-4,8709.6481658427983,7.5857971172768825E-8,-8709.6481658427965,50000000000000,-8709.6481658427965,2E-14,2E-14,3.4838592663371182E-24,1.0000000000000001E-15,5.2188727476739583E-15,188188702205384.66,35414987637746.953,-184826313841847.69,1.0000000000000355E+27,-184826313841847.69,9.9999999999996452E-28,9.9999999999996452E-28,1.8482631384183458E-40,2.0000000000001E-14,3.4838592663371182E-24,49999999999997.5,49999999999997.492,-8709.6481658419234,49999999999997.492,-8709.6481658419289,2.0000000000001003E-14,2.0000000000001003E-14,3.4838592663371212E-24,1000000000000000,-191612.2596485416,1.0000000000000001E-15,1.0000000000000001E-15,1.9161225964854162E-25,2.1000000000001002E-14,3.675471525985663E-24,47619047619045.344,47619047619045.344,-8334.4025532546748]
[{"$f":"Main!A99","v":880.00000000000205},1000,5.5292030703180489E-6,1000,-0.18085788987715337,9.9999998364521227E-4,9.9999996729042495E-4,1.8085788396136865E-7,1000.0009999999672,5.7100609542794177E-6,9.9999900000103271E-4,9.9999900000103249E-4,null,-5.7100495341750122E-12,1.0000000000000001E-15,1.2164246754699709E-4,8220.8131762342437,6.7581769278546558E-8,-8220.8131762342437,50000000000000,-8220.8131762342437,2E-14,2E-14,3.2883252704936972E-24,1.0000000000000001E-15,5.52920307031805E-15,177970638013707.44,31673547995006.09,-175129478821853.78,1.0000000000000316E+27,-175129478821853.78,9.9999999999996829E-28,9.9999999999996811E-28,1.7512947882184266E-40,2.0000000000001E-14,3.2883252704936972E-24,49999999999997.5,49999999999997.492,-8220.8131762334197,49999999999997.492,-8220.8131762334251,2.0000000000001003E-14,2.0000000000001003E-14,3.2883252704936998E-24,1000000000000000,-180857.88987715339,1.0000000000000001E-15,1.0000000000000001E-15,1.808578898771534E-25,2.1000000000001002E-14,3.469183160370853E-24,47619047619045.344,47619047619045.344,-7866.6284815658082]
[{"$f":"Main!A100","v":932.32752303618201},1000,5.857986594220076E-6,1000,-0.17070711650085957,9.999999854295406E-4,9.9999997085908139E-4,1.7070711152629738E-7,1000.0009999999709,6.0286937057463732E-6,9.9999900000102902E-4,9.9999900000102902E-4,null,-6.0286816483773978E-12,1.0000000000000001E-15,1.2887570507284167E-4,7759.4143864027074,6.0208511619913311E-8,-7759.4143864027074,50000000000000,-7759.4143864027074,2E-14,2E-14,3.103765754561083E-24,1.0000000000000001E-15,5.8579865942200763E-15,168272909252887.75,28315771988430.598,-165873412713218.78,1.0000000000000283E+27,-165873412713218.78,9.999999999999717E-28,9.999999999999717E-28,1.6587341271320939E-40,2.0000000000001E-14,3.103765754561083E-24,49999999999997.5,49999999999997.492,-7759.4143864019306,49999999999997.492,-7759.414386401937,2.0000000000001003E-14,2.0000000000001003E-14,3.1037657545610863E-24,1000000000000000,-170707.11650085956,1.0000000000000001E-15,1.0000000000000001E-15,1.7070711650085956E-25,2.1000000000001002E-14,3.2744728710619458E-24,47619047619045.344,47619047619045.344,-7425.1085511601659]
[{"$f":"Main!A101","v":987.76660251225053},1000,6.2063206038276711E-6,1000,-0.16112606225712259,9.9999998701919631E-4,9.9999997403839259E-4,1.6112605807403103E-7,1000.0009999999741,6.3674466619017021E-6,9.9999900000102599E-4,9.9999900000102599E-4,null,-6.3674339270278114E-12,1.0000000000000001E-15,1.3653905328420875E-4,7323.9119207783006,5.3639685823318498E-8,-7323.9119207783015,50000000000000,-7323.9119207783015,2E-14,2E-14,2.9295647683113206E-24,1.0000000000000001E-15,6.2063206038276724E-15,159074379835851.53,25304658320160.77,-157048822305233.09,1.0000000000000253E+27,-157048822305233.09,9.9999999999997475E-28,9.9999999999997475E-28,1.5704882230522516E-40,2.0000000000001E-14,2.9295647683113206E-24,49999999999997.5,49999999999997.492,-7323.9119207775684,49999999999997.492,-7323.9119207775748,2.0000000000001003E-14,2.0000000000001003E-14,2.9295647683113239E-24,1000000000000000,-161126.0622571226,1.0000000000000001E-15,1.0000000000000001E-15,1.6112606225712261E-25,2.1000000000001002E-14,3.0906908305684464E-24,47619047619045.344,47619047619045.344,-7008.3692303132675]
[{"$f":"Main!A102","v":1046.502261202397},1000,6.5753676315171142E-6,1000,-0.15208275126804932,9.999999884354187E-4,9.9999997687083759E-4,1.5208274775050267E-7,1000.0009999999769,6.7274503792676167E-6,9.9999900000102317E-4,9.9999900000102317E-4,null,-6.7274369243873517E-12,1.0000000000000001E-15,1.4465808789337651E-4,6912.8523303658794,4.7787527341444972E-8,-6912.8523303658794,50000000000000,-6912.8523303658794,2E-14,2E-14,2.7651409321463516E-24,1.0000000000000001E-15,6.5753676315171142E-15,150353910710499.44,22606298465940.84,-148644723201362.38,1.0000000000000226E+27,-148644723201362.38,9.9999999999997744E-28,9.9999999999997744E-28,1.4864472320135566E-40,2.0000000000001E-14,2.7651409321463516E-24,49999999999997.5,49999999999997.492,-6912.8523303651873,49999999999997.492,-6912.8523303651937,2.0000000000001003E-14,2.0000000000001003E-14,2.7651409321463549E-24,1000000000000000,-152082.75126804935,1.0000000000000001E-15,1.0000000000000001E-15,1.5208275126804937E-25,2.1000000000001002E-14,2.9172236834144044E-24,47619047619045.344,47619047619045.344,-6615.0196902814641]
[{"$f":"Main!A103","v":1108.730523907491},1000,6.9663593374370733E-6,1000,-0.14354700232387102,9.9999998969712927E-4,9.9999997939425873E-4,1.4354699936597862E-7,1000.0009999999794,7.109906336803052E-6,9.9999900000102056E-4,9.9999900000102056E-4,null,-7.109892117012001E-12,1.0000000000000001E-15,1.532599054236156E-4,6524.8637419941369,4.2573846851589738E-8,-6524.8637419941369,50000000000000,-6524.8637419941369,2E-14,2E-14,2.6099454967976545E-24,1.0000000000000001E-15,6.9663593374370737E-15,142090526648979.69,20189717763384.406,-140648828861172.11,1.0000000000000202E+27,-140648828861172.11,9.9999999999997977E-28,9.9999999999997977E-28,1.4064882886116643E-40,2.0000000000001E-14,2.6099454967976545E-24,49999999999997.5,49999999999997.492,-6524.863741993483,49999999999997.492,-6524.8637419934903,2.0000000000001003E-14,2.0000000000001003E-14,2.6099454967976578E-24,1000000000000000,-143547.00232387101,1.0000000000000001E-15,1.0000000000000001E-15,1.4354700232387103E-25,2.1000000000001002E-14,2.7534924991215287E-24,47619047619045.344,47619047619045.344,-6243.7471635402853]
[{"$f":"Main!A104","v":1174.659071669633},1000,7.3806006200598507E-6,1000,-0.13549032815596121,9.9999999082118563E-4,9.9999998164237145E-4,1.3549032566868007E-7,1000.0009999999817,7.5160909457285309E-6,9.999990000010184E-4,9.999990000010184E-4,null,-7.5160759135694634E-12,1.0000000000000001E-15,1.6237321364131671E-4,6158.6512798164194,3.7928985586384426E-8,-6158.6512798164204,50000000000000,-6158.6512798164204,2E-14,2E-14,2.4634605119265682E-24,1.0000000000000001E-15,7.3806006200598508E-15,134263552480547.47,18026701524696.727,-133047884450810.5,1.000000000000018E+27,-133047884450810.5,9.9999999999998192E-28,9.9999999999998174E-28,1.3304788445080569E-40,2.0000000000001E-14,2.4634605119265682E-24,49999999999997.5,49999999999997.492,-6158.6512798158037,49999999999997.492,-6158.651279815811,2.0000000000001003E-14,2.0000000000001003E-14,2.4634605119265715E-24,1000000000000000,-135490.32815596121,1.0000000000000001E-15,1.0000000000000001E-15,1.3549032815596122E-25,2.1000000000001002E-14,2.5989508400825326E-24,47619047619045.344,47619047619045.344,-5893.312562544862]
[{"$f":"Main!A105","v":1244.5079348883266},1000,7.8194739711587441E-6,1000,-0.12788584036322498,9.9999999182260593E-4,9.9999998364521184E-4,1.2788583827167915E-7,1000.0009999999836,7.9473598094304229E-6,9.9999900000101644E-4,9.9999900000101644E-4,null,-7.9473439147349081E-12,1.0000000000000001E-15,1.7202842736549235E-4,5812.9927437829538,3.3790884639273272E-8,-5812.9927437829529,50000000000000,-5812.9927437829529,2E-14,2E-14,2.325197097513181E-24,1.0000000000000001E-15,7.8194739711587437E-15,126852722633904.72,16091613239634.363,-125827950881274.33,1.0000000000000161E+27,-125827950881274.33,9.999999999999839E-28,9.999999999999839E-28,1.2582795088127027E-40,2.0000000000001E-14,2.325197097513181E-24,49999999999997.5,49999999999997.492,-5812.9927437823708,49999999999997.492,-5812.992743782379,2.0000000000001003E-14,2.0000000000001003E-14,2.3251970975131846E-24,1000000000000000,-127885.84036322497,1.0000000000000001E-15,1.0000000000000001E-15,1.2788584036322498E-25,2.1000000000001002E-14,2.4530829378764097E-24,47619047619045.344,47619047619045.344,-5562.54634439042]
[{"$f":"Main!A106","v":1318.5102276514829},1000,8.2844440897458074E-6,1000,-0.12070815967455978,9.9999999271477009E-4,9.9999998542954016E-4,1.2070815791578639E-7,1000.0009999999854,8.4051522476615943E-6,9.9999900000101449E-4,9.9999900000101428E-4,null,-8.4051354373825566E-12,1.0000000000000001E-15,1.8225776997440776E-4,5486.7345306618081,3.0104255809956655E-8,-5486.7345306618081,50000000000000,-5486.7345306618081,2E-14,2E-14,2.1946938122647231E-24,1.0000000000000001E-15,8.2844440897458087E-15,119838267566838.31,14361210373421.133,-118974644399684.89,1.0000000000000143E+27,-118974644399684.89,9.9999999999998569E-28,9.9999999999998569E-28,1.1897464439968147E-40,2.0000000000001E-14,2.1946938122647231E-24,49999999999997.5,49999999999997.492,-5486.7345306612588,49999999999997.492,-5486.7345306612669,2.0000000000001003E-14,2.0000000000001003E-14,2.1946938122647268E-24,1000000000000000,-120708.15967455978,1.0000000000000001E-15,1.0000000000000001E-15,1.2070815967455979E-25,2.1000000000001002E-14,2.3154019719392865E-24,47619047619045.344,47619047619045.344,-5250.3446075715765]
[{"$f":"Main!A107","v":1396.9129257320189},1000,8.7770627703686699E-6,1000,-0.11393333124789722,9.9999999350959805E-4,9.9999998701919609E-4,1.1393332976895098E-7,1000.000999999987,8.8909961001376216E-6,9.9999900000101298E-4,9.9999900000101298E-4,null,-8.8909783181723248E-12,1.0000000000000001E-15,1.9309538094811071E-4,5178.787783995328,2.6819842911659242E-8,-5178.787783995328,50000000000000,-5178.787783995328,2E-14,2E-14,2.071515113598131E-24,1.0000000000000001E-15,8.7770627703686696E-15,113200980343324.94,12814461950689.84,-112473336909705.67,1.0000000000000128E+27,-112473336909705.67,9.9999999999998712E-28,9.9999999999998712E-28,1.1247333690970277E-40,2.0000000000001E-14,2.071515113598131E-24,49999999999997.5,49999999999997.492,-5178.7877839948096,49999999999997.492,-5178.7877839948187,2.0000000000001003E-14,2.0000000000001003E-14,2.0715151135981351E-24,1000000000000000,-113933.33124789721,1.0000000000000001E-15,1.0000000000000001E-15,1.1393333124789721E-25,2.1000000000001002E-14,2.1854484448460322E-24,47619047619045.344,47619047619045.344,-4955.6654078136589]
[{"$f":"Main!A108","v":1479.9776908465412},1000,9.2989740820805596E-6,1000,-0.10753874472314467,9.9999999421770914E-4,9.9999998843541826E-4,1.0753874347950407E-7,1000.0009999999884,9.406512825560064E-6,9.9999900000101167E-4,9.9999900000101167E-4,null,-9.4064940125628525E-12,1.0000000000000001E-15,2.0457742980577233E-4,4888.1247601429395,2.3893763670722473E-8,-4888.1247601429386,50000000000000,-4888.1247601429386,2E-14,2E-14,1.9552499040571754E-24,1.0000000000000001E-15,9.2989740820805612E-15,106922266290962.88,11432371028795.578,-106309321893498.75,1.0000000000000114E+27,-106309321893498.75,9.9999999999998856E-28,9.9999999999998856E-28,1.0630932189349633E-40,2.0000000000001E-14,1.9552499040571754E-24,49999999999997.5,49999999999997.492,-4888.1247601424493,49999999999997.492,-4888.1247601424584,2.0000000000001003E-14,2.0000000000001003E-14,1.9552499040571795E-24,1000000000000000,-107538.74472314469,1.0000000000000001E-15,1.0000000000000001E-15,1.0753874472314469E-25,2.1000000000001002E-14,2.0627886487803242E-24,47619047619045.344,47619047619045.344,-4677.5252806805602]
[{"$f":"Main!A109","v":1567.9817439270012},1000,9.8519198553679581E-6,1000,-0.10150305876221027,9.9999999484856454E-4,9.9999998969712905E-4,1.0150305771643737E-7,1000.0009999999897,9.9534229130843957E-6,9.9999900000101016E-4,9.9999900000100994E-4,null,-9.9534030062686317E-12,1.0000000000000001E-15,2.1674223681809507E-4,4613.7753982822851,2.1286923425794859E-8,-4613.7753982822851,50000000000000,-4613.7753982822851,2E-14,2E-14,1.8455101593129141E-24,1.0000000000000001E-15,9.8519198553679588E-15,100984178348735.94,10197804276769.309,-100467950435459.83,1.0000000000000102E+27,-100467950435459.83,9.9999999999998981E-28,9.9999999999998981E-28,1.0046795043545778E-40,2.0000000000001E-14,1.8455101593129141E-24,49999999999997.5,49999999999997.492,-4613.7753982818231,49999999999997.492,-4613.7753982818331,2.0000000000001003E-14,2.0000000000001003E-14,1.8455101593129185E-24,1000000000000000,-101503.05876221028,1.0000000000000001E-15,1.0000000000000001E-15,1.0150305876221029E-25,2.1000000000001002E-14,1.9470132180751287E-24,47619047619045.344,47619047619045.344,-4414.9959593536114]
[{"$f":"Main!A110","v":1661.2187903197848},{"$f":"1/$R$18/1000","v":1000},1.0437745495347917E-5,{"$f":"$R$17*1000","v":1000},-9.580612982427078E-2,9.9999999541059282E-4,9.9999999082118563E-4,9.5806128944884105E-8,1000.0009999999908,1.0533551624292801E-5,9.9999900000100929E-4,9.9999900000100929E-4,null,-1.0533530557221347E-11,{"$f":"1/$R$22/1000","v":1.0000000000000001E-15},2.2963040089765419E-4,4354.8240829213983,1.89644927931922E-8,-4354.8240829213983,50000000000000,-4354.8240829213983,2E-14,2E-14,1.7419296331685591E-24,1.0000000000000001E-15,1.0437745495347918E-14,95369440406298.625,9095330163410.5449,-94934741441840.453,1.0000000000000091E+27,-94934741441840.453,9.9999999999999089E-28,9.9999999999999089E-28,9.4934741441838717E-41,2.0000000000001E-14,1.7419296331685591E-24,49999999999997.5,49999999999997.492,-4354.8240829209617,49999999999997.492,-4354.8240829209726,2.0000000000001003E-14,2.0000000000001003E-14,1.7419296331685639E-24,1000000000000000,-95806.129824270771,1.0000000000000001E-15,1.0000000000000001E-15,9.5806129824270777E-26,2.1000000000001002E-14,1.8377357629928348E-24,47619047619045.344,47619047619045.344,-4167.2012766273456]
[{"$f":"Main!A111","v":1760.0000000000045},1000,{"$f":"2*PI()*A112*$R$19/1000000000","v":1.1058406140636099E-5},1000,{"$f":"-1/(2*PI()*A112*$R$20/1000000000)","v":-9.0428944938576686E-2},{"$f":"1/(D112^2+E112^2)^0.5","v":9.9999999591130297E-4},{"$f":"D112*F112^2","v":9.9999999182260593E-4},{"$f":"-E112*F112^2","v":9.0428944199103582E-8},{"$f":"B112+G112","v":1000.0009999999918},{"$f":"C112+H112","v":1.1148835084835203E-5},{"$f":"1/(I112^2+J112^2)^0.5","v":9.9999900000100799E-4},{"$f":"I112*K112^2","v":9.9999900000100777E-4},null,{"$f":"-J112*K112^2","v":-1.1148812787198657E-11},1.0000000000000001E-15,{"$f":"2*PI()*A112*$R$7/1000000000","v":2.432849350939942E-4},{"$f":"1/(O112^2+P112^2)^0.5","v":4110.4065881171209},{"$f":"O112*Q112^2","v":1.6895442319636633E-8},{"$f":"-P112*Q112^2","v":-4110.4065881171209},{"$f":"R112+$R$5*1000+$R$11*1000","v":50000000000000},{"$f":"S112+2*PI()*A112*$R$6","v":-4110.4065881171209},{"$f":"1/(T112^2+U112^2)^0.5","v":2E-14},{"$f":"T112*V112^2","v":2E-14},{"$f":"-U112*V112^2","v":1.6441626352468482E-24},{"$f":"1/($R$23*1000)","v":1.0000000000000001E-15},{"$f":"2*PI()*A112*$R$21/1000000000","v":1.1058406140636102E-14},{"$f":"1/(Y112^2+Z112^2)^0.5","v":90061460647253.953},{"$f":"Y112*AA112^2","v":8111066693916.873},{"$f":"-Z112*AA112^2","v":-89695469735119.313},{"$f":"$R$12*1000+AB112","v":1.0000000000000081E+27},{"$f":"AC112","v":-89695469735119.313},{"$f":"1/(AD112^2+AE112^2)^0.5","v":9.9999999999999197E-28},{"$f":"AD112*AF112^2","v":9.9999999999999215E-28},{"$f":"-AE112*AF112^2","v":8.9695469735117868E-41},{"$f":"W112+AG112","v":2.0000000000001E-14},{"$f":"X112+AH112","v":1.6441626352468482E-24},{"$f":"1/(AI112^2+AJ112^2)^0.5","v":49999999999997.5},{"$f":"AI112*AK112^2","v":49999999999997.492},{"$f":"-AJ112*AK112^2","v":-4110.4065881167089},{"$f":"L112+AL112","v":49999999999997.492},{"$f":"N112+AM112","v":-4110.4065881167198},{"$f":"1/(AN112^2+AO112^2)^0.5","v":2.0000000000001003E-14},{"$f":"AN112*AP112^2","v":2.0000000000001003E-14},{"$f":"-AO112*AP112^2","v":1.6441626352468528E-24},{"$f":"$R$24*1000","v":1000000000000000},{"$f":"-1/(2*PI()*A112*$R$25/1000000000)","v":-90428.944938576678},{"$f":"1/(AS112^2+AT112^2)^0.5","v":1.0000000000000001E-15},{"$f":"AS112*AU112^2","v":1.0000000000000001E-15},{"$f":"-AT112*AU112^2","v":9.0428944938576688E-26},{"$f":"AQ112+AV112","v":2.1000000000001002E-14},{"$f":"AR112+AW112","v":1.7345915801854294E-24},{"$f":"1/(AX112^2+AY112^2)^0.5","v":47619047619045.344},{"$f":"AX112*AZ112^2","v":47619047619045.344},{"$f":"-AY112*AZ112^2","v":-3933.3142407829109}]
[{"$f":"Main!A112","v":1864.6550460723645},1000,1.1715973188440155E-5,1000,-8.5353558250429742E-2,9.9999999635738517E-4,9.9999999271477031E-4,8.5353557628609467E-8,1000.0009999999927,1.1801326746068766E-5,9.9999900000100712E-4,9.999990000010069E-4,null,-1.1801303143450846E-11,1.0000000000000001E-15,2.5775141014568344E-4,3879.7071932013519,1.5052127904978315E-8,-3879.7071932013519,50000000000000,-3879.7071932013519,2E-14,2E-14,1.5518828772805408E-24,1.0000000000000001E-15,1.1715973188440156E-14,85044336643708.828,7232539195168.4775,-84736235294936.406,1.0000000000000073E+27,-84736235294936.406,9.9999999999999268E-28,9.9999999999999268E-28,8.4736235294935167E-41,2.0000000000001E-14,1.5518828772805408E-24,49999999999997.5,49999999999997.492,-3879.7071932009635,49999999999997.492,-3879.7071932009753,2.0000000000001003E-14,2.0000000000001003E-14,1.5518828772805457E-24,1000000000000000,-85353.558250429749,1.0000000000000001E-15,1.0000000000000001E-15,8.5353558250429759E-26,2.1000000000001002E-14,1.6372364355309755E-24,47619047619045.344,47619047619045.344,-3712.5542755800884]
[{"$f":"Main!A113","v":1975.5332050245017},1000,1.2412641207655346E-5,1000,-8.0563031128561266E-2,9.9999999675479904E-4,9.9999999350959805E-4,8.0563030605674821E-8,1000.0009999999935,1.249320423826102E-5,9.9999900000100647E-4,9.9999900000100647E-4,null,-1.2493179251890186E-11,1.0000000000000001E-15,2.7307810656841761E-4,3661.9559603891485,1.3409921455829613E-8,-3661.9559603891485,50000000000000,-3661.9559603891485,2E-14,2E-14,1.4647823841556594E-24,1.0000000000000001E-15,1.2412641207655348E-14,80302853709238.797,6448548313847.4082,-80043516530018.734,1.0000000000000065E+27,-80043516530018.734,9.9999999999999358E-28,9.9999999999999358E-28,8.0043516530017708E-41,2.0000000000001E-14,1.4647823841556594E-24,49999999999997.5,49999999999997.492,-3661.9559603887819,49999999999997.492,-3661.9559603887942,2.0000000000001003E-14,2.0000000000001003E-14,1.4647823841556645E-24,1000000000000000,-80563.03112856127,1.0000000000000001E-15,1.0000000000000001E-15,8.0563031128561273E-26,2.1000000000001002E-14,1.5453454152842258E-24,47619047619045.344,47619047619045.344,-3504.1846151566397]
[{"$f":"Main!A114","v":2093.0045224047949},1000,1.3150735263034234E-5,1000,-7.6041375634024647E-2,9.9999999710885458E-4,9.9999999421770914E-4,7.6041375194331298E-8,1000.0009999999942,1.3226776638228565E-5,9.999990000010056E-4,9.9999900000100539E-4,null,-1.3226750184715115E-11,1.0000000000000001E-15,2.8931617578675312E-4,3456.4261651829383,1.1946881835361233E-8,-3456.4261651829383,50000000000000,-3456.4261651829383,2E-14,2E-14,1.3825704660731753E-24,1.0000000000000001E-15,1.3150735263034235E-14,75822477802415.484,5749048140097.7891,-75604210104865.375,1.0000000000000058E+27,-75604210104865.375,9.999999999999943E-28,9.999999999999943E-28,7.5604210104864512E-41,2.0000000000001E-14,1.3825704660731753E-24,49999999999997.5,49999999999997.492,-3456.4261651825923,49999999999997.492,-3456.4261651826055,2.0000000000001003E-14,2.0000000000001003E-14,1.3825704660731809E-24,1000000000000000,-76041.375634024647,1.0000000000000001E-15,1.0000000000000001E-15,7.6041375634024651E-26,2.1000000000001002E-14,1.4586118417072055E-24,47619047619045.344,47619047619045.344,-3307.5098451407398]
[{"$f":"Main!A115","v":2217.461047814983},1000,1.3932718674874152E-5,1000,-7.1773501161935482E-2,9.9999999742428217E-4,9.9999999484856432E-4,7.177350079219891E-8,1000.0009999999949,1.400449217566635E-5,9.9999900000100495E-4,9.9999900000100474E-4,null,-1.400446416672415E-11,1.0000000000000001E-15,3.0651981084723132E-4,3262.4318709970671,1.0643461712897425E-8,-3262.4318709970671,50000000000000,-3262.4318709970671,2E-14,2E-14,1.3049727483988269E-24,1.0000000000000001E-15,1.3932718674874152E-14,71589344082452.203,5125034186155.7354,-71405659514820.453,1.0000000000000051E+27,-71405659514820.453,9.9999999999999484E-28,9.9999999999999484E-28,7.1405659514819724E-41,2.0000000000001E-14,1.3049727483988269E-24,49999999999997.5,49999999999997.492,-3262.4318709967406,49999999999997.492,-3262.4318709967547,2.0000000000001003E-14,2.0000000000001003E-14,1.3049727483988328E-24,1000000000000000,-71773.501161935477,1.0000000000000001E-15,1.0000000000000001E-15,7.1773501161935482E-26,2.1000000000001002E-14,1.3767462495607682E-24,47619047619045.344,47619047619045.344,-3121.8735817701513]
[{"$f":"Main!A116","v":2349.318143339267},1000,1.4761201240119708E-5,1000,-6.7745164077980577E-2,9.9999999770529653E-4,9.9999999541059304E-4,6.7745163767070454E-8,1000.0009999999954,1.4828946403886779E-5,9.9999900000100452E-4,9.9999900000100452E-4,null,-1.4828916746038592E-11,1.0000000000000001E-15,3.2474642728263353E-4,3079.3256399082084,9.4822463965960965E-9,-3079.3256399082079,50000000000000,-3079.3256399082079,2E-14,2E-14,1.2317302559632832E-24,1.0000000000000001E-15,1.4761201240119708E-14,67590242050924.086,4568440820502.5068,-67435674305015.102,1.0000000000000045E+27,-67435674305015.102,9.9999999999999537E-28,9.9999999999999537E-28,6.7435674305014483E-41,2.0000000000001E-14,1.2317302559632832E-24,49999999999997.5,49999999999997.492,-3079.3256399078996,49999999999997.492,-3079.3256399079146,2.0000000000001003E-14,2.0000000000001003E-14,1.2317302559632894E-24,1000000000000000,-67745.164077980575,1.0000000000000001E-15,1.0000000000000001E-15,6.7745164077980577E-26,2.1000000000001002E-14,1.29947542004127E-24,47619047619045.344,47619047619045.344,-2946.6562812724396]
[{"$f":"Main!A117","v":2489.0158697766542},1000,1.5638947942317492E-5,1000,-6.3942920181612461E-2,9.9999999795565139E-4,9.9999999591130297E-4,6.3942919920169229E-8,1000.0009999999959,1.5702890862237661E-5,9.9999900000100408E-4,9.9999900000100408E-4,null,-1.5702859456503174E-11,1.0000000000000001E-15,3.4405685473098486E-4,2906.4963718914755,8.4477211598183115E-9,-2906.4963718914751,50000000000000,-2906.4963718914751,2E-14,2E-14,1.1625985487565899E-24,1.0000000000000001E-15,1.5638947942317494E-14,63812598067176.141,4072047672082.9727,-63682541562340.742,1.0000000000000041E+27,-63682541562340.742,9.9999999999999591E-28,9.9999999999999591E-28,6.3682541562340216E-41,2.0000000000001E-14,1.1625985487565899E-24,49999999999997.5,49999999999997.492,-2906.496371891184,49999999999997.492,-2906.4963718911999,2.0000000000001003E-14,2.0000000000001003E-14,1.1625985487565965E-24,1000000000000000,-63942.920181612477,1.0000000000000001E-15,1.0000000000000001E-15,6.3942920181612478E-26,2.1000000000001002E-14,1.2265414689382091E-24,47619047619045.344,47619047619045.344,-2781.2731721952196]
[{"$f":"Main!A118","v":2637.0204553029671},1000,1.6568888179491628E-5,1000,-6.0354079837279848E-2,9.9999999817869259E-4,9.9999999635738517E-4,6.0354079617433187E-8,1000.0009999999963,1.6629242259109061E-5,9.9999900000100365E-4,9.9999900000100365E-4,null,-1.662920900067455E-11,1.0000000000000001E-15,3.6451553994881579E-4,2743.3672653309022,7.5260639524891539E-9,-2743.3672653309022,50000000000000,-2743.3672653309022,2E-14,2E-14,1.0973469061323608E-24,1.0000000000000001E-15,1.6568888179491627E-14,60244455898040.133,3629394466450.9028,-60135031073890.68,1.0000000000000036E+27,-60135031073890.68,9.9999999999999645E-28,9.9999999999999645E-28,6.0135031073890258E-41,2.0000000000001E-14,1.0973469061323608E-24,49999999999997.5,49999999999997.492,-2743.3672653306276,49999999999997.492,-2743.3672653306444,2.0000000000001003E-14,2.0000000000001003E-14,1.0973469061323678E-24,1000000000000000,-60354.079837279845,1.0000000000000001E-15,1.0000000000000001E-15,6.0354079837279847E-26,2.1000000000001002E-14,1.1577009859696477E-24,47619047619045.344,47619047619045.344,-2625.1723037857982]
[{"$f":"Main!A119","v":2793.8258514640393},1000,1.755412554073735E-5,1000,-5.6966665623948573E-2,9.9999999837739953E-4,9.9999999675479904E-4,5.6966665439080293E-8,1000.0009999999968,1.7611092206176432E-5,9.99999000001003E-4,9.9999900000100278E-4,null,-1.761105698404496E-11,1.0000000000000001E-15,3.8619076189622175E-4,2589.3938919976622,6.7049607279148015E-9,-2589.3938919976626,50000000000000,-2589.3938919976626,2E-14,2E-14,1.035757556799065E-24,1.0000000000000001E-15,1.7554125540737349E-14,56874455852878.336,3234703728561.0073,-56782395338251.102,1.0000000000000033E+27,-56782395338251.102,9.9999999999999663E-28,9.9999999999999645E-28,5.6782395338250722E-41,2.0000000000001E-14,1.035757556799065E-24,49999999999997.5,49999999999997.492,-2589.3938919974034,49999999999997.492,-2589.3938919974212,2.0000000000001003E-14,2.0000000000001003E-14,1.0357575567990723E-24,1000000000000000,-56966.665623948567,1.0000000000000001E-15,1.0000000000000001E-15,5.6966665623948569E-26,2.1000000000001002E-14,1.0927242224230209E-24,47619047619045.344,47619047619045.344,-2477.8327039068399]
[{"$f":"Main!A120","v":2959.9553816930838},1000,1.8597948164161126E-5,1000,-5.3769372361572317E-2,9.9999999855442719E-4,9.9999999710885436E-4,5.3769372206117232E-8,1000.0009999999971,1.8651717536367242E-5,9.9999900000100257E-4,9.9999900000100235E-4,null,-1.865168023298822E-11,1.0000000000000001E-15,4.0915485961154482E-4,2444.0623800714689,5.9734409176806132E-9,-2444.0623800714684,50000000000000,-2444.0623800714684,2E-14,2E-14,9.7762495202858735E-25,1.0000000000000001E-15,1.8597948164161129E-14,53691812960847.117,2882810779022.5908,-53614365435347.102,1.0000000000000029E+27,-53614365435347.102,9.9999999999999717E-28,9.9999999999999735E-28,5.3614365435346805E-41,2.0000000000001E-14,9.7762495202858735E-25,49999999999997.5,49999999999997.492,-2444.0623800712237,49999999999997.492,-2444.0623800712424,2.0000000000001003E-14,2.0000000000001003E-14,9.7762495202859507E-25,1000000000000000,-53769.372361572321,1.0000000000000001E-15,1.0000000000000001E-15,5.3769372361572324E-26,2.1000000000001002E-14,1.0313943243901674E-24,47619047619045.344,47619047619045.344,-2338.7626403402924]
[{"$f":"Main!A121","v":3135.9634878540037},1000,1.9703839710735923E-5,1000,-5.0751529381105116E-2,9.999999987121411E-4,9.9999999742428217E-4,5.0751529250383504E-8,1000.0009999999975,1.9754591239986305E-5,9.9999900000100235E-4,9.9999900000100213E-4,null,-1.9754551730863182E-11,1.0000000000000001E-15,4.3348447363619031E-4,2306.8876991411416,5.3217308564487107E-9,-2306.8876991411412,50000000000000,-2306.8876991411412,2E-14,2E-14,9.2275507965645648E-25,1.0000000000000001E-15,1.9703839710735924E-14,50686294566801.195,2569100456912.5405,-50621143603783.117,1.0000000000000026E+27,-50621143603783.117,9.9999999999999735E-28,9.9999999999999735E-28,5.0621143603782851E-41,2.0000000000001E-14,9.2275507965645648E-25,49999999999997.5,49999999999997.492,-2306.8876991409102,49999999999997.492,-2306.8876991409297,2.0000000000001003E-14,2.0000000000001003E-14,9.2275507965646438E-25,1000000000000000,-50751.529381105123,1.0000000000000001E-15,1.0000000000000001E-15,5.0751529381105127E-26,2.1000000000001002E-14,9.735066090375695E-25,47619047619045.344,47619047619045.344,-2207.4979796768175]
[{"$f":"Main!A122","v":3322.437580639571},1000,2.0875490990695847E-5,1000,-4.7903064912135356E-2,9.9999999885264828E-4,9.9999999770529675E-4,4.790306480221203E-8,1000.0009999999977,2.092339405549806E-5,9.9999900000100213E-4,9.9999900000100213E-4,null,-2.092335220877281E-11,1.0000000000000001E-15,4.592608017953086E-4,2177.4120414606982,4.7411231982980457E-9,-2177.4120414606982,50000000000000,-2177.4120414606982,2E-14,2E-14,8.7096481658427919E-25,1.0000000000000001E-15,2.0875490990695846E-14,47848197653749.141,2289450018712.2451,-47793393239275.898,1.0000000000000023E+27,-47793393239275.898,9.9999999999999771E-28,9.9999999999999771E-28,4.7793393239275674E-41,2.0000000000001E-14,8.7096481658427919E-25,49999999999997.5,49999999999997.492,-2177.4120414604799,49999999999997.492,-2177.4120414605009,2.0000000000001003E-14,2.0000000000001003E-14,8.7096481658428764E-25,1000000000000000,-47903.064912135356,1.0000000000000001E-15,1.0000000000000001E-15,4.790306491213536E-26,2.1000000000001002E-14,9.1886788149642292E-25,47619047619045.344,47619047619045.344,-2083.6006383136851]
[{"$f":"Main!A123","v":3520.0000000000105},1000,2.2116812281272209E-5,1000,-4.5214472469288315E-2,9.9999999897782571E-4,9.9999999795565139E-4,4.5214472376854172E-8,1000.0009999999979,2.2162026753649062E-5,9.9999900000100192E-4,9.9999900000100192E-4,null,-2.2161982429662126E-11,1.0000000000000001E-15,4.8656987018798862E-4,2055.2032940585595,4.2238605799091549E-9,-2055.2032940585595,50000000000000,-2055.2032940585595,2E-14,2E-14,8.2208131762342375E-25,1.0000000000000001E-15,2.2116812281272213E-14,45168326141676.305,2040177686440.8391,-45122226911452.273,1.0000000000000021E+27,-45122226911452.273,9.9999999999999789E-28,9.9999999999999789E-28,4.5122226911452088E-41,2.0000000000001E-14,8.2208131762342375E-25,49999999999997.5,49999999999997.492,-2055.2032940583535,49999999999997.492,-2055.2032940583758,2.0000000000001003E-14,2.0000000000001003E-14,8.2208131762343275E-25,1000000000000000,-45214.472469288317,1.0000000000000001E-15,1.0000000000000001E-15,4.5214472469288321E-26,2.1000000000001002E-14,8.6729579009272114E-25,47619047619045.344,47619047619045.344,-1966.65712039147]
[{"$f":"Main!A124","v":3729.3100921447308},1000,2.3431946376880321E-5,1000,-4.2676779125214857E-2,9.9999999908934631E-4,9.9999999817869259E-4,4.2676779047487325E-8,1000.0009999999982,2.3474623155927808E-5,9.999990000010017E-4,9.999990000010017E-4,null,-2.3474576206752003E-11,1.0000000000000001E-15,5.155028202913671E-4,1939.8535966006752,3.7630319762445753E-9,-1939.8535966006752,50000000000000,-1939.8535966006752,2E-14,2E-14,7.759414386402701E-25,1.0000000000000001E-15,2.3431946376880324E-14,42637968363476.82,1817996346164.8503,-42599192896699.133,1.0000000000000018E+27,-42599192896699.133,9.9999999999999824E-28,9.9999999999999842E-28,4.2599192896698988E-41,2.0000000000001E-14,7.759414386402701E-25,49999999999997.5,49999999999997.492,-1939.8535966004811,49999999999997.492,-1939.8535966005045,2.0000000000001003E-14,2.0000000000001003E-14,7.7594143864027965E-25,1000000000000000,-42676.77912521486,1.0000000000000001E-15,1.0000000000000001E-15,4.2676779125214862E-26,2.1000000000001002E-14,8.1861821776549454E-25,47619047619045.344,47619047619045.344,-1856.2771377900597]
[{"$f":"Main!A125","v":3951.0664100490053},1000,2.4825282415310701E-5,1000,-4.0281515564280619E-2,9.9999999918869978E-4,9.9999999837739953E-4,4.0281515498919814E-8,1000.0009999999984,2.4865563930809622E-5,9.9999900000100148E-4,9.9999900000100148E-4,null,-2.4865514199756433E-11,1.0000000000000001E-15,5.4615621313683544E-4,1830.9779801945735,3.3524803639574003E-9,-1830.9779801945733,50000000000000,-1830.9779801945733,2E-14,2E-14,7.3239119207782932E-25,1.0000000000000001E-15,2.4825282415310705E-14,40248874877439.625,1619971928899.7905,-40216260639812.93,1.0000000000000017E+27,-40216260639812.93,9.9999999999999842E-28,9.9999999999999842E-28,4.0216260639812801E-41,2.0000000000001E-14,7.3239119207782932E-25,49999999999997.5,49999999999997.492,-1830.9779801943901,49999999999997.492,-1830.9779801944148,2.0000000000001003E-14,2.0000000000001003E-14,7.3239119207783943E-25,1000000000000000,-40281.51556428062,1.0000000000000001E-15,1.0000000000000001E-15,4.0281515564280625E-26,2.1000000000001002E-14,7.7267270764212004E-25,47619047619045.344,47619047619045.344,-1752.0923075783362]
[{"$f":"Main!A126","v":4186.0090448095916},1000,2.6301470526068477E-5,1000,-3.8020687817012302E-2,9.9999999927721361E-4,9.9999999855442719E-4,3.8020687762050631E-8,1000.0009999999985,2.633949121383053E-5,9.9999900000100127E-4,9.9999900000100105E-4,null,-2.6339438534927189E-11,1.0000000000000001E-15,5.7863235157350646E-4,1728.2130825914685,2.9867204588403062E-9,-1728.2130825914685,50000000000000,-1728.2130825914685,2E-14,2E-14,6.9128523303658735E-25,1.0000000000000001E-15,2.6301470526068479E-14,37993236741112.852,1443486038066.2476,-37965805484990.773,1.0000000000000015E+27,-37965805484990.773,9.9999999999999842E-28,9.9999999999999842E-28,3.7965805484990654E-41,2.0000000000001E-14,6.9128523303658735E-25,49999999999997.5,49999999999997.492,-1728.2130825912955,49999999999997.492,-1728.2130825913218,2.0000000000001003E-14,2.0000000000001003E-14,6.912852330365981E-25,1000000000000000,-38020.687817012309,1.0000000000000001E-15,1.0000000000000001E-15,3.8020687817012314E-26,2.1000000000001002E-14,7.2930592085361039E-25,47619047619045.344,47619047619045.344,-1653.7549225703872]
[{"$f":"Main!A127","v":4434.9220956299678},1000,2.7865437349748314E-5,1000,-3.588675058096772E-2,9.9999999935607067E-4,9.9999999871214131E-4,3.5886750534750662E-8,1000.0009999999987,2.7901324100283065E-5,9.9999900000100083E-4,9.999990000010004E-4,null,-2.7901268297718614E-11,1.0000000000000001E-15,6.1303962169446296E-4,1631.2159354985326,2.6608654282243533E-9,-1631.2159354985326,50000000000000,-1631.2159354985326,2E-14,2E-14,6.5248637419941308E-25,1.0000000000000001E-15,2.7865437349748317E-14,35863664342462.406,1286202420068.8096,-35840592955522.078,1.0000000000000013E+27,-35840592955522.078,9.9999999999999878E-28,9.9999999999999878E-28,3.5840592955521989E-41,2.0000000000001E-14,6.5248637419941308E-25,49999999999997.5,49999999999997.492,-1631.2159354983694,49999999999997.492,-1631.2159354983974,2.0000000000001003E-14,2.0000000000001003E-14,6.5248637419942438E-25,1000000000000000,-35886.750580967724,1.0000000000000001E-15,1.0000000000000001E-15,3.5886750580967729E-26,2.1000000000001002E-14,6.8837312478039211E-25,47619047619045.344,47619047619045.344,-1560.9367908850936]
[{"$f":"Main!A128","v":4698.6362866785366},1000,2.952240248023943E-5,1000,-3.3872582038990275E-2,9.9999999942632415E-4,9.9999999885264828E-4,3.3872582000126513E-8,1000.0009999999988,2.9556275062239556E-5,9.9999900000100062E-4,9.9999900000099996E-4,null,-2.9556215949778135E-11,1.0000000000000001E-15,6.494928545652675E-4,1539.6628199541033,2.3705615991490216E-9,-1539.6628199541033,50000000000000,-1539.6628199541033,2E-14,2E-14,6.1586512798164131E-25,1.0000000000000001E-15,2.9522402480239435E-14,33853166860200.781,1146036906464.5964,-33833762809856.332,1.0000000000000011E+27,-33833762809856.332,9.9999999999999896E-28,9.9999999999999896E-28,3.3833762809856262E-41,2.0000000000001E-14,6.1586512798164131E-25,49999999999997.5,49999999999997.492,-1539.6628199539491,49999999999997.492,-1539.6628199539787,2.0000000000001003E-14,2.0000000000001003E-14,6.1586512798165325E-25,1000000000000000,-33872.582038990273,1.0000000000000001E-15,1.0000000000000001E-15,3.3872582038990277E-26,2.1000000000001002E-14,6.4973771002064353E-25,47619047619045.344,47619047619045.344,-1473.3281406362391]
[{"$f":"Main!A129","v":4978.0317395533111},1000,3.1277895884634997E-5,1000,-3.1971460090806224E-2,9.9999999948891297E-4,9.9999999897782592E-4,3.1971460058125826E-8,1000.000999999999,3.1309867344693125E-5,9.9999900000100062E-4,9.9999900000100018E-4,null,-3.1309804725052399E-11,1.0000000000000001E-15,6.8811370946197004E-4,1453.2481859457371,2.1119302899545758E-9,-1453.2481859457371,50000000000000,-1453.2481859457371,2E-14,2E-14,5.8129927437829478E-25,1.0000000000000001E-15,3.1277895884635006E-14,31955132405260.316,1021130487037.718,-31938813058192.379,1.000000000000001E+27,-31938813058192.379,9.9999999999999896E-28,9.9999999999999878E-28,3.193881305819231E-41,2.0000000000001E-14,5.8129927437829478E-25,49999999999997.5,49999999999997.492,-1453.2481859455916,49999999999997.492,-1453.2481859456229,2.0000000000001003E-14,2.0000000000001003E-14,5.8129927437830745E-25,1000000000000000,-31971.460090806224,1.0000000000000001E-15,1.0000000000000001E-15,3.1971460090806227E-26,2.1000000000001002E-14,6.1327073446911371E-25,47619047619045.344,47619047619045.344,-1390.6365860976307]
[{"$f":"Main!A130","v":5274.0409106059369},1000,3.313777635898327E-5,1000,-3.0177039918639913E-2,9.9999999954467327E-4,9.9999999908934652E-4,3.0177039891159091E-8,1000.0009999999991,3.3167953398874432E-5,9.999990000010004E-4,9.9999900000099975E-4,null,-3.316788706306716E-11,1.0000000000000001E-15,7.2903107989763191E-4,1371.6836326654504,1.8815159881222864E-9,-1371.6836326654504,50000000000000,-1371.6836326654504,2E-14,2E-14,5.4867345306618014E-25,1.0000000000000001E-15,3.3137776358983273E-14,30163308878989.848,909825202529.3479,-30149584087184.191,1.000000000000001E+27,-30149584087184.191,9.9999999999999896E-28,9.9999999999999878E-28,3.0149584087184128E-41,2.0000000000001E-14,5.4867345306618014E-25,49999999999997.5,49999999999997.492,-1371.6836326653131,49999999999997.492,-1371.6836326653463,2.0000000000001003E-14,2.0000000000001003E-14,5.4867345306619355E-25,1000000000000000,-30177.039918639908,1.0000000000000001E-15,1.0000000000000001E-15,3.0177039918639912E-26,2.1000000000001002E-14,5.7885049298483347E-25,47619047619045.344,47619047619045.344,-1312.586151892921]
[{"$f":"Main!A131","v":5587.6517029280812},1000,3.5108251081474713E-5,1000,-2.8483332811974269E-2,9.999999995943499E-4,9.9999999918869978E-4,2.8483332788865733E-8,1000.0009999999992,3.5136734414263579E-5,9.9999900000100018E-4,9.9999900000099953E-4,null,-3.5136664140900169E-11,1.0000000000000001E-15,7.7238152379244371E-4,1294.6969459988306,1.6762401819786991E-9,-1294.6969459988306,50000000000000,-1294.6969459988306,2E-14,2E-14,5.1787877839953221E-25,1.0000000000000001E-15,3.5108251081474723E-14,28471785570221.285,810642573556.66101,-28460243009760.094,1.0000000000000008E+27,-28460243009760.094,9.9999999999999914E-28,9.9999999999999914E-28,2.8460243009760044E-41,2.0000000000001E-14,5.1787877839953221E-25,49999999999997.5,49999999999997.492,-1294.696945998701,49999999999997.492,-1294.6969459987363,2.0000000000001003E-14,2.0000000000001003E-14,5.1787877839954644E-25,1000000000000000,-28483.332811974273,1.0000000000000001E-15,1.0000000000000001E-15,2.8483332811974273E-26,2.1000000000001002E-14,5.4636211121152072E-25,47619047619045.344,47619047619045.344,-1238.9163519534434]
[{"$f":"Main!A132","v":5919.9107633861713},1000,3.7195896328322279E-5,1000,-2.6884686180786148E-2,9.9999999963860681E-4,9.9999999927721361E-4,2.6884686161354262E-8,1000.0009999999993,3.7222781014483633E-5,9.9999900000099996E-4,9.999990000009991E-4,null,-3.7222706569033266E-11,1.0000000000000001E-15,8.1830971922309008E-4,1222.0311900357337,1.4933602294201517E-9,-1222.0311900357335,50000000000000,-1222.0311900357335,2E-14,2E-14,4.888124760142934E-25,1.0000000000000001E-15,3.7195896328322277E-14,26874975502416.809,722264308255.50354,-26865268331519.113,1.0000000000000007E+27,-26865268331519.113,9.9999999999999932E-28,9.9999999999999932E-28,2.6865268331519076E-41,2.0000000000001E-14,4.888124760142934E-25,49999999999997.5,49999999999997.492,-1222.0311900356112,49999999999997.492,-1222.0311900356485,2.0000000000001003E-14,2.0000000000001003E-14,4.8881247601430846E-25,1000000000000000,-26884.686180786142,1.0000000000000001E-15,1.0000000000000001E-15,2.6884686180786145E-26,2.1000000000001002E-14,5.1569716219509463E-25,47619047619045.344,47619047619045.344,-1169.381320170171]
[{"$f":"Main!A133","v":6271.926975708011},1000,3.9407679421471873E-5,1000,-2.5375764690552541E-2,9.9999999967803534E-4,9.9999999935607067E-4,2.5375764674212341E-8,1000.0009999999994,3.9433055186146085E-5,9.9999900000099975E-4,9.9999900000099888E-4,null,-3.9432976320153993E-11,1.0000000000000001E-15,8.6696894727238127E-4,1153.4438495705699,1.3304327141121756E-9,-1153.4438495705697,50000000000000,-1153.4438495705697,2E-14,2E-14,4.6137753982822788E-25,1.0000000000000001E-15,3.9407679421471879E-14,25367598533270.191,643515055345.172,-25359435003933.273,1.0000000000000007E+27,-25359435003933.273,9.9999999999999932E-28,9.9999999999999932E-28,2.5359435003933239E-41,2.0000000000001E-14,4.6137753982822788E-25,49999999999997.5,49999999999997.492,-1153.4438495704542,49999999999997.492,-1153.4438495704935,2.0000000000001003E-14,2.0000000000001003E-14,4.6137753982824367E-25,1000000000000000,-25375.764690552543,1.0000000000000001E-15,1.0000000000000001E-15,2.5375764690552546E-26,2.1000000000001002E-14,4.8675330451879623E-25,47619047619045.344,47619047619045.344,-1103.7489898384347]
[{"$f":"Main!A134","v":6644.8751612791457},1000,4.1750981981391714E-5,1000,-2.3951532456067664E-2,9.9999999971316198E-4,9.9999999942632393E-4,2.3951532442327244E-8,1000.0009999999994,4.1774933513834041E-5,9.9999900000099975E-4,9.9999900000099888E-4,null,-4.1774849964092312E-11,1.0000000000000001E-15,9.1852160359061764E-4,1088.7060207303487,1.1852807995745106E-9,-1088.7060207303489,50000000000000,-1088.7060207303489,2E-14,2E-14,4.3548240829213951E-25,1.0000000000000001E-15,4.1750981981391717E-14,23944665202057.27,573346991638.6123,-23937799916988.848,1.0000000000000006E+27,-23937799916988.848,9.999999999999995E-28,9.999999999999995E-28,2.3937799916988825E-41,2.0000000000001E-14,4.3548240829213951E-25,49999999999997.5,49999999999997.492,-1088.7060207302397,49999999999997.492,-1088.7060207302816,2.0000000000001003E-14,2.0000000000001003E-14,4.3548240829215631E-25,1000000000000000,-23951.532456067667,1.0000000000000001E-15,1.0000000000000001E-15,2.3951532456067668E-26,2.1000000000001002E-14,4.5943394074822395E-25,47619047619045.344,47619047619045.344,-1041.800319156871]
[{"$f":"Main!A135","v":7040.0000000000255},1000,4.4233624562544452E-5,1000,-2.260723623464414E-2,9.9999999974445639E-4,9.9999999948891275E-4,2.2607236223089871E-8,1000.0009999999995,4.4256231798767543E-5,9.9999900000099953E-4,9.9999900000099866E-4,null,-4.4256143286436672E-11,1.0000000000000001E-15,9.731397403759779E-4,1027.6016470292791,1.0559651449772873E-9,-1027.6016470292791,50000000000000,-1027.6016470292791,2E-14,2E-14,4.1104065881171165E-25,1.0000000000000001E-15,4.4233624562544451E-14,22601461314421.332,510826053547.28412,-22595687869376.793,1.0000000000000006E+27,-22595687869376.793,9.999999999999995E-28,9.999999999999995E-28,2.2595687869376772E-41,2.0000000000001E-14,4.1104065881171165E-25,49999999999997.5,49999999999997.492,-1027.6016470291763,49999999999997.492,-1027.6016470292207,2.0000000000001003E-14,2.0000000000001003E-14,4.1104065881172951E-25,1000000000000000,-22607.23623464414,1.0000000000000001E-15,1.0000000000000001E-15,2.2607236234644143E-26,2.1000000000001002E-14,4.3364789504637361E-25,47619047619045.344,47619047619045.344,-983.32856019576457]
[{"$f":"Main!A136","v":7458.6201842894661},1000,4.6863892753760669E-5,1000,-2.1338389562607415E-2,9.9999999977233643E-4,9.9999999954467284E-4,2.1338389552891469E-8,1000.0009999999995,4.6885231143313558E-5,9.9999900000099931E-4,9.9999900000099823E-4,null,-4.6885137372991858E-11,1.0000000000000001E-15,1.0310056405827348E-3,969.92679830033694,9.4075799406114259E-10,-969.92679830033694,50000000000000,-969.92679830033694,2E-14,2E-14,3.8797071932013478E-25,1.0000000000000001E-15,4.6863892753760673E-14,21333533249895.887,455119640924.41339,-21328678042411.773,1.0000000000000004E+27,-21328678042411.773,9.999999999999995E-28,9.999999999999995E-28,2.1328678042411753E-41,2.0000000000001E-14,3.8797071932013478E-25,49999999999997.5,49999999999997.492,-969.92679830023985,49999999999997.492,-969.92679830028669,2.0000000000001003E-14,2.0000000000001003E-14,3.879707193201536E-25,1000000000000000,-21338.389562607415,1.0000000000000001E-15,1.0000000000000001E-15,2.1338389562607417E-26,2.1000000000001002E-14,4.09309108882761E-25,47619047619045.344,47619047619045.344,-928.13856889506098]
[{"$f":"Main!A137","v":7902.1328200980151},1000,4.9650564830621437E-5,1000,-2.0140757782140296E-2,9.9999999979717485E-4,9.9999999959434968E-4,2.0140757773970192E-8,1000.0009999999996,4.9670705588395407E-5,9.999990000009991E-4,9.999990000009978E-4,null,-4.9670606247133154E-11,1.0000000000000001E-15,1.0923124262736718E-3,915.48899009728609,8.3812009098934894E-10,-915.48899009728621,50000000000000,-915.48899009728621,2E-14,2E-14,3.6619559603891448E-25,1.0000000000000001E-15,4.9650564830621436E-14,20136673974099.953,405485638739.19446,-20132590994106.316,1.0000000000000004E+27,-20132590994106.316,9.999999999999995E-28,9.999999999999995E-28,2.0132590994106297E-41,2.0000000000001E-14,3.6619559603891448E-25,49999999999997.5,49999999999997.492,-915.48899009719457,49999999999997.492,-915.48899009724425,2.0000000000001003E-14,2.0000000000001003E-14,3.6619559603893445E-25,1000000000000000,-20140.757782140296,1.0000000000000001E-15,1.0000000000000001E-15,2.0140757782140298E-26,2.1000000000001002E-14,3.8633635382107476E-25,47619047619045.344,47619047619045.344,-876.04615378920153]
[{"$f":"Main!A138","v":8372.0180896191869},1000,5.2602941052136988E-5,1000,-1.9010343908506141E-2,9.9999999981930342E-4,9.9999999963860681E-4,1.901034390163593E-8,1000.0009999999996,5.2621951396038621E-5,9.999990000009991E-4,9.999990000009978E-4,null,-5.26218461522936E-11,1.0000000000000001E-15,1.1572647031470136E-3,864.10654129573379,7.4668011471007572E-10,-864.10654129573379,50000000000000,-864.10654129573379,2E-14,2E-14,3.4564261651829349E-25,1.0000000000000001E-15,5.260294105213699E-14,19006909735016.852,361262617675.07843,-19003476181902.852,1.0000000000000004E+27,-19003476181902.852,9.999999999999995E-28,9.999999999999995E-28,1.9003476181902833E-41,2.0000000000001E-14,3.4564261651829349E-25,49999999999997.5,49999999999997.492,-864.10654129564728,49999999999997.492,-864.10654129569991,2.0000000000001003E-14,2.0000000000001003E-14,3.4564261651831461E-25,1000000000000000,-19010.34390850614,1.0000000000000001E-15,1.0000000000000001E-15,1.9010343908506143E-26,2.1000000000001002E-14,3.6465296042682076E-25,47619047619045.344,47619047619045.344,-826.87746128522883]
[{"$f":"Main!A139","v":8869.8441912599392},1000,5.5730874699496648E-5,1000,-1.7943375290483853E-2,9.9999999983901768E-4,9.9999999967803534E-4,1.794337528470672E-8,1000.0009999999996,5.5748818074781354E-5,9.9999900000099888E-4,9.9999900000099736E-4,null,-5.5748706577312327E-11,1.0000000000000001E-15,1.2260792433889263E-3,815.60796774926609,6.65216357056088E-10,-815.60796774926621,50000000000000,-815.60796774926621,2E-14,2E-14,3.2624318709970649E-25,1.0000000000000001E-15,5.5730874699496653E-14,17940487420937.168,321861088900.80481,-17937600016174.305,1.0000000000000003E+27,-17937600016174.305,9.9999999999999968E-28,9.9999999999999968E-28,1.7937600016174293E-41,2.0000000000001E-14,3.2624318709970649E-25,49999999999997.5,49999999999997.492,-815.60796774918458,49999999999997.492,-815.60796774924029,2.0000000000001003E-14,2.0000000000001003E-14,3.2624318709972886E-25,1000000000000000,-17943.375290483855,1.0000000000000001E-15,1.0000000000000001E-15,1.7943375290483856E-26,2.1000000000001002E-14,3.4418656239021272E-25,47619047619045.344,47619047619045.344,-780.46839544258467]
[{"$f":"Main!A140","v":9397.2725733570769},1000,5.9044804960478881E-5,1000,-1.693629101949513E-2,9.9999999985658089E-4,9.9999999971316176E-4,1.6936291014637153E-8,1000.0009999999997,5.9061741251493517E-5,9.9999900000099845E-4,9.9999900000099671E-4,null,-5.9061623128188012E-11,1.0000000000000001E-15,1.2989857091305354E-3,769.83140997705129,5.9264039978725489E-10,-769.83140997705129,50000000000000,-769.83140997705129,2E-14,2E-14,3.0793256399082052E-25,1.0000000000000001E-15,5.9044804960478882E-14,16933862556386.252,286755701078.58038,-16931434441490.16,1.0000000000000003E+27,-16931434441490.16,9.9999999999999968E-28,9.9999999999999968E-28,1.6931434441490149E-41,2.0000000000001E-14,3.0793256399082052E-25,49999999999997.5,49999999999997.492,-769.83140997697421,49999999999997.492,-769.83140997703333,2.0000000000001003E-14,2.0000000000001003E-14,3.0793256399084421E-25,1000000000000000,-16936.291019495129,1.0000000000000001E-15,1.0000000000000001E-15,1.693629101949513E-26,2.1000000000001002E-14,3.2486885501033935E-25,47619047619045.344,47619047619045.344,-736.66407031815947]
[{"$f":"Main!A141","v":9956.0634791066259},1000,6.2555791769270034E-5,1000,-1.5985730045403101E-2,9.999999998722281E-4,9.9999999974445617E-4,1.5985730041318047E-8,1000.0009999999997,6.2571777499311347E-5,9.9999900000099823E-4,9.9999900000099628E-4,null,-6.2571652355943838E-11,1.0000000000000001E-15,1.3762274189239405E-3,726.62409297286831,5.2798257248864364E-10,-726.62409297286831,50000000000000,-726.62409297286831,2E-14,2E-14,2.906496371891473E-25,1.0000000000000001E-15,6.2555791769270038E-14,15983687911562.25,255478279254.22122,-15981646038598.482,1.0000000000000003E+27,-15981646038598.482,9.9999999999999968E-28,9.9999999999999968E-28,1.5981646038598473E-41,2.0000000000001E-14,2.906496371891473E-25,49999999999997.5,49999999999997.492,-726.62409297279555,49999999999997.492,-726.62409297285808,2.0000000000001003E-14,2.0000000000001003E-14,2.9064963718917237E-25,1000000000000000,-15985.730045403101,1.0000000000000001E-15,1.0000000000000001E-15,1.5985730045403102E-26,2.1000000000001002E-14,3.0663536723457545E-25,47619047619045.344,47619047619045.344,-695.31829304885753]
[{"$f":"Main!A142","v":10548.081821211877},1000,6.6275552717966568E-5,1000,-1.508851995931995E-2,9.9999999988616833E-4,9.9999999977233686E-4,1.5088519955884849E-8,1000.0009999999997,6.6290641237922452E-5,9.9999900000099801E-4,9.9999900000099584E-4,null,-6.6290508656838592E-11,1.0000000000000001E-15,1.4580621597952645E-3,685.84181633272487,4.7037899703057119E-10,-685.84181633272476,50000000000000,-685.84181633272476,2E-14,2E-14,2.7433672653308989E-25,1.0000000000000001E-15,6.6275552717966571E-14,15086802700393.98,227611615720.61514,-15085085636913.176,1.0000000000000003E+27,-15085085636913.176,9.9999999999999968E-28,9.9999999999999968E-28,1.5085085636913165E-41,2.0000000000001E-14,2.7433672653308989E-25,49999999999997.5,49999999999997.492,-685.84181633265609,49999999999997.492,-685.84181633272237,2.0000000000001003E-14,2.0000000000001003E-14,2.7433672653311647E-25,1000000000000000,-15088.519959319949,1.0000000000000001E-15,1.0000000000000001E-15,1.508851995931995E-26,2.1000000000001002E-14,2.8942524649243643E-25,47619047619045.344,47619047619045.344,-656.29307594650516]
[{"$f":"Main!A143","v":11175.303405856166},1000,{"$f":"2*PI()*A144*$R$19/1000000000","v":7.0216502162949454E-5},1000,{"$f":"-1/(2*PI()*A144*$R$20/1000000000)","v":-1.4241666405987129E-2},{"$f":"1/(D144^2+E144^2)^0.5","v":9.9999999989858744E-4},{"$f":"D144*F144^2","v":9.9999999979717485E-4},{"$f":"-E144*F144^2","v":1.4241666403098563E-8},{"$f":"B144+G144","v":1000.0009999999997},7.0230743829352547E-5,{"$f":"1/(I144^2+J144^2)^0.5","v":9.999990000009978E-4},{"$f":"I144*K144^2","v":9.9999900000099541E-4},null,{"$f":"-J144*K144^2","v":-7.023060336807528E-11},1.0000000000000001E-15,{"$f":"2*PI()*A144*$R$7/1000000000","v":1.5447630475848881E-3},{"$f":"1/(O144^2+P144^2)^0.5","v":647.34847299941509},{"$f":"O144*Q144^2","v":4.1906004549467452E-10},{"$f":"-P144*Q144^2","v":-647.34847299941521},{"$f":"R144+$R$5*1000+$R$11*1000","v":50000000000000},{"$f":"S144+2*PI()*A144*$R$6","v":-647.34847299941521},{"$f":"1/(T144^2+U144^2)^0.5","v":2E-14},{"$f":"T144*V144^2","v":2E-14},{"$f":"-U144*V144^2","v":2.5893938919976606E-25},1.0000000000000001E-15,7.021650216294947E-14,14240222342216.631,202783932355.76572,-14238778424870.021,1.0000000000000002E+27,-14238778424870.021,{"$f":"1/(AD144^2+AE144^2)^0.5","v":9.9999999999999986E-28},{"$f":"AD144*AF144^2","v":9.9999999999999986E-28},{"$f":"-AE144*AF144^2","v":1.4238778424870018E-41},{"$f":"W144+AG144","v":2.0000000000001E-14},2.5893938919976606E-25,{"$f":"1/(AI144^2+AJ144^2)^0.5","v":49999999999997.5},{"$f":"AI144*AK144^2","v":49999999999997.492},{"$f":"-AJ144*AK144^2","v":-647.34847299935041},{"$f":"L144+AL144","v":49999999999997.492},{"$f":"N144+AM144","v":-647.34847299942066},{"$f":"1/(AN144^2+AO144^2)^0.5","v":2.0000000000001003E-14},{"$f":"AN144*AP144^2","v":2.0000000000001003E-14},{"$f":"-AO144*AP144^2","v":2.5893938919979425E-25},1000000000000000,-14241.666405987131,1.0000000000000001E-15,1.0000000000000001E-15,1.4241666405987131E-26,2.1000000000001002E-14,2.7318105560578139E-25,47619047619045.344,47619047619045.344,-619.45817597676933]
[{"$f":"Main!A144","v":11839.821526772346},1000,{"$f":"2*PI()*A145*$R$19/1000000000","v":7.4391792656644586E-5},1000,{"$f":"-1/(2*PI()*A145*$R$20/1000000000)","v":-1.3442343090393067E-2},{"$f":"1/(D145^2+E145^2)^0.5","v":9.9999999990965172E-4},{"$f":"D145*F145^2","v":9.9999999981930342E-4},{"$f":"-E145*F145^2","v":1.3442343087964083E-8},1000.0009999999999,7.4405234999732554E-5,{"$f":"1/(I145^2+J145^2)^0.5","v":9.9999900000099736E-4},{"$f":"I145*K145^2","v":9.9999900000099476E-4},null,{"$f":"-J145*K145^2","v":-7.4405086189485389E-11},1.0000000000000001E-15,{"$f":"2*PI()*A145*$R$7/1000000000","v":1.6366194384461808E-3},{"$f":"1/(O145^2+P145^2)^0.5","v":611.01559501786664},{"$f":"O145*Q145^2","v":3.733400573550376E-10},{"$f":"-P145*Q145^2","v":-611.01559501786653},{"$f":"R145+$R$5*1000+$R$11*1000","v":50000000000000},{"$f":"S145+2*PI()*A145*$R$6","v":-611.01559501786653},{"$f":"1/(T145^2+U145^2)^0.5","v":2E-14},{"$f":"T145*V145^2","v":2E-14},{"$f":"-U145*V145^2","v":2.4440623800714661E-25},1.0000000000000001E-15,7.4391792656644591E-14,13441128762195.346,180663942401.91501,-13439914543695.24,1.0000000000000002E+27,-13439914543695.24,{"$f":"1/(AD145^2+AE145^2)^0.5","v":9.9999999999999986E-28},{"$f":"AD145*AF145^2","v":9.9999999999999986E-28},{"$f":"-AE145*AF145^2","v":1.3439914543695237E-41},2.0000000000001E-14,2.4440623800714661E-25,{"$f":"1/(AI145^2+AJ145^2)^0.5","v":49999999999997.5},{"$f":"AI145*AK145^2","v":49999999999997.492},{"$f":"-AJ145*AK145^2","v":-611.01559501780537},{"$f":"L145+AL145","v":49999999999997.492},{"$f":"N145+AM145","v":-611.01559501787972},{"$f":"1/(AN145^2+AO145^2)^0.5","v":2.0000000000001003E-14},{"$f":"AN145*AP145^2","v":2.0000000000001003E-14},{"$f":"-AO145*AP145^2","v":2.4440623800717641E-25},1000000000000000,-13442.343090393066,1.0000000000000001E-15,1.0000000000000001E-15,1.3442343090393067E-26,2.1000000000001002E-14,2.5784858109756949E-25,47619047619045.344,47619047619045.344,-584.69066008513573]
[{"$f":"Main!A145","v":12543.853951416026},1000,{"$f":"2*PI()*A146*$R$19/1000000000","v":7.881535884294376E-5},1000,{"$f":"-1/(2*PI()*A146*$R$20/1000000000)","v":-1.2687882345276269E-2},{"$f":"1/(D146^2+E146^2)^0.5","v":9.9999999991950885E-4},{"$f":"D146*F146^2","v":9.9999999983901768E-4},{"$f":"-E146*F146^2","v":1.2687882343233744E-8},1000.0009999999999,7.8828046725286995E-5,{"$f":"1/(I146^2+J146^2)^0.5","v":9.9999900000099715E-4},{"$f":"I146*K146^2","v":9.9999900000099433E-4},null,{"$f":"-J146*K146^2","v":-7.8827889069429589E-11},1.0000000000000001E-15,{"$f":"2*PI()*A146*$R$7/1000000000","v":1.7339378945447628E-3},{"$f":"1/(O146^2+P146^2)^0.5","v":576.72192478528495},{"$f":"O146*Q146^2","v":3.326081785280439E-10},{"$f":"-P146*Q146^2","v":-576.72192478528495},{"$f":"R146+$R$5*1000+$R$11*1000","v":50000000000000},{"$f":"S146+2*PI()*A146*$R$6","v":-576.72192478528495},{"$f":"1/(T146^2+U146^2)^0.5","v":2E-14},{"$f":"T146*V146^2","v":2E-14},{"$f":"-U146*V146^2","v":2.3068876991411398E-25},1.0000000000000001E-15,7.8815358842943772E-14,12686861205952.105,160956447259.09253,-12685840148810.73,1.0000000000000002E+27,-12685840148810.73,{"$f":"1/(AD146^2+AE146^2)^0.5","v":9.9999999999999986E-28},{"$f":"AD146*AF146^2","v":9.9999999999999986E-28},{"$f":"-AE146*AF146^2","v":1.2685840148810727E-41},2.0000000000001E-14,2.3068876991411398E-25,{"$f":"1/(AI146^2+AJ146^2)^0.5","v":49999999999997.5},{"$f":"AI146*AK146^2","v":49999999999997.492},{"$f":"-AJ146*AK146^2","v":-576.7219247852272},{"$f":"L146+AL146","v":49999999999997.492},{"$f":"N146+AM146","v":-576.72192478530599},{"$f":"1/(AN146^2+AO146^2)^0.5","v":2.0000000000001003E-14},{"$f":"AN146*AP146^2","v":2.0000000000001003E-14},{"$f":"-AO146*AP146^2","v":2.3068876991414553E-25},1000000000000000,-12687.88234527627,1.0000000000000001E-15,1.0000000000000001E-15,1.268788234527627E-26,2.1000000000001002E-14,2.4337665225942181E-25,47619047619045.344,47619047619045.344,-551.87449491927111]

{"sheet":"Strings & Pickups","index":2,"n_rows":164,"n_cols":49,"rows_kept":164,"cut":false,"hidden":false,"merged":[[68,0,69,3],[56,20,56,22],[56,11,56,13],[56,5,56,7],[56,8,56,10],[56,14,56,16],[56,17,56,19],[56,46,56,48],[56,38,56,40],[56,23,56,25],[56,26,56,28],[56,29,56,31],[56,32,56,34],[56,35,56,37]]}
["Strings","Fret","Pick distance"]
["& Pickups",{"$f":"Main!B6","v":0},{"$f":"Main!C6","v":110}]
["Pickup selection","Bridge","Middle","Neck"]
[null,{"$f":"IF(B17=1,\"H\",\"S\")","v":"S"},{"$f":"IF(C17=1,\"H\",\"S\")","v":"S"},{"$f":"IF(D17=1,\"H\",\"S\")","v":"S"}]
["scale (mm)",{"$f":"F61*F$93+I61*I$93+L61*L$93+O61*O$93+R61*R$93+U61*U$93+X61*X$93+AA61*AA$93+AD61*AD$93+AG61*AG$93+AJ61*AJ$93+AM61*AM$93+AP61*AP$93","v":647.69999999999993},{"$f":"G61*G$93+J61*J$93+M61*M$93+P61*P$93+S61*S$93+V61*V$93+Y61*Y$93+AB61*AB$93+AE61*AE$93+AH61*AH$93+AK61*AK$93+AN61*AN$93+AQ61*AQ$93","v":647.69999999999993},{"$f":"H61*H$93+K61*K$93+N61*N$93+Q61*Q$93+T61*T$93+W61*W$93+Z61*Z$93+AC61*AC$93+AF61*AF$93+AI61*AI$93+AL61*AL$93+AO61*AO$93+AR61*AR$93","v":647.69999999999993}]
["PU dist.(mm)",{"$f":"F62*F$93+I62*I$93+L62*L$93+O62*O$93+R62*R$93+U62*U$93+X62*X$93+AA62*AA$93+AD62*AD$93+AG62*AG$93+AJ62*AJ$93+AM62*AM$93+AP62*AP$93+B47*IF(B4=\"H\",1,0)+B16","v":41.274999999999999},{"$f":"G62*G$93+J62*J$93+M62*M$93+P62*P$93+S62*S$93+V62*V$93+Y62*Y$93+AB62*AB$93+AE62*AE$93+AH62*AH$93+AK62*AK$93+AN62*AN$93+AQ62*AQ$93+C47*IF(C4=\"H\",1,0)+C16","v":98},{"$f":"H62*H$93+K62*K$93+N62*N$93+Q62*Q$93+T62*T$93+W62*W$93+Z62*Z$93+AC62*AC$93+AF62*AF$93+AI62*AI$93+AL62*AL$93+AO62*AO$93+AR62*AR$93+D47*IF(D4=\"H\",1,0)+D16","v":160.8368480809832}]
["Slant (+/-mm)",0,0,0]
["PU eff.width (mm)",{"$f":"(F63*F$93+I63*I$93+L63*L$93+O63*O$93+R63*R$93+U63*U$93+X63*X$93+AA63*AA$93+AD63*AD$93+AG63*AG$93+AJ63*AJ$93+AM63*AM$93+AP63*AP$93)*IF(B$4=\"H\",B$45,1)","v":15},{"$f":"(G63*G$93+J63*J$93+M63*M$93+P63*P$93+S63*S$93+V63*V$93+Y63*Y$93+AB63*AB$93+AE63*AE$93+AH63*AH$93+AK63*AK$93+AN63*AN$93+AQ63*AQ$93)*IF(C$4=\"H\",C$45,1)","v":15},{"$f":"(H63*H$93+K63*K$93+N63*N$93+Q63*Q$93+T63*T$93+W63*W$93+Z63*Z$93+AC63*AC$93+AF63*AF$93+AI63*AI$93+AL63*AL$93+AO63*AO$93+AR63*AR$93)*IF(D$4=\"H\",D$45,1)","v":15},"Combo:",null,"series","parallel","total"]
["R (k)",{"$f":"(F65*F$93+I65*I$93+L65*L$93+O65*O$93+R65*R$93+U65*U$93+X65*X$93+AA65*AA$93+AD65*AD$93+AG65*AG$93+AJ65*AJ$93+AM65*AM$93+AP65*AP$93)*IF(B$4=\"H\",B$43,1)","v":6.34},{"$f":"(G65*G$93+J65*J$93+M65*M$93+P65*P$93+S65*S$93+V65*V$93+Y65*Y$93+AB65*AB$93+AE65*AE$93+AH65*AH$93+AK65*AK$93+AN65*AN$93+AQ65*AQ$93)*IF(C$4=\"H\",C$43,1)","v":6.34},{"$f":"(H65*H$93+K65*K$93+N65*N$93+Q65*Q$93+T65*T$93+W65*W$93+Z65*Z$93+AC65*AC$93+AF65*AF$93+AI65*AI$93+AL65*AL$93+AO65*AO$93+AR65*AR$93)*IF(D$4=\"H\",D$43,1)","v":6.34},{"$f":"'Strings & Pickups'!I9","v":6.3400000000000007},null,{"$f":"('Strings & Pickups'!B9*ABS('Strings & Pickups'!B23)+'Strings & Pickups'!C9*ABS('Strings & Pickups'!C23)+'Strings & Pickups'!D9*ABS('Strings & Pickups'!D23))*harmonics!B6","v":0},{"$f":"ABS(1-harmonics!B6)/(1/(IF(ABS('Strings & Pickups'!B23)=1,'Strings & Pickups'!B9,1E+24))+1/(IF(ABS('Strings & Pickups'!C23)=1,'Strings & Pickups'!C9,1E+24))+1/(IF(ABS('Strings & Pickups'!D23)=1,'Strings & Pickups'!D9,1E+24)))","v":6.3400000000000007},{"$f":"G9+H9","v":6.3400000000000007},null,null,null,null,null,null,null,null,null,null,null,null,{"$f":"D43","v":1}]
["L (H)",{"$f":"(F66*F$93+I66*I$93+L66*L$93+O66*O$93+R66*R$93+U66*U$93++X66*X$93+AA66*AA$93+AD66*AD$93+AG66*AG$93+AJ66*AJ$93+AM66*AM$93+AP66*AP$93)*IF(B$4=\"H\",IF(B$43=1,1,0.8*B$43),1)","v":2.5499999999999998},{"$f":"(G66*G$93+J66*J$93+M66*M$93+P66*P$93+S66*S$93+V66*V$93++Y66*Y$93+AB66*AB$93+AE66*AE$93+AH66*AH$93+AK66*AK$93+AN66*AN$93+AQ66*AQ$93)*IF(C$4=\"H\",IF(C$43=1,1,0.8*C$43),1)","v":2.5499999999999998},{"$f":"(H66*H$93+K66*K$93+N66*N$93+Q66*Q$93+T66*T$93+W66*W$93++Z66*Z$93+AC66*AC$93+AF66*AF$93+AI66*AI$93+AL66*AL$93+AO66*AO$93+AR66*AR$93)*IF(D$4=\"H\",IF(D$43=1,1,0.8*D$43),1)","v":2.5499999999999998},{"$f":"'Strings & Pickups'!I10","v":2.5499999999999998},null,{"$f":"('Strings & Pickups'!B10*ABS('Strings & Pickups'!B23)+'Strings & Pickups'!C10*ABS('Strings & Pickups'!C23)+'Strings & Pickups'!D10*ABS('Strings & Pickups'!D23))*harmonics!B6","v":0},{"$f":"ABS(1-harmonics!B6)/(1/(IF(ABS('Strings & Pickups'!B23)=1,'Strings & Pickups'!B10,1E+24))+1/(IF(ABS('Strings & Pickups'!C23)=1,'Strings & Pickups'!C10,1E+24))+1/(IF(ABS('Strings & Pickups'!D23)=1,'Strings & Pickups'!D10,1E+24)))","v":2.5499999999999998},2.5499999999999998,null,null,null,null,null,null,null,null,null,null,null,null,{"$f":"D45","v":1}]
["C (nF)",{"$f":"(F67*F$93+I67*I$93+L67*L$93+O67*O$93+R67*R$93+U67*U$93+X67*X$93+AA67*AA$93+AD67*AD$93+AG67*AG$93+AJ67*AJ$93+AM67*AM$93+AP67*AP$93)/IF(B$4=\"H\",IF(B$43=0.5, 1,B$43^0.5),1)","v":0.16},{"$f":"(G67*G$93+J67*J$93+M67*M$93+P67*P$93+S67*S$93+V67*V$93+Y67*Y$93+AB67*AB$93+AE67*AE$93+AH67*AH$93+AK67*AK$93+AN67*AN$93+AQ67*AQ$93)/IF(C$4=\"H\",IF(C$43=0.5, 1,C$43^0.5),1)","v":0.16},{"$f":"(H67*H$93+K67*K$93+N67*N$93+Q67*Q$93+T67*T$93+W67*W$93+Z67*Z$93+AC67*AC$93+AF67*AF$93+AI67*AI$93+AL67*AL$93+AO67*AO$93+AR67*AR$93)/IF(D$4=\"H\",IF(D$43=0.5, 1,D$43^0.5),1)","v":0.16},{"$f":"'Strings & Pickups'!I11","v":0.16},null,{"$f":"harmonics!B6/(1/(IF(ABS('Strings & Pickups'!B23)=1,'Strings & Pickups'!B11,100000000000))+1/(IF(ABS('Strings & Pickups'!C23)=1,'Strings & Pickups'!C11,100000000000))+1/(IF(ABS('Strings & Pickups'!D23)=1,'Strings & Pickups'!D11,100000000000)))","v":0},{"$f":"('Strings & Pickups'!B11*ABS('Strings & Pickups'!B23)+'Strings & Pickups'!C11*ABS('Strings & Pickups'!C23)+'Strings & Pickups'!D11*ABS('Strings & Pickups'!D23))*ABS(1-harmonics!B6)","v":0.16},0.16]
["Rd(k)",{"$f":"(F68*F$93+I68*I$93+L68*L$93+O68*O$93+R68*R$93+U68*U$93+X68*X$93+AA68*AA$93+AD68*AD$93+AG68*AG$93+AJ68*AJ$93+AM68*AM$93+AP68*AP$93)*IF(B$4=\"H\",B$43^0.33,1)","v":490},{"$f":"(G68*G$93+J68*J$93+M68*M$93+P68*P$93+S68*S$93+V68*V$93+Y68*Y$93+AB68*AB$93+AE68*AE$93+AH68*AH$93+AK68*AK$93+AN68*AN$93+AQ68*AQ$93)*IF(C$4=\"H\",C$43^0.33,1)","v":490},{"$f":"(H68*H$93+K68*K$93+N68*N$93+Q68*Q$93+T68*T$93+W68*W$93+Z68*Z$93+AC68*AC$93+AF68*AF$93+AI68*AI$93+AL68*AL$93+AO68*AO$93+AR68*AR$93)*IF(D$4=\"H\",D$43^0.33,1)","v":490},{"$f":"'Strings & Pickups'!I12","v":489.99999999999994},null,{"$f":"('Strings & Pickups'!B12*ABS('Strings & Pickups'!B23)+'Strings & Pickups'!C12*ABS('Strings & Pickups'!C23)+'Strings & Pickups'!D12*ABS('Strings & Pickups'!D23))*harmonics!B6","v":0},{"$f":"ABS(1-harmonics!B6)/(1/(IF(ABS('Strings & Pickups'!B23)=1,'Strings & Pickups'!B12,1E+24))+1/(IF(ABS('Strings & Pickups'!C23)=1,'Strings & Pickups'!C12,1E+24))+1/(IF(ABS('Strings & Pickups'!D23)=1,'Strings & Pickups'!D12,1E+24)))","v":489.99999999999994},489.99999999999994]
["Rl(k)",{"$f":"(F69*F$93+I69*I$93+L69*L$93+O69*O$93+R69*R$93+U69*U$93+X69*X$93+AA69*AA$93+AD69*AD$93+AG69*AG$93+AJ69*AJ$93+AM69*AM$93+AP69*AP$93)*IF(B$4=\"H\",IF(B$43=0.5,1,B$43),1)","v":6200},{"$f":"(G69*G$93+J69*J$93+M69*M$93+P69*P$93+S69*S$93+V69*V$93+Y69*Y$93+AB69*AB$93+AE69*AE$93+AH69*AH$93+AK69*AK$93+AN69*AN$93+AQ69*AQ$93)*IF(C$4=\"H\",IF(C$43=0.5,1,C$43),1)","v":6200},{"$f":"(H69*H$93+K69*K$93+N69*N$93+Q69*Q$93+T69*T$93+W69*W$93+Z69*Z$93+AC69*AC$93+AF69*AF$93+AI69*AI$93+AL69*AL$93+AO69*AO$93+AR69*AR$93)*IF(D$4=\"H\",IF(D$43=0.5,1,D$43),1)","v":6200},{"$f":"'Strings & Pickups'!I13","v":6200},null,{"$f":"('Strings & Pickups'!B13*ABS('Strings & Pickups'!B23)+'Strings & Pickups'!C13*ABS('Strings & Pickups'!C23)+'Strings & Pickups'!D13*ABS('Strings & Pickups'!D23))*harmonics!B6","v":0},{"$f":"ABS(1-harmonics!B6)/(1/(IF(ABS('Strings & Pickups'!B23)=1,'Strings & Pickups'!B13,1E+24))+1/(IF(ABS('Strings & Pickups'!C23)=1,'Strings & Pickups'!C13,1E+24))+1/(IF(ABS('Strings & Pickups'!D23)=1,'Strings & Pickups'!D13,1E+24)))","v":6200},6200]
["Ld(H)",{"$f":"(F70*F$93+I70*I$93+L70*L$93+O70*O$93+R70*R$93+U70*U$93+X70*X$93+AA70*AA$93+AD70*AD$93+AG70*AG$93+AJ70*AJ$93+AM70*AM$93+AP70*AP$93)*IF(B$4=\"H\",B$43,1)","v":12},{"$f":"(G70*G$93+J70*J$93+M70*M$93+P70*P$93+S70*S$93+V70*V$93+Y70*Y$93+AB70*AB$93+AE70*AE$93+AH70*AH$93+AK70*AK$93+AN70*AN$93+AQ70*AQ$93)*IF(C$4=\"H\",C$43,1)","v":12},{"$f":"(H70*H$93+K70*K$93+N70*N$93+Q70*Q$93+T70*T$93+W70*W$93+Z70*Z$93+AC70*AC$93+AF70*AF$93+AI70*AI$93+AL70*AL$93+AO70*AO$93+AR70*AR$93)*IF(D$4=\"H\",D$43,1)","v":12},{"$f":"'Strings & Pickups'!I14","v":12},null,{"$f":"('Strings & Pickups'!B14*ABS('Strings & Pickups'!B23)+'Strings & Pickups'!C14*ABS('Strings & Pickups'!C23)+'Strings & Pickups'!D14*ABS('Strings & Pickups'!D23))*harmonics!B6","v":0},{"$f":"ABS(1-harmonics!B6)/(1/(IF(ABS('Strings & Pickups'!B23)=1,'Strings & Pickups'!B14,1E+24))+1/(IF(ABS('Strings & Pickups'!C23)=1,'Strings & Pickups'!C14,1E+24))+1/(IF(ABS('Strings & Pickups'!D23)=1,'Strings & Pickups'!D14,1E+24)))","v":12},12]
["output (db)",{"$f":"B92+(F64*F$93+I64*I$93+L64*L$93+O64*O$93+R64*R$93+U64*U$93+X64*X$93+AA64*AA$93+AD64*AD$93+AG64*AG$93+AJ64*AJ$93+AM64*AM$93+AP64*AP$93)+IF(B$4=\"H\",B$44,0)","v":1.1204280717749149},{"$f":"C92+(G64*G$93+J64*J$93+M64*M$93+P64*P$93+S64*S$93+V64*V$93+Y64*Y$93+AB64*AB$93+AE64*AE$93+AH64*AH$93+AK64*AK$93+AN64*AN$93+AQ64*AQ$93)+IF(C$4=\"H\",C$44,0)","v":1.1204280717749149},{"$f":"D92+(H64*H$93+K64*K$93+N64*N$93+Q64*Q$93+T64*T$93+W64*W$93+Z64*Z$93+AC64*AC$93+AF64*AF$93+AI64*AI$93+AL64*AL$93+AO64*AO$93+AR64*AR$93)+IF(D$4=\"H\",D$44,0)","v":1.1204280717749149},{"$f":"'Strings & Pickups'!I15","v":1.1204280713319332},null,null,null,{"$f":"20*LOG(I16)","v":1.1204280713319332}]
["Position adjust",{"$f":"B54-40","v":0},{"$f":"C54-40","v":0},{"$f":"D54-40","v":8},null,null,{"$f":"(harmonics!F15*ABS('Strings & Pickups'!B23)+harmonics!G15*ABS('Strings & Pickups'!C23)+harmonics!H15*ABS('Strings & Pickups'!D23))*harmonics!B6","v":0},{"$f":"ABS(1-harmonics!B6)*((harmonics!F15*ABS('Strings & Pickups'!B$23)*(1/(1/harmonics!G$17+1/harmonics!H$17)/(harmonics!F$17+1/(1/harmonics!G$17+1/harmonics!H$17)))+harmonics!G15*ABS('Strings & Pickups'!C$23)*(1/(1/harmonics!F$17+1/harmonics!H$17)/(harmonics!G$17+1/(1/harmonics!F$17+1/harmonics!H$17)))+harmonics!H15*ABS('Strings & Pickups'!D$23)*(1/(1/harmonics!F$17+1/harmonics!G$17)/(harmonics!H$17+1/(1/harmonics!F$17+1/harmonics!G$17)))))","v":1.1376833534973436},{"$f":"G16+H16","v":1.1376833534973436}]
[null,{"$f":"F92*F$93+I92*I$93+L92*L$93+O92*O$93+R92*R$93+U92*U$93+X92*X$93+AA92*AA$93+AD92*AD$93+AG92*AG$93+AJ92*AJ$93+AM92*AM$93+AP92*AP$93","v":0},{"$f":"G92*G$93+J92*J$93+M92*M$93+P92*P$93+S92*S$93+V92*V$93+Y92*Y$93","v":0},{"$f":"H92*H$93+K92*K$93+N92*N$93+Q92*Q$93+T92*T$93+W92*W$93+Z92*Z$93","v":0}]
[]
[null,null,null,null,null,null,null,0.5]
[]
[]
[]
["PU on/off",{"$f":"B31*-1^B49","v":1},{"$f":"C31*-1^C49","v":0},{"$f":"D31*-1^D49","v":0}]
[null,null,null,null,null,{"$f":"Main!A6","v":"Select PU"}]
[null,null,null,null,1,{"$f":"F57","v":"Shredder"}]
[null,null,null,null,2,{"$f":"I57","v":"HSS Strat"}]
[null,null,null,null,3,{"$f":"L57","v":"Strat Texas Specials"}]
[null,null,null,null,4,{"$f":"O57","v":"Strat Fat50"}]
[null,null,null,null,5,{"$f":"R57","v":"Pearly Gates LP"}]
[null,true,false,false,6,{"$f":"U57","v":"Seth Lover LP"}]
[null,{"$f":"IF(B30,1,0)","v":1},{"$f":"IF(C30,1,0)","v":0},{"$f":"IF(D30,1,0)","v":0},7,{"$f":"X57","v":"Vintage Tele"}]
[null,null,null,null,8,{"$f":"AA57","v":"Hot Tele"}]
[null,{"$f":"VLOOKUP((B38),A34:D37,2)","v":"Series"},{"$f":"VLOOKUP((C38),A34:D37,3)","v":"Series"},{"$f":"VLOOKUP((D38),A34:D37,4)","v":"Series"},9,{"$f":"AD57","v":"P90 LP"}]
[1,"Series","Series","Series",10,{"$f":"AG57","v":"Gretsch Filtertrons"}]
[2,"Split1","Split1","Split1",11,{"$f":"AJ57","v":"Gretsch w/TV Jones Classics"}]
[3,"Split2","Split2","Split2",12,{"$f":"AM57","v":"P/J Bass"}]
[4,"Para.","Para.","Para.",13,"Select PU"]
[null,1,1,1]
[null,{"$f":"IF(B$33=B34,1,0)","v":1},{"$f":"IF(C$33=C34,1,0)","v":1},{"$f":"IF(D$33=D34,1,0)","v":1},null,"Series/split/para correction"]
[null,{"$f":"IF(B$33=B35,0.5,0)","v":0},0,0]
[null,0,0,0]
[null,{"$f":"IF(B$33=B37,0.25,0)","v":0},{"$f":"IF(C$33=C37,0.25,0)","v":0},{"$f":"IF(D$33=D37,0.25,0)","v":0}]
["LRC factor",{"$f":"SUM(B39:B42)","v":1},{"$f":"SUM(C39:C42)","v":1},{"$f":"SUM(D39:D42)","v":1}]
["db adjust",{"$f":"IF(B33=B34,0,-20*LOG(2))","v":0},{"$f":"IF(C33=C34,0,-20*LOG(2))","v":0},{"$f":"IF(D33=D34,0,-20*LOG(2))","v":0},null,null,null,null,null,null,null,null,null,null,null,null,null,null,null,null,null,null,null,null,null,null,null,null,null,null,null,null,null,null,null,null,null,null,null,null,false]
["app factor",{"$f":"IF(B33=B36,0.6,1)*IF(B33=B35,0.6,1)","v":1},{"$f":"IF(C33=C36,0.6,1)*IF(C33=C35,0.6,1)","v":1},{"$f":"IF(D33=D36,0.6,1)*IF(D33=D35,0.4,1)","v":1}]
["posn adjust",9,9,9]
[null,{"$f":"IF(B33=B35,-B46,0)+IF(B33=B36,B46,0)","v":0},{"$f":"IF(C33=C35,-C46,0)+IF(C33=C36,C46,0)","v":0},{"$f":"IF(D33=D35,-D46,0)+IF(D33=D36,D46,0)","v":0}]
["phase",false,false,false]
[null,{"$f":"IF(B48,1,0)","v":0},{"$f":"IF(C48,1,0)","v":0},{"$f":"IF(D48,1,0)","v":0}]
["string No.",7,6,5,4,3,2,1]
["string on/off",true,false,false,false,false,false,false,"total"]
[null,{"$f":"IF(B51,1,0)","v":1},{"$f":"IF(C51,1,0)","v":0},0,0,0,0,0,{"$f":"SUM(B52:H52)","v":1}]
["Humbucker wiring"]
["(when H selected)",40,40,48]
[]
["See comment box"]
["Guitar selection","String freqs","String select","PU control","Guitars","Shredder",null,null,"HSS Strat",null,null,"Strat Texas Specials",null,null,"Strat Fat50",null,null,"Pearly Gates LP",null,null,"Seth Lover LP",null,null,"Vintage Tele",null,null,"Hot Tele",null,null,"P90 LP",null,null,"Gretsch Filtertrons",null,null,"Gretsch w/TV Jones Classics",null,null,"P/J Bass",null,null,"Select PU",null,null,null,null,"HHH LP"]
[null,{"$f":"B59/2^(5/12)","v":61.735412657015509},null,null,null,"Bridge","Middle","Neck","Bridge","Middle","Neck","Bridge","Middle","Neck","Bridge","Middle","Neck","Bridge","Middle","Neck","Bridge","Middle","Neck","Bridge","Middle","Neck","Bridge","Middle","Neck","Bridge","Middle","Neck","Bridge","Middle","Neck","Bridge","Middle","Neck","Bridge","Middle","Neck","Bridge","Middle","Neck",null,null,"Bridge","Middle","Neck"]
[null,{"$f":"B60/2^(5/12)","v":82.40688922821748},null,null,"Notes","SuperDist","SSL1","PAF Pro","SD59 + 2xTexas SP's",null,null,"Tx Sp's",null,null,"Fat 50",null,null,"Fat 50",null,null,"P Bass","P Bass","P Bass","Fender original B",null,"Fender original N","Tx Specials",null,null,"Tonerider B","Tonerider N","Tonerider N","Gretsch Filtertrons",null,null,"TV Jones",null,null,"J bass B","P bass","J Bass N","3xpickups:",{"$f":"B65","v":0},null,null,null,"3x 57'Classic"]
[null,110,null,null,"Type","H","S","H","H","S","S","S","S","S","S","S","S","H","H","H","H","H","H","S ","S","S ","S ","S","S ","S","S","S","H","H","H","H","H","H","S","S","S",{"$f":"B80","v":"S"},{"$f":"B80","v":"S"},{"$f":"B80","v":"S"},null,null,"H","H","H"]
[null,{"$f":"B60*2^(5/12)","v":146.83238395870379},null,null,"Scale",647.70000000000005,{"$f":"25.5*25.4","v":647.69999999999993},647.70000000000005,647.69999999999993,647.69999999999993,647.69999999999993,647.69999999999993,647.69999999999993,647.69999999999993,647.69999999999993,647.69999999999993,647.70000000000005,628.65,628.65,628.65,628.65,628.65,628.65,647.70000000000005,{"$f":"25.5*25.4","v":647.69999999999993},647.70000000000005,647.70000000000005,647.69999999999993,647.70000000000005,647.5,647.5,647.5,647.70000000000005,647.70000000000005,647.70000000000005,647.70000000000005,647.70000000000005,647.70000000000005,{"$f":"25.4*34","v":863.59999999999991},{"$f":"25.4*34","v":863.59999999999991},863.59999999999991,647.69999999999993,647.69999999999993,647.69999999999993,null,null,628.65,628.65,628.65]
[null,{"$f":"B61*2^(5/12)","v":195.99771799087466},null,null,"PU dist",40,{"$f":"F62/2+H62/2","v":87.5},135,41.274999999999999,98.424999999999997,158.75,41.274999999999999,98.424999999999997,158.75,41.274999999999999,98,158.75,40,92.5,145,40,92.5,145,41.274999999999999,98,{"$f":"6.25*25.4","v":158.75},41.274999999999999,98,158.75,40,92.5,145,40,100,160,40,100,160,{"$f":"(34-31-9/16)*25.4","v":61.912499999999994},{"$f":"AN61/7","v":123.37142857142855},{"$f":"(34-27-7/8)*25.4","v":155.57499999999999},{"$f":"1.625*25.4","v":41.274999999999999},98,{"$f":"AR61/2^(25/12)","v":152.8368480809832},null,null,40,{"$f":"AU62/2+AW62/2","v":92.5},{"$f":"AU62+105","v":145}]
["Pickup selection",{"$f":"B62*2^(4/12)","v":246.94165062806209},null,null,"width",40,10,40,40,10,15,10,10,10,10,10,10,40,40,40,40,40,40,10,10,10,10,10,10,30,30,30,30,30,30,30,30,30,30,30,30,{"$f":"B81","v":15},{"$f":"B81","v":15},{"$f":"B81","v":15},null,null,40,40,40]
[null,{"$f":"B63*2^(5/12)","v":329.62755691286998},null,null,"db",9,2,6,5,1,1,3,1.5,1.5,2,1,1,5,4,4,6,6,6,3,0,0,3,1,1,6,6,6,1,0,0,0,-1,-1,5,5,5,1,1,1,null,null,5.39,5.39,5.39]
[null,null,null,null,"R1 (k)",16.373248079372615,6.62,9.687072797467426,7.37,6.34,6.34,7.32,6.43,6.37,7.04,7.04,7.04,8.7594030791962236,7.6526193687901198,7.6526193687901198,8.7799999999999994,8.3800000000000008,8.3800000000000008,7.3248358554269437,7.5938672052095786,7.5938672052095786,10.54,9.6300000000000008,9.6300000000000008,8.6,8.57,8.57,4.71,6.13,6.13,5.3826850690087831,4.472709063595393,4.472709063595393,8.0399999999999991,10.5,7.66,6.34,6.34,6.34,null,null,8.36,8.36,8.36]
[null,"Guitar selected:",{"$f":"Main!A6","v":"Select PU"},null,"L1 (H)",10,3.16,4.3182581019504171,5,2.5499999999999998,2.5499999999999998,3.36,2.91,2.96,2.9952574595963646,2.769325762528756,2.77,5.0999999999999996,4.1825466085205765,4.1825466085205765,6.46,5.4,5.4,4.4761875199448076,2.4480906841765111,2.4480906841765111,3.75,2.97,2.97,8.39,8.14,8.14,3.1,2.5,2.5,2.25,1.8,1.8,3.9,5.83,3.64,2.5499999999999998,2.5499999999999998,2.5499999999999998,null,null,4.87,4.87,4.87]
[null,"Pickups:",{"$f":"IF(Main!A17=13,B79,\"\")","v":"Texas Special"},null,"C1 (nF)",7.4999999999999997E-2,0.1,0.12,0.11,0.16,0.16,0.151,0.159,0.111,0.127,0.10100000000000001,0.155,0.13500000000000001,0.13,0.13,0.105,0.12,0.12,0.16300000000000001,0.32100000000000001,0.32100000000000001,0.16700000000000001,0.187,0.187,9.2999999999999999E-2,0.10299999999999999,0.10299999999999999,0.125,0.125,0.125,0.14499999999999999,0.11,0.11,0.14699999999999999,2.1999999999999999E-2,0.14599999999999999,0.16,0.16,0.16,null,null,0.1,0.1,0.1]
[null,null,"if 'Select PU'",null,"Rd(k)",160,160,140,200,490,490,100,450,175,105.54837084805565,222.6311681304808,114.67195099196351,250,250,250,120,80,80,107.50972429241756,1000000000000,1000000000000,500,1000,1000,265,180,180,45,32,32,90,60,60,800,1000000,320,490,490,490,null,null,290,290,290]
["GuitarFreak",null,null,null,"Rl(k)",892.03432070017277,1600,810.42072903046915,4000,6200,6200,1350,1360,1260,1370.5888801905464,1618.6824063610218,1297.2498267889973,460,400,400,350,285,285,599.0497050254753,250,250,1700,480,480,990,940,940,180,145,145,195,165,165,2400,5800,1670,6200,6200,6200,null,null,600,600,600]
[null,null,null,null,"Ld(H)",20,20,7,10,12,12,45,30,30,20,20,20,20,18,18,20,14.5,14.5,18,1000000000000,1000000000000,30,30,30,40,30,30,3.2,2.1,2.1,4.2,2.5,2.5,40,1000000,40,12,12,12,null,null,9,9,9]
[{"$f":"Tone!L43","v":"ver 6.6.0"},null,{"$f":"Tone!N43","v":"©J Hewitt"},{"$f":"Tone!O43","v":"2019-12-01"},"DCR",{"$f":"1/(1/F65+1/F68+1/F69)","v":14.609999999999998},6.3318229098169567,8.9600000000000009,7.095458954406622,6.252703775654096,6.252703775654096,6.7864353702253908,6.3100037313295232,6.1164395984252806,6.5681705120266844,6.7955568602843028,6.5990551914761904,8.31,7.29,7.29,7.9945194313042798,7.388770510505168,7.388770510505168,6.78,7.3699999999456836,7.3699999999456836,10.260104353243516,9.3523066352333348,9.3523066352333348,8.2601787342161437,8.1099383439672845,8.1099383439672845,4.165070007369196,4.9682358633434696,4.9682358633434696,4.95,4.0599999999999996,4.0599999999999996,7.9336885731201878,10.480915878534205,7.4475632746613556,6.252703775654096,6.252703775654096,6.252703775654096]
[null,null,null,null,"rel output",{"$f":"F64+20*LOG((1/(1/F69+1/F68))/(1/(1/F69+1/F68)+F65))","v":8.0103074769085225},{"$f":"G64+20*LOG((1/(1/G69+1/G68))/(1/(1/G69+1/G68)+G65))","v":1.6134154090338595},5.3223089245933455,{"$f":"I64+20*LOG((1/(1/I69+1/I68))/(1/(1/I69+1/I68)+I65))","v":4.6702600848333402},{"$f":"J64+20*LOG((1/(1/J69+1/J68))/(1/(1/J69+1/J68)+J65))","v":0.87957192822508501},0.87957192822508501,{"$f":"L64+20*LOG((1/(1/L69+1/L68))/(1/(1/L69+1/L68)+L65))","v":2.3426127288141796},{"$f":"M64+20*LOG((1/(1/M69+1/M68))/(1/(1/M69+1/M68)+M65))","v":1.3363728626750833},1.1471851794966046,{"$f":"O64+20*LOG((1/(1/O69+1/O68))/(1/(1/O69+1/O68)+O65))","v":1.3974351910756546},0.69304783084465671,0.43818202950802121,{"$f":"R64+20*LOG((1/(1/R69+1/R68))/(1/(1/R69+1/R68)+R65))","v":4.542530243288903},3.578348313739018,3.578348313739018,{"$f":"U64+20*LOG((1/(1/U69+1/U68))/(1/(1/U69+1/U68)+U65))","v":5.1859569306885804},4.9065631857479692,4.9065631857479692,{"$f":"X64+20*LOG((1/(1/X69+1/X68))/(1/(1/X69+1/X68)+X65))","v":2.3286359394969729},-0.25991020917988172,-0.25991020917988172,{"$f":"AA64+20*LOG((1/(1/AA69+1/AA68))/(1/(1/AA69+1/AA68)+AA65))","v":2.7662233406897934},0.7458490105906288,0.7458490105906288,{"$f":"AD64+20*LOG((1/(1/AD69+1/AD68))/(1/(1/AD69+1/AD68)+AD65))","v":5.6498198693425463},5.52073461129166,5.52073461129166,{"$f":"AG64+20*LOG((1/(1/AG69+1/AG68))/(1/(1/AG69+1/AG68)+AG65))","v":-6.7972032242245017E-2},-1.8251653809872743,-1.8251653809872743,{"$f":"AJ64+20*LOG((1/(1/AJ69+1/AJ68))/(1/(1/AJ69+1/AJ68)+AJ65))","v":-0.72787543710086355},-1.8408923190300734,-1.8408923190300734]
[null,null,null,null,null,9,1.5,6,9,1.5,6]
[]
["Note:","The following table contains data derived from tests by Antigua on the Strat Talk forum. From these, a 6-component model of each pickup was derived to represent the electrical response loaded or unloaded"]
[null,"If the 'Guitar Selection' (above left-upper menu) is  'PU select', then any pickup may be chosen(above left-lower) , and is applied to all three positions "]
[null,"Alternatively, select one of the other  12 pre-set guitars, which can have 3 different pickups. Cut and paste freely between yellow cells to set up new combinations, and rename them as needed"]
["Pickups",19,1,{"$f":"1+C78","v":2},{"$f":"1+D78","v":3},4,5,6,7,8,9,10,11,12,13,14,15,16,17,18,19,20,{"$f":"1+V78","v":21},22,23,24,25,26,27,28,29,30,31,32,33,34,35,36,37,38,39,40]
[null,{"$f":"HLOOKUP($B$78,C$78:AP$89,2)","v":"Texas Special"},"57 Classic","57Classic+cover","PAF Pro","PAF Pro para","PAF Pro SC","SD59","SD59 Para","SD59 SC","Super.Dist","Super.Dist para","SuperDist SC","ChineseSC","Fender 57/62","Fender CS69","Fender VN","GFS Blues","Lollar Blackface","SD SSL-1","Texas Special","Tonerider Surfari","SuhrV60 LP","Seth Lover N","Fender MIM Ceram","seth lvt 3 part","Fender MIJ Tele","57Clssc coverd","57Clssc uncovd"]
["Type",{"$f":"HLOOKUP($B$78,C$78:AP$88,3)","v":"S"},"H","H","H","Hp","Hsc","H","Hp","Hs","H","Hp","Hs","S","S","S","S","S","S","S","S","S","S ","H","S ","H","S","H","H"]
["sensing width (mm)",{"$f":"HLOOKUP($B$78,C$78:AP$88,4)","v":15},40,40,40,40,40,40,40,15,40,40,15,15,15,15,15,15,15,15,15,15,15,40,15,40,15,40,40]
["db",{"$f":"HLOOKUP($B$78,C$78:AP$88,5)","v":1},5,5,6,0,0,5,-1,-1,9,3,3,-1,1,0,0,1,1,2,1,1,1,6,5,5,0,5,5]
["R1 (k)",{"$f":"HLOOKUP($B$78,C$78:AP$88,6)","v":6.34},8.36,8.4778420038535653,9.687072797467426,2.435352824694121,5.0447755121099576,7.37,1.79,3.67,16.373248079372615,3.9046773811764317,8.1255172426526645,5.549029400939733,7.0822122520625328,5.45,10.4,6.2407580217172187,7.6638450686161361,6.62,6.34,6.5566474064635161,6.4707067968895444,8.3572598969333658,7.4370096769947791,7.39,6.7499087850164186,8.7519755137736812,8.572141722326645]
["L1 (H)",{"$f":"HLOOKUP($B$78,C$78:AP$88,7)","v":2.5499999999999998},4.87,5.4739917099480433,4.3182581019504171,1.4591066497078158,2.1231709818221507,5,1,1.9,10,2.2301716251100783,4.1030407031009046,1.4158439246352228,2.9732470828845585,2.2999999999999998,2.86,2.4376745267921955,3.5674603174603172,3.16,2.5499999999999998,2.9224319974025992,3.0018822805541321,6.15234375,4.1236926470242468,4.16,2.0028714031513477,5.4038819723556522,5.2565375207589149]
["C1 (nF)",{"$f":"HLOOKUP($B$78,C$78:AP$88,8)","v":0.16},0.1,0.1,0.12,0.27600000000000002,0.17699999999999999,0.11,0.21,0.11,7.4999999999999997E-2,0.26,0.12,0.152,9.6000000000000002E-2,0.14000000000000001,3.7999999999999999E-2,8.3000000000000004E-2,8.1000000000000003E-2,0.1,0.16,0.10199999999999999,0.22900000000000001,0.11600000000000001,0.19600000000000001,0.154,0.24,0.11,0.11700000000000001]
["Rd(k)",{"$f":"HLOOKUP($B$78,C$78:AP$88,9)","v":490},290,220,140,35.5,70,200,130,180,160,60,105.76570324694235,105.0165945810993,38.366245034450671,650,300,1000000000000,85,160,490,412.91788017654363,340.40326824220227,70,270,1000000000000,600,180,200]
["Rl(k)",{"$f":"HLOOKUP($B$78,C$78:AP$88,10)","v":6200},600,400,810.42072903046915,246.48381554811567,393.20955075373189,4000,1000,10000,892.03432070017277,288.78446173730094,484.13189607883493,680,920.15635379675427,6200,1900,1260,1900,1600,6200,10000,1300,328.49965948137321,479.3623376788878,1000000000000,3000,219.17152908915065,367.49185368718679]
["Ld(H)",{"$f":"HLOOKUP($B$78,C$78:AP$88,11)","v":12},9,9,7,2.5,4,10,2,4.5,20,4,10,9,10,10,10,1000000000000,15.5,20,12,8,30,15,10,1000000000000,6,33,30]
["DCR (k)",{"$f":"HLOOKUP($B$78,C$78:AP$89,12)","v":6.252703775654096},{"$f":"1/(1/C83+1/C86+1/C87)","v":8.0171780926408882},8.0000000000000018,8.9600000000000009,2.2581305309734514,4.6500000000000004,7.095458954406622,1.7625756782735091,3.5953748001344974,14.609999999999998,3.6201380262249829,7.43,5.23,5.94,5.3999765202377734,9.9986506544326019,6.21,7.0040848859220892,6.3318229098169567,6.252703775654096,6.45,{"$f":"1/(1/W83+1/W86+1/W87)","v":6.3191334634669118},7.3000000000000007,7.13,7.3899999998907751,6.66,8.0399999999999991,8.0399999999999991,{"$error":"#DIV/0!"},{"$error":"#DIV/0!"},{"$error":"#DIV/0!"},{"$error":"#DIV/0!"},{"$error":"#DIV/0!"},{"$error":"#DIV/0!"},{"$error":"#DIV/0!"},{"$error":"#DIV/0!"},{"$error":"#DIV/0!"},{"$error":"#DIV/0!"},{"$error":"#DIV/0!"},{"$error":"#DIV/0!"},{"$error":"#DIV/0!"}]
[null,null,null,null,null,null,null,null,null,null,null,null,null,null,null,null,null,null,null,null,null,null,null,null,null,null,null,null,null,{"$f":"Main!K19","v":-5.4592992057487253}]
[]
["db adjust",{"$f":"-20*LOG((1/(1/B13+1/B12))/((1/(1/B13+1/B12))+B9))","v":0.12042807177491498},{"$f":"-20*LOG((1/(1/C13+1/C12))/((1/(1/C13+1/C12))+C9))","v":0.12042807177491498},0.12042807177491498,"H?",{"$f":"IF(F60=\"H\",1,0)","v":1},0,1,1,0,0,0,0,0,0,0,0,1,1,1,1,1,1,0,0,0,{"$f":"IF(AA60=\"H\",1,0)","v":0},0,0,0,0,0,1,1,1,1,1,1,0,0,0,{"$f":"IF(AP60=\"H\",1,0)","v":0},{"$f":"IF(AQ60=\"H\",1,0)","v":0},{"$f":"IF(AR60=\"H\",1,0)","v":0}]
[null,null,null,null,"on?",{"$f":"IF($F24=F57,1,0)","v":0},{"$f":"F93","v":0},{"$f":"F93","v":0},{"$f":"IF($F24=I57,1,0)","v":0},{"$f":"I93","v":0},{"$f":"I93","v":0},{"$f":"IF($F24=L57,1,0)","v":0},{"$f":"L93","v":0},{"$f":"L93","v":0},{"$f":"IF($F24=O57,1,0)","v":0},{"$f":"O93","v":0},{"$f":"O93","v":0},{"$f":"IF($F24=R57,1,0)","v":0},{"$f":"R93","v":0},{"$f":"R93","v":0},{"$f":"IF($F24=U57,1,0)","v":0},{"$f":"U93","v":0},{"$f":"U93","v":0},{"$f":"IF($F24=X57,1,0)","v":0},{"$f":"X93","v":0},{"$f":"X93","v":0},{"$f":"IF($F24=AA57,1,0)","v":0},{"$f":"AA93","v":0},{"$f":"AA93","v":0},{"$f":"IF($F24=AD57,1,0)","v":0},{"$f":"AD93","v":0},{"$f":"AD93","v":0},{"$f":"IF($F24=AG57,1,0)","v":0},{"$f":"AG93","v":0},{"$f":"AG93","v":0},{"$f":"IF($F24=AJ57,1,0)","v":0},{"$f":"AJ93","v":0},{"$f":"AJ93","v":0},{"$f":"IF($F24=AM57,1,0)","v":0},{"$f":"AM93","v":0},{"$f":"AM93","v":0},{"$f":"IF($F24=AP57,1,0)","v":1},{"$f":"AP93","v":1},{"$f":"AP93","v":1}]
[]
[]
[]
[]
[]
[]
[]
[]
[]
[]
[]
[]
[]
[]
[]
[]
[]
[]
[]
[]
[]
[]
[]
[]
[]
[]
[]
[]
[]
[]
[]
[null,null,null,null,{"$f":"TRANSPOSE(C78:AP759)","v":1},"57 Classic"]
[null,null,null,null,2,"57Classic+cover"]
[null,null,null,null,3,"PAF Pro"]
[null,null,null,null,4,"PAF Pro para"]
[null,null,null,null,5,"PAF Pro SC"]
[null,null,null,null,6,"SD59"]
[null,null,null,null,7,"SD59 Para"]
[null,null,null,null,8,"SD59 SC"]
[null,null,null,null,9,"Super.Dist"]
[null,null,null,null,10,"Super.Dist para"]
[null,null,null,null,11,"SuperDist SC"]
[null,null,null,null,12,"ChineseSC"]
[null,null,null,null,13,"Fender 57/62"]
[null,null,null,null,14,"Fender CS69"]
[null,null,null,null,15,"Fender VN"]
[null,null,null,null,16,"GFS Blues"]
[null,null,null,null,17,"Lollar Blackface"]
[null,null,null,null,18,"SD SSL-1"]
[null,null,null,null,19,"Texas Special"]
[null,null,null,null,20,"Tonerider Surfari"]
[null,null,null,null,21,"SuhrV60 LP"]
[null,null,null,null,22,"Seth Lover N"]
[null,null,null,null,23,"Fender MIM Ceram"]
[null,null,null,null,24,"seth lvt 3 part"]
[null,null,null,null,25,"Fender MIJ Tele"]
[null,null,null,null,26,"57Clssc coverd"]
[null,null,null,null,27,"57Clssc uncovd"]
[null,null,null,null,28,0]
[null,null,null,null,29,0]
[null,null,null,null,30,0]
[null,null,null,null,31,0]
[null,null,null,null,32,0]
[null,null,null,null,33,0]
[null,null,null,null,34,0]
[null,null,null,null,35,0]
[null,null,null,null,36,0]
[null,null,null,null,37,0]
[null,null,null,null,38,0]
[null,null,null,null,39,0]
[null,null,null,null,40,0]

{"sheet":"Strings","index":3,"n_rows":217,"n_cols":16,"rows_kept":217,"cut":false,"hidden":true,"merged":[]}
["String harmonics","Fret","Pick distance",null,null,null,null,null,null,null,null,null,null,null,"max frequency","min frequency"]
["Envelope",{"$f":"Main!B6","v":0},{"$f":"Main!C6","v":110},null,null,null,null,null,null,null,null,null,null,null,{"$f":"C14","v":61.741586198281219},{"$f":"D14","v":61.741586198281219}]
["F0 (hZ)","String on?",null,null,null,null,null,null,null,null,null,null,null,null,{"$f":"F14","v":0},{"$f":"G14","v":0}]
[{"$f":"'Strings & Pickups'!B58","v":61.735412657015509},null,null,null,null,null,null,null,null,null,null,null,null,null,{"$f":"I14","v":0},{"$f":"J14","v":0}]
[{"$f":"'Strings & Pickups'!B59","v":82.40688922821748},null,null,null,null,null,null,null,null,null,null,null,null,null,{"$f":"L14","v":0},{"$f":"M14","v":0}]
[{"$f":"'Strings & Pickups'!B60","v":110},null,null,null,null,null,null,null,null,null,null,null,null,null,{"$f":"O14","v":0},{"$f":"P14","v":0}]
[{"$f":"'Strings & Pickups'!B61","v":146.83238395870379},null,null,null,null,null,null,null,null,null,null,null,null,null,{"$f":"R14","v":0},{"$f":"S14","v":0}]
[{"$f":"'Strings & Pickups'!B62","v":195.99771799087466},null,null,null,null,null,null,null,null,null,null,null,null,null,{"$f":"U14","v":0},{"$f":"V14","v":0}]
[{"$f":"'Strings & Pickups'!B63","v":246.94165062806209},null,null,null,null,null,null,null,null,null,null,null,null,null,61.478999999999985,61.478999999999985]
[{"$f":"'Strings & Pickups'!B64","v":329.62755691286998}]
[]
[]
[null,"Reference","Ref Freq",{"$f":"110*2^(-10/12)","v":61.735412657015516},null,null,"$N$190 is arbitrary, 1.25"]
["f",null,{"$f":"D13*C16/B16*1.0001","v":61.741586198281219},{"$f":"IF(C14<10,10000,C14)","v":61.741586198281219}]
["h (initail dispalcement mm)",null,{"$f":"$N$190/70/(1/B17+1/(B16-B17))","v":1.6306877081541278}]
["l, l0",{"$f":"C16/(2^(B2/12))","v":647.69999999999993},{"$f":"'Strings & Pickups'!B5","v":647.69999999999993}]
["Pick posn",{"$f":"Strings!C2","v":110}]
["harmonic n","f","Cn","String 7 db"]
[1,{"$f":"$A19*C$14","v":61.741586198281219},{"$f":"2*C$15/($A19*PI())^2*(B$16^2/B$17/(B$16-B$17))*SIN($A19*PI()*B$17/B$16)","v":1.1920123591408951},{"$f":"20*LOG(ABS(C19*$A19*C$16/B$16))","v":1.5256151664545832}]
[{"$f":"A19+1","v":2},{"$f":"$A20*C$14","v":123.48317239656244},{"$f":"2*C$15/($A20*PI())^2*(B$16^2/B$17/(B$16-B$17))*SIN($A20*PI()*B$17/B$16)","v":0.51316789614136582},{"$f":"20*LOG(ABS(C20*$A20*C$16/B$16))","v":0.22578949380794655}]
[3,{"$f":"$A21*C$14","v":185.22475859484365},{"$f":"2*C$15/($A21*PI())^2*(B$16^2/B$17/(B$16-B$17))*SIN($A21*PI()*B$17/B$16)","v":0.26030371136890834},{"$f":"20*LOG(ABS(C21*$A21*C$16/B$16))","v":-2.1479677005064355}]
[4,246.96634479312488,0.12384793921086147,-6.1010244841594465]
[5,308.7079309914061,4.2782749708502814E-2,-13.395226036080958]
[6,370.4495171896873,-3.8818347792921454E-3,-32.656234056848106]
[7,432.19110338796855,-2.6739071997769755E-2,-14.555112587150221]
[8,493.93268958624975,-3.3069879301029594E-2,-11.549548063727094]
[9,555.67427578453101,-2.8819721367143857E-2,-11.721354257571416]
[10,617.4158619828122,-1.9034116096741566E-2,-14.409345721589792]
[11,679.1574481810934,-7.7960277726582192E-3,-21.334678745156435]
[12,740.8990343793746,1.9374642796622077E-3,-32.671700992653186]
[13,802.6406205776558,8.4245837816540221E-3,-19.210163880612662]
[14,864.38220677593711,1.1085418787189124E-2,-16.182397193934268]
[15,926.1237929742183,1.030113399482047E-2,-16.220474090638426]
[16,987.8653791724995,7.1034508827932273E-3,-18.888212709798658]
[17,1049.6069653707807,2.8156174260671693E-3,-26.399548684022321]
[18,1111.348551569062,-1.2878115250997742E-3,-32.69750374923764]
[19,1173.0901377673431,-4.2444009736326976E-3,-21.868599871219878]
[20,1234.8317239656244,-5.5532019625610099E-3,-19.088530717284144]
[21,1296.5733101639055,-5.1992421169718963E-3,-19.236813264953426]
[22,1358.3148963621868,-3.5683567559657032E-3,-22.102181031122676]
[23,1420.0564825604681,-1.2877356079847278E-3,-30.56890918345885]
[24,1481.7980687587492,9.6184433934469417E-4,-32.733679297435827]
[25,1543.5396549570305,2.6164013277668948E-3,-23.687112609459078]
[26,1605.2812411553116,3.3460291003944427E-3,-21.209938766599041]
[27,1667.0228273535929,3.0998873346714767E-3,-21.545806522842202]
[28,1728.7644135518742,2.078495610525392E-3,-24.701857139602872]
[29,1790.5059997501553,6.4956828935105646E-4,-34.499543735092594]
[30,1852.2475859484366,-7.6535823209493089E-4,-32.780279750075152]
[null,null,{"$f":"IF(C14<1,100000,C14)","v":61.741586198281219}]
[]
["Envelope"]
[null,"lowest F0",{"$f":"C14","v":61.741586198281219}]
[null,"highest F0",{"$f":"D14","v":61.741586198281219}]
[null,"h=picking deflection",null,{"$f":"G54/70/(1/C56+1/(C55-C56))","v":1.6306877081541278},null,"Factor",1.25,"arbitrary scale factor"]
[null,"L,L0",{"$f":"$B$16","v":647.69999999999993},{"$f":"'Strings & Pickups'!$B$5","v":647.69999999999993},null,null,null," L=fretted length, L0= scale length,"]
[null,"l1= pick dist",{"$f":"$C$2","v":110},null,null,null,null,null,null,null,null,1.1822674339654142]
[null,"Fundamental:",null,"Cn=amplitude","rel.output db","power1",6,"higher=sharper transistion"]
[null,1,null,{"$f":"2*D54/(PI())^2*(C55^2/C56/(C55-C56))*SIN(PI()*C56/C55)","v":1.1920123591408951},{"$f":"20*LOG(ABS(D58*D55/C55))","v":1.5256151664545832},"power2",1.2,"higher raises corner frequency"]
[]
[null,"PU's series","PU's para","PU's SP","db","dbenv"]
["f","Strings db","Harmnc.No.","db.act",null,"db.harm.env",null,null,{"$f":"harmonics!AU19","v":0},{"$f":"harmonics!AV19","v":1},null,{"$f":"Main!AX40","v":0},{"$f":"ABS(1-L61)","v":1}]
[{"$f":"110/2^(17/12)","v":41.20344461410874},{"$f":"IF(A62+0.1<$C$52,-100,20*LOG((1/(((A62*1)/2^$G$58/$C$53)^$G$57+1/($D$58*$D$55/$C$55)^$G$57))^(1/$G$57)))","v":-100},-17,{"$f":"MAX(IF($C$188:$C$397=C62,$E$188:$E$397))","v":0},{"$f":"IF(D62=0,-50,D62)","v":-50},null,{"$f":"MAX(IF($C$188:$C$397=C62,$G$188:$G$397))","v":0},{"$f":"IF(G62=0,-50,G62)","v":-50},{"$f":"harmonics!I21","v":9.9999999999999995E-7},{"$f":"harmonics!J21","v":9.9999999999999995E-7},{"$f":"I62*$I$61+J62*$J$61","v":9.9999999999999995E-7},{"$f":"20*LOG(K62)","v":-120},{"$f":"MAX(L62:L65)","v":-120},{"$f":"L62*$L$61+M62*$M$61","v":-120}]
[{"$f":"A62*2^(1/12)","v":43.653528929125486},-100,{"$f":"C62+1","v":-16},{"$f":"MAX(IF($C$188:$C$397=C63,$E$188:$E$397))","v":0},-50,null,{"$f":"MAX(IF($C$188:$C$397=C63,$G$188:$G$397))","v":0},{"$f":"IF(G63=0,-50,G63)","v":-50},{"$f":"harmonics!I22","v":9.9999999999999995E-7},{"$f":"harmonics!J22","v":9.9999999999999995E-7},{"$f":"I63*$I$61+J63*$J$61","v":9.9999999999999995E-7},{"$f":"20*LOG(K63)","v":-120},{"$f":"MAX(L62:L66)","v":-120},{"$f":"L63*$L$61+M63*$M$61","v":-120}]
[46.2493028389543,-100,{"$f":"C63+1","v":-15},{"$f":"MAX(IF($C$188:$C$397=C64,$E$188:$E$397))","v":0},-50,null,{"$f":"MAX(IF($C$188:$C$397=C64,$G$188:$G$397))","v":0},-50,{"$f":"harmonics!I23","v":9.9999999999999995E-7},{"$f":"harmonics!J23","v":9.9999999999999995E-7},9.9999999999999995E-7,-120,{"$f":"MAX(L62:L67)","v":-120},-120]
[48.999429497718666,-100,-14,{"$f":"MAX(IF($C$188:$C$397=C65,$E$188:$E$397))","v":0},-50,null,{"$f":"MAX(IF($C$188:$C$397=C65,$G$188:$G$397))","v":0},-50,{"$f":"harmonics!I24","v":9.9999999999999995E-7},{"$f":"harmonics!J24","v":9.9999999999999995E-7},9.9999999999999995E-7,-120,{"$f":"MAX(L63:L68)","v":-120},-120]
[51.913087197493148,-100,-13,{"$f":"MAX(IF($C$188:$C$397=C66,$E$188:$E$397))","v":0},-50,null,{"$f":"MAX(IF($C$188:$C$397=C66,$G$188:$G$397))","v":0},-50,{"$f":"harmonics!I25","v":9.9999999999999995E-7},{"$f":"harmonics!J25","v":9.9999999999999995E-7},9.9999999999999995E-7,-120,-12.911516427231227,-12.911516427231227]
[55.000000000000007,-100,-12,{"$f":"MAX(IF($C$188:$C$397=C67,$E$188:$E$397))","v":0},-50,null,{"$f":"MAX(IF($C$188:$C$397=C67,$G$188:$G$397))","v":0},-50,{"$f":"harmonics!I26","v":9.9999999999999995E-7},{"$f":"harmonics!J26","v":9.9999999999999995E-7},9.9999999999999995E-7,-120,-12.417305496077617,-12.417305496077617]
[58.270470189761248,-100,-11,{"$f":"MAX(IF($C$188:$C$397=C68,$E$188:$E$397))","v":0},-50,null,{"$f":"MAX(IF($C$188:$C$397=C68,$G$188:$G$397))","v":0},-50,{"$f":"harmonics!I27","v":9.9999999999999995E-7},{"$f":"harmonics!J27","v":9.9999999999999995E-7},9.9999999999999995E-7,-120,-11.924016485716253,-11.924016485716253]
[61.735412657015523,1.4976594282282207,-10,{"$f":"MAX(IF($C$188:$C$397=C69,$E$188:$E$397))","v":1.5256151664545832},1.5256151664545832,null,{"$f":"MAX(IF($C$188:$C$397=C69,$G$188:$G$397))","v":1.4955240461586694},1.4955240461586694,{"$f":"harmonics!I28","v":0.22616440847977629},{"$f":"harmonics!J28","v":0.22616436559329961},0.22616436559329961,-12.911516427231227,-11.431763016002172,-11.431763016002172]
[65.40639132514967,1.4862360636963377,-9,{"$f":"MAX(IF($C$188:$C$397=C70,$E$188:$E$397))","v":0},-50,null,{"$f":"MAX(IF($C$188:$C$397=C70,$G$188:$G$397))","v":0},-50,{"$f":"harmonics!I29","v":0.23940587709374578},{"$f":"harmonics!J29","v":0.23940583169635266},0.23940583169635266,-12.417305496077617,-10.940672809495011,-10.940672809495011]
[69.295657744218033,1.4702333352655605,-8,{"$f":"MAX(IF($C$188:$C$397=C71,$E$188:$E$397))","v":0},-50,null,{"$f":"MAX(IF($C$188:$C$397=C71,$G$188:$G$397))","v":0},-50,{"$f":"harmonics!I30","v":0.25339571004756317},{"$f":"harmonics!J30","v":0.25339566199734487},0.25339566199734487,-11.924016485716253,-10.450889468173512,-10.450889468173512]
[73.416191979351908,1.4478998498488018,-7,{"$f":"MAX(IF($C$188:$C$397=C72,$E$188:$E$397))","v":0},-50,null,{"$f":"MAX(IF($C$188:$C$397=C72,$G$188:$G$397))","v":0},-50,{"$f":"harmonics!I31","v":0.26817107415042102},{"$f":"harmonics!J31","v":0.26817102329842096},{"$f":"I72*$I$61+J72*$J$61","v":0.26817102329842096},{"$f":"20*LOG(K72)","v":-11.431763016002172},{"$f":"MAX(L70:L75)","v":-9.9625744809130765},{"$f":"L72*$L$61+M72*$M$61","v":-9.9625744809130765}]
[77.781745930520245,1.4168923775421305,-6,{"$f":"MAX(IF($C$188:$C$397=C73,$E$188:$E$397))","v":0},-50,null,{"$f":"MAX(IF($C$188:$C$397=C73,$G$188:$G$397))","v":0},-50,{"$f":"harmonics!I32","v":0.28376997496886663},{"$f":"harmonics!J32","v":0.28376992115892152},0.28376992115892152,-10.940672809495011,-9.4759094935277606,-9.4759094935277606]
[82.406889228217509,1.3741448854056035,-5,{"$f":"MAX(IF($C$188:$C$397=C74,$E$188:$E$397))","v":0},-50,null,{"$f":"MAX(IF($C$188:$C$397=C74,$G$188:$G$397))","v":0},-50,{"$f":"harmonics!I33","v":0.30023105264606542},{"$f":"harmonics!J33","v":0.30023099571468476},0.30023099571468476,-10.450889468173512,-8.9910988780416545,-8.9910988780416545]
[87.307057858251,1.3157676818289608,-4,{"$f":"MAX(IF($C$188:$C$397=C75,$E$188:$E$397))","v":0},-50,null,{"$f":"MAX(IF($C$188:$C$397=C75,$G$188:$G$397))","v":0},-50,{"$f":"harmonics!I34","v":0.31759331930812756},{"$f":"harmonics!J34","v":0.31759325908442321},0.31759325908442321,-9.9625744809130765,-8.5083726435873857,-8.5083726435873857]
[92.498605677908628,1.2370327662365663,-3,{"$f":"MAX(IF($C$188:$C$397=C76,$E$188:$E$397))","v":0},-50,null,{"$f":"MAX(IF($C$188:$C$397=C76,$G$188:$G$397))","v":0},-50,{"$f":"harmonics!I35","v":0.33589582642517923},{"$f":"harmonics!J35","v":0.33589576273085786},0.33589576273085786,-9.4759094935277606,-8.0279897381162311,-8.0279897381162311]
[97.998858995437359,1.1325234630022831,-2,{"$f":"MAX(IF($C$188:$C$397=C77,$E$188:$E$397))","v":0},-50,null,{"$f":"MAX(IF($C$188:$C$397=C77,$G$188:$G$397))","v":0},-50,{"$f":"harmonics!I36","v":0.35517724845613874},{"$f":"harmonics!J36","v":0.35517718110557339},0.35517718110557339,-8.9910988780416545,-7.5502417981808545,-7.5502417981808545]
[103.82617439498632,0.99652667413325835,-1,{"$f":"MAX(IF($C$188:$C$397=C78,$E$188:$E$397))","v":0},-50,null,{"$f":"MAX(IF($C$188:$C$397=C78,$G$188:$G$397))","v":0},-50,{"$f":"harmonics!I37","v":0.37547536675574922},{"$f":"harmonics!J37","v":0.37547529555614861},0.37547529555614861,-8.5083726435873857,-7.0754574137123596,-7.0754574137123596]
[110.00000000000004,0.82369581057361119,0,{"$f":"MAX(IF($C$188:$C$397=C79,$E$188:$E$397))","v":0},-50,null,{"$f":"MAX(IF($C$188:$C$397=C79,$G$188:$G$397))","v":0},-50,{"$f":"harmonics!I38","v":0.39682643502667309},{"$f":"harmonics!J38","v":0.39682635977837138},0.39682635977837138,-8.0279897381162311,-6.6040069863354587,-6.6040069863354587]
[116.54094037952252,0.60989707579942065,1,{"$f":"MAX(IF($C$188:$C$397=C80,$E$188:$E$397))","v":0},-50,null,{"$f":"MAX(IF($C$188:$C$397=C80,$G$188:$G$397))","v":0},-50,{"$f":"harmonics!I39","v":0.41926440452638569},{"$f":"harmonics!J39","v":0.41926432502327898},0.41926432502327898,-7.5502417981808545,-6.1363082738308616,-6.1363082738308616]
[123.47082531403107,0.35301002231268375,2,{"$f":"MAX(IF($C$188:$C$397=C81,$E$188:$E$397))","v":0.22578949380794655},0.22578949380794655,null,{"$f":"MAX(IF($C$188:$C$397=C81,$G$188:$G$397))","v":0.292275028599358},0.292275028599358,{"$f":"harmonics!I40","v":0.4428199837609712},{"$f":"harmonics!J40","v":0.44281989979113251},0.44281989979113251,-7.0754574137123596,-5.6728327304858741,-5.6728327304858741]
[130.81278265029937,5.338681829777156E-2,3,{"$f":"MAX(IF($C$188:$C$397=C82,$E$188:$E$397))","v":0},-50,null,{"$f":"MAX(IF($C$188:$C$397=C82,$G$188:$G$397))","v":0},-50,{"$f":"harmonics!I41","v":0.4675195034972105},{"$f":"harmonics!J41","v":0.46751941484371984},0.46751941484371984,-6.6040069863354587,-5.2141127740820794,-5.2141127740820794]
[138.59131548843609,-0.28622629088645124,4,{"$f":"MAX(IF($C$188:$C$397=C83,$E$188:$E$397))","v":0},-50,null,{"$f":"MAX(IF($C$188:$C$397=C83,$G$188:$G$397))","v":0},-50,{"$f":"harmonics!I42","v":0.49338355359683755},{"$f":"harmonics!J42","v":0.49338346003887057},0.49338346003887057,-6.1363082738308616,-4.760750136216191,-4.760750136216191]
[146.83238395870384,-0.66127047270679695,5,{"$f":"MAX(IF($C$188:$C$397=C84,$E$188:$E$397))","v":0},-50,null,{"$f":"MAX(IF($C$188:$C$397=C84,$G$188:$G$397))","v":0},-50,{"$f":"harmonics!I43","v":0.52042535344175378},{"$f":"harmonics!J43","v":0.52042525475597945},0.52042525475597945,-5.6728327304858741,-4.3134254849416696,-4.3134254849416696]
[155.56349186104052,-1.0662169974307711,6,{"$f":"MAX(IF($C$188:$C$397=C85,$E$188:$E$397))","v":0},-50,null,{"$f":"MAX(IF($C$188:$C$397=C85,$G$188:$G$397))","v":0},-50,{"$f":"harmonics!I44","v":0.54864881262996834},{"$f":"harmonics!J44","v":0.54864870859231429},0.54864870859231429,-5.2141127740820794,-3.8729095492302221,-3.8729095492302221]
[164.81377845643505,-1.4953798263434213,7,{"$f":"MAX(IF($C$188:$C$397=C86,$E$188:$E$397))","v":0},-50,null,{"$f":"MAX(IF($C$188:$C$397=C86,$G$188:$G$397))","v":0},-50,{"$f":"harmonics!I45","v":0.57804623328240468},{"$f":"harmonics!J45","v":0.57804612367025809},0.57804612367025809,-4.760750136216191,-3.4400760260108147,-3.4400760260108147]
[174.61411571650203,-1.9435060054591722,8,{"$f":"MAX(IF($C$188:$C$397=C87,$E$188:$E$397))","v":0},-50,null,{"$f":"MAX(IF($C$188:$C$397=C87,$G$188:$G$397))","v":0},-50,{"$f":"harmonics!I46","v":0.60859559988424716},{"$f":"harmonics!J46","v":0.60859548447917011},0.60859548447917011,-4.3134254849416696,-3.0159166159871424,-3.0159166159871424]
[184.99721135581729,-2.4060942674191996,9,{"$f":"MAX(IF($C$188:$C$397=C88,$E$188:$E$397))","v":-2.1479677005064355},-2.1479677005064355,null,{"$f":"MAX(IF($C$188:$C$397=C88,$G$188:$G$397))","v":-2.5160517459235185},-2.5160517459235185,{"$f":"harmonics!I47","v":0.64025739736264253},{"$f":"harmonics!J47","v":0.64025727595368997},0.64025727595368997,-3.8729095492302221,-2.6015586187910067,-2.6015586187910067]
[195.99771799087475,-2.8794904415949727,10,{"$f":"MAX(IF($C$188:$C$397=C89,$E$188:$E$397))","v":0},-50,null,{"$f":"MAX(IF($C$188:$C$397=C89,$G$188:$G$397))","v":0},-50,{"$f":"harmonics!I48","v":0.67297089348019001},{"$f":"harmonics!J48","v":0.67297076586793347},0.67297076586793347,-3.4400760260108147,-2.1982856278745229,-2.1982856278745229]
[207.65234878997268,-3.3608417494297873,11,{"$f":"MAX(IF($C$188:$C$397=C90,$E$188:$E$397))","v":0},-50,null,{"$f":"MAX(IF($C$188:$C$397=C90,$G$188:$G$397))","v":0},-50,{"$f":"harmonics!I49","v":0.70664981818531514},{"$f":"harmonics!J49","v":0.70664968418668495},0.70664968418668495,-3.0159166159871424,-1.8075620101351748,-1.8075620101351748]
[220.00000000000011,-3.8479830327470492,12,{"$f":"MAX(IF($C$188:$C$397=C91,$E$188:$E$397))","v":0},-50,null,{"$f":"MAX(IF($C$188:$C$397=C91,$G$188:$G$397))","v":0},-50,{"$f":"harmonics!I50","v":0.74117737112939208},{"$f":"harmonics!J50","v":0.74117723058346696},0.74117723058346696,-2.6015586187910067,-1.431062047805123,-1.431062047805123]
[233.08188075904508,-4.339304049905035,13,{"$f":"MAX(IF($C$188:$C$397=C92,$E$188:$E$397))","v":0},-50,null,{"$f":"MAX(IF($C$188:$C$397=C92,$G$188:$G$397))","v":0},-50,{"$f":"harmonics!I51","v":0.77640049027204772},{"$f":"harmonics!J51","v":0.77640034304693073},0.77640034304693073,-2.1982856278745229,-1.0707048797055476,-1.0707048797055476]
[246.94165062806221,-4.8336245619362357,14,{"$f":"MAX(IF($C$188:$C$397=C93,$E$188:$E$397))","v":-6.1010244841594465},-6.1010244841594465,null,{"$f":"MAX(IF($C$188:$C$397=C93,$G$188:$G$397))","v":-4.939970557326153},-4.939970557326153,{"$f":"harmonics!I52","v":0.81212332089001527},{"$f":"harmonics!J52","v":0.81212316689094843},0.81212316689094843,-1.8075620101351748,-0.72869673358162568,-0.72869673358162568]
[261.62556530059879,{"$f":"IF(A94+0.1<$C$52,-100,20*LOG((1/(((A94*1)/2^$G$58/$C$53)^$G$57+1/($D$58*$D$55/$C$55)^$G$57))^(1/$G$57)))","v":-5.3300884544402027},15,{"$f":"MAX(IF($C$188:$C$397=C94,$E$188:$E$397))","v":0},-50,null,{"$f":"MAX(IF($C$188:$C$397=C94,$G$188:$G$397))","v":0},-50,{"$f":"harmonics!I53","v":0.84809983743488837},{"$f":"harmonics!J53","v":0.84809967661376651},0.84809967661376651,-1.431062047805123,-0.40758243267749661,-0.40758243267749661]
[{"$f":"A94*2^(1/12)","v":277.1826309768723},-5.8280793095945143,16,{"$f":"MAX(IF($C$188:$C$397=C95,$E$188:$E$397))","v":0},-50,null,{"$f":"MAX(IF($C$188:$C$397=C95,$G$188:$G$397))","v":0},-50,{"$f":"harmonics!I54","v":0.88402559324845831},{"$f":"harmonics!J54","v":0.88402542561490705},0.88402542561490705,-1.0707048797055476,-0.11030885141051347,-0.11030885141051347]
[293.6647679174078,-6.327155628022723,17,{"$f":"MAX(IF($C$188:$C$397=C96,$E$188:$E$397))","v":0},-50,null,{"$f":"MAX(IF($C$188:$C$397=C96,$G$188:$G$397))","v":0},-50,{"$f":"harmonics!I55","v":0.91952860862793628},{"$f":"harmonics!J55","v":0.91952843426211772},0.91952843426211772,-0.72869673358162568,0.15969601490520768,0.15969601490520768]
[311.12698372208121,-6.8270023736401972,18,{"$f":"MAX(IF($C$188:$C$397=C97,$E$188:$E$397))","v":-13.395226036080958},-13.395226036080958,null,{"$f":"MAX(IF($C$188:$C$397=C97,$G$188:$G$397))","v":-6.8658452627690458},-6.8658452627690458,{"$f":"harmonics!I56","v":0.9541594605700835},{"$f":"harmonics!J56","v":0.9541592796373819},0.9541592796373819,-0.40758243267749661,0.3984232578144391,0.3984232578144391]
[329.62755691287026,-7.3273953450261704,19,{"$f":"MAX(IF($C$188:$C$397=C98,$E$188:$E$397))","v":0},-50,null,{"$f":"MAX(IF($C$188:$C$397=C98,$G$188:$G$397))","v":0},-50,{"$f":"harmonics!I57","v":0.98738071324340027},{"$f":"harmonics!J57","v":0.98738052601111115},0.98738052601111115,-0.11030885141051347,0.60115528491057879,0.60115528491057879]
[349.22823143300423,-7.8281752846227857,20,{"$f":"MAX(IF($C$188:$C$397=C99,$E$188:$E$397))","v":0},-50,null,{"$f":"MAX(IF($C$188:$C$397=C99,$G$188:$G$397))","v":0},-50,{"$f":"harmonics!I58","v":1.0185559335908776},{"$f":"harmonics!J58","v":1.0185557404469803},1.0185557404469803,0.15969601490520768,0.76229954726305738,0.76229954726305738]
[369.9944227116348,-8.3292292170949498,21,{"$f":"MAX(IF($C$188:$C$397=C100,$E$188:$E$397))","v":-32.656234056848106},-32.656234056848106,null,{"$f":"MAX(IF($C$188:$C$397=C100,$G$188:$G$397))","v":-8.4465423102558717},-8.4465423102558717,{"$f":"harmonics!I59","v":1.0469386794707745},{"$f":"harmonics!J59","v":1.0469384809447926},1.0469384809447926,0.3984232578144391,0.87516814656194519,0.87516814656194519]
[391.99543598174972,-8.8304770746202603,22,{"$f":"MAX(IF($C$188:$C$397=C101,$E$188:$E$397))","v":0},-50,null,{"$f":"MAX(IF($C$188:$C$397=C101,$G$188:$G$397))","v":0},-50,{"$f":"harmonics!I60","v":1.0716620375956227},{"$f":"harmonics!J60","v":1.0716618343814686},1.0716618343814686,0.60115528491057879,0.93167953296304873,0.93167953296304873]
[415.30469757994558,-9.3318621493947891,23,{"$f":"MAX(IF($C$188:$C$397=C102,$E$188:$E$397))","v":0},-50,null,{"$f":"MAX(IF($C$188:$C$397=C102,$G$188:$G$397))","v":0},-50,{"$f":"harmonics!I61","v":1.0917295352702703},{"$f":"harmonics!J61","v":1.0917293282508125},1.0917293282508125,0.76229954726305738,0.93167953296304873,0.93167953296304873]
[440.00000000000051,-9.83334429722116,24,{"$f":"MAX(IF($C$188:$C$397=C103,$E$188:$E$397))","v":-14.555112587150221},-14.555112587150221,null,{"$f":"MAX(IF($C$188:$C$397=C103,$G$188:$G$397))","v":-9.7845873100347251},-9.7845873100347251,{"$f":"harmonics!I62","v":1.1060085637158767},{"$f":"harmonics!J62","v":1.1060083539887549},1.1060083539887549,0.87516814656194519,0.93167953296304873,0.93167953296304873]
[466.1637615180905,-10.334895108977095,25,{"$f":"MAX(IF($C$188:$C$397=C104,$E$188:$E$397))","v":0},-50,null,{"$f":"MAX(IF($C$188:$C$397=C104,$G$188:$G$397))","v":0},-50,{"$f":"harmonics!I63","v":1.1132278405428875},{"$f":"harmonics!J63","v":1.1132276294468086},1.1132276294468086,0.93167953296304873,0.93167953296304873,0.93167953296304873]
[493.88330125612475,-10.836494484926416,26,{"$f":"MAX(IF($C$188:$C$397=C105,$E$188:$E$397))","v":-11.549548063727094},-11.549548063727094,null,{"$f":"MAX(IF($C$188:$C$397=C105,$G$188:$G$397))","v":-10.944103427209599},-10.944103427209599,{"$f":"harmonics!I64","v":1.1119809102114921},{"$f":"harmonics!J64","v":1.1119806993518628},1.1119806993518628,0.92194498524941859,0.93167953296304873,0.93167953296304873]
[523.25113060119793,-11.33812820667954,27,{"$f":"MAX(IF($C$188:$C$397=C106,$E$188:$E$397))","v":0},-50,null,{"$f":"MAX(IF($C$188:$C$397=C106,$G$188:$G$397))","v":0},-50,{"$f":"harmonics!I65","v":1.1007382326813795},{"$f":"harmonics!J65","v":1.1007380239536453},1.1007380239536453,0.83367938053467938,0.93167953296304873,0.93167953296304873]
[554.36526195374495,-11.839786217450747,28,{"$f":"MAX(IF($C$188:$C$397=C107,$E$188:$E$397))","v":-11.721354257571416},-11.721354257571416,null,{"$f":"MAX(IF($C$188:$C$397=C107,$G$188:$G$397))","v":-11.967020663982337},-11.967020663982337,{"$f":"harmonics!I66","v":1.0778710283659088},{"$f":"harmonics!J66","v":1.0778708239743733},1.0778708239743733,0.65133433024943688,0.92194498524941859,0.92194498524941859]
[587.32953583481594,-12.341461404585212,29,{"$f":"MAX(IF($C$188:$C$397=C108,$E$188:$E$397))","v":0},-50,null,{"$f":"MAX(IF($C$188:$C$397=C108,$G$188:$G$397))","v":0},-50,{"$f":"harmonics!I67","v":1.0416906988680625},{"$f":"harmonics!J67","v":1.0416905013372302},1.0416905013372302,0.35477408124025533,0.83367938053467938,0.83367938053467938]
[622.25396744416275,-12.843148737959629,30,{"$f":"MAX(IF($C$188:$C$397=C109,$E$188:$E$397))","v":-14.409345721589792},-14.409345721589792,null,{"$f":"MAX(IF($C$188:$C$397=C109,$G$188:$G$397))","v":-12.882109711286633},-12.882109711286633,{"$f":"harmonics!I68","v":0.99050826495902899},{"$f":"harmonics!J68","v":0.99050807713367717},0.99050807713367717,-8.283957282098775E-2,0.65133433024943688,0.65133433024943688]
[659.25511382574086,-13.344844660381217,31,{"$f":"MAX(IF($C$188:$C$397=C110,$E$188:$E$397))","v":0},-50,null,{"$f":"MAX(IF($C$188:$C$397=C110,$G$188:$G$397))","v":0},-50,{"$f":"harmonics!I69","v":0.92271875009632864},{"$f":"harmonics!J69","v":0.92271857512557875},0.92271857512557875,-0.69861473152068343,0.35477408124025533,0.35477408124025533]
[698.45646286600891,-13.846546656355581,32,{"$f":"MAX(IF($C$188:$C$397=C111,$E$188:$E$397))","v":-21.334678745156435},-21.334678745156435,null,{"$f":"MAX(IF($C$188:$C$397=C111,$G$188:$G$397))","v":-13.709933397660771},-13.709933397660771,{"$f":"harmonics!I70","v":0.83691562461317859},{"$f":"harmonics!J70","v":0.8369154659128657},0.8369154659128657,-1.5463681290625619,-8.283957282098775E-2,-8.283957282098775E-2]
[739.98884542327005,-14.348252947069939,33,{"$f":"MAX(IF($C$188:$C$397=C112,$E$188:$E$397))","v":-32.671700992653186},-32.671700992653186,null,{"$f":"MAX(IF($C$188:$C$397=C112,$G$188:$G$397))","v":-14.465688792647688},-14.465688792647688,{"$f":"harmonics!I71","v":0.73204007056082343},{"$f":"harmonics!J71","v":0.73203993174756088},0.73203993174756088,-2.7093045628590682,-0.69861473152068343,-0.69861473152068343]
[783.9908719634999,-14.849962274668888,34,{"$f":"MAX(IF($C$188:$C$397=C113,$E$188:$E$397))","v":-19.210163880612662},-19.210163880612662,null,{"$f":"MAX(IF($C$188:$C$397=C113,$G$188:$G$397))","v":-15.16092211493576},-15.16092211493576,{"$f":"harmonics!I72","v":0.60756859364076021},{"$f":"harmonics!J72","v":0.60756847843042938},0.60756847843042938,-4.3280953215582638,-1.5463681290625619,-1.5463681290625619]
[830.60939515989173,-15.351673749691946,35,{"$f":"MAX(IF($C$188:$C$397=C114,$E$188:$E$397))","v":0},-50,null,{"$f":"MAX(IF($C$188:$C$397=C114,$G$188:$G$397))","v":0},-50,{"$f":"harmonics!I73","v":0.46373995462516165},{"$f":"harmonics!J73","v":0.46373986668836881},0.46373986668836881,-6.6745113433075067,-2.7093045628590682,-2.7093045628590682]
[880.00000000000159,-15.853386743184355,36,{"$f":"MAX(IF($C$188:$C$397=C115,$E$188:$E$397))","v":-16.182397193934268},-16.182397193934268,null,{"$f":"MAX(IF($C$188:$C$397=C115,$G$188:$G$397))","v":-15.804610656859428},-15.804610656859428,{"$f":"harmonics!I74","v":0.30181797438111324},{"$f":"harmonics!J74","v":0.30181791714881218},0.30181791714881218,-10.405099645887804,-4.3280953215582638,-4.3280953215582638]
[932.32752303618156,-16.355100810402337,37,{"$f":"MAX(IF($C$188:$C$397=C116,$E$188:$E$397))","v":-16.220474090638426},-16.220474090638426,null,{"$f":"MAX(IF($C$188:$C$397=C116,$G$188:$G$397))","v":-16.403872021577925},-16.403872021577925,{"$f":"harmonics!I75","v":0.1243798728102655},{"$f":"harmonics!J75","v":0.12437984922470423},0.12437984922470423,-18.104999479621586,-6.6745113433075067,-6.6745113433075067]
[987.76660251225007,-16.856815636861764,38,{"$f":"MAX(IF($C$188:$C$397=C117,$E$188:$E$397))","v":-18.888212709798658},-18.888212709798658,null,{"$f":"MAX(IF($C$188:$C$397=C117,$G$188:$G$397))","v":-16.964444550857941},-16.964444550857941,{"$f":"harmonics!I76","v":6.4390160201369548E-2},{"$f":"harmonics!J76","v":6.439014799137098E-2},6.439014799137098E-2,-23.823611534883117,-4.0435377882219248,-4.0435377882219248]
[1046.5022612023965,-17.358531000187359,39,{"$f":"MAX(IF($C$188:$C$397=C118,$E$188:$E$397))","v":-26.399548684022321},-26.399548684022321,null,{"$f":"MAX(IF($C$188:$C$397=C118,$G$188:$G$397))","v":-17.491022072595207},-17.491022072595207,{"$f":"harmonics!I77","v":0.25843590210845357},{"$f":"harmonics!J77","v":0.25843585310248768},0.25843585310248768,-11.752944726507975,-2.1490735195637982,-2.1490735195637982]
[1108.7305239074906,-17.860246743135363,40,{"$f":"MAX(IF($C$188:$C$397=C119,$E$188:$E$397))","v":-32.69750374923764},-32.69750374923764,null,{"$f":"MAX(IF($C$188:$C$397=C119,$G$188:$G$397))","v":-17.987492918087497},-17.987492918087497,{"$f":"harmonics!I78","v":0.44964313874753775},{"$f":"harmonics!J78","v":0.44964305348385675},0.44964305348385675,-6.9426422319083647,-0.96142879610589316,-0.96142879610589316]
[1174.6590716696326,-18.361962754517304,41,{"$f":"MAX(IF($C$188:$C$397=C120,$E$188:$E$397))","v":-21.868599871219878},-21.868599871219878,null,{"$f":"MAX(IF($C$188:$C$397=C120,$G$188:$G$397))","v":-18.457114273674087},-18.457114273674087,{"$f":"harmonics!I79","v":0.62780271994539305},{"$f":"harmonics!J79","v":0.62780260089816153},0.62780260089816153,-4.0435377882219248,-0.3798660552905716,-0.3798660552905716]
[1244.5079348883262,-18.863678955710867,42,{"$f":"MAX(IF($C$188:$C$397=C121,$E$188:$E$397))","v":-19.088530717284144},-19.088530717284144,null,{"$f":"MAX(IF($C$188:$C$397=C121,$G$188:$G$397))","v":-18.902641779800803},-18.902641779800803,{"$f":"harmonics!I80","v":0.78081186904171063},{"$f":"harmonics!J80","v":0.78081172098008489},0.78081172098008489,-2.1490735195637982,-0.3798660552905716,-0.3798660552905716]
[1318.5102276514824,-19.365395291121605,43,{"$f":"MAX(IF($C$188:$C$397=C122,$E$188:$E$397))","v":-19.236813264953426},-19.236813264953426,null,{"$f":"MAX(IF($C$188:$C$397=C122,$G$188:$G$397))","v":-19.326427487892225},-19.326427487892225,{"$f":"harmonics!I81","v":0.89521766328957131},{"$f":"harmonics!J81","v":0.89521749353372115},0.89521749353372115,-0.96142879610589316,-0.3798660552905716,-0.3798660552905716]
[1396.9129257320185,-19.86711172143827,44,{"$f":"MAX(IF($C$188:$C$397=C123,$E$188:$E$397))","v":-22.102181031122676},-22.102181031122676,null,{"$f":"MAX(IF($C$188:$C$397=C123,$G$188:$G$397))","v":-19.730495013935759},-19.730495013935759,{"$f":"harmonics!I82","v":0.95720901376591128},{"$f":"harmonics!J82","v":0.95720883225493747},0.95720883225493747,-0.3798660552905716,-0.3798660552905716,-0.3798660552905716]
[1479.9776908465408,-20.36882821886357,45,{"$f":"MAX(IF($C$188:$C$397=C124,$E$188:$E$397))","v":-32.733679297435827},-32.733679297435827,null,{"$f":"MAX(IF($C$188:$C$397=C124,$G$188:$G$397))","v":-20.486265984487279},-20.486265984487279,{"$f":"harmonics!I83","v":0.95414259601286477},{"$f":"harmonics!J83","v":0.95414241508336106},0.95414241508336106,-0.40773595521057315,-0.3798660552905716,-0.3798660552905716]
[1567.9817439270007,-20.870544763741862,46,{"$f":"MAX(IF($C$188:$C$397=C125,$E$188:$E$397))","v":-21.209938766599041},-21.209938766599041,null,{"$f":"MAX(IF($C$188:$C$397=C125,$G$188:$G$397))","v":-20.840841245345199},-20.840841245345199,{"$f":"harmonics!I84","v":0.87662993170029868},{"$f":"harmonics!J84","v":0.87662976546915139},0.87662976546915139,-1.1436757441514114,-0.3798660552905716,-0.3798660552905716]
[1661.2187903197844,{"$f":"IF(A126+0.1<$C$52,-100,20*LOG((1/(((A126*1)/2^$G$58/$C$53)^$G$57+1/($D$58*$D$55/$C$55)^$G$57))^(1/$G$57)))","v":-21.372261342174482},47,{"$f":"MAX(IF($C$188:$C$397=C126,$E$188:$E$397))","v":-21.545806522842202},-21.545806522842202,null,{"$f":"MAX(IF($C$188:$C$397=C126,$G$188:$G$397))","v":-21.509316250677411},-21.509316250677411,{"$f":"harmonics!I85","v":0.72110203395210315},{"$f":"harmonics!J85","v":0.72110189721296825},0.72110189721296825,-2.8400672362495771,-0.40773595521057315,-0.40773595521057315]
[{"$f":"A126*2^(1/12)","v":1760.0000000000041},-21.873977944333603,48,{"$f":"MAX(IF($C$188:$C$397=C127,$E$188:$E$397))","v":-24.701857139602872},{"$f":"IF(D127=0,-50,D127)","v":-24.701857139602872},null,{"$f":"MAX(IF($C$188:$C$397=C127,$G$188:$G$397))","v":-21.825201559465896},{"$f":"IF(G127=0,-50,G127)","v":-21.825201559465896},{"$f":"harmonics!I86","v":0.49259320298494524},{"$f":"harmonics!J86","v":0.49259310957684871},0.49259310957684871,-6.1502333478547522,-1.1436757441514114,-1.1436757441514114]
[1864.655046072364,-22.375694563269903,{"$f":"C127+1","v":49},{"$f":"MAX(IF($C$188:$C$397=C128,$E$188:$E$397))","v":-32.780279750075152},-32.780279750075152,null,{"$f":"MAX(IF($C$188:$C$397=C128,$G$188:$G$397))","v":-22.42446597853279},-22.42446597853279,{"$f":"harmonics!I87","v":0.20724754475307444},{"$f":"harmonics!J87","v":0.20724750545371232},0.20724750545371232,-13.670213763125075,-2.8400672362495771,-2.8400672362495771]
[1975.5332050245011,-22.877411194069438,50,{"$f":"MAX(IF($C$188:$C$397=C129,$E$188:$E$397))","v":0},-50,null,{"$f":"MAX(IF($C$188:$C$397=C129,$G$188:$G$397))","v":0},-50,{"$f":"harmonics!I88","v":0.10622292830090199},{"$f":"harmonics!J88","v":0.1062229081583554},0.1062229081583554,-19.475636253811743,-2.2096527017487193,-2.2096527017487193]
[2093.004522404794,-23.379127833257574,51,{"$f":"MAX(IF($C$188:$C$397=C130,$E$188:$E$397))","v":0},-50,null,{"$f":"MAX(IF($C$188:$C$397=C130,$G$188:$G$397))","v":0},-50,{"$f":"harmonics!I89","v":0.4071423162554908},{"$f":"harmonics!J89","v":0.4071422390510378},0.4071422390510378,-7.8050767863499608,-2.2096527017487193,-2.2096527017487193]
[2217.4610478149821,-23.880844478377323,52,{"$f":"MAX(IF($C$188:$C$397=C131,$E$188:$E$397))","v":0},-50,null,{"$f":"MAX(IF($C$188:$C$397=C131,$G$188:$G$397))","v":0},-50,{"$f":"harmonics!I90","v":0.64663470421287117},{"$f":"harmonics!J90","v":0.64663458159462039},0.64663458159462039,-3.7868214663692563,-2.2096527017487193,-2.2096527017487193]
[2349.318143339266,-24.382561127691371,53,{"$f":"MAX(IF($C$188:$C$397=C132,$E$188:$E$397))","v":0},-50,null,{"$f":"MAX(IF($C$188:$C$397=C132,$G$188:$G$397))","v":0},-50,{"$f":"harmonics!I91","v":0.77538509291043756},{"$f":"harmonics!J91","v":0.77538494587786544},0.77538494587786544,-2.2096527017487193,-2.2096527017487193,-2.2096527017487193]
[2489.0158697766533,-24.884277779971242,54,{"$f":"MAX(IF($C$188:$C$397=C133,$E$188:$E$397))","v":0},-50,null,{"$f":"MAX(IF($C$188:$C$397=C133,$G$188:$G$397))","v":0},-50,{"$f":"harmonics!I92","v":0.75541455050761697},{"$f":"harmonics!J92","v":0.75541440726196352},0.75541440726196352,-2.4362947313215031,-2.2096527017487193,-2.2096527017487193]
[2637.0204553029657,-25.385994434348245,55,{"$f":"MAX(IF($C$188:$C$397=C134,$E$188:$E$397))","v":0},-50,null,{"$f":"MAX(IF($C$188:$C$397=C134,$G$188:$G$397))","v":0},-50,{"$f":"harmonics!I93","v":0.57435323381793724},{"$f":"harmonics!J93","v":0.57435312490607648},0.57435312490607648,-4.8164202341360332,-2.2096527017487193,-2.2096527017487193]
[2793.8258514640379,-25.887711090208157,56,{"$f":"MAX(IF($C$188:$C$397=C135,$E$188:$E$397))","v":0},-50,null,{"$f":"MAX(IF($C$188:$C$397=C135,$G$188:$G$397))","v":0},-50,{"$f":"harmonics!I94","v":0.25852540651640504},{"$f":"harmonics!J94","v":0.25852535749346689},0.25852535749346689,-11.749937052995916,-2.4362947313215031,-2.4362947313215031]
[2959.9553816930825,-26.389427747116653,57,{"$f":"MAX(IF($C$188:$C$397=C136,$E$188:$E$397))","v":0},-50,null,{"$f":"MAX(IF($C$188:$C$397=C136,$G$188:$G$397))","v":0},-50,{"$f":"harmonics!I95","v":0.12109692293508091},{"$f":"harmonics!J95","v":0.12109689997204975},{"$f":"I136*$I$61+J136*$J$61","v":0.12109689997204975},{"$f":"20*LOG(K136)","v":-18.337339489288428},{"$f":"MAX(L134:L139)","v":-3.9673719929262314},{"$f":"L136*$L$61+M136*$M$61","v":-3.9673719929262314}]
[3135.9634878540023,-26.891144404766596,58,{"$f":"MAX(IF($C$188:$C$397=C137,$E$188:$E$397))","v":0},-50,null,{"$f":"MAX(IF($C$188:$C$397=C137,$G$188:$G$397))","v":0},-50,{"$f":"harmonics!I96","v":0.45712763580900867},{"$f":"harmonics!J96","v":0.45712754912607823},0.45712754912607823,-6.7992520969477042,-3.9673719929262314,-3.9673719929262314]
[3322.4375806395697,-27.392861062940817,59,{"$f":"MAX(IF($C$188:$C$397=C138,$E$188:$E$397))","v":0},-50,null,{"$f":"MAX(IF($C$188:$C$397=C138,$G$188:$G$397))","v":0},-50,{"$f":"harmonics!I97","v":0.63333207405084757},{"$f":"harmonics!J97","v":0.63333195395511099},0.63333195395511099,-3.9673719929262314,-3.9673719929262314,-3.9673719929262314]
[3520.0000000000091,-27.894577721485774,60,{"$f":"MAX(IF($C$188:$C$397=C139,$E$188:$E$397))","v":0},-50,null,{"$f":"MAX(IF($C$188:$C$397=C139,$G$188:$G$397))","v":0},-50,{"$f":"harmonics!I98","v":0.56986987338056205},{"$f":"harmonics!J98","v":0.56986976531885958},0.56986976531885958,-4.8844876818430629,-3.9673719929262314,-3.9673719929262314]
[3729.310092144729,-28.396294380292876,61,{"$f":"MAX(IF($C$188:$C$397=C140,$E$188:$E$397))","v":0},-50,null,{"$f":"MAX(IF($C$188:$C$397=C140,$G$188:$G$397))","v":0},-50,{"$f":"harmonics!I99","v":0.27264599509305909},{"$f":"harmonics!J99","v":0.27264594339250114},0.27264594339250114,-11.288019193018958,-3.9673719929262314,-3.9673719929262314]
[3951.0664100490035,-28.89801103928534,62,{"$f":"MAX(IF($C$188:$C$397=C141,$E$188:$E$397))","v":0},-50,null,{"$f":"MAX(IF($C$188:$C$397=C141,$G$188:$G$397))","v":0},-50,{"$f":"harmonics!I100","v":0.13999157177804278},{"$f":"harmonics!J100","v":0.1399915452321096},0.1399915452321096,-17.07796385356653,-4.8844876818430629,-4.8844876818430629]
[4186.0090448095898,-29.399727698408871,63,{"$f":"MAX(IF($C$188:$C$397=C142,$E$188:$E$397))","v":0},-50,null,{"$f":"MAX(IF($C$188:$C$397=C142,$G$188:$G$397))","v":0},-50,{"$f":"harmonics!I101","v":0.4647542557379768},{"$f":"harmonics!J101","v":0.46475416760884686},0.46475416760884686,-6.6555341414425415,-5.8545425919784231,-5.8545425919784231]
[4434.922095629966,-29.901444357625088,64,{"$f":"MAX(IF($C$188:$C$397=C143,$E$188:$E$397))","v":0},-50,null,{"$f":"MAX(IF($C$188:$C$397=C143,$G$188:$G$397))","v":0},-50,{"$f":"harmonics!I102","v":0.50965108456873998},{"$f":"harmonics!J102","v":0.5096509879260388},0.5096509879260388,-5.8545425919784231,-5.8545425919784231,-5.8545425919784231]
[4698.6362866785339,-30.403161016906843,65,{"$f":"MAX(IF($C$188:$C$397=C144,$E$188:$E$397))","v":0},-50,null,{"$f":"MAX(IF($C$188:$C$397=C144,$G$188:$G$397))","v":0},-50,{"$f":"harmonics!I103","v":0.22761957933938343},{"$f":"harmonics!J103","v":0.22761953617696967},0.22761953617696967,-12.855809319199938,-5.8545425919784231,-5.8545425919784231]
[4978.0317395533084,-30.904877676234932,66,{"$f":"MAX(IF($C$188:$C$397=C145,$E$188:$E$397))","v":0},-50,null,{"$f":"MAX(IF($C$188:$C$397=C145,$G$188:$G$397))","v":0},-50,{"$f":"harmonics!I104","v":0.20174989721023637},{"$f":"harmonics!J104","v":0.20174985895336689},0.20174985895336689,-13.903735204563525,-5.8545425919784231,-5.8545425919784231]
[5274.0409106059342,-31.406594335595791,67,{"$f":"MAX(IF($C$188:$C$397=C146,$E$188:$E$397))","v":0},-50,null,{"$f":"MAX(IF($C$188:$C$397=C146,$G$188:$G$397))","v":0},-50,{"$f":"harmonics!I105","v":0.44916453184661087},{"$f":"harmonics!J105","v":0.44916444667368582},0.44916444667368582,-6.9518925470767527,-6.9518925470767527,-6.9518925470767527]
[5587.6517029280785,-31.908310994979825,68,{"$f":"MAX(IF($C$188:$C$397=C147,$E$188:$E$397))","v":0},-50,null,{"$f":"MAX(IF($C$188:$C$397=C147,$G$188:$G$397))","v":0},-50,{"$f":"harmonics!I106","v":0.28955725326556686},{"$f":"harmonics!J106","v":0.28955719835820781},0.28955719835820781,-10.765312681723902,-6.9518925470767527,-6.9518925470767527]
[5919.9107633861677,-32.410027654380237,69,{"$f":"MAX(IF($C$188:$C$397=C148,$E$188:$E$397))","v":0},-50,null,{"$f":"MAX(IF($C$188:$C$397=C148,$G$188:$G$397))","v":0},-50,{"$f":"harmonics!I107","v":0.14091905215427938},{"$f":"harmonics!J107","v":0.14091902543247253},0.14091902543247253,-17.02060737946719,-6.9518925470767527,-6.9518925470767527]
[6271.9269757080074,-32.911744313792241,70,{"$f":"MAX(IF($C$188:$C$397=C149,$E$188:$E$397))","v":0},-50,null,{"$f":"MAX(IF($C$188:$C$397=C149,$G$188:$G$397))","v":0},-50,{"$f":"harmonics!I108","v":0.39167643914450551},{"$f":"harmonics!J108","v":0.39167636487277291},0.39167636487277291,-8.141452690310425,-8.141452690310425,-8.141452690310425]
[6644.875161279142,-33.41346097321243,71,{"$f":"MAX(IF($C$188:$C$397=C150,$E$188:$E$397))","v":0},-50,null,{"$f":"MAX(IF($C$188:$C$397=C150,$G$188:$G$397))","v":0},-50,{"$f":"harmonics!I109","v":0.15994736954472771},{"$f":"harmonics!J109","v":0.15994733921467191},0.15994733921467191,-15.920459603500838,-8.141452690310425,-8.141452690310425]
[7040.0000000000209,-33.915177632638411,72,{"$f":"MAX(IF($C$188:$C$397=C151,$E$188:$E$397))","v":0},-50,null,{"$f":"MAX(IF($C$188:$C$397=C151,$G$188:$G$397))","v":0},-50,{"$f":"harmonics!I110","v":0.26364122849754196},{"$f":"harmonics!J110","v":0.26364117850451491},0.26364117850451491,-11.579735113686624,-8.141452690310425,-8.141452690310425]
[7458.6201842894616,-34.416894292068491,73,{"$f":"MAX(IF($C$188:$C$397=C152,$E$188:$E$397))","v":0},-50,null,{"$f":"MAX(IF($C$188:$C$397=C152,$G$188:$G$397))","v":0},-50,{"$f":"harmonics!I111","v":0.27272562334499317},{"$f":"harmonics!J111","v":0.27272557162933569},0.27272557162933569,-11.285482785953009,-11.280950328645869,-11.280950328645869]
[7902.1328200980106,-34.918610951501464,74,{"$f":"MAX(IF($C$188:$C$397=C153,$E$188:$E$397))","v":0},-50,null,{"$f":"MAX(IF($C$188:$C$397=C153,$G$188:$G$397))","v":0},-50,{"$f":"harmonics!I112","v":0.15092979178422475},{"$f":"harmonics!J112","v":0.15092976316412915},0.15092976316412915,-16.424502188799934,-11.280950328645869,-11.280950328645869]
[8372.0180896191832,-35.420327610936496,75,{"$f":"MAX(IF($C$188:$C$397=C154,$E$188:$E$397))","v":0},-50,null,{"$f":"MAX(IF($C$188:$C$397=C154,$G$188:$G$397))","v":0},-50,{"$f":"harmonics!I113","v":0.27286797373929733},{"$f":"harmonics!J113","v":0.27286792199664661},0.27286792199664661,-11.280950328645869,-11.280950328645869,-11.280950328645869]
[8869.8441912599355,-35.922044270372965,76,{"$f":"MAX(IF($C$188:$C$397=C155,$E$188:$E$397))","v":0},-50,null,{"$f":"MAX(IF($C$188:$C$397=C155,$G$188:$G$397))","v":0},-50,{"$f":"harmonics!I114","v":0.13469887871502625},{"$f":"harmonics!J114","v":0.13469885317272118},0.13469885317272118,-17.412722036970003,-11.280950328645869,-11.280950328645869]
[9397.2725733570733,-36.423760929810463,77,{"$f":"MAX(IF($C$188:$C$397=C156,$E$188:$E$397))","v":0},-50,null,{"$f":"MAX(IF($C$188:$C$397=C156,$G$188:$G$397))","v":0},-50,{"$f":"harmonics!I115","v":0.21947759958438129},{"$f":"harmonics!J115","v":0.21947755796589227},0.21947755796589227,-13.172197613207683,-11.280950328645869,-11.280950328645869]
[9956.0634791066223,-36.925477589248686,78,{"$f":"MAX(IF($C$188:$C$397=C157,$E$188:$E$397))","v":0},-50,null,{"$f":"MAX(IF($C$188:$C$397=C157,$G$188:$G$397))","v":0},-50,{"$f":"harmonics!I116","v":0.19645438776949345},{"$f":"harmonics!J116","v":0.19645435051678611},0.19645435051678611,-14.134766984331577,-13.172197613207683,-13.172197613207683]
[10548.081821211874,{"$f":"IF(A158+0.1<$C$52,-100,20*LOG((1/(((A158*1)/2^$G$58/$C$53)^$G$57+1/($D$58*$D$55/$C$55)^$G$57))^(1/$G$57)))","v":-37.427194248687414},79,{"$f":"MAX(IF($C$188:$C$397=C158,$E$188:$E$397))","v":0},-50,null,{"$f":"MAX(IF($C$188:$C$397=C158,$G$188:$G$397))","v":0},-50,{"$f":"harmonics!I117","v":8.3752996177312994E-2},{"$f":"harmonics!J117","v":8.3752980295632315E-2},8.3752980295632315E-2,-21.539994598558248,-13.172197613207683,-13.172197613207683]
[11175.303405856162,-37.928910908126511,80,{"$f":"MAX(IF($C$188:$C$397=C159,$E$188:$E$397))","v":0},-50,null,{"$f":"MAX(IF($C$188:$C$397=C159,$G$188:$G$397))","v":0},-50]
[11839.821526772343,-38.430627567565864,81,{"$f":"MAX(IF($C$188:$C$397=C160,$E$188:$E$397))","v":0},-50,null,{"$f":"MAX(IF($C$188:$C$397=C160,$G$188:$G$397))","v":0},-50]
[12543.853951416022,-38.932344227005395,82,{"$f":"MAX(IF($C$188:$C$397=C161,$E$188:$E$397))","v":0},-50,null,{"$f":"MAX(IF($C$188:$C$397=C161,$G$188:$G$397))","v":0},-50]
[13289.750322558291,-39.434060886445053,83,{"$f":"MAX(IF($C$188:$C$397=C162,$E$188:$E$397))","v":0},-50,null,{"$f":"MAX(IF($C$188:$C$397=C162,$G$188:$G$397))","v":0},-50]
[14080.000000000051,-39.935777545884811,84,{"$f":"MAX(IF($C$188:$C$397=C163,$E$188:$E$397))","v":0},-50,null,{"$f":"MAX(IF($C$188:$C$397=C163,$G$188:$G$397))","v":0},-50]
[14917.240368578932,-40.437494205324626,85,{"$f":"MAX(IF($C$188:$C$397=C164,$E$188:$E$397))","v":0},-50,null,{"$f":"MAX(IF($C$188:$C$397=C164,$G$188:$G$397))","v":0},-50]
[15804.26564019603,-40.939210864764483,86,{"$f":"MAX(IF($C$188:$C$397=C165,$E$188:$E$397))","v":0},-50,null,{"$f":"MAX(IF($C$188:$C$397=C165,$G$188:$G$397))","v":0},-50]
[16744.036179238374,-41.440927524204376,87,{"$f":"MAX(IF($C$188:$C$397=C166,$E$188:$E$397))","v":0},-50,null,{"$f":"MAX(IF($C$188:$C$397=C166,$G$188:$G$397))","v":0},-50]
[17739.688382519878,-41.94264418364429,88,{"$f":"MAX(IF($C$188:$C$397=C167,$E$188:$E$397))","v":0},-50,null,{"$f":"MAX(IF($C$188:$C$397=C167,$G$188:$G$397))","v":0},-50]
[18794.545146714154,-42.444360843084212,89,{"$f":"MAX(IF($C$188:$C$397=C168,$E$188:$E$397))","v":0},-50,null,{"$f":"MAX(IF($C$188:$C$397=C168,$G$188:$G$397))","v":0},-50]
[19912.126958213252,-42.946077502524162,90,{"$f":"MAX(IF($C$188:$C$397=C169,$E$188:$E$397))","v":0},-50,null,{"$f":"MAX(IF($C$188:$C$397=C169,$G$188:$G$397))","v":0},-50]
[21096.163642423755,-43.447794161964104,91,{"$f":"MAX(IF($C$188:$C$397=C170,$E$188:$E$397))","v":0},-50,null,{"$f":"MAX(IF($C$188:$C$397=C170,$G$188:$G$397))","v":0},-50]
[22350.606811712332,-43.949510821404061,92,{"$f":"MAX(IF($C$188:$C$397=C171,$E$188:$E$397))","v":0},-50,null,{"$f":"MAX(IF($C$188:$C$397=C171,$G$188:$G$397))","v":0},-50]
[23679.643053544693,-44.451227480844018,93,{"$f":"MAX(IF($C$188:$C$397=C172,$E$188:$E$397))","v":0},-50,null,{"$f":"MAX(IF($C$188:$C$397=C172,$G$188:$G$397))","v":0},-50]
[25087.707902832051,-44.952944140283989,94,{"$f":"MAX(IF($C$188:$C$397=C173,$E$188:$E$397))","v":0},-50,null,{"$f":"MAX(IF($C$188:$C$397=C173,$G$188:$G$397))","v":0},-50]
[26579.500645116594,-45.454660799723953,95,{"$f":"MAX(IF($C$188:$C$397=C174,$E$188:$E$397))","v":0},-50,null,{"$f":"MAX(IF($C$188:$C$397=C174,$G$188:$G$397))","v":0},-50]
[28160.000000000113,-45.95637745916391,96,{"$f":"MAX(IF($C$188:$C$397=C175,$E$188:$E$397))","v":0},-50,null,{"$f":"MAX(IF($C$188:$C$397=C175,$G$188:$G$397))","v":0},-50]
[29834.480737157875,-46.458094118603881,97,{"$f":"MAX(IF($C$188:$C$397=C176,$E$188:$E$397))","v":0},-50,null,{"$f":"MAX(IF($C$188:$C$397=C176,$G$188:$G$397))","v":0},-50]
[31608.531280392071,-46.959810778043845,98,{"$f":"MAX(IF($C$188:$C$397=C177,$E$188:$E$397))","v":0},-50,null,{"$f":"MAX(IF($C$188:$C$397=C177,$G$188:$G$397))","v":0},-50]
[33488.072358476762,-47.461527437483817,99,{"$f":"MAX(IF($C$188:$C$397=C178,$E$188:$E$397))","v":0},-50,null,{"$f":"MAX(IF($C$188:$C$397=C178,$G$188:$G$397))","v":0},-50]
[35479.376765039771,-47.963244096923781,100,{"$f":"MAX(IF($C$188:$C$397=C179,$E$188:$E$397))","v":0},-50,null,{"$f":"MAX(IF($C$188:$C$397=C179,$G$188:$G$397))","v":0},-50]
[37589.090293428322,-48.464960756363752,101,{"$f":"MAX(IF($C$188:$C$397=C180,$E$188:$E$397))","v":0},-50,null,{"$f":"MAX(IF($C$188:$C$397=C180,$G$188:$G$397))","v":0},-50]
[39824.253916426525,-48.966677415803723,102,{"$f":"MAX(IF($C$188:$C$397=C181,$E$188:$E$397))","v":0},-50,null,{"$f":"MAX(IF($C$188:$C$397=C181,$G$188:$G$397))","v":0},-50]
[42192.327284847532,-49.468394075243694,103,{"$f":"MAX(IF($C$188:$C$397=C182,$E$188:$E$397))","v":0},-50,null,{"$f":"MAX(IF($C$188:$C$397=C182,$G$188:$G$397))","v":0},-50]
[]
[]
[]
["harmonics to nearest semitone"]
["String","Factual","Fnearest",null,null,"f","Strings db",null,null,null,null,null,null,1.25]
["7 ref",{"$f":"B19","v":61.741586198281219},{"$f":"IF(B188=0,NA(),INT(LOG(B188/110)/LOG(2^(1/12))+0.5))","v":-10},null,{"$f":"D19","v":1.5256151664545832},{"$f":"B188","v":61.741586198281219},{"$f":"IF(F188+0.1<J188,NA(),20*LOG((1/(((F188*1)/2^N194/J189)^N193+1/(K194*K191/J191)^N193))^(1/N193)))","v":1.4955240461586694},null,"lowest F0",{"$f":"B188","v":61.741586198281219}]
[null,123.48317239656244,{"$f":"IF(B189=0,NA(),INT(LOG(B189/110)/LOG(2^(1/12))+0.5))","v":2},null,0.22578949380794655,123.48317239656244,{"$f":"IF(F189+0.1<J188,NA(),20*LOG((1/(((F189*1)/2^N194/J189)^N193+1/(K194*K191/J191)^N193))^(1/N193)))","v":0.292275028599358},null,"highest F0",{"$f":"B188","v":61.741586198281219}]
[null,185.22475859484365,9,null,-2.1479677005064355,185.22475859484365,{"$f":"IF(F190+0.1<J188,NA(),20*LOG((1/(((F190*1)/2^N194/J189)^N193+1/(K194*K191/J191)^N193))^(1/N193)))","v":-2.5160517459235185},null,"h=picking deflection",null,{"$f":"N190/70/(1/J192+1/(J191-J192))","v":1.6306877081541278},null,"Factor",{"$f":"Strings!N187","v":1.25},"arbitrary scale factor"]
[null,246.96634479312488,14,null,-6.1010244841594465,246.96634479312488,{"$f":"IF(F191+0.1<J188,NA(),20*LOG((1/(((F191*1)/2^N194/J189)^N193+1/(K194*K191/J191)^N193))^(1/N193)))","v":-4.939970557326153},null,"L,L0",{"$f":"$B$16","v":647.69999999999993},{"$f":"'Strings & Pickups'!$B$5","v":647.69999999999993},null,null,null," L=fretted length, L0= scale length,"]
[null,308.7079309914061,18,null,-13.395226036080958,308.7079309914061,{"$f":"IF(F192+0.1<J188,NA(),20*LOG((1/(((F192*1)/2^N194/J189)^N193+1/(K194*K191/J191)^N193))^(1/N193)))","v":-6.8658452627690458},null,"l1= pick dist",{"$f":"$C$2","v":110}]
[null,370.4495171896873,21,null,-32.656234056848106,370.4495171896873,{"$f":"IF(F193+0.1<J188,NA(),20*LOG((1/(((F193*1)/2^N194/J189)^N193+1/(K194*K191/J191)^N193))^(1/N193)))","v":-8.4465423102558717},null,"Fundamental:",null,"Cn=amplitude","rel.output db","power1",6,"higher=sharper transistion"]
[null,432.19110338796855,24,null,-14.555112587150221,432.19110338796855,{"$f":"IF(F194+0.1<J188,NA(),20*LOG((1/(((F194*1)/2^N194/J189)^N193+1/(K194*K191/J191)^N193))^(1/N193)))","v":-9.7845873100347251},null,1,null,{"$f":"2*K190/(PI())^2*(J191^2/J192/(J191-J192))*SIN(PI()*J192/J191)","v":1.1920123591408951},{"$f":"20*LOG(ABS(K194*K191/J191))","v":1.5256151664545832},"power2",1.1822674339654142,"higher raises corner frequency"]
[null,493.93268958624975,26,null,-11.549548063727094,493.93268958624975,{"$f":"IF(F195+0.1<J188,NA(),20*LOG((1/(((F195*1)/2^N194/J189)^N193+1/(K194*K191/J191)^N193))^(1/N193)))","v":-10.944103427209599}]
[null,555.67427578453101,28,null,-11.721354257571416,555.67427578453101,{"$f":"IF(F196+0.1<J188,NA(),20*LOG((1/(((F196*1)/2^N194/J189)^N193+1/(K194*K191/J191)^N193))^(1/N193)))","v":-11.967020663982337}]
[null,617.4158619828122,30,null,-14.409345721589792,617.4158619828122,{"$f":"IF(F197+0.1<J188,NA(),20*LOG((1/(((F197*1)/2^N194/J189)^N193+1/(K194*K191/J191)^N193))^(1/N193)))","v":-12.882109711286633}]
[null,679.1574481810934,32,null,-21.334678745156435,679.1574481810934,{"$f":"IF(F198+0.1<J188,NA(),20*LOG((1/(((F198*1)/2^N194/J189)^N193+1/(K194*K191/J191)^N193))^(1/N193)))","v":-13.709933397660771}]
[null,740.8990343793746,33,null,-32.671700992653186,740.8990343793746,{"$f":"IF(F199+0.1<J188,NA(),20*LOG((1/(((F199*1)/2^N194/J189)^N193+1/(K194*K191/J191)^N193))^(1/N193)))","v":-14.465688792647688}]
[null,802.6406205776558,34,null,-19.210163880612662,802.6406205776558,{"$f":"IF(F200+0.1<J188,NA(),20*LOG((1/(((F200*1)/2^N194/J189)^N193+1/(K194*K191/J191)^N193))^(1/N193)))","v":-15.16092211493576}]
[null,864.38220677593711,36,null,-16.182397193934268,864.38220677593711,{"$f":"IF(F201+0.1<J188,NA(),20*LOG((1/(((F201*1)/2^N194/J189)^N193+1/(K194*K191/J191)^N193))^(1/N193)))","v":-15.804610656859428}]
[null,926.1237929742183,37,null,-16.220474090638426,926.1237929742183,{"$f":"IF(F202+0.1<J188,NA(),20*LOG((1/(((F202*1)/2^N194/J189)^N193+1/(K194*K191/J191)^N193))^(1/N193)))","v":-16.403872021577925}]
[null,987.8653791724995,38,null,-18.888212709798658,987.8653791724995,{"$f":"IF(F203+0.1<J188,NA(),20*LOG((1/(((F203*1)/2^N194/J189)^N193+1/(K194*K191/J191)^N193))^(1/N193)))","v":-16.964444550857941}]
[null,1049.6069653707807,39,null,-26.399548684022321,1049.6069653707807,{"$f":"IF(F204+0.1<J188,NA(),20*LOG((1/(((F204*1)/2^N194/J189)^N193+1/(K194*K191/J191)^N193))^(1/N193)))","v":-17.491022072595207}]
[null,1111.348551569062,40,null,-32.69750374923764,1111.348551569062,{"$f":"IF(F205+0.1<J188,NA(),20*LOG((1/(((F205*1)/2^N194/J189)^N193+1/(K194*K191/J191)^N193))^(1/N193)))","v":-17.987492918087497}]
[null,1173.0901377673431,41,null,-21.868599871219878,1173.0901377673431,{"$f":"IF(F206+0.1<J188,NA(),20*LOG((1/(((F206*1)/2^N194/J189)^N193+1/(K194*K191/J191)^N193))^(1/N193)))","v":-18.457114273674087}]
[null,1234.8317239656244,42,null,-19.088530717284144,1234.8317239656244,{"$f":"IF(F207+0.1<J188,NA(),20*LOG((1/(((F207*1)/2^N194/J189)^N193+1/(K194*K191/J191)^N193))^(1/N193)))","v":-18.902641779800803}]
[null,1296.5733101639055,43,null,-19.236813264953426,1296.5733101639055,{"$f":"IF(F208+0.1<J188,NA(),20*LOG((1/(((F208*1)/2^N194/J189)^N193+1/(K194*K191/J191)^N193))^(1/N193)))","v":-19.326427487892225}]
[null,1358.3148963621868,44,null,-22.102181031122676,1358.3148963621868,{"$f":"IF(F209+0.1<J188,NA(),20*LOG((1/(((F209*1)/2^N194/J189)^N193+1/(K194*K191/J191)^N193))^(1/N193)))","v":-19.730495013935759}]
[null,1420.0564825604681,44,null,-30.56890918345885,1420.0564825604681,{"$f":"IF(F210+0.1<J188,NA(),20*LOG((1/(((F210*1)/2^N194/J189)^N193+1/(K194*K191/J191)^N193))^(1/N193)))","v":-20.11659797553158}]
[null,1481.7980687587492,45,null,-32.733679297435827,1481.7980687587492,{"$f":"IF(F211+0.1<J188,NA(),20*LOG((1/(((F211*1)/2^N194/J189)^N193+1/(K194*K191/J191)^N193))^(1/N193)))","v":-20.486265984487279}]
[null,1543.5396549570305,46,null,-23.687112609459078,1543.5396549570305,{"$f":"IF(F212+0.1<J188,NA(),20*LOG((1/(((F212*1)/2^N194/J189)^N193+1/(K194*K191/J191)^N193))^(1/N193)))","v":-20.840841245345199}]
[null,1605.2812411553116,46,null,-21.209938766599041,1605.2812411553116,{"$f":"IF(F213+0.1<J188,NA(),20*LOG((1/(((F213*1)/2^N194/J189)^N193+1/(K194*K191/J191)^N193))^(1/N193)))","v":-21.181507972124514}]
[null,1667.0228273535929,47,null,-21.545806522842202,1667.0228273535929,{"$f":"IF(F214+0.1<J188,NA(),20*LOG((1/(((F214*1)/2^N194/J189)^N193+1/(K194*K191/J191)^N193))^(1/N193)))","v":-21.509316250677411}]
[null,1728.7644135518742,48,null,-24.701857139602872,1728.7644135518742,{"$f":"IF(F215+0.1<J188,NA(),20*LOG((1/(((F215*1)/2^N194/J189)^N193+1/(K194*K191/J191)^N193))^(1/N193)))","v":-21.825201559465896}]
[null,1790.5059997501553,48,null,-34.499543735092594,1790.5059997501553,{"$f":"IF(F216+0.1<J188,NA(),20*LOG((1/(((F216*1)/2^N194/J189)^N193+1/(K194*K191/J191)^N193))^(1/N193)))","v":-22.130000863445559}]
[null,1852.2475859484366,49,null,-32.780279750075152,1852.2475859484366,{"$f":"IF(F217+0.1<J188,NA(),20*LOG((1/(((F217*1)/2^N194/J189)^N193+1/(K194*K191/J191)^N193))^(1/N193)))","v":-22.42446597853279}]

{"sheet":"harmonics","index":4,"n_rows":132,"n_cols":57,"rows_kept":132,"cut":false,"hidden":true,"merged":[]}
["harmonics"]
[]
[]
[null,null,null,null,null,"Reference str 7"]
[null,"series?",false,"f open",null,{"$f":"Strings!D13","v":61.735412657015516},{"$f":"F5","v":61.735412657015516},{"$f":"F5","v":61.735412657015516}]
[null,{"$f":"IF(C5,1,0)","v":0},null,"scale",null,{"$f":"'Strings & Pickups'!B5","v":647.69999999999993},{"$f":"'Strings & Pickups'!C5","v":647.69999999999993},{"$f":"'Strings & Pickups'!D5","v":647.69999999999993}]
["bridge slant+/-",{"$f":"'Strings & Pickups'!B7","v":0},{"$f":"B7/5","v":0},"pickup dists",null,{"$f":"'Strings & Pickups'!B6+3.5*C7","v":41.274999999999999},{"$f":"'Strings & Pickups'!C6","v":98},{"$f":"'Strings & Pickups'!D6","v":160.8368480809832}]
[null,null,null,null,null,{"$f":"'Strings & Pickups'!B7","v":0},{"$f":"'Strings & Pickups'!C7","v":0},{"$f":"'Strings & Pickups'!D7","v":0}]
[null,null,null,"aperture width",null,{"$f":"'Strings & Pickups'!B8","v":15},{"$f":"'Strings & Pickups'!C8","v":15},{"$f":"'Strings & Pickups'!D8","v":15}]
[null,null,null,"PU on/off",null,{"$f":"'Strings & Pickups'!B23","v":1},{"$f":"'Strings & Pickups'!C23","v":0},{"$f":"'Strings & Pickups'!D23","v":0}]
[null,null,null,"R","k",{"$f":"'Strings & Pickups'!B9","v":6.34},{"$f":"'Strings & Pickups'!C9","v":6.34},{"$f":"'Strings & Pickups'!D9","v":6.34}]
[null,null,null,"L","H",{"$f":"'Strings & Pickups'!B10","v":2.5499999999999998},{"$f":"'Strings & Pickups'!C10","v":2.5499999999999998},{"$f":"'Strings & Pickups'!D10","v":2.5499999999999998}]
[null,null,null,"C","nF",{"$f":"'Strings & Pickups'!B11","v":0.16},{"$f":"'Strings & Pickups'!C11","v":0.16},{"$f":"'Strings & Pickups'!D11","v":0.16}]
[null,null,null,"output","db",{"$f":"'Strings & Pickups'!B15","v":1.1204280717749149},{"$f":"'Strings & Pickups'!C15","v":1.1204280717749149},{"$f":"'Strings & Pickups'!D15","v":1.1204280717749149}]
[null,null,null,null,"V",{"$f":"10^('Strings & Pickups'!B15/20)","v":1.1376833535553657},{"$f":"10^('Strings & Pickups'!C15/20)","v":1.1376833535553657},{"$f":"10^('Strings & Pickups'!D15/20)","v":1.1376833535553657}]
[null,null,null,"impedance",null,{"$f":"'Strings & Pickups'!B10","v":2.5499999999999998},{"$f":"'Strings & Pickups'!C10","v":2.5499999999999998},{"$f":"'Strings & Pickups'!D10","v":2.5499999999999998}]
[null,null,null,"para impedance",null,{"$f":"IF(ABS('Strings & Pickups'!B23)=1,F16,100000000000)","v":2.5499999999999998},{"$f":"IF(ABS('Strings & Pickups'!C23)=1,G16,100000000000)","v":100000000000},{"$f":"IF(ABS('Strings & Pickups'!D23)=1,H16,100000000000)","v":100000000000}]
[null,null,null,"rolloff f",null,{"$f":"0.866*'Strings & Pickups'!B5/'Strings & Pickups'!B8*F5","v":2308.5266126469191},{"$f":"0.866*'Strings & Pickups'!C5/'Strings & Pickups'!C8*G5","v":2308.5266126469191},{"$f":"0.866*'Strings & Pickups'!D5/'Strings & Pickups'!D8*H5","v":2308.5266126469191},null,null,null,null,null,null,null,null,null,null,null,null,null,null,null,null,null,null,null,null,null,null,null,null,null,null,null,null,null,null,null,null,null,null,null,null,null,null,"series?"]
["f","Impedance",null,null,null,null,null,null,"series","para",null,null,null,null,null,null,null,null,null,null,null,null,null,null,null,null,null,null,null,null,null,null,null,null,null,null,null,null,null,null,null,null,null,null,null,null,{"$f":"B6","v":0},{"$f":"ABS(AU19-1)","v":1}]
[{"$f":"Main!E36","v":440},{"$f":"IF(ABS('Strings & Pickups'!B$23)=1,((1000*F$11)^2+(2*PI()*$A20*F$12)^2)^0.5,100000000000)","v":9481.2630101397299},{"$f":"IF(ABS('Strings & Pickups'!C$23)=1,((1000*G$11)^2+(2*PI()*$A20*G$12)^2)^0.5,100000000000)","v":100000000000},{"$f":"IF(ABS('Strings & Pickups'!D$23)=1,((1000*H$11)^2+(2*PI()*$A20*H$12)^2)^0.5,100000000000)","v":100000000000},"half wave L","output","output","output","output","output",null,null,null,null,null,null,null,null,null,null,null,null,null,null,null,null,null,null,null,null,null,null,null,null,null,null,null,null,null,null,null,null,null,null,null,null,"series out","para out","Out V",null,"f","PU db",null,"PU db av-2/+3"]
[41.20344461410874,{"$f":"B$20","v":9481.2630101397299},{"$f":"C$20","v":100000000000},100000000000,{"$f":"'Strings & Pickups'!B$5*F$5/$A21","v":970.45349369302653},{"$f":"SIN('Strings & Pickups'!B$6/E21*PI())/((1+($A21/F$18)^2)^0.5)*10^('Strings & Pickups'!B$15/20)","v":0.15153795194360922},{"$f":"SIN('Strings & Pickups'!C$6/E21*PI())/((1+($A21/G$18)^2)^0.5)*10^('Strings & Pickups'!C$15/20)","v":0.35484914387155192},{"$f":"SIN('Strings & Pickups'!D$6/E21*PI())/((1+($A21/H$18)^2)^0.5)*10^('Strings & Pickups'!D$15/20)","v":0.56586130657575162},{"$f":"IF($A21<F$5,0.000001,(ABS(F21*'Strings & Pickups'!$B$23+G21*'Strings & Pickups'!$C$23+H21*'Strings & Pickups'!$D$23)))","v":9.9999999999999995E-7},{"$f":"IF($A21<F$5,0.000001,(ABS(F21*'Strings & Pickups'!$B$23*(1/(1/$C21+1/$D21)/($B21+1/(1/$C21+1/$D21)))+G21*'Strings & Pickups'!$C$23*(1/(1/$B21+1/$D21)/($C21+1/(1/$B21+1/$D21)))+H21*'Strings & Pickups'!$D$23*(1/(1/$B21+1/$C21)/($D21+1/(1/$B21+1/$C21))))))","v":9.9999999999999995E-7},null,null,null,null,null,null,null,null,null,null,null,null,null,null,null,null,null,null,null,null,null,null,null,null,null,null,null,null,null,null,null,null,null,null,null,null,{"$f":"MAX(I21*'Strings & Pickups'!B$52,O21*'Strings & Pickups'!$C$52,U21*'Strings & Pickups'!$D$52,AA21*'Strings & Pickups'!$E$52,AG21*'Strings & Pickups'!$F$52,AM21*'Strings & Pickups'!$G$52,AS21*'Strings & Pickups'!H$52)","v":9.9999999999999995E-7},{"$f":"MAX(J21*'Strings & Pickups'!B$52,P21*'Strings & Pickups'!$C$52,V21*'Strings & Pickups'!$D$52,AB21*'Strings & Pickups'!$E$52,AH21*'Strings & Pickups'!$F$52,AN21*'Strings & Pickups'!$G$52,AT21*'Strings & Pickups'!H$52)","v":9.9999999999999995E-7},{"$f":"AU21*$AU$19+AV21*$AV$19","v":9.9999999999999995E-7},{"$f":"MAX(AW18:AW23)","v":9.9999999999999995E-7},{"$f":"A21","v":41.20344461410874},{"$f":"20*LOG(AW21)","v":-120},{"$f":"IF(AY21<$BE$21,-100,AZ21)","v":-100},{"$f":"IF(AY23<$BE$21,-100,MAX(AZ18:AZ23))","v":-100},{"$f":"Main!AX46","v":{"$error":"#N/A"}},"Fmin",61.7]
[{"$f":"A21*2^(1/12)","v":43.653528929125486},9481.2630101397299,100000000000,100000000000,{"$f":"'Strings & Pickups'!B$5*F$5/$A22","v":915.98612434905351},{"$f":"SIN('Strings & Pickups'!B$6/E22*PI())/((1+($A22/F$18)^2)^0.5)*10^('Strings & Pickups'!B$15/20)","v":0.16048717117786487},{"$f":"SIN('Strings & Pickups'!C$6/E22*PI())/((1+($A22/G$18)^2)^0.5)*10^('Strings & Pickups'!C$15/20)","v":0.37516521133176622},{"$f":"SIN('Strings & Pickups'!D$6/E22*PI())/((1+($A22/H$18)^2)^0.5)*10^('Strings & Pickups'!D$15/20)","v":0.59612448420057662},{"$f":"IF($A22<F$5,0.000001,(ABS(F22*'Strings & Pickups'!$B$23+G22*'Strings & Pickups'!$C$23+H22*'Strings & Pickups'!$D$23)))","v":9.9999999999999995E-7},{"$f":"IF($A22<F$5,0.000001,(ABS(F22*'Strings & Pickups'!$B$23*(1/(1/$C22+1/$D22)/($B22+1/(1/$C22+1/$D22)))+G22*'Strings & Pickups'!$C$23*(1/(1/$B22+1/$D22)/($C22+1/(1/$B22+1/$D22)))+H22*'Strings & Pickups'!$D$23*(1/(1/$B22+1/$C22)/($D22+1/(1/$B22+1/$C22))))))","v":9.9999999999999995E-7},null,null,null,null,null,null,null,null,null,null,null,null,null,null,null,null,null,null,null,null,null,null,null,null,null,null,null,null,null,null,null,null,null,null,null,null,{"$f":"MAX(I22*'Strings & Pickups'!B$52,O22*'Strings & Pickups'!$C$52,U22*'Strings & Pickups'!$D$52,AA22*'Strings & Pickups'!$E$52,AG22*'Strings & Pickups'!$F$52,AM22*'Strings & Pickups'!$G$52,AS22*'Strings & Pickups'!H$52)","v":9.9999999999999995E-7},{"$f":"MAX(J22*'Strings & Pickups'!B$52,P22*'Strings & Pickups'!$C$52,V22*'Strings & Pickups'!$D$52,AB22*'Strings & Pickups'!$E$52,AH22*'Strings & Pickups'!$F$52,AN22*'Strings & Pickups'!$G$52,AT22*'Strings & Pickups'!H$52)","v":9.9999999999999995E-7},9.9999999999999995E-7,{"$f":"MAX(AW19:AW24)","v":9.9999999999999995E-7},43.653528929125486,{"$f":"20*LOG(AW22)","v":-120},-100,-100,{"$f":"Main!AX47","v":{"$error":"#N/A"}}]
[{"$f":"A22*2^(1/12)","v":46.2493028389543},9481.2630101397299,100000000000,100000000000,{"$f":"'Strings & Pickups'!B$5*F$5/$A23","v":864.57577354593116},{"$f":"SIN('Strings & Pickups'!B$6/E23*PI())/((1+($A23/F$18)^2)^0.5)*10^('Strings & Pickups'!B$15/20)","v":0.1699568845810191},{"$f":"SIN('Strings & Pickups'!C$6/E23*PI())/((1+($A23/G$18)^2)^0.5)*10^('Strings & Pickups'!C$15/20)","v":0.39654217896783561},{"$f":"SIN('Strings & Pickups'!D$6/E23*PI())/((1+($A23/H$18)^2)^0.5)*10^('Strings & Pickups'!D$15/20)","v":0.62756119517729514},{"$f":"IF($A23<F$5,0.000001,(ABS(F23*'Strings & Pickups'!$B$23+G23*'Strings & Pickups'!$C$23+H23*'Strings & Pickups'!$D$23)))","v":9.9999999999999995E-7},{"$f":"IF($A23<F$5,0.000001,(ABS(F23*'Strings & Pickups'!$B$23*(1/(1/$C23+1/$D23)/($B23+1/(1/$C23+1/$D23)))+G23*'Strings & Pickups'!$C$23*(1/(1/$B23+1/$D23)/($C23+1/(1/$B23+1/$D23)))+H23*'Strings & Pickups'!$D$23*(1/(1/$B23+1/$C23)/($D23+1/(1/$B23+1/$C23))))))","v":9.9999999999999995E-7},null,null,null,null,null,null,null,null,null,null,null,null,null,null,null,null,null,null,null,null,null,null,null,null,null,null,null,null,null,null,null,null,null,null,null,null,{"$f":"MAX(I23*'Strings & Pickups'!B$52,O23*'Strings & Pickups'!$C$52,U23*'Strings & Pickups'!$D$52,AA23*'Strings & Pickups'!$E$52,AG23*'Strings & Pickups'!$F$52,AM23*'Strings & Pickups'!$G$52,AS23*'Strings & Pickups'!H$52)","v":9.9999999999999995E-7},{"$f":"MAX(J23*'Strings & Pickups'!B$52,P23*'Strings & Pickups'!$C$52,V23*'Strings & Pickups'!$D$52,AB23*'Strings & Pickups'!$E$52,AH23*'Strings & Pickups'!$F$52,AN23*'Strings & Pickups'!$G$52,AT23*'Strings & Pickups'!H$52)","v":9.9999999999999995E-7},9.9999999999999995E-7,9.9999999999999995E-7,46.2493028389543,-120,-100,-100,{"$f":"Main!AX48","v":{"$error":"#N/A"}}]
[48.999429497718666,9481.2630101397299,100000000000,100000000000,{"$f":"'Strings & Pickups'!B$5*F$5/$A24","v":816.05086401690914},{"$f":"SIN('Strings & Pickups'!B$6/E24*PI())/((1+($A24/F$18)^2)^0.5)*10^('Strings & Pickups'!B$15/20)","v":0.17997584375869444},{"$f":"SIN('Strings & Pickups'!C$6/E24*PI())/((1+($A24/G$18)^2)^0.5)*10^('Strings & Pickups'!C$15/20)","v":0.41901570523043591},{"$f":"SIN('Strings & Pickups'!D$6/E24*PI())/((1+($A24/H$18)^2)^0.5)*10^('Strings & Pickups'!D$15/20)","v":0.6601275448605457},{"$f":"IF($A24<F$5,0.000001,(ABS(F24*'Strings & Pickups'!$B$23+G24*'Strings & Pickups'!$C$23+H24*'Strings & Pickups'!$D$23)))","v":9.9999999999999995E-7},{"$f":"IF($A24<F$5,0.000001,(ABS(F24*'Strings & Pickups'!$B$23*(1/(1/$C24+1/$D24)/($B24+1/(1/$C24+1/$D24)))+G24*'Strings & Pickups'!$C$23*(1/(1/$B24+1/$D24)/($C24+1/(1/$B24+1/$D24)))+H24*'Strings & Pickups'!$D$23*(1/(1/$B24+1/$C24)/($D24+1/(1/$B24+1/$C24))))))","v":9.9999999999999995E-7},null,null,null,null,null,null,null,null,null,null,null,null,null,null,null,null,null,null,null,null,null,null,null,null,null,null,null,null,null,null,null,null,null,null,null,null,{"$f":"MAX(I24*'Strings & Pickups'!B$52,O24*'Strings & Pickups'!$C$52,U24*'Strings & Pickups'!$D$52,AA24*'Strings & Pickups'!$E$52,AG24*'Strings & Pickups'!$F$52,AM24*'Strings & Pickups'!$G$52,AS24*'Strings & Pickups'!H$52)","v":9.9999999999999995E-7},{"$f":"MAX(J24*'Strings & Pickups'!B$52,P24*'Strings & Pickups'!$C$52,V24*'Strings & Pickups'!$D$52,AB24*'Strings & Pickups'!$E$52,AH24*'Strings & Pickups'!$F$52,AN24*'Strings & Pickups'!$G$52,AT24*'Strings & Pickups'!H$52)","v":9.9999999999999995E-7},9.9999999999999995E-7,9.9999999999999995E-7,48.999429497718666,-120,-100,-100,{"$f":"Main!AX49","v":{"$error":"#N/A"}}]
[51.913087197493148,9481.2630101397299,100000000000,100000000000,{"$f":"'Strings & Pickups'!B$5*F$5/$A25","v":770.24944838726231},{"$f":"SIN('Strings & Pickups'!B$6/E25*PI())/((1+($A25/F$18)^2)^0.5)*10^('Strings & Pickups'!B$15/20)","v":0.19057409614437609},{"$f":"SIN('Strings & Pickups'!C$6/E25*PI())/((1+($A25/G$18)^2)^0.5)*10^('Strings & Pickups'!C$15/20)","v":0.4426185185252241},{"$f":"SIN('Strings & Pickups'!D$6/E25*PI())/((1+($A25/H$18)^2)^0.5)*10^('Strings & Pickups'!D$15/20)","v":0.6937570909849059},{"$f":"IF($A25<F$5,0.000001,(ABS(F25*'Strings & Pickups'!$B$23+G25*'Strings & Pickups'!$C$23+H25*'Strings & Pickups'!$D$23)))","v":9.9999999999999995E-7},{"$f":"IF($A25<F$5,0.000001,(ABS(F25*'Strings & Pickups'!$B$23*(1/(1/$C25+1/$D25)/($B25+1/(1/$C25+1/$D25)))+G25*'Strings & Pickups'!$C$23*(1/(1/$B25+1/$D25)/($C25+1/(1/$B25+1/$D25)))+H25*'Strings & Pickups'!$D$23*(1/(1/$B25+1/$C25)/($D25+1/(1/$B25+1/$C25))))))","v":9.9999999999999995E-7},null,null,null,null,null,null,null,null,null,null,null,null,null,null,null,null,null,null,null,null,null,null,null,null,null,null,null,null,null,null,null,null,null,null,null,null,{"$f":"MAX(I25*'Strings & Pickups'!B$52,O25*'Strings & Pickups'!$C$52,U25*'Strings & Pickups'!$D$52,AA25*'Strings & Pickups'!$E$52,AG25*'Strings & Pickups'!$F$52,AM25*'Strings & Pickups'!$G$52,AS25*'Strings & Pickups'!H$52)","v":9.9999999999999995E-7},{"$f":"MAX(J25*'Strings & Pickups'!B$52,P25*'Strings & Pickups'!$C$52,V25*'Strings & Pickups'!$D$52,AB25*'Strings & Pickups'!$E$52,AH25*'Strings & Pickups'!$F$52,AN25*'Strings & Pickups'!$G$52,AT25*'Strings & Pickups'!H$52)","v":9.9999999999999995E-7},9.9999999999999995E-7,9.9999999999999995E-7,51.913087197493148,-120,-100,-100,{"$f":"Main!AX50","v":{"$error":"#N/A"}}]
[55.000000000000007,9481.2630101397299,100000000000,100000000000,{"$f":"'Strings & Pickups'!B$5*F$5/$A26","v":727.0186686899807},{"$f":"SIN('Strings & Pickups'!B$6/E26*PI())/((1+($A26/F$18)^2)^0.5)*10^('Strings & Pickups'!B$15/20)","v":0.20178298447430829},{"$f":"SIN('Strings & Pickups'!C$6/E26*PI())/((1+($A26/G$18)^2)^0.5)*10^('Strings & Pickups'!C$15/20)","v":0.46737933345486138},{"$f":"SIN('Strings & Pickups'!D$6/E26*PI())/((1+($A26/H$18)^2)^0.5)*10^('Strings & Pickups'!D$15/20)","v":0.72835624383003006},{"$f":"IF($A26<F$5,0.000001,(ABS(F26*'Strings & Pickups'!$B$23+G26*'Strings & Pickups'!$C$23+H26*'Strings & Pickups'!$D$23)))","v":9.9999999999999995E-7},{"$f":"IF($A26<F$5,0.000001,(ABS(F26*'Strings & Pickups'!$B$23*(1/(1/$C26+1/$D26)/($B26+1/(1/$C26+1/$D26)))+G26*'Strings & Pickups'!$C$23*(1/(1/$B26+1/$D26)/($C26+1/(1/$B26+1/$D26)))+H26*'Strings & Pickups'!$D$23*(1/(1/$B26+1/$C26)/($D26+1/(1/$B26+1/$C26))))))","v":9.9999999999999995E-7},null,null,null,null,null,null,null,null,null,null,null,null,null,null,null,null,null,null,null,null,null,null,null,null,null,null,null,null,null,null,null,null,null,null,null,null,{"$f":"MAX(I26*'Strings & Pickups'!B$52,O26*'Strings & Pickups'!$C$52,U26*'Strings & Pickups'!$D$52,AA26*'Strings & Pickups'!$E$52,AG26*'Strings & Pickups'!$F$52,AM26*'Strings & Pickups'!$G$52,AS26*'Strings & Pickups'!H$52)","v":9.9999999999999995E-7},{"$f":"MAX(J26*'Strings & Pickups'!B$52,P26*'Strings & Pickups'!$C$52,V26*'Strings & Pickups'!$D$52,AB26*'Strings & Pickups'!$E$52,AH26*'Strings & Pickups'!$F$52,AN26*'Strings & Pickups'!$G$52,AT26*'Strings & Pickups'!H$52)","v":9.9999999999999995E-7},9.9999999999999995E-7,0.22616436559329961,55.000000000000007,-120,-100,-12.911516427231227,{"$f":"Main!AX51","v":{"$error":"#N/A"}}]
[58.270470189761248,9481.2630101397299,100000000000,100000000000,{"$f":"'Strings & Pickups'!B$5*F$5/$A27","v":686.21424621651533},{"$f":"SIN('Strings & Pickups'!B$6/E27*PI())/((1+($A27/F$18)^2)^0.5)*10^('Strings & Pickups'!B$15/20)","v":0.21363513179333044},{"$f":"SIN('Strings & Pickups'!C$6/E27*PI())/((1+($A27/G$18)^2)^0.5)*10^('Strings & Pickups'!C$15/20)","v":0.49332154573527498},{"$f":"SIN('Strings & Pickups'!D$6/E27*PI())/((1+($A27/H$18)^2)^0.5)*10^('Strings & Pickups'!D$15/20)","v":0.76379894179417551},{"$f":"IF($A27<F$5,0.000001,(ABS(F27*'Strings & Pickups'!$B$23+G27*'Strings & Pickups'!$C$23+H27*'Strings & Pickups'!$D$23)))","v":9.9999999999999995E-7},{"$f":"IF($A27<F$5,0.000001,(ABS(F27*'Strings & Pickups'!$B$23*(1/(1/$C27+1/$D27)/($B27+1/(1/$C27+1/$D27)))+G27*'Strings & Pickups'!$C$23*(1/(1/$B27+1/$D27)/($C27+1/(1/$B27+1/$D27)))+H27*'Strings & Pickups'!$D$23*(1/(1/$B27+1/$C27)/($D27+1/(1/$B27+1/$C27))))))","v":9.9999999999999995E-7},null,null,null,null,null,null,null,null,null,null,null,null,null,null,null,null,null,null,null,null,null,null,null,null,null,null,null,null,null,null,null,null,null,null,null,null,{"$f":"MAX(I27*'Strings & Pickups'!B$52,O27*'Strings & Pickups'!$C$52,U27*'Strings & Pickups'!$D$52,AA27*'Strings & Pickups'!$E$52,AG27*'Strings & Pickups'!$F$52,AM27*'Strings & Pickups'!$G$52,AS27*'Strings & Pickups'!H$52)","v":9.9999999999999995E-7},{"$f":"MAX(J27*'Strings & Pickups'!B$52,P27*'Strings & Pickups'!$C$52,V27*'Strings & Pickups'!$D$52,AB27*'Strings & Pickups'!$E$52,AH27*'Strings & Pickups'!$F$52,AN27*'Strings & Pickups'!$G$52,AT27*'Strings & Pickups'!H$52)","v":9.9999999999999995E-7},9.9999999999999995E-7,0.23940583169635266,58.270470189761248,-120,-100,-12.417305496077617,{"$f":"Main!AX52","v":{"$error":"#N/A"}}]
[61.735412657015523,9481.2630101397299,100000000000,100000000000,{"$f":"'Strings & Pickups'!B$5*F$5/$A28","v":647.69999999999982},{"$f":"SIN('Strings & Pickups'!B$6/E28*PI())/((1+($A28/F$18)^2)^0.5)*10^('Strings & Pickups'!B$15/20)","v":0.22616440847977629},{"$f":"SIN('Strings & Pickups'!C$6/E28*PI())/((1+($A28/G$18)^2)^0.5)*10^('Strings & Pickups'!C$15/20)","v":0.52046166793000492},{"$f":"SIN('Strings & Pickups'!D$6/E28*PI())/((1+($A28/H$18)^2)^0.5)*10^('Strings & Pickups'!D$15/20)","v":0.79992052630855093},{"$f":"IF($A28<F$5,0.000001,(ABS(F28*'Strings & Pickups'!$B$23+G28*'Strings & Pickups'!$C$23+H28*'Strings & Pickups'!$D$23)))","v":0.22616440847977629},{"$f":"IF($A28<F$5,0.000001,(ABS(F28*'Strings & Pickups'!$B$23*(1/(1/$C28+1/$D28)/($B28+1/(1/$C28+1/$D28)))+G28*'Strings & Pickups'!$C$23*(1/(1/$B28+1/$D28)/($C28+1/(1/$B28+1/$D28)))+H28*'Strings & Pickups'!$D$23*(1/(1/$B28+1/$C28)/($D28+1/(1/$B28+1/$C28))))))","v":0.22616436559329961},null,null,null,null,null,null,null,null,null,null,null,null,null,null,null,null,null,null,null,null,null,null,null,null,null,null,null,null,null,null,null,null,null,null,null,null,{"$f":"MAX(I28*'Strings & Pickups'!B$52,O28*'Strings & Pickups'!$C$52,U28*'Strings & Pickups'!$D$52,AA28*'Strings & Pickups'!$E$52,AG28*'Strings & Pickups'!$F$52,AM28*'Strings & Pickups'!$G$52,AS28*'Strings & Pickups'!H$52)","v":0.22616440847977629},{"$f":"MAX(J28*'Strings & Pickups'!B$52,P28*'Strings & Pickups'!$C$52,V28*'Strings & Pickups'!$D$52,AB28*'Strings & Pickups'!$E$52,AH28*'Strings & Pickups'!$F$52,AN28*'Strings & Pickups'!$G$52,AT28*'Strings & Pickups'!H$52)","v":0.22616436559329961},0.22616436559329961,0.25339566199734487,61.735412657015523,-12.911516427231227,-12.911516427231227,-11.924016485716253,{"$f":"Main!AX53","v":{"$error":"#N/A"}}]
[65.40639132514967,9481.2630101397299,100000000000,100000000000,{"$f":"'Strings & Pickups'!B$5*F$5/$A29","v":611.3473923239327},{"$f":"SIN('Strings & Pickups'!B$6/E29*PI())/((1+($A29/F$18)^2)^0.5)*10^('Strings & Pickups'!B$15/20)","v":0.23940587709374578},{"$f":"SIN('Strings & Pickups'!C$6/E29*PI())/((1+($A29/G$18)^2)^0.5)*10^('Strings & Pickups'!C$15/20)","v":0.54880746284156945},{"$f":"SIN('Strings & Pickups'!D$6/E29*PI())/((1+($A29/H$18)^2)^0.5)*10^('Strings & Pickups'!D$15/20)","v":0.83651074530004954},{"$f":"IF($A29<F$5,0.000001,(ABS(F29*'Strings & Pickups'!$B$23+G29*'Strings & Pickups'!$C$23+H29*'Strings & Pickups'!$D$23)))","v":0.23940587709374578},{"$f":"IF($A29<F$5,0.000001,(ABS(F29*'Strings & Pickups'!$B$23*(1/(1/$C29+1/$D29)/($B29+1/(1/$C29+1/$D29)))+G29*'Strings & Pickups'!$C$23*(1/(1/$B29+1/$D29)/($C29+1/(1/$B29+1/$D29)))+H29*'Strings & Pickups'!$D$23*(1/(1/$B29+1/$C29)/($D29+1/(1/$B29+1/$C29))))))","v":0.23940583169635266},null,null,null,null,null,null,null,null,null,null,null,null,null,null,null,null,null,null,null,null,null,null,null,null,null,null,null,null,null,null,null,null,null,null,null,null,{"$f":"MAX(I29*'Strings & Pickups'!B$52,O29*'Strings & Pickups'!$C$52,U29*'Strings & Pickups'!$D$52,AA29*'Strings & Pickups'!$E$52,AG29*'Strings & Pickups'!$F$52,AM29*'Strings & Pickups'!$G$52,AS29*'Strings & Pickups'!H$52)","v":0.23940587709374578},{"$f":"MAX(J29*'Strings & Pickups'!B$52,P29*'Strings & Pickups'!$C$52,V29*'Strings & Pickups'!$D$52,AB29*'Strings & Pickups'!$E$52,AH29*'Strings & Pickups'!$F$52,AN29*'Strings & Pickups'!$G$52,AT29*'Strings & Pickups'!H$52)","v":0.23940583169635266},0.23940583169635266,0.26817102329842096,65.40639132514967,-12.417305496077617,-12.417305496077617,-11.431763016002172,{"$f":"Main!AX54","v":{"$error":"#N/A"}}]
[69.295657744218033,9481.2630101397299,100000000000,100000000000,{"$f":"'Strings & Pickups'!B$5*F$5/$A30","v":577.03509973949758},{"$f":"SIN('Strings & Pickups'!B$6/E30*PI())/((1+($A30/F$18)^2)^0.5)*10^('Strings & Pickups'!B$15/20)","v":0.25339571004756317},{"$f":"SIN('Strings & Pickups'!C$6/E30*PI())/((1+($A30/G$18)^2)^0.5)*10^('Strings & Pickups'!C$15/20)","v":0.57835572571729832},{"$f":"SIN('Strings & Pickups'!D$6/E30*PI())/((1+($A30/H$18)^2)^0.5)*10^('Strings & Pickups'!D$15/20)","v":0.87330582650288346},{"$f":"IF($A30<F$5,0.000001,(ABS(F30*'Strings & Pickups'!$B$23+G30*'Strings & Pickups'!$C$23+H30*'Strings & Pickups'!$D$23)))","v":0.25339571004756317},{"$f":"IF($A30<F$5,0.000001,(ABS(F30*'Strings & Pickups'!$B$23*(1/(1/$C30+1/$D30)/($B30+1/(1/$C30+1/$D30)))+G30*'Strings & Pickups'!$C$23*(1/(1/$B30+1/$D30)/($C30+1/(1/$B30+1/$D30)))+H30*'Strings & Pickups'!$D$23*(1/(1/$B30+1/$C30)/($D30+1/(1/$B30+1/$C30))))))","v":0.25339566199734487},null,null,null,null,null,null,null,null,null,null,null,null,null,null,null,null,null,null,null,null,null,null,null,null,null,null,null,null,null,null,null,null,null,null,null,null,{"$f":"MAX(I30*'Strings & Pickups'!B$52,O30*'Strings & Pickups'!$C$52,U30*'Strings & Pickups'!$D$52,AA30*'Strings & Pickups'!$E$52,AG30*'Strings & Pickups'!$F$52,AM30*'Strings & Pickups'!$G$52,AS30*'Strings & Pickups'!H$52)","v":0.25339571004756317},{"$f":"MAX(J30*'Strings & Pickups'!B$52,P30*'Strings & Pickups'!$C$52,V30*'Strings & Pickups'!$D$52,AB30*'Strings & Pickups'!$E$52,AH30*'Strings & Pickups'!$F$52,AN30*'Strings & Pickups'!$G$52,AT30*'Strings & Pickups'!H$52)","v":0.25339566199734487},0.25339566199734487,0.28376992115892152,69.295657744218033,-11.924016485716253,-11.924016485716253,-10.940672809495011,{"$f":"Main!AX55","v":{"$error":"#N/A"}}]
[73.416191979351908,9481.2630101397299,100000000000,100000000000,{"$f":"'Strings & Pickups'!B$5*F$5/$A31","v":544.6486081598307},{"$f":"SIN('Strings & Pickups'!B$6/E31*PI())/((1+($A31/F$18)^2)^0.5)*10^('Strings & Pickups'!B$15/20)","v":0.26817107415042102},{"$f":"SIN('Strings & Pickups'!C$6/E31*PI())/((1+($A31/G$18)^2)^0.5)*10^('Strings & Pickups'!C$15/20)","v":0.6090896604956999},{"$f":"SIN('Strings & Pickups'!D$6/E31*PI())/((1+($A31/H$18)^2)^0.5)*10^('Strings & Pickups'!D$15/20)","v":0.90997958368129395},{"$f":"IF($A31<F$5,0.000001,(ABS(F31*'Strings & Pickups'!$B$23+G31*'Strings & Pickups'!$C$23+H31*'Strings & Pickups'!$D$23)))","v":0.26817107415042102},{"$f":"IF($A31<F$5,0.000001,(ABS(F31*'Strings & Pickups'!$B$23*(1/(1/$C31+1/$D31)/($B31+1/(1/$C31+1/$D31)))+G31*'Strings & Pickups'!$C$23*(1/(1/$B31+1/$D31)/($C31+1/(1/$B31+1/$D31)))+H31*'Strings & Pickups'!$D$23*(1/(1/$B31+1/$C31)/($D31+1/(1/$B31+1/$C31))))))","v":0.26817102329842096},null,null,null,null,null,null,null,null,null,null,null,null,null,null,null,null,null,null,null,null,null,null,null,null,null,null,null,null,null,null,null,null,null,null,null,null,{"$f":"MAX(I31*'Strings & Pickups'!B$52,O31*'Strings & Pickups'!$C$52,U31*'Strings & Pickups'!$D$52,AA31*'Strings & Pickups'!$E$52,AG31*'Strings & Pickups'!$F$52,AM31*'Strings & Pickups'!$G$52,AS31*'Strings & Pickups'!H$52)","v":0.26817107415042102},{"$f":"MAX(J31*'Strings & Pickups'!B$52,P31*'Strings & Pickups'!$C$52,V31*'Strings & Pickups'!$D$52,AB31*'Strings & Pickups'!$E$52,AH31*'Strings & Pickups'!$F$52,AN31*'Strings & Pickups'!$G$52,AT31*'Strings & Pickups'!H$52)","v":0.26817102329842096},0.26817102329842096,0.30023099571468476,73.416191979351908,-11.431763016002172,-11.431763016002172,-10.450889468173512,{"$f":"Main!AX56","v":{"$error":"#N/A"}}]
[77.781745930520245,9481.2630101397299,100000000000,100000000000,{"$f":"'Strings & Pickups'!B$5*F$5/$A32","v":514.07983067990119},{"$f":"SIN('Strings & Pickups'!B$6/E32*PI())/((1+($A32/F$18)^2)^0.5)*10^('Strings & Pickups'!B$15/20)","v":0.28376997496886663},{"$f":"SIN('Strings & Pickups'!C$6/E32*PI())/((1+($A32/G$18)^2)^0.5)*10^('Strings & Pickups'!C$15/20)","v":0.64097578934829813},{"$f":"SIN('Strings & Pickups'!D$6/E32*PI())/((1+($A32/H$18)^2)^0.5)*10^('Strings & Pickups'!D$15/20)","v":0.94613355398635401},{"$f":"IF($A32<F$5,0.000001,(ABS(F32*'Strings & Pickups'!$B$23+G32*'Strings & Pickups'!$C$23+H32*'Strings & Pickups'!$D$23)))","v":0.28376997496886663},{"$f":"IF($A32<F$5,0.000001,(ABS(F32*'Strings & Pickups'!$B$23*(1/(1/$C32+1/$D32)/($B32+1/(1/$C32+1/$D32)))+G32*'Strings & Pickups'!$C$23*(1/(1/$B32+1/$D32)/($C32+1/(1/$B32+1/$D32)))+H32*'Strings & Pickups'!$D$23*(1/(1/$B32+1/$C32)/($D32+1/(1/$B32+1/$C32))))))","v":0.28376992115892152},null,null,null,null,null,null,null,null,null,null,null,null,null,null,null,null,null,null,null,null,null,null,null,null,null,null,null,null,null,null,null,null,null,null,null,null,{"$f":"MAX(I32*'Strings & Pickups'!B$52,O32*'Strings & Pickups'!$C$52,U32*'Strings & Pickups'!$D$52,AA32*'Strings & Pickups'!$E$52,AG32*'Strings & Pickups'!$F$52,AM32*'Strings & Pickups'!$G$52,AS32*'Strings & Pickups'!H$52)","v":0.28376997496886663},{"$f":"MAX(J32*'Strings & Pickups'!B$52,P32*'Strings & Pickups'!$C$52,V32*'Strings & Pickups'!$D$52,AB32*'Strings & Pickups'!$E$52,AH32*'Strings & Pickups'!$F$52,AN32*'Strings & Pickups'!$G$52,AT32*'Strings & Pickups'!H$52)","v":0.28376992115892152},0.28376992115892152,0.31759325908442321,77.781745930520245,-10.940672809495011,-10.940672809495011,-9.9625744809130765,{"$f":"Main!AX57","v":{"$error":"#N/A"}}]
[82.406889228217509,9481.2630101397299,100000000000,100000000000,{"$f":"'Strings & Pickups'!B$5*F$5/$A33","v":485.22674684651309},{"$f":"SIN('Strings & Pickups'!B$6/E33*PI())/((1+($A33/F$18)^2)^0.5)*10^('Strings & Pickups'!B$15/20)","v":0.30023105264606542},{"$f":"SIN('Strings & Pickups'!C$6/E33*PI())/((1+($A33/G$18)^2)^0.5)*10^('Strings & Pickups'!C$15/20)","v":0.67396032908705683},{"$f":"SIN('Strings & Pickups'!D$6/E33*PI())/((1+($A33/H$18)^2)^0.5)*10^('Strings & Pickups'!D$15/20)","v":0.98128621803737703},{"$f":"IF($A33<F$5,0.000001,(ABS(F33*'Strings & Pickups'!$B$23+G33*'Strings & Pickups'!$C$23+H33*'Strings & Pickups'!$D$23)))","v":0.30023105264606542},{"$f":"IF($A33<F$5,0.000001,(ABS(F33*'Strings & Pickups'!$B$23*(1/(1/$C33+1/$D33)/($B33+1/(1/$C33+1/$D33)))+G33*'Strings & Pickups'!$C$23*(1/(1/$B33+1/$D33)/($C33+1/(1/$B33+1/$D33)))+H33*'Strings & Pickups'!$D$23*(1/(1/$B33+1/$C33)/($D33+1/(1/$B33+1/$C33))))))","v":0.30023099571468476},null,null,null,null,null,null,null,null,null,null,null,null,null,null,null,null,null,null,null,null,null,null,null,null,null,null,null,null,null,null,null,null,null,null,null,null,{"$f":"MAX(I33*'Strings & Pickups'!B$52,O33*'Strings & Pickups'!$C$52,U33*'Strings & Pickups'!$D$52,AA33*'Strings & Pickups'!$E$52,AG33*'Strings & Pickups'!$F$52,AM33*'Strings & Pickups'!$G$52,AS33*'Strings & Pickups'!H$52)","v":0.30023105264606542},{"$f":"MAX(J33*'Strings & Pickups'!B$52,P33*'Strings & Pickups'!$C$52,V33*'Strings & Pickups'!$D$52,AB33*'Strings & Pickups'!$E$52,AH33*'Strings & Pickups'!$F$52,AN33*'Strings & Pickups'!$G$52,AT33*'Strings & Pickups'!H$52)","v":0.30023099571468476},0.30023099571468476,0.33589576273085786,82.406889228217509,-10.450889468173512,-10.450889468173512,-9.4759094935277606,{"$f":"Main!AX58","v":-7.7987227223712168}]
[87.307057858251,9481.2630101397299,100000000000,100000000000,{"$f":"'Strings & Pickups'!B$5*F$5/$A34","v":457.99306217452664},{"$f":"SIN('Strings & Pickups'!B$6/E34*PI())/((1+($A34/F$18)^2)^0.5)*10^('Strings & Pickups'!B$15/20)","v":0.31759331930812756},{"$f":"SIN('Strings & Pickups'!C$6/E34*PI())/((1+($A34/G$18)^2)^0.5)*10^('Strings & Pickups'!C$15/20)","v":0.70796496309352808},{"$f":"SIN('Strings & Pickups'!D$6/E34*PI())/((1+($A34/H$18)^2)^0.5)*10^('Strings & Pickups'!D$15/20)","v":1.0148614319858251},{"$f":"IF($A34<F$5,0.000001,(ABS(F34*'Strings & Pickups'!$B$23+G34*'Strings & Pickups'!$C$23+H34*'Strings & Pickups'!$D$23)))","v":0.31759331930812756},{"$f":"IF($A34<F$5,0.000001,(ABS(F34*'Strings & Pickups'!$B$23*(1/(1/$C34+1/$D34)/($B34+1/(1/$C34+1/$D34)))+G34*'Strings & Pickups'!$C$23*(1/(1/$B34+1/$D34)/($C34+1/(1/$B34+1/$D34)))+H34*'Strings & Pickups'!$D$23*(1/(1/$B34+1/$C34)/($D34+1/(1/$B34+1/$C34))))))","v":0.31759325908442321},null,null,null,null,null,null,null,null,null,null,null,null,null,null,null,null,null,null,null,null,null,null,null,null,null,null,null,null,null,null,null,null,null,null,null,null,{"$f":"MAX(I34*'Strings & Pickups'!B$52,O34*'Strings & Pickups'!$C$52,U34*'Strings & Pickups'!$D$52,AA34*'Strings & Pickups'!$E$52,AG34*'Strings & Pickups'!$F$52,AM34*'Strings & Pickups'!$G$52,AS34*'Strings & Pickups'!H$52)","v":0.31759331930812756},{"$f":"MAX(J34*'Strings & Pickups'!B$52,P34*'Strings & Pickups'!$C$52,V34*'Strings & Pickups'!$D$52,AB34*'Strings & Pickups'!$E$52,AH34*'Strings & Pickups'!$F$52,AN34*'Strings & Pickups'!$G$52,AT34*'Strings & Pickups'!H$52)","v":0.31759325908442321},0.31759325908442321,0.35517718110557339,87.307057858251,-9.9625744809130765,-9.9625744809130765,-8.9910988780416545,{"$f":"Main!AX59","v":-7.3155731724552941}]
[92.498605677908628,9481.2630101397299,100000000000,100000000000,{"$f":"'Strings & Pickups'!B$5*F$5/$A35","v":432.28788677296546},{"$f":"SIN('Strings & Pickups'!B$6/E35*PI())/((1+($A35/F$18)^2)^0.5)*10^('Strings & Pickups'!B$15/20)","v":0.33589582642517923},{"$f":"SIN('Strings & Pickups'!C$6/E35*PI())/((1+($A35/G$18)^2)^0.5)*10^('Strings & Pickups'!C$15/20)","v":0.74288193398090185},{"$f":"SIN('Strings & Pickups'!D$6/E35*PI())/((1+($A35/H$18)^2)^0.5)*10^('Strings & Pickups'!D$15/20)","v":1.046176310365583},{"$f":"IF($A35<F$5,0.000001,(ABS(F35*'Strings & Pickups'!$B$23+G35*'Strings & Pickups'!$C$23+H35*'Strings & Pickups'!$D$23)))","v":0.33589582642517923},{"$f":"IF($A35<F$5,0.000001,(ABS(F35*'Strings & Pickups'!$B$23*(1/(1/$C35+1/$D35)/($B35+1/(1/$C35+1/$D35)))+G35*'Strings & Pickups'!$C$23*(1/(1/$B35+1/$D35)/($C35+1/(1/$B35+1/$D35)))+H35*'Strings & Pickups'!$D$23*(1/(1/$B35+1/$C35)/($D35+1/(1/$B35+1/$C35))))))","v":0.33589576273085786},null,null,null,null,null,null,null,null,null,null,null,null,null,null,null,null,null,null,null,null,null,null,null,null,null,null,null,null,null,null,null,null,null,null,null,null,{"$f":"MAX(I35*'Strings & Pickups'!B$52,O35*'Strings & Pickups'!$C$52,U35*'Strings & Pickups'!$D$52,AA35*'Strings & Pickups'!$E$52,AG35*'Strings & Pickups'!$F$52,AM35*'Strings & Pickups'!$G$52,AS35*'Strings & Pickups'!H$52)","v":0.33589582642517923},{"$f":"MAX(J35*'Strings & Pickups'!B$52,P35*'Strings & Pickups'!$C$52,V35*'Strings & Pickups'!$D$52,AB35*'Strings & Pickups'!$E$52,AH35*'Strings & Pickups'!$F$52,AN35*'Strings & Pickups'!$G$52,AT35*'Strings & Pickups'!H$52)","v":0.33589576273085786},0.33589576273085786,0.37547529555614861,92.498605677908628,-9.4759094935277606,-9.4759094935277606,-8.5083726435873857,{"$f":"Main!AX60","v":-6.8378805641617033}]
[97.998858995437359,9481.2630101397299,100000000000,100000000000,{"$f":"'Strings & Pickups'!B$5*F$5/$A36","v":408.02543200845446},{"$f":"SIN('Strings & Pickups'!B$6/E36*PI())/((1+($A36/F$18)^2)^0.5)*10^('Strings & Pickups'!B$15/20)","v":0.35517724845613874},{"$f":"SIN('Strings & Pickups'!C$6/E36*PI())/((1+($A36/G$18)^2)^0.5)*10^('Strings & Pickups'!C$15/20)","v":0.77856838120666882},{"$f":"SIN('Strings & Pickups'!D$6/E36*PI())/((1+($A36/H$18)^2)^0.5)*10^('Strings & Pickups'!D$15/20)","v":1.074428949174282},{"$f":"IF($A36<F$5,0.000001,(ABS(F36*'Strings & Pickups'!$B$23+G36*'Strings & Pickups'!$C$23+H36*'Strings & Pickups'!$D$23)))","v":0.35517724845613874},{"$f":"IF($A36<F$5,0.000001,(ABS(F36*'Strings & Pickups'!$B$23*(1/(1/$C36+1/$D36)/($B36+1/(1/$C36+1/$D36)))+G36*'Strings & Pickups'!$C$23*(1/(1/$B36+1/$D36)/($C36+1/(1/$B36+1/$D36)))+H36*'Strings & Pickups'!$D$23*(1/(1/$B36+1/$C36)/($D36+1/(1/$B36+1/$C36))))))","v":0.35517718110557339},null,null,null,null,null,null,null,null,null,null,null,null,null,null,null,null,null,null,null,null,null,null,null,null,null,null,null,null,null,null,null,null,null,null,null,null,{"$f":"MAX(I36*'Strings & Pickups'!B$52,O36*'Strings & Pickups'!$C$52,U36*'Strings & Pickups'!$D$52,AA36*'Strings & Pickups'!$E$52,AG36*'Strings & Pickups'!$F$52,AM36*'Strings & Pickups'!$G$52,AS36*'Strings & Pickups'!H$52)","v":0.35517724845613874},{"$f":"MAX(J36*'Strings & Pickups'!B$52,P36*'Strings & Pickups'!$C$52,V36*'Strings & Pickups'!$D$52,AB36*'Strings & Pickups'!$E$52,AH36*'Strings & Pickups'!$F$52,AN36*'Strings & Pickups'!$G$52,AT36*'Strings & Pickups'!H$52)","v":0.35517718110557339},0.35517718110557339,0.39682635977837138,97.998858995437359,-8.9910988780416545,-8.9910988780416545,-8.0279897381162311,{"$f":"Main!AX61","v":-6.3675044764887172}]
[103.82617439498632,9481.2630101397299,100000000000,100000000000,{"$f":"'Strings & Pickups'!B$5*F$5/$A37","v":385.12472419363104},{"$f":"SIN('Strings & Pickups'!B$6/E37*PI())/((1+($A37/F$18)^2)^0.5)*10^('Strings & Pickups'!B$15/20)","v":0.37547536675574922},{"$f":"SIN('Strings & Pickups'!C$6/E37*PI())/((1+($A37/G$18)^2)^0.5)*10^('Strings & Pickups'!C$15/20)","v":0.81483985066774289},{"$f":"SIN('Strings & Pickups'!D$6/E37*PI())/((1+($A37/H$18)^2)^0.5)*10^('Strings & Pickups'!D$15/20)","v":1.0986865812610633},{"$f":"IF($A37<F$5,0.000001,(ABS(F37*'Strings & Pickups'!$B$23+G37*'Strings & Pickups'!$C$23+H37*'Strings & Pickups'!$D$23)))","v":0.37547536675574922},{"$f":"IF($A37<F$5,0.000001,(ABS(F37*'Strings & Pickups'!$B$23*(1/(1/$C37+1/$D37)/($B37+1/(1/$C37+1/$D37)))+G37*'Strings & Pickups'!$C$23*(1/(1/$B37+1/$D37)/($C37+1/(1/$B37+1/$D37)))+H37*'Strings & Pickups'!$D$23*(1/(1/$B37+1/$C37)/($D37+1/(1/$B37+1/$C37))))))","v":0.37547529555614861},null,null,null,null,null,null,null,null,null,null,null,null,null,null,null,null,null,null,null,null,null,null,null,null,null,null,null,null,null,null,null,null,null,null,null,null,{"$f":"MAX(I37*'Strings & Pickups'!B$52,O37*'Strings & Pickups'!$C$52,U37*'Strings & Pickups'!$D$52,AA37*'Strings & Pickups'!$E$52,AG37*'Strings & Pickups'!$F$52,AM37*'Strings & Pickups'!$G$52,AS37*'Strings & Pickups'!H$52)","v":0.37547536675574922},{"$f":"MAX(J37*'Strings & Pickups'!B$52,P37*'Strings & Pickups'!$C$52,V37*'Strings & Pickups'!$D$52,AB37*'Strings & Pickups'!$E$52,AH37*'Strings & Pickups'!$F$52,AN37*'Strings & Pickups'!$G$52,AT37*'Strings & Pickups'!H$52)","v":0.37547529555614861},0.37547529555614861,0.41926432502327898,103.82617439498632,-8.5083726435873857,-8.5083726435873857,-7.5502417981808545,{"$f":"Main!AX62","v":-5.9069097615681914}]
[110.00000000000004,9481.2630101397299,100000000000,100000000000,{"$f":"'Strings & Pickups'!B$5*F$5/$A38","v":363.50933434499024},{"$f":"SIN('Strings & Pickups'!B$6/E38*PI())/((1+($A38/F$18)^2)^0.5)*10^('Strings & Pickups'!B$15/20)","v":0.39682643502667309},{"$f":"SIN('Strings & Pickups'!C$6/E38*PI())/((1+($A38/G$18)^2)^0.5)*10^('Strings & Pickups'!C$15/20)","v":0.85146291177210653},{"$f":"SIN('Strings & Pickups'!D$6/E38*PI())/((1+($A38/H$18)^2)^0.5)*10^('Strings & Pickups'!D$15/20)","v":1.1178750231200427},{"$f":"IF($A38<F$5,0.000001,(ABS(F38*'Strings & Pickups'!$B$23+G38*'Strings & Pickups'!$C$23+H38*'Strings & Pickups'!$D$23)))","v":0.39682643502667309},{"$f":"IF($A38<F$5,0.000001,(ABS(F38*'Strings & Pickups'!$B$23*(1/(1/$C38+1/$D38)/($B38+1/(1/$C38+1/$D38)))+G38*'Strings & Pickups'!$C$23*(1/(1/$B38+1/$D38)/($C38+1/(1/$B38+1/$D38)))+H38*'Strings & Pickups'!$D$23*(1/(1/$B38+1/$C38)/($D38+1/(1/$B38+1/$C38))))))","v":0.39682635977837138},null,null,null,null,null,null,null,null,null,null,null,null,null,null,null,null,null,null,null,null,null,null,null,null,null,null,null,null,null,null,null,null,null,null,null,null,{"$f":"MAX(I38*'Strings & Pickups'!B$52,O38*'Strings & Pickups'!$C$52,U38*'Strings & Pickups'!$D$52,AA38*'Strings & Pickups'!$E$52,AG38*'Strings & Pickups'!$F$52,AM38*'Strings & Pickups'!$G$52,AS38*'Strings & Pickups'!H$52)","v":0.39682643502667309},{"$f":"MAX(J38*'Strings & Pickups'!B$52,P38*'Strings & Pickups'!$C$52,V38*'Strings & Pickups'!$D$52,AB38*'Strings & Pickups'!$E$52,AH38*'Strings & Pickups'!$F$52,AN38*'Strings & Pickups'!$G$52,AT38*'Strings & Pickups'!H$52)","v":0.39682635977837138},0.39682635977837138,0.44281989979113251,110.00000000000004,-8.0279897381162311,-8.0279897381162311,-7.0754574137123596,{"$f":"Main!AX63","v":-5.4592992057487253}]
[116.54094037952252,9481.2630101397299,100000000000,100000000000,{"$f":"'Strings & Pickups'!B$5*F$5/$A39","v":343.10712310825761},{"$f":"SIN('Strings & Pickups'!B$6/E39*PI())/((1+($A39/F$18)^2)^0.5)*10^('Strings & Pickups'!B$15/20)","v":0.41926440452638569},{"$f":"SIN('Strings & Pickups'!C$6/E39*PI())/((1+($A39/G$18)^2)^0.5)*10^('Strings & Pickups'!C$15/20)","v":0.88814683405109884},{"$f":"SIN('Strings & Pickups'!D$6/E39*PI())/((1+($A39/H$18)^2)^0.5)*10^('Strings & Pickups'!D$15/20)","v":1.1307706169787042},{"$f":"IF($A39<F$5,0.000001,(ABS(F39*'Strings & Pickups'!$B$23+G39*'Strings & Pickups'!$C$23+H39*'Strings & Pickups'!$D$23)))","v":0.41926440452638569},{"$f":"IF($A39<F$5,0.000001,(ABS(F39*'Strings & Pickups'!$B$23*(1/(1/$C39+1/$D39)/($B39+1/(1/$C39+1/$D39)))+G39*'Strings & Pickups'!$C$23*(1/(1/$B39+1/$D39)/($C39+1/(1/$B39+1/$D39)))+H39*'Strings & Pickups'!$D$23*(1/(1/$B39+1/$C39)/($D39+1/(1/$B39+1/$C39))))))","v":0.41926432502327898},null,null,null,null,null,null,null,null,null,null,null,null,null,null,null,null,null,null,null,null,null,null,null,null,null,null,null,null,null,null,null,null,null,null,null,null,{"$f":"MAX(I39*'Strings & Pickups'!B$52,O39*'Strings & Pickups'!$C$52,U39*'Strings & Pickups'!$D$52,AA39*'Strings & Pickups'!$E$52,AG39*'Strings & Pickups'!$F$52,AM39*'Strings & Pickups'!$G$52,AS39*'Strings & Pickups'!H$52)","v":0.41926440452638569},{"$f":"MAX(J39*'Strings & Pickups'!B$52,P39*'Strings & Pickups'!$C$52,V39*'Strings & Pickups'!$D$52,AB39*'Strings & Pickups'!$E$52,AH39*'Strings & Pickups'!$F$52,AN39*'Strings & Pickups'!$G$52,AT39*'Strings & Pickups'!H$52)","v":0.41926432502327898},0.41926432502327898,0.46751941484371984,116.54094037952252,-7.5502417981808545,-7.5502417981808545,-6.6040069863354587,{"$f":"Main!AX64","v":-5.0287163007701725}]
[123.47082531403107,9481.2630101397299,100000000000,100000000000,{"$f":"'Strings & Pickups'!B$5*F$5/$A40","v":323.84999999999985},{"$f":"SIN('Strings & Pickups'!B$6/E40*PI())/((1+($A40/F$18)^2)^0.5)*10^('Strings & Pickups'!B$15/20)","v":0.4428199837609712},{"$f":"SIN('Strings & Pickups'!C$6/E40*PI())/((1+($A40/G$18)^2)^0.5)*10^('Strings & Pickups'!C$15/20)","v":0.92453430329337116},{"$f":"SIN('Strings & Pickups'!D$6/E40*PI())/((1+($A40/H$18)^2)^0.5)*10^('Strings & Pickups'!D$15/20)","v":1.1359963078345614},{"$f":"IF($A40<F$5,0.000001,(ABS(F40*'Strings & Pickups'!$B$23+G40*'Strings & Pickups'!$C$23+H40*'Strings & Pickups'!$D$23)))","v":0.4428199837609712},{"$f":"IF($A40<F$5,0.000001,(ABS(F40*'Strings & Pickups'!$B$23*(1/(1/$C40+1/$D40)/($B40+1/(1/$C40+1/$D40)))+G40*'Strings & Pickups'!$C$23*(1/(1/$B40+1/$D40)/($C40+1/(1/$B40+1/$D40)))+H40*'Strings & Pickups'!$D$23*(1/(1/$B40+1/$C40)/($D40+1/(1/$B40+1/$C40))))))","v":0.44281989979113251},null,null,null,null,null,null,null,null,null,null,null,null,null,null,null,null,null,null,null,null,null,null,null,null,null,null,null,null,null,null,null,null,null,null,null,null,{"$f":"MAX(I40*'Strings & Pickups'!B$52,O40*'Strings & Pickups'!$C$52,U40*'Strings & Pickups'!$D$52,AA40*'Strings & Pickups'!$E$52,AG40*'Strings & Pickups'!$F$52,AM40*'Strings & Pickups'!$G$52,AS40*'Strings & Pickups'!H$52)","v":0.4428199837609712},{"$f":"MAX(J40*'Strings & Pickups'!B$52,P40*'Strings & Pickups'!$C$52,V40*'Strings & Pickups'!$D$52,AB40*'Strings & Pickups'!$E$52,AH40*'Strings & Pickups'!$F$52,AN40*'Strings & Pickups'!$G$52,AT40*'Strings & Pickups'!H$52)","v":0.44281989979113251},0.44281989979113251,0.49338346003887057,123.47082531403107,-7.0754574137123596,-7.0754574137123596,-6.1363082738308616,{"$f":"Main!AX65","v":-4.620062060824849}]
[130.81278265029937,9481.2630101397299,{"$f":"C$20","v":100000000000},{"$f":"D$20","v":100000000000},{"$f":"'Strings & Pickups'!B$5*F$5/$A41","v":305.67369616196629},{"$f":"SIN('Strings & Pickups'!B$6/E41*PI())/((1+($A41/F$18)^2)^0.5)*10^('Strings & Pickups'!B$15/20)","v":0.4675195034972105},{"$f":"SIN('Strings & Pickups'!C$6/E41*PI())/((1+($A41/G$18)^2)^0.5)*10^('Strings & Pickups'!C$15/20)","v":0.96019120064649388},{"$f":"SIN('Strings & Pickups'!D$6/E41*PI())/((1+($A41/H$18)^2)^0.5)*10^('Strings & Pickups'!D$15/20)","v":1.1320240328137654},{"$f":"IF($A41<F$5,0.000001,(ABS(F41*'Strings & Pickups'!$B$23+G41*'Strings & Pickups'!$C$23+H41*'Strings & Pickups'!$D$23)))","v":0.4675195034972105},{"$f":"IF($A41<F$5,0.000001,(ABS(F41*'Strings & Pickups'!$B$23*(1/(1/$C41+1/$D41)/($B41+1/(1/$C41+1/$D41)))+G41*'Strings & Pickups'!$C$23*(1/(1/$B41+1/$D41)/($C41+1/(1/$B41+1/$D41)))+H41*'Strings & Pickups'!$D$23*(1/(1/$B41+1/$C41)/($D41+1/(1/$B41+1/$C41))))))","v":0.46751941484371984},null,null,null,null,null,null,null,null,null,null,null,null,null,null,null,null,null,null,null,null,null,null,null,null,null,null,null,null,null,null,null,null,null,null,null,null,{"$f":"MAX(I41*'Strings & Pickups'!B$52,O41*'Strings & Pickups'!$C$52,U41*'Strings & Pickups'!$D$52,AA41*'Strings & Pickups'!$E$52,AG41*'Strings & Pickups'!$F$52,AM41*'Strings & Pickups'!$G$52,AS41*'Strings & Pickups'!H$52)","v":0.4675195034972105},{"$f":"MAX(J41*'Strings & Pickups'!B$52,P41*'Strings & Pickups'!$C$52,V41*'Strings & Pickups'!$D$52,AB41*'Strings & Pickups'!$E$52,AH41*'Strings & Pickups'!$F$52,AN41*'Strings & Pickups'!$G$52,AT41*'Strings & Pickups'!H$52)","v":0.46751941484371984},0.46751941484371984,0.52042525475597945,130.81278265029937,-6.6040069863354587,-6.6040069863354587,-5.6728327304858741,{"$f":"Main!AX66","v":-4.2389478418904067}]
[138.59131548843609,{"$f":"B$20","v":9481.2630101397299},100000000000,100000000000,{"$f":"'Strings & Pickups'!B$5*F$5/$A42","v":288.51754986974873},{"$f":"SIN('Strings & Pickups'!B$6/E42*PI())/((1+($A42/F$18)^2)^0.5)*10^('Strings & Pickups'!B$15/20)","v":0.49338355359683755},{"$f":"SIN('Strings & Pickups'!C$6/E42*PI())/((1+($A42/G$18)^2)^0.5)*10^('Strings & Pickups'!C$15/20)","v":0.99459553250822919},{"$f":"SIN('Strings & Pickups'!D$6/E42*PI())/((1+($A42/H$18)^2)^0.5)*10^('Strings & Pickups'!D$15/20)","v":1.1171862452187156},{"$f":"IF($A42<F$5,0.000001,(ABS(F42*'Strings & Pickups'!$B$23+G42*'Strings & Pickups'!$C$23+H42*'Strings & Pickups'!$D$23)))","v":0.49338355359683755},{"$f":"IF($A42<F$5,0.000001,(ABS(F42*'Strings & Pickups'!$B$23*(1/(1/$C42+1/$D42)/($B42+1/(1/$C42+1/$D42)))+G42*'Strings & Pickups'!$C$23*(1/(1/$B42+1/$D42)/($C42+1/(1/$B42+1/$D42)))+H42*'Strings & Pickups'!$D$23*(1/(1/$B42+1/$C42)/($D42+1/(1/$B42+1/$C42))))))","v":0.49338346003887057},null,null,null,null,null,null,null,null,null,null,null,null,null,null,null,null,null,null,null,null,null,null,null,null,null,null,null,null,null,null,null,null,null,null,null,null,{"$f":"MAX(I42*'Strings & Pickups'!B$52,O42*'Strings & Pickups'!$C$52,U42*'Strings & Pickups'!$D$52,AA42*'Strings & Pickups'!$E$52,AG42*'Strings & Pickups'!$F$52,AM42*'Strings & Pickups'!$G$52,AS42*'Strings & Pickups'!H$52)","v":0.49338355359683755},{"$f":"MAX(J42*'Strings & Pickups'!B$52,P42*'Strings & Pickups'!$C$52,V42*'Strings & Pickups'!$D$52,AB42*'Strings & Pickups'!$E$52,AH42*'Strings & Pickups'!$F$52,AN42*'Strings & Pickups'!$G$52,AT42*'Strings & Pickups'!H$52)","v":0.49338346003887057},0.49338346003887057,0.54864870859231429,138.59131548843609,-6.1363082738308616,-6.1363082738308616,-5.2141127740820794,{"$f":"Main!AX67","v":-3.8913058695858975}]
[146.83238395870384,9481.2630101397299,100000000000,100000000000,{"$f":"'Strings & Pickups'!B$5*F$5/$A43","v":272.32430407991529},{"$f":"SIN('Strings & Pickups'!B$6/E43*PI())/((1+($A43/F$18)^2)^0.5)*10^('Strings & Pickups'!B$15/20)","v":0.52042535344175378},{"$f":"SIN('Strings & Pickups'!C$6/E43*PI())/((1+($A43/G$18)^2)^0.5)*10^('Strings & Pickups'!C$15/20)","v":1.0271256910411128},{"$f":"SIN('Strings & Pickups'!D$6/E43*PI())/((1+($A43/H$18)^2)^0.5)*10^('Strings & Pickups'!D$15/20)","v":1.0897001421292942},{"$f":"IF($A43<F$5,0.000001,(ABS(F43*'Strings & Pickups'!$B$23+G43*'Strings & Pickups'!$C$23+H43*'Strings & Pickups'!$D$23)))","v":0.52042535344175378},{"$f":"IF($A43<F$5,0.000001,(ABS(F43*'Strings & Pickups'!$B$23*(1/(1/$C43+1/$D43)/($B43+1/(1/$C43+1/$D43)))+G43*'Strings & Pickups'!$C$23*(1/(1/$B43+1/$D43)/($C43+1/(1/$B43+1/$D43)))+H43*'Strings & Pickups'!$D$23*(1/(1/$B43+1/$C43)/($D43+1/(1/$B43+1/$C43))))))","v":0.52042525475597945},null,null,null,null,null,null,null,null,null,null,null,null,null,null,null,null,null,null,null,null,null,null,null,null,null,null,null,null,null,null,null,null,null,null,null,null,{"$f":"MAX(I43*'Strings & Pickups'!B$52,O43*'Strings & Pickups'!$C$52,U43*'Strings & Pickups'!$D$52,AA43*'Strings & Pickups'!$E$52,AG43*'Strings & Pickups'!$F$52,AM43*'Strings & Pickups'!$G$52,AS43*'Strings & Pickups'!H$52)","v":0.52042535344175378},{"$f":"MAX(J43*'Strings & Pickups'!B$52,P43*'Strings & Pickups'!$C$52,V43*'Strings & Pickups'!$D$52,AB43*'Strings & Pickups'!$E$52,AH43*'Strings & Pickups'!$F$52,AN43*'Strings & Pickups'!$G$52,AT43*'Strings & Pickups'!H$52)","v":0.52042525475597945},0.52042525475597945,0.57804612367025809,146.83238395870384,-5.6728327304858741,-5.6728327304858741,-4.760750136216191,{"$f":"Main!AX68","v":-3.5827294630962592}]
[155.56349186104052,9481.2630101397299,100000000000,100000000000,{"$f":"'Strings & Pickups'!B$5*F$5/$A44","v":257.0399153399506},{"$f":"SIN('Strings & Pickups'!B$6/E44*PI())/((1+($A44/F$18)^2)^0.5)*10^('Strings & Pickups'!B$15/20)","v":0.54864881262996834},{"$f":"SIN('Strings & Pickups'!C$6/E44*PI())/((1+($A44/G$18)^2)^0.5)*10^('Strings & Pickups'!C$15/20)","v":1.0570483530493671},{"$f":"SIN('Strings & Pickups'!D$6/E44*PI())/((1+($A44/H$18)^2)^0.5)*10^('Strings & Pickups'!D$15/20)","v":1.0477089874143175},{"$f":"IF($A44<F$5,0.000001,(ABS(F44*'Strings & Pickups'!$B$23+G44*'Strings & Pickups'!$C$23+H44*'Strings & Pickups'!$D$23)))","v":0.54864881262996834},{"$f":"IF($A44<F$5,0.000001,(ABS(F44*'Strings & Pickups'!$B$23*(1/(1/$C44+1/$D44)/($B44+1/(1/$C44+1/$D44)))+G44*'Strings & Pickups'!$C$23*(1/(1/$B44+1/$D44)/($C44+1/(1/$B44+1/$D44)))+H44*'Strings & Pickups'!$D$23*(1/(1/$B44+1/$C44)/($D44+1/(1/$B44+1/$C44))))))","v":0.54864870859231429},null,null,null,null,null,null,null,null,null,null,null,null,null,null,null,null,null,null,null,null,null,null,null,null,null,null,null,null,null,null,null,null,null,null,null,null,{"$f":"MAX(I44*'Strings & Pickups'!B$52,O44*'Strings & Pickups'!$C$52,U44*'Strings & Pickups'!$D$52,AA44*'Strings & Pickups'!$E$52,AG44*'Strings & Pickups'!$F$52,AM44*'Strings & Pickups'!$G$52,AS44*'Strings & Pickups'!H$52)","v":0.54864881262996834},{"$f":"MAX(J44*'Strings & Pickups'!B$52,P44*'Strings & Pickups'!$C$52,V44*'Strings & Pickups'!$D$52,AB44*'Strings & Pickups'!$E$52,AH44*'Strings & Pickups'!$F$52,AN44*'Strings & Pickups'!$G$52,AT44*'Strings & Pickups'!H$52)","v":0.54864870859231429},0.54864870859231429,0.60859548447917011,155.56349186104052,-5.2141127740820794,-5.2141127740820794,-4.3134254849416696,{"$f":"Main!AX69","v":-3.317630336738715}]
[164.81377845643505,9481.2630101397299,100000000000,100000000000,{"$f":"'Strings & Pickups'!B$5*F$5/$A45","v":242.61337342325652},{"$f":"SIN('Strings & Pickups'!B$6/E45*PI())/((1+($A45/F$18)^2)^0.5)*10^('Strings & Pickups'!B$15/20)","v":0.57804623328240468},{"$f":"SIN('Strings & Pickups'!C$6/E45*PI())/((1+($A45/G$18)^2)^0.5)*10^('Strings & Pickups'!C$15/20)","v":1.0835064986409062},{"$f":"SIN('Strings & Pickups'!D$6/E45*PI())/((1+($A45/H$18)^2)^0.5)*10^('Strings & Pickups'!D$15/20)","v":0.98934576547601849},{"$f":"IF($A45<F$5,0.000001,(ABS(F45*'Strings & Pickups'!$B$23+G45*'Strings & Pickups'!$C$23+H45*'Strings & Pickups'!$D$23)))","v":0.57804623328240468},{"$f":"IF($A45<F$5,0.000001,(ABS(F45*'Strings & Pickups'!$B$23*(1/(1/$C45+1/$D45)/($B45+1/(1/$C45+1/$D45)))+G45*'Strings & Pickups'!$C$23*(1/(1/$B45+1/$D45)/($C45+1/(1/$B45+1/$D45)))+H45*'Strings & Pickups'!$D$23*(1/(1/$B45+1/$C45)/($D45+1/(1/$B45+1/$C45))))))","v":0.57804612367025809},null,null,null,null,null,null,null,null,null,null,null,null,null,null,null,null,null,null,null,null,null,null,null,null,null,null,null,null,null,null,null,null,null,null,null,null,{"$f":"MAX(I45*'Strings & Pickups'!B$52,O45*'Strings & Pickups'!$C$52,U45*'Strings & Pickups'!$D$52,AA45*'Strings & Pickups'!$E$52,AG45*'Strings & Pickups'!$F$52,AM45*'Strings & Pickups'!$G$52,AS45*'Strings & Pickups'!H$52)","v":0.57804623328240468},{"$f":"MAX(J45*'Strings & Pickups'!B$52,P45*'Strings & Pickups'!$C$52,V45*'Strings & Pickups'!$D$52,AB45*'Strings & Pickups'!$E$52,AH45*'Strings & Pickups'!$F$52,AN45*'Strings & Pickups'!$G$52,AT45*'Strings & Pickups'!H$52)","v":0.57804612367025809},0.57804612367025809,0.64025727595368997,164.81377845643505,-4.760750136216191,-4.760750136216191,-3.8729095492302221,{"$f":"Main!AX70","v":-3.0984421232116981}]
[174.61411571650203,9481.2630101397299,100000000000,100000000000,{"$f":"'Strings & Pickups'!B$5*F$5/$A46","v":228.99653108726329},{"$f":"SIN('Strings & Pickups'!B$6/E46*PI())/((1+($A46/F$18)^2)^0.5)*10^('Strings & Pickups'!B$15/20)","v":0.60859559988424716},{"$f":"SIN('Strings & Pickups'!C$6/E46*PI())/((1+($A46/G$18)^2)^0.5)*10^('Strings & Pickups'!C$15/20)","v":1.1055082620044385},{"$f":"SIN('Strings & Pickups'!D$6/E46*PI())/((1+($A46/H$18)^2)^0.5)*10^('Strings & Pickups'!D$15/20)","v":0.91282516167933758},{"$f":"IF($A46<F$5,0.000001,(ABS(F46*'Strings & Pickups'!$B$23+G46*'Strings & Pickups'!$C$23+H46*'Strings & Pickups'!$D$23)))","v":0.60859559988424716},{"$f":"IF($A46<F$5,0.000001,(ABS(F46*'Strings & Pickups'!$B$23*(1/(1/$C46+1/$D46)/($B46+1/(1/$C46+1/$D46)))+G46*'Strings & Pickups'!$C$23*(1/(1/$B46+1/$D46)/($C46+1/(1/$B46+1/$D46)))+H46*'Strings & Pickups'!$D$23*(1/(1/$B46+1/$C46)/($D46+1/(1/$B46+1/$C46))))))","v":0.60859548447917011},null,null,null,null,null,null,null,null,null,null,null,null,null,null,null,null,null,null,null,null,null,null,null,null,null,null,null,null,null,null,null,null,null,null,null,null,{"$f":"MAX(I46*'Strings & Pickups'!B$52,O46*'Strings & Pickups'!$C$52,U46*'Strings & Pickups'!$D$52,AA46*'Strings & Pickups'!$E$52,AG46*'Strings & Pickups'!$F$52,AM46*'Strings & Pickups'!$G$52,AS46*'Strings & Pickups'!H$52)","v":0.60859559988424716},{"$f":"MAX(J46*'Strings & Pickups'!B$52,P46*'Strings & Pickups'!$C$52,V46*'Strings & Pickups'!$D$52,AB46*'Strings & Pickups'!$E$52,AH46*'Strings & Pickups'!$F$52,AN46*'Strings & Pickups'!$G$52,AT46*'Strings & Pickups'!H$52)","v":0.60859548447917011},0.60859548447917011,0.67297076586793347,174.61411571650203,-4.3134254849416696,-4.3134254849416696,-3.4400760260108147,{"$f":"Main!AX71","v":-2.9251657572408609}]
[184.99721135581729,9481.2630101397299,100000000000,100000000000,{"$f":"'Strings & Pickups'!B$5*F$5/$A47","v":216.1439433864827},{"$f":"SIN('Strings & Pickups'!B$6/E47*PI())/((1+($A47/F$18)^2)^0.5)*10^('Strings & Pickups'!B$15/20)","v":0.64025739736264253},{"$f":"SIN('Strings & Pickups'!C$6/E47*PI())/((1+($A47/G$18)^2)^0.5)*10^('Strings & Pickups'!C$15/20)","v":1.1219176274159026},{"$f":"SIN('Strings & Pickups'!D$6/E47*PI())/((1+($A47/H$18)^2)^0.5)*10^('Strings & Pickups'!D$15/20)","v":0.81657037113580055},{"$f":"IF($A47<F$5,0.000001,(ABS(F47*'Strings & Pickups'!$B$23+G47*'Strings & Pickups'!$C$23+H47*'Strings & Pickups'!$D$23)))","v":0.64025739736264253},{"$f":"IF($A47<F$5,0.000001,(ABS(F47*'Strings & Pickups'!$B$23*(1/(1/$C47+1/$D47)/($B47+1/(1/$C47+1/$D47)))+G47*'Strings & Pickups'!$C$23*(1/(1/$B47+1/$D47)/($C47+1/(1/$B47+1/$D47)))+H47*'Strings & Pickups'!$D$23*(1/(1/$B47+1/$C47)/($D47+1/(1/$B47+1/$C47))))))","v":0.64025727595368997},null,null,null,null,null,null,null,null,null,null,null,null,null,null,null,null,null,null,null,null,null,null,null,null,null,null,null,null,null,null,null,null,null,null,null,null,{"$f":"MAX(I47*'Strings & Pickups'!B$52,O47*'Strings & Pickups'!$C$52,U47*'Strings & Pickups'!$D$52,AA47*'Strings & Pickups'!$E$52,AG47*'Strings & Pickups'!$F$52,AM47*'Strings & Pickups'!$G$52,AS47*'Strings & Pickups'!H$52)","v":0.64025739736264253},{"$f":"MAX(J47*'Strings & Pickups'!B$52,P47*'Strings & Pickups'!$C$52,V47*'Strings & Pickups'!$D$52,AB47*'Strings & Pickups'!$E$52,AH47*'Strings & Pickups'!$F$52,AN47*'Strings & Pickups'!$G$52,AT47*'Strings & Pickups'!H$52)","v":0.64025727595368997},0.64025727595368997,0.70664968418668495,184.99721135581729,-3.8729095492302221,-3.8729095492302221,-3.0159166159871424,{"$f":"Main!AX72","v":-2.7954533246612985}]
[195.99771799087475,9481.2630101397299,100000000000,100000000000,{"$f":"'Strings & Pickups'!B$5*F$5/$A48","v":204.0127160042272},{"$f":"SIN('Strings & Pickups'!B$6/E48*PI())/((1+($A48/F$18)^2)^0.5)*10^('Strings & Pickups'!B$15/20)","v":0.67297089348019001},{"$f":"SIN('Strings & Pickups'!C$6/E48*PI())/((1+($A48/G$18)^2)^0.5)*10^('Strings & Pickups'!C$15/20)","v":1.1314483672849485},{"$f":"SIN('Strings & Pickups'!D$6/E48*PI())/((1+($A48/H$18)^2)^0.5)*10^('Strings & Pickups'!D$15/20)","v":0.69938122082790644},{"$f":"IF($A48<F$5,0.000001,(ABS(F48*'Strings & Pickups'!$B$23+G48*'Strings & Pickups'!$C$23+H48*'Strings & Pickups'!$D$23)))","v":0.67297089348019001},{"$f":"IF($A48<F$5,0.000001,(ABS(F48*'Strings & Pickups'!$B$23*(1/(1/$C48+1/$D48)/($B48+1/(1/$C48+1/$D48)))+G48*'Strings & Pickups'!$C$23*(1/(1/$B48+1/$D48)/($C48+1/(1/$B48+1/$D48)))+H48*'Strings & Pickups'!$D$23*(1/(1/$B48+1/$C48)/($D48+1/(1/$B48+1/$C48))))))","v":0.67297076586793347},null,null,null,null,null,null,null,null,null,null,null,null,null,null,null,null,null,null,null,null,null,null,null,null,null,null,null,null,null,null,null,null,null,null,null,null,{"$f":"MAX(I48*'Strings & Pickups'!B$52,O48*'Strings & Pickups'!$C$52,U48*'Strings & Pickups'!$D$52,AA48*'Strings & Pickups'!$E$52,AG48*'Strings & Pickups'!$F$52,AM48*'Strings & Pickups'!$G$52,AS48*'Strings & Pickups'!H$52)","v":0.67297089348019001},{"$f":"MAX(J48*'Strings & Pickups'!B$52,P48*'Strings & Pickups'!$C$52,V48*'Strings & Pickups'!$D$52,AB48*'Strings & Pickups'!$E$52,AH48*'Strings & Pickups'!$F$52,AN48*'Strings & Pickups'!$G$52,AT48*'Strings & Pickups'!H$52)","v":0.67297076586793347},0.67297076586793347,0.74117723058346696,195.99771799087475,-3.4400760260108147,-3.4400760260108147,-2.6015586187910067,{"$f":"Main!AX73","v":-2.7051956297316675}]
[207.65234878997268,9481.2630101397299,100000000000,100000000000,{"$f":"'Strings & Pickups'!B$5*F$5/$A49","v":192.56236209681549},{"$f":"SIN('Strings & Pickups'!B$6/E49*PI())/((1+($A49/F$18)^2)^0.5)*10^('Strings & Pickups'!B$15/20)","v":0.70664981818531514},{"$f":"SIN('Strings & Pickups'!C$6/E49*PI())/((1+($A49/G$18)^2)^0.5)*10^('Strings & Pickups'!C$15/20)","v":1.1326630975032979},{"$f":"SIN('Strings & Pickups'!D$6/E49*PI())/((1+($A49/H$18)^2)^0.5)*10^('Strings & Pickups'!D$15/20)","v":0.56064915773346369},{"$f":"IF($A49<F$5,0.000001,(ABS(F49*'Strings & Pickups'!$B$23+G49*'Strings & Pickups'!$C$23+H49*'Strings & Pickups'!$D$23)))","v":0.70664981818531514},{"$f":"IF($A49<F$5,0.000001,(ABS(F49*'Strings & Pickups'!$B$23*(1/(1/$C49+1/$D49)/($B49+1/(1/$C49+1/$D49)))+G49*'Strings & Pickups'!$C$23*(1/(1/$B49+1/$D49)/($C49+1/(1/$B49+1/$D49)))+H49*'Strings & Pickups'!$D$23*(1/(1/$B49+1/$C49)/($D49+1/(1/$B49+1/$C49))))))","v":0.70664968418668495},null,null,null,null,null,null,null,null,null,null,null,null,null,null,null,null,null,null,null,null,null,null,null,null,null,null,null,null,null,null,null,null,null,null,null,null,{"$f":"MAX(I49*'Strings & Pickups'!B$52,O49*'Strings & Pickups'!$C$52,U49*'Strings & Pickups'!$D$52,AA49*'Strings & Pickups'!$E$52,AG49*'Strings & Pickups'!$F$52,AM49*'Strings & Pickups'!$G$52,AS49*'Strings & Pickups'!H$52)","v":0.70664981818531514},{"$f":"MAX(J49*'Strings & Pickups'!B$52,P49*'Strings & Pickups'!$C$52,V49*'Strings & Pickups'!$D$52,AB49*'Strings & Pickups'!$E$52,AH49*'Strings & Pickups'!$F$52,AN49*'Strings & Pickups'!$G$52,AT49*'Strings & Pickups'!H$52)","v":0.70664968418668495},0.70664968418668495,0.77640034304693073,207.65234878997268,-3.0159166159871424,-3.0159166159871424,-2.1982856278745229,{"$f":"Main!AX74","v":-2.6493718562104704}]
[220.00000000000011,9481.2630101397299,100000000000,100000000000,{"$f":"'Strings & Pickups'!B$5*F$5/$A50","v":181.75466717249512},{"$f":"SIN('Strings & Pickups'!B$6/E50*PI())/((1+($A50/F$18)^2)^0.5)*10^('Strings & Pickups'!B$15/20)","v":0.74117737112939208},{"$f":"SIN('Strings & Pickups'!C$6/E50*PI())/((1+($A50/G$18)^2)^0.5)*10^('Strings & Pickups'!C$15/20)","v":1.1239799065059282},{"$f":"SIN('Strings & Pickups'!D$6/E50*PI())/((1+($A50/H$18)^2)^0.5)*10^('Strings & Pickups'!D$15/20)","v":0.4006222589892634},{"$f":"IF($A50<F$5,0.000001,(ABS(F50*'Strings & Pickups'!$B$23+G50*'Strings & Pickups'!$C$23+H50*'Strings & Pickups'!$D$23)))","v":0.74117737112939208},{"$f":"IF($A50<F$5,0.000001,(ABS(F50*'Strings & Pickups'!$B$23*(1/(1/$C50+1/$D50)/($B50+1/(1/$C50+1/$D50)))+G50*'Strings & Pickups'!$C$23*(1/(1/$B50+1/$D50)/($C50+1/(1/$B50+1/$D50)))+H50*'Strings & Pickups'!$D$23*(1/(1/$B50+1/$C50)/($D50+1/(1/$B50+1/$C50))))))","v":0.74117723058346696},null,null,null,null,null,null,null,null,null,null,null,null,null,null,null,null,null,null,null,null,null,null,null,null,null,null,null,null,null,null,null,null,null,null,null,null,{"$f":"MAX(I50*'Strings & Pickups'!B$52,O50*'Strings & Pickups'!$C$52,U50*'Strings & Pickups'!$D$52,AA50*'Strings & Pickups'!$E$52,AG50*'Strings & Pickups'!$F$52,AM50*'Strings & Pickups'!$G$52,AS50*'Strings & Pickups'!H$52)","v":0.74117737112939208},{"$f":"MAX(J50*'Strings & Pickups'!B$52,P50*'Strings & Pickups'!$C$52,V50*'Strings & Pickups'!$D$52,AB50*'Strings & Pickups'!$E$52,AH50*'Strings & Pickups'!$F$52,AN50*'Strings & Pickups'!$G$52,AT50*'Strings & Pickups'!H$52)","v":0.74117723058346696},0.74117723058346696,0.81212316689094843,220.00000000000011,-2.6015586187910067,-2.6015586187910067,-1.8075620101351748,{"$f":"Main!AX75","v":-2.6228701729688915}]
[233.08188075904508,9481.2630101397299,100000000000,100000000000,{"$f":"'Strings & Pickups'!B$5*F$5/$A51","v":171.55356155412878},{"$f":"SIN('Strings & Pickups'!B$6/E51*PI())/((1+($A51/F$18)^2)^0.5)*10^('Strings & Pickups'!B$15/20)","v":0.77640049027204772},{"$f":"SIN('Strings & Pickups'!C$6/E51*PI())/((1+($A51/G$18)^2)^0.5)*10^('Strings & Pickups'!C$15/20)","v":1.1036896979958664},{"$f":"SIN('Strings & Pickups'!D$6/E51*PI())/((1+($A51/H$18)^2)^0.5)*10^('Strings & Pickups'!D$15/20)","v":0.22071883540924811},{"$f":"IF($A51<F$5,0.000001,(ABS(F51*'Strings & Pickups'!$B$23+G51*'Strings & Pickups'!$C$23+H51*'Strings & Pickups'!$D$23)))","v":0.77640049027204772},{"$f":"IF($A51<F$5,0.000001,(ABS(F51*'Strings & Pickups'!$B$23*(1/(1/$C51+1/$D51)/($B51+1/(1/$C51+1/$D51)))+G51*'Strings & Pickups'!$C$23*(1/(1/$B51+1/$D51)/($C51+1/(1/$B51+1/$D51)))+H51*'Strings & Pickups'!$D$23*(1/(1/$B51+1/$C51)/($D51+1/(1/$B51+1/$C51))))))","v":0.77640034304693073},null,null,null,null,null,null,null,null,null,null,null,null,null,null,null,null,null,null,null,null,null,null,null,null,null,null,null,null,null,null,null,null,null,null,null,null,{"$f":"MAX(I51*'Strings & Pickups'!B$52,O51*'Strings & Pickups'!$C$52,U51*'Strings & Pickups'!$D$52,AA51*'Strings & Pickups'!$E$52,AG51*'Strings & Pickups'!$F$52,AM51*'Strings & Pickups'!$G$52,AS51*'Strings & Pickups'!H$52)","v":0.77640049027204772},{"$f":"MAX(J51*'Strings & Pickups'!B$52,P51*'Strings & Pickups'!$C$52,V51*'Strings & Pickups'!$D$52,AB51*'Strings & Pickups'!$E$52,AH51*'Strings & Pickups'!$F$52,AN51*'Strings & Pickups'!$G$52,AT51*'Strings & Pickups'!H$52)","v":0.77640034304693073},0.77640034304693073,0.84809967661376651,233.08188075904508,-2.1982856278745229,-2.1982856278745229,-1.431062047805123,{"$f":"Main!AX76","v":-2.6210873756361424}]
[246.94165062806221,9481.2630101397299,100000000000,100000000000,{"$f":"'Strings & Pickups'!B$5*F$5/$A52","v":161.9249999999999},{"$f":"SIN('Strings & Pickups'!B$6/E52*PI())/((1+($A52/F$18)^2)^0.5)*10^('Strings & Pickups'!B$15/20)","v":0.81212332089001527},{"$f":"SIN('Strings & Pickups'!C$6/E52*PI())/((1+($A52/G$18)^2)^0.5)*10^('Strings & Pickups'!C$15/20)","v":1.069988157997704},{"$f":"SIN('Strings & Pickups'!D$6/E52*PI())/((1+($A52/H$18)^2)^0.5)*10^('Strings & Pickups'!D$15/20)","v":2.3880535048289016E-2},{"$f":"IF($A52<F$5,0.000001,(ABS(F52*'Strings & Pickups'!$B$23+G52*'Strings & Pickups'!$C$23+H52*'Strings & Pickups'!$D$23)))","v":0.81212332089001527},{"$f":"IF($A52<F$5,0.000001,(ABS(F52*'Strings & Pickups'!$B$23*(1/(1/$C52+1/$D52)/($B52+1/(1/$C52+1/$D52)))+G52*'Strings & Pickups'!$C$23*(1/(1/$B52+1/$D52)/($C52+1/(1/$B52+1/$D52)))+H52*'Strings & Pickups'!$D$23*(1/(1/$B52+1/$C52)/($D52+1/(1/$B52+1/$C52))))))","v":0.81212316689094843},null,null,null,null,null,null,null,null,null,null,null,null,null,null,null,null,null,null,null,null,null,null,null,null,null,null,null,null,null,null,null,null,null,null,null,null,{"$f":"MAX(I52*'Strings & Pickups'!B$52,O52*'Strings & Pickups'!$C$52,U52*'Strings & Pickups'!$D$52,AA52*'Strings & Pickups'!$E$52,AG52*'Strings & Pickups'!$F$52,AM52*'Strings & Pickups'!$G$52,AS52*'Strings & Pickups'!H$52)","v":0.81212332089001527},{"$f":"MAX(J52*'Strings & Pickups'!B$52,P52*'Strings & Pickups'!$C$52,V52*'Strings & Pickups'!$D$52,AB52*'Strings & Pickups'!$E$52,AH52*'Strings & Pickups'!$F$52,AN52*'Strings & Pickups'!$G$52,AT52*'Strings & Pickups'!H$52)","v":0.81212316689094843},0.81212316689094843,0.88402542561490705,246.94165062806221,-1.8075620101351748,-1.8075620101351748,-1.0707048797055476,{"$f":"Main!AX77","v":-2.6402581910868794}]
[261.62556530059879,9481.2630101397299,100000000000,100000000000,{"$f":"'Strings & Pickups'!B$5*F$5/$A53","v":152.83684808098312},{"$f":"SIN('Strings & Pickups'!B$6/E53*PI())/((1+($A53/F$18)^2)^0.5)*10^('Strings & Pickups'!B$15/20)","v":0.84809983743488837},{"$f":"SIN('Strings & Pickups'!C$6/E53*PI())/((1+($A53/G$18)^2)^0.5)*10^('Strings & Pickups'!C$15/20)","v":1.0210270749125021},{"$f":"SIN('Strings & Pickups'!D$6/E53*PI())/((1+($A53/H$18)^2)^0.5)*10^('Strings & Pickups'!D$15/20)","v":-0.18505588825132485},{"$f":"IF($A53<F$5,0.000001,(ABS(F53*'Strings & Pickups'!$B$23+G53*'Strings & Pickups'!$C$23+H53*'Strings & Pickups'!$D$23)))","v":0.84809983743488837},{"$f":"IF($A53<F$5,0.000001,(ABS(F53*'Strings & Pickups'!$B$23*(1/(1/$C53+1/$D53)/($B53+1/(1/$C53+1/$D53)))+G53*'Strings & Pickups'!$C$23*(1/(1/$B53+1/$D53)/($C53+1/(1/$B53+1/$D53)))+H53*'Strings & Pickups'!$D$23*(1/(1/$B53+1/$C53)/($D53+1/(1/$B53+1/$C53))))))","v":0.84809967661376651},null,null,null,null,null,null,null,null,null,null,null,null,null,null,null,null,null,null,null,null,null,null,null,null,null,null,null,null,null,null,null,null,null,null,null,null,{"$f":"MAX(I53*'Strings & Pickups'!B$52,O53*'Strings & Pickups'!$C$52,U53*'Strings & Pickups'!$D$52,AA53*'Strings & Pickups'!$E$52,AG53*'Strings & Pickups'!$F$52,AM53*'Strings & Pickups'!$G$52,AS53*'Strings & Pickups'!H$52)","v":0.84809983743488837},{"$f":"MAX(J53*'Strings & Pickups'!B$52,P53*'Strings & Pickups'!$C$52,V53*'Strings & Pickups'!$D$52,AB53*'Strings & Pickups'!$E$52,AH53*'Strings & Pickups'!$F$52,AN53*'Strings & Pickups'!$G$52,AT53*'Strings & Pickups'!H$52)","v":0.84809967661376651},{"$f":"AU53*$AU$19+AV53*$AV$19","v":0.84809967661376651},0.91952843426211772,{"$f":"A53","v":261.62556530059879},-1.431062047805123,{"$f":"IF(AY53<$BE$21,-100,AZ53)","v":-1.431062047805123},{"$f":"IF(AY55<$BE$21,-100,MAX(AZ50:AZ55))","v":-0.72869673358162568},{"$f":"Main!AX78","v":-2.6775631194414302}]
[277.1826309768723,9481.2630101397299,100000000000,100000000000,{"$f":"'Strings & Pickups'!B$5*F$5/$A54","v":144.25877493487431},{"$f":"SIN('Strings & Pickups'!B$6/E54*PI())/((1+($A54/F$18)^2)^0.5)*10^('Strings & Pickups'!B$15/20)","v":0.88402559324845831},{"$f":"SIN('Strings & Pickups'!C$6/E54*PI())/((1+($A54/G$18)^2)^0.5)*10^('Strings & Pickups'!C$15/20)","v":0.95499052829159192},{"$f":"SIN('Strings & Pickups'!D$6/E54*PI())/((1+($A54/H$18)^2)^0.5)*10^('Strings & Pickups'!D$15/20)","v":-0.39900573625106123},{"$f":"IF($A54<F$5,0.000001,(ABS(F54*'Strings & Pickups'!$B$23+G54*'Strings & Pickups'!$C$23+H54*'Strings & Pickups'!$D$23)))","v":0.88402559324845831},{"$f":"IF($A54<F$5,0.000001,(ABS(F54*'Strings & Pickups'!$B$23*(1/(1/$C54+1/$D54)/($B54+1/(1/$C54+1/$D54)))+G54*'Strings & Pickups'!$C$23*(1/(1/$B54+1/$D54)/($C54+1/(1/$B54+1/$D54)))+H54*'Strings & Pickups'!$D$23*(1/(1/$B54+1/$C54)/($D54+1/(1/$B54+1/$C54))))))","v":0.88402542561490705},null,null,null,null,null,null,null,null,null,null,null,null,null,null,null,null,null,null,null,null,null,null,null,null,null,null,null,null,null,null,null,null,null,null,null,null,{"$f":"MAX(I54*'Strings & Pickups'!B$52,O54*'Strings & Pickups'!$C$52,U54*'Strings & Pickups'!$D$52,AA54*'Strings & Pickups'!$E$52,AG54*'Strings & Pickups'!$F$52,AM54*'Strings & Pickups'!$G$52,AS54*'Strings & Pickups'!H$52)","v":0.88402559324845831},{"$f":"MAX(J54*'Strings & Pickups'!B$52,P54*'Strings & Pickups'!$C$52,V54*'Strings & Pickups'!$D$52,AB54*'Strings & Pickups'!$E$52,AH54*'Strings & Pickups'!$F$52,AN54*'Strings & Pickups'!$G$52,AT54*'Strings & Pickups'!H$52)","v":0.88402542561490705},0.88402542561490705,0.9541592796373819,277.1826309768723,-1.0707048797055476,-1.0707048797055476,-0.40758243267749661,{"$f":"Main!AX79","v":-2.6346686359658555}]
[293.6647679174078,9481.2630101397299,100000000000,100000000000,{"$f":"'Strings & Pickups'!B$5*F$5/$A55","v":136.16215203995759},{"$f":"SIN('Strings & Pickups'!B$6/E55*PI())/((1+($A55/F$18)^2)^0.5)*10^('Strings & Pickups'!B$15/20)","v":0.91952860862793628},{"$f":"SIN('Strings & Pickups'!C$6/E55*PI())/((1+($A55/G$18)^2)^0.5)*10^('Strings & Pickups'!C$15/20)","v":0.8702020830880266},{"$f":"SIN('Strings & Pickups'!D$6/E55*PI())/((1+($A55/H$18)^2)^0.5)*10^('Strings & Pickups'!D$15/20)","v":-0.60836239283089599},{"$f":"IF($A55<F$5,0.000001,(ABS(F55*'Strings & Pickups'!$B$23+G55*'Strings & Pickups'!$C$23+H55*'Strings & Pickups'!$D$23)))","v":0.91952860862793628},{"$f":"IF($A55<F$5,0.000001,(ABS(F55*'Strings & Pickups'!$B$23*(1/(1/$C55+1/$D55)/($B55+1/(1/$C55+1/$D55)))+G55*'Strings & Pickups'!$C$23*(1/(1/$B55+1/$D55)/($C55+1/(1/$B55+1/$D55)))+H55*'Strings & Pickups'!$D$23*(1/(1/$B55+1/$C55)/($D55+1/(1/$B55+1/$C55))))))","v":0.91952843426211772},null,null,null,null,null,null,null,null,null,null,null,null,null,null,null,null,null,null,null,null,null,null,null,null,null,null,null,null,null,null,null,null,null,null,null,null,{"$f":"MAX(I55*'Strings & Pickups'!B$52,O55*'Strings & Pickups'!$C$52,U55*'Strings & Pickups'!$D$52,AA55*'Strings & Pickups'!$E$52,AG55*'Strings & Pickups'!$F$52,AM55*'Strings & Pickups'!$G$52,AS55*'Strings & Pickups'!H$52)","v":0.91952860862793628},{"$f":"MAX(J55*'Strings & Pickups'!B$52,P55*'Strings & Pickups'!$C$52,V55*'Strings & Pickups'!$D$52,AB55*'Strings & Pickups'!$E$52,AH55*'Strings & Pickups'!$F$52,AN55*'Strings & Pickups'!$G$52,AT55*'Strings & Pickups'!H$52)","v":0.91952843426211772},0.91952843426211772,0.98738052601111115,293.6647679174078,-0.72869673358162568,-0.72869673358162568,-0.11030885141051347,{"$f":"Main!AX80","v":-2.6063616916076366}]
[311.12698372208121,9481.2630101397299,100000000000,100000000000,{"$f":"'Strings & Pickups'!B$5*F$5/$A56","v":128.51995766997521},{"$f":"SIN('Strings & Pickups'!B$6/E56*PI())/((1+($A56/F$18)^2)^0.5)*10^('Strings & Pickups'!B$15/20)","v":0.9541594605700835},{"$f":"SIN('Strings & Pickups'!C$6/E56*PI())/((1+($A56/G$18)^2)^0.5)*10^('Strings & Pickups'!C$15/20)","v":0.76526936595287165},{"$f":"SIN('Strings & Pickups'!D$6/E56*PI())/((1+($A56/H$18)^2)^0.5)*10^('Strings & Pickups'!D$15/20)","v":-0.80088969489813289},{"$f":"IF($A56<F$5,0.000001,(ABS(F56*'Strings & Pickups'!$B$23+G56*'Strings & Pickups'!$C$23+H56*'Strings & Pickups'!$D$23)))","v":0.9541594605700835},{"$f":"IF($A56<F$5,0.000001,(ABS(F56*'Strings & Pickups'!$B$23*(1/(1/$C56+1/$D56)/($B56+1/(1/$C56+1/$D56)))+G56*'Strings & Pickups'!$C$23*(1/(1/$B56+1/$D56)/($C56+1/(1/$B56+1/$D56)))+H56*'Strings & Pickups'!$D$23*(1/(1/$B56+1/$C56)/($D56+1/(1/$B56+1/$C56))))))","v":0.9541592796373819},null,null,null,null,null,null,null,null,null,null,null,null,null,null,null,null,null,null,null,null,null,null,null,null,null,null,null,null,null,null,null,null,null,null,null,null,{"$f":"MAX(I56*'Strings & Pickups'!B$52,O56*'Strings & Pickups'!$C$52,U56*'Strings & Pickups'!$D$52,AA56*'Strings & Pickups'!$E$52,AG56*'Strings & Pickups'!$F$52,AM56*'Strings & Pickups'!$G$52,AS56*'Strings & Pickups'!H$52)","v":0.9541594605700835},{"$f":"MAX(J56*'Strings & Pickups'!B$52,P56*'Strings & Pickups'!$C$52,V56*'Strings & Pickups'!$D$52,AB56*'Strings & Pickups'!$E$52,AH56*'Strings & Pickups'!$F$52,AN56*'Strings & Pickups'!$G$52,AT56*'Strings & Pickups'!H$52)","v":0.9541592796373819},0.9541592796373819,1.0185557404469803,311.12698372208121,-0.40758243267749661,-0.40758243267749661,0.15969601490520768,{"$f":"Main!AX81","v":-2.6025513419295483}]
[329.62755691287026,9481.2630101397299,100000000000,100000000000,{"$f":"'Strings & Pickups'!B$5*F$5/$A57","v":121.30668671162819},{"$f":"SIN('Strings & Pickups'!B$6/E57*PI())/((1+($A57/F$18)^2)^0.5)*10^('Strings & Pickups'!B$15/20)","v":0.98738071324340027},{"$f":"SIN('Strings & Pickups'!C$6/E57*PI())/((1+($A57/G$18)^2)^0.5)*10^('Strings & Pickups'!C$15/20)","v":0.63927193569791807},{"$f":"SIN('Strings & Pickups'!D$6/E57*PI())/((1+($A57/H$18)^2)^0.5)*10^('Strings & Pickups'!D$15/20)","v":-0.96189868232138442},{"$f":"IF($A57<F$5,0.000001,(ABS(F57*'Strings & Pickups'!$B$23+G57*'Strings & Pickups'!$C$23+H57*'Strings & Pickups'!$D$23)))","v":0.98738071324340027},{"$f":"IF($A57<F$5,0.000001,(ABS(F57*'Strings & Pickups'!$B$23*(1/(1/$C57+1/$D57)/($B57+1/(1/$C57+1/$D57)))+G57*'Strings & Pickups'!$C$23*(1/(1/$B57+1/$D57)/($C57+1/(1/$B57+1/$D57)))+H57*'Strings & Pickups'!$D$23*(1/(1/$B57+1/$C57)/($D57+1/(1/$B57+1/$C57))))))","v":0.98738052601111115},null,null,null,null,null,null,null,null,null,null,null,null,null,null,null,null,null,null,null,null,null,null,null,null,null,null,null,null,null,null,null,null,null,null,null,null,{"$f":"MAX(I57*'Strings & Pickups'!B$52,O57*'Strings & Pickups'!$C$52,U57*'Strings & Pickups'!$D$52,AA57*'Strings & Pickups'!$E$52,AG57*'Strings & Pickups'!$F$52,AM57*'Strings & Pickups'!$G$52,AS57*'Strings & Pickups'!H$52)","v":0.98738071324340027},{"$f":"MAX(J57*'Strings & Pickups'!B$52,P57*'Strings & Pickups'!$C$52,V57*'Strings & Pickups'!$D$52,AB57*'Strings & Pickups'!$E$52,AH57*'Strings & Pickups'!$F$52,AN57*'Strings & Pickups'!$G$52,AT57*'Strings & Pickups'!H$52)","v":0.98738052601111115},0.98738052601111115,1.0469384809447926,329.62755691287026,-0.11030885141051347,-0.11030885141051347,0.3984232578144391,{"$f":"Main!AX82","v":-2.6194447756178953}]
[349.22823143300423,9481.2630101397299,100000000000,100000000000,{"$f":"'Strings & Pickups'!B$5*F$5/$A58","v":114.49826554363159},{"$f":"SIN('Strings & Pickups'!B$6/E58*PI())/((1+($A58/F$18)^2)^0.5)*10^('Strings & Pickups'!B$15/20)","v":1.0185559335908776},{"$f":"SIN('Strings & Pickups'!C$6/E58*PI())/((1+($A58/G$18)^2)^0.5)*10^('Strings & Pickups'!C$15/20)","v":0.49199673166040619},{"$f":"SIN('Strings & Pickups'!D$6/E58*PI())/((1+($A58/H$18)^2)^0.5)*10^('Strings & Pickups'!D$15/20)","v":-1.0748550803002328},{"$f":"IF($A58<F$5,0.000001,(ABS(F58*'Strings & Pickups'!$B$23+G58*'Strings & Pickups'!$C$23+H58*'Strings & Pickups'!$D$23)))","v":1.0185559335908776},{"$f":"IF($A58<F$5,0.000001,(ABS(F58*'Strings & Pickups'!$B$23*(1/(1/$C58+1/$D58)/($B58+1/(1/$C58+1/$D58)))+G58*'Strings & Pickups'!$C$23*(1/(1/$B58+1/$D58)/($C58+1/(1/$B58+1/$D58)))+H58*'Strings & Pickups'!$D$23*(1/(1/$B58+1/$C58)/($D58+1/(1/$B58+1/$C58))))))","v":1.0185557404469803},null,null,null,null,null,null,null,null,null,null,null,null,null,null,null,null,null,null,null,null,null,null,null,null,null,null,null,null,null,null,null,null,null,null,null,null,{"$f":"MAX(I58*'Strings & Pickups'!B$52,O58*'Strings & Pickups'!$C$52,U58*'Strings & Pickups'!$D$52,AA58*'Strings & Pickups'!$E$52,AG58*'Strings & Pickups'!$F$52,AM58*'Strings & Pickups'!$G$52,AS58*'Strings & Pickups'!H$52)","v":1.0185559335908776},{"$f":"MAX(J58*'Strings & Pickups'!B$52,P58*'Strings & Pickups'!$C$52,V58*'Strings & Pickups'!$D$52,AB58*'Strings & Pickups'!$E$52,AH58*'Strings & Pickups'!$F$52,AN58*'Strings & Pickups'!$G$52,AT58*'Strings & Pickups'!H$52)","v":1.0185557404469803},1.0185557404469803,1.0716618343814686,349.22823143300423,0.15969601490520768,0.15969601490520768,0.60115528491057879,{"$f":"Main!AX83","v":-2.6541915000732574}]
[369.9944227116348,9481.2630101397299,100000000000,100000000000,{"$f":"'Strings & Pickups'!B$5*F$5/$A59","v":108.07197169324128},{"$f":"SIN('Strings & Pickups'!B$6/E59*PI())/((1+($A59/F$18)^2)^0.5)*10^('Strings & Pickups'!B$15/20)","v":1.0469386794707745},{"$f":"SIN('Strings & Pickups'!C$6/E59*PI())/((1+($A59/G$18)^2)^0.5)*10^('Strings & Pickups'!C$15/20)","v":0.32422197160032784},{"$f":"SIN('Strings & Pickups'!D$6/E59*PI())/((1+($A59/H$18)^2)^0.5)*10^('Strings & Pickups'!D$15/20)","v":-1.1225801058983651},{"$f":"IF($A59<F$5,0.000001,(ABS(F59*'Strings & Pickups'!$B$23+G59*'Strings & Pickups'!$C$23+H59*'Strings & Pickups'!$D$23)))","v":1.0469386794707745},{"$f":"IF($A59<F$5,0.000001,(ABS(F59*'Strings & Pickups'!$B$23*(1/(1/$C59+1/$D59)/($B59+1/(1/$C59+1/$D59)))+G59*'Strings & Pickups'!$C$23*(1/(1/$B59+1/$D59)/($C59+1/(1/$B59+1/$D59)))+H59*'Strings & Pickups'!$D$23*(1/(1/$B59+1/$C59)/($D59+1/(1/$B59+1/$C59))))))","v":1.0469384809447926},null,null,null,null,null,null,null,null,null,null,null,null,null,null,null,null,null,null,null,null,null,null,null,null,null,null,null,null,null,null,null,null,null,null,null,null,{"$f":"MAX(I59*'Strings & Pickups'!B$52,O59*'Strings & Pickups'!$C$52,U59*'Strings & Pickups'!$D$52,AA59*'Strings & Pickups'!$E$52,AG59*'Strings & Pickups'!$F$52,AM59*'Strings & Pickups'!$G$52,AS59*'Strings & Pickups'!H$52)","v":1.0469386794707745},{"$f":"MAX(J59*'Strings & Pickups'!B$52,P59*'Strings & Pickups'!$C$52,V59*'Strings & Pickups'!$D$52,AB59*'Strings & Pickups'!$E$52,AH59*'Strings & Pickups'!$F$52,AN59*'Strings & Pickups'!$G$52,AT59*'Strings & Pickups'!H$52)","v":1.0469384809447926},1.0469384809447926,1.0917293282508125,369.9944227116348,0.3984232578144391,0.3984232578144391,0.76229954726305738,{"$f":"Main!AX84","v":-2.6084230989019801}]
[391.99543598174972,9481.2630101397299,100000000000,100000000000,{"$f":"'Strings & Pickups'!B$5*F$5/$A60","v":102.00635800211354},{"$f":"SIN('Strings & Pickups'!B$6/E60*PI())/((1+($A60/F$18)^2)^0.5)*10^('Strings & Pickups'!B$15/20)","v":1.0716620375956227},{"$f":"SIN('Strings & Pickups'!C$6/E60*PI())/((1+($A60/G$18)^2)^0.5)*10^('Strings & Pickups'!C$15/20)","v":0.13804438995823626},{"$f":"SIN('Strings & Pickups'!D$6/E60*PI())/((1+($A60/H$18)^2)^0.5)*10^('Strings & Pickups'!D$15/20)","v":-1.0891953618517964},{"$f":"IF($A60<F$5,0.000001,(ABS(F60*'Strings & Pickups'!$B$23+G60*'Strings & Pickups'!$C$23+H60*'Strings & Pickups'!$D$23)))","v":1.0716620375956227},{"$f":"IF($A60<F$5,0.000001,(ABS(F60*'Strings & Pickups'!$B$23*(1/(1/$C60+1/$D60)/($B60+1/(1/$C60+1/$D60)))+G60*'Strings & Pickups'!$C$23*(1/(1/$B60+1/$D60)/($C60+1/(1/$B60+1/$D60)))+H60*'Strings & Pickups'!$D$23*(1/(1/$B60+1/$C60)/($D60+1/(1/$B60+1/$C60))))))","v":1.0716618343814686},null,null,null,null,null,null,null,null,null,null,null,null,null,null,null,null,null,null,null,null,null,null,null,null,null,null,null,null,null,null,null,null,null,null,null,null,{"$f":"MAX(I60*'Strings & Pickups'!B$52,O60*'Strings & Pickups'!$C$52,U60*'Strings & Pickups'!$D$52,AA60*'Strings & Pickups'!$E$52,AG60*'Strings & Pickups'!$F$52,AM60*'Strings & Pickups'!$G$52,AS60*'Strings & Pickups'!H$52)","v":1.0716620375956227},{"$f":"MAX(J60*'Strings & Pickups'!B$52,P60*'Strings & Pickups'!$C$52,V60*'Strings & Pickups'!$D$52,AB60*'Strings & Pickups'!$E$52,AH60*'Strings & Pickups'!$F$52,AN60*'Strings & Pickups'!$G$52,AT60*'Strings & Pickups'!H$52)","v":1.0716618343814686},1.0716618343814686,1.1060083539887549,391.99543598174972,0.60115528491057879,0.60115528491057879,0.87516814656194519,{"$f":"Main!AX85","v":-2.5768872280674895}]
[415.30469757994558,9481.2630101397299,100000000000,100000000000,{"$f":"'Strings & Pickups'!B$5*F$5/$A61","v":96.281181048407689},{"$f":"SIN('Strings & Pickups'!B$6/E61*PI())/((1+($A61/F$18)^2)^0.5)*10^('Strings & Pickups'!B$15/20)","v":1.0917295352702703},{"$f":"SIN('Strings & Pickups'!C$6/E61*PI())/((1+($A61/G$18)^2)^0.5)*10^('Strings & Pickups'!C$15/20)","v":-6.2764757005514468E-2},{"$f":"SIN('Strings & Pickups'!D$6/E61*PI())/((1+($A61/H$18)^2)^0.5)*10^('Strings & Pickups'!D$15/20)","v":-0.96289972901265986},{"$f":"IF($A61<F$5,0.000001,(ABS(F61*'Strings & Pickups'!$B$23+G61*'Strings & Pickups'!$C$23+H61*'Strings & Pickups'!$D$23)))","v":1.0917295352702703},{"$f":"IF($A61<F$5,0.000001,(ABS(F61*'Strings & Pickups'!$B$23*(1/(1/$C61+1/$D61)/($B61+1/(1/$C61+1/$D61)))+G61*'Strings & Pickups'!$C$23*(1/(1/$B61+1/$D61)/($C61+1/(1/$B61+1/$D61)))+H61*'Strings & Pickups'!$D$23*(1/(1/$B61+1/$C61)/($D61+1/(1/$B61+1/$C61))))))","v":1.0917293282508125},null,null,null,null,null,null,null,null,null,null,null,null,null,null,null,null,null,null,null,null,null,null,null,null,null,null,null,null,null,null,null,null,null,null,null,null,{"$f":"MAX(I61*'Strings & Pickups'!B$52,O61*'Strings & Pickups'!$C$52,U61*'Strings & Pickups'!$D$52,AA61*'Strings & Pickups'!$E$52,AG61*'Strings & Pickups'!$F$52,AM61*'Strings & Pickups'!$G$52,AS61*'Strings & Pickups'!H$52)","v":1.0917295352702703},{"$f":"MAX(J61*'Strings & Pickups'!B$52,P61*'Strings & Pickups'!$C$52,V61*'Strings & Pickups'!$D$52,AB61*'Strings & Pickups'!$E$52,AH61*'Strings & Pickups'!$F$52,AN61*'Strings & Pickups'!$G$52,AT61*'Strings & Pickups'!H$52)","v":1.0917293282508125},1.0917293282508125,1.1132276294468086,415.30469757994558,0.76229954726305738,0.76229954726305738,0.93167953296304873,{"$f":"Main!AX86","v":-2.5694486716766622}]
[440.00000000000051,{"$f":"B$20","v":9481.2630101397299},100000000000,100000000000,{"$f":"'Strings & Pickups'!B$5*F$5/$A62","v":90.877333586247488},{"$f":"SIN('Strings & Pickups'!B$6/E62*PI())/((1+($A62/F$18)^2)^0.5)*10^('Strings & Pickups'!B$15/20)","v":1.1060085637158767},{"$f":"SIN('Strings & Pickups'!C$6/E62*PI())/((1+($A62/G$18)^2)^0.5)*10^('Strings & Pickups'!C$15/20)","v":-0.27240337427753492},{"$f":"SIN('Strings & Pickups'!D$6/E62*PI())/((1+($A62/H$18)^2)^0.5)*10^('Strings & Pickups'!D$15/20)","v":-0.73952366156464289},{"$f":"IF($A62<F$5,0.000001,(ABS(F62*'Strings & Pickups'!$B$23+G62*'Strings & Pickups'!$C$23+H62*'Strings & Pickups'!$D$23)))","v":1.1060085637158767},{"$f":"IF($A62<F$5,0.000001,(ABS(F62*'Strings & Pickups'!$B$23*(1/(1/$C62+1/$D62)/($B62+1/(1/$C62+1/$D62)))+G62*'Strings & Pickups'!$C$23*(1/(1/$B62+1/$D62)/($C62+1/(1/$B62+1/$D62)))+H62*'Strings & Pickups'!$D$23*(1/(1/$B62+1/$C62)/($D62+1/(1/$B62+1/$C62))))))","v":1.1060083539887549},null,null,null,null,null,null,null,null,null,null,null,null,null,null,null,null,null,null,null,null,null,null,null,null,null,null,null,null,null,null,null,null,null,null,null,null,{"$f":"MAX(I62*'Strings & Pickups'!B$52,O62*'Strings & Pickups'!$C$52,U62*'Strings & Pickups'!$D$52,AA62*'Strings & Pickups'!$E$52,AG62*'Strings & Pickups'!$F$52,AM62*'Strings & Pickups'!$G$52,AS62*'Strings & Pickups'!H$52)","v":1.1060085637158767},{"$f":"MAX(J62*'Strings & Pickups'!B$52,P62*'Strings & Pickups'!$C$52,V62*'Strings & Pickups'!$D$52,AB62*'Strings & Pickups'!$E$52,AH62*'Strings & Pickups'!$F$52,AN62*'Strings & Pickups'!$G$52,AT62*'Strings & Pickups'!H$52)","v":1.1060083539887549},1.1060083539887549,1.1132276294468086,440.00000000000051,0.87516814656194519,0.87516814656194519,0.93167953296304873,{"$f":"Main!AX87","v":-2.5822647183408063}]
[466.1637615180905,9481.2630101397299,100000000000,100000000000,{"$f":"'Strings & Pickups'!B$5*F$5/$A63","v":85.776780777064332},{"$f":"SIN('Strings & Pickups'!B$6/E63*PI())/((1+($A63/F$18)^2)^0.5)*10^('Strings & Pickups'!B$15/20)","v":1.1132278405428875},{"$f":"SIN('Strings & Pickups'!C$6/E63*PI())/((1+($A63/G$18)^2)^0.5)*10^('Strings & Pickups'!C$15/20)","v":-0.48272936915635517},{"$f":"SIN('Strings & Pickups'!D$6/E63*PI())/((1+($A63/H$18)^2)^0.5)*10^('Strings & Pickups'!D$15/20)","v":-0.42655551947774151},{"$f":"IF($A63<F$5,0.000001,(ABS(F63*'Strings & Pickups'!$B$23+G63*'Strings & Pickups'!$C$23+H63*'Strings & Pickups'!$D$23)))","v":1.1132278405428875},{"$f":"IF($A63<F$5,0.000001,(ABS(F63*'Strings & Pickups'!$B$23*(1/(1/$C63+1/$D63)/($B63+1/(1/$C63+1/$D63)))+G63*'Strings & Pickups'!$C$23*(1/(1/$B63+1/$D63)/($C63+1/(1/$B63+1/$D63)))+H63*'Strings & Pickups'!$D$23*(1/(1/$B63+1/$C63)/($D63+1/(1/$B63+1/$C63))))))","v":1.1132276294468086},null,null,null,null,null,null,null,null,null,null,null,null,null,null,null,null,null,null,null,null,null,null,null,null,null,null,null,null,null,null,null,null,null,null,null,null,{"$f":"MAX(I63*'Strings & Pickups'!B$52,O63*'Strings & Pickups'!$C$52,U63*'Strings & Pickups'!$D$52,AA63*'Strings & Pickups'!$E$52,AG63*'Strings & Pickups'!$F$52,AM63*'Strings & Pickups'!$G$52,AS63*'Strings & Pickups'!H$52)","v":1.1132278405428875},{"$f":"MAX(J63*'Strings & Pickups'!B$52,P63*'Strings & Pickups'!$C$52,V63*'Strings & Pickups'!$D$52,AB63*'Strings & Pickups'!$E$52,AH63*'Strings & Pickups'!$F$52,AN63*'Strings & Pickups'!$G$52,AT63*'Strings & Pickups'!H$52)","v":1.1132276294468086},1.1132276294468086,1.1132276294468086,466.1637615180905,0.93167953296304873,0.93167953296304873,0.93167953296304873,{"$f":"Main!AX88","v":-2.6124286036586208}]
[493.88330125612475,9481.2630101397299,100000000000,100000000000,{"$f":"'Strings & Pickups'!B$5*F$5/$A64","v":80.962499999999892},{"$f":"SIN('Strings & Pickups'!B$6/E64*PI())/((1+($A64/F$18)^2)^0.5)*10^('Strings & Pickups'!B$15/20)","v":1.1119809102114921},{"$f":"SIN('Strings & Pickups'!C$6/E64*PI())/((1+($A64/G$18)^2)^0.5)*10^('Strings & Pickups'!C$15/20)","v":-0.68307033642320003},{"$f":"SIN('Strings & Pickups'!D$6/E64*PI())/((1+($A64/H$18)^2)^0.5)*10^('Strings & Pickups'!D$15/20)","v":-4.6960185004901019E-2},{"$f":"IF($A64<F$5,0.000001,(ABS(F64*'Strings & Pickups'!$B$23+G64*'Strings & Pickups'!$C$23+H64*'Strings & Pickups'!$D$23)))","v":1.1119809102114921},{"$f":"IF($A64<F$5,0.000001,(ABS(F64*'Strings & Pickups'!$B$23*(1/(1/$C64+1/$D64)/($B64+1/(1/$C64+1/$D64)))+G64*'Strings & Pickups'!$C$23*(1/(1/$B64+1/$D64)/($C64+1/(1/$B64+1/$D64)))+H64*'Strings & Pickups'!$D$23*(1/(1/$B64+1/$C64)/($D64+1/(1/$B64+1/$C64))))))","v":1.1119806993518628},null,null,null,null,null,null,null,null,null,null,null,null,null,null,null,null,null,null,null,null,null,null,null,null,null,null,null,null,null,null,null,null,null,null,null,null,{"$f":"MAX(I64*'Strings & Pickups'!B$52,O64*'Strings & Pickups'!$C$52,U64*'Strings & Pickups'!$D$52,AA64*'Strings & Pickups'!$E$52,AG64*'Strings & Pickups'!$F$52,AM64*'Strings & Pickups'!$G$52,AS64*'Strings & Pickups'!H$52)","v":1.1119809102114921},{"$f":"MAX(J64*'Strings & Pickups'!B$52,P64*'Strings & Pickups'!$C$52,V64*'Strings & Pickups'!$D$52,AB64*'Strings & Pickups'!$E$52,AH64*'Strings & Pickups'!$F$52,AN64*'Strings & Pickups'!$G$52,AT64*'Strings & Pickups'!H$52)","v":1.1119806993518628},1.1119806993518628,1.1132276294468086,493.88330125612475,0.92194498524941859,0.92194498524941859,0.93167953296304873,{"$f":"Main!AX89","v":-2.561508419624186}]
[523.25113060119793,9481.2630101397299,100000000000,100000000000,{"$f":"'Strings & Pickups'!B$5*F$5/$A65","v":76.418424040491502},{"$f":"SIN('Strings & Pickups'!B$6/E65*PI())/((1+($A65/F$18)^2)^0.5)*10^('Strings & Pickups'!B$15/20)","v":1.1007382326813795},{"$f":"SIN('Strings & Pickups'!C$6/E65*PI())/((1+($A65/G$18)^2)^0.5)*10^('Strings & Pickups'!C$15/20)","v":-0.86025191793552436},{"$f":"SIN('Strings & Pickups'!D$6/E65*PI())/((1+($A65/H$18)^2)^0.5)*10^('Strings & Pickups'!D$15/20)","v":0.35836598761255534},{"$f":"IF($A65<F$5,0.000001,(ABS(F65*'Strings & Pickups'!$B$23+G65*'Strings & Pickups'!$C$23+H65*'Strings & Pickups'!$D$23)))","v":1.1007382326813795},{"$f":"IF($A65<F$5,0.000001,(ABS(F65*'Strings & Pickups'!$B$23*(1/(1/$C65+1/$D65)/($B65+1/(1/$C65+1/$D65)))+G65*'Strings & Pickups'!$C$23*(1/(1/$B65+1/$D65)/($C65+1/(1/$B65+1/$D65)))+H65*'Strings & Pickups'!$D$23*(1/(1/$B65+1/$C65)/($D65+1/(1/$B65+1/$C65))))))","v":1.1007380239536453},null,null,null,null,null,null,null,null,null,null,null,null,null,null,null,null,null,null,null,null,null,null,null,null,null,null,null,null,null,null,null,null,null,null,null,null,{"$f":"MAX(I65*'Strings & Pickups'!B$52,O65*'Strings & Pickups'!$C$52,U65*'Strings & Pickups'!$D$52,AA65*'Strings & Pickups'!$E$52,AG65*'Strings & Pickups'!$F$52,AM65*'Strings & Pickups'!$G$52,AS65*'Strings & Pickups'!H$52)","v":1.1007382326813795},{"$f":"MAX(J65*'Strings & Pickups'!B$52,P65*'Strings & Pickups'!$C$52,V65*'Strings & Pickups'!$D$52,AB65*'Strings & Pickups'!$E$52,AH65*'Strings & Pickups'!$F$52,AN65*'Strings & Pickups'!$G$52,AT65*'Strings & Pickups'!H$52)","v":1.1007380239536453},1.1007380239536453,1.1132276294468086,523.25113060119793,0.83367938053467938,0.83367938053467938,0.93167953296304873,{"$f":"Main!AX90","v":-2.5241801412460805}]
[554.36526195374495,9481.2630101397299,100000000000,100000000000,{"$f":"'Strings & Pickups'!B$5*F$5/$A66","v":72.129387467437112},{"$f":"SIN('Strings & Pickups'!B$6/E66*PI())/((1+($A66/F$18)^2)^0.5)*10^('Strings & Pickups'!B$15/20)","v":1.0778710283659088},{"$f":"SIN('Strings & Pickups'!C$6/E66*PI())/((1+($A66/G$18)^2)^0.5)*10^('Strings & Pickups'!C$15/20)","v":-0.99897310614581136},{"$f":"SIN('Strings & Pickups'!D$6/E66*PI())/((1+($A66/H$18)^2)^0.5)*10^('Strings & Pickups'!D$15/20)","v":0.73114332974292173},{"$f":"IF($A66<F$5,0.000001,(ABS(F66*'Strings & Pickups'!$B$23+G66*'Strings & Pickups'!$C$23+H66*'Strings & Pickups'!$D$23)))","v":1.0778710283659088},{"$f":"IF($A66<F$5,0.000001,(ABS(F66*'Strings & Pickups'!$B$23*(1/(1/$C66+1/$D66)/($B66+1/(1/$C66+1/$D66)))+G66*'Strings & Pickups'!$C$23*(1/(1/$B66+1/$D66)/($C66+1/(1/$B66+1/$D66)))+H66*'Strings & Pickups'!$D$23*(1/(1/$B66+1/$C66)/($D66+1/(1/$B66+1/$C66))))))","v":1.0778708239743733},null,null,null,null,null,null,null,null,null,null,null,null,null,null,null,null,null,null,null,null,null,null,null,null,null,null,null,null,null,null,null,null,null,null,null,null,{"$f":"MAX(I66*'Strings & Pickups'!B$52,O66*'Strings & Pickups'!$C$52,U66*'Strings & Pickups'!$D$52,AA66*'Strings & Pickups'!$E$52,AG66*'Strings & Pickups'!$F$52,AM66*'Strings & Pickups'!$G$52,AS66*'Strings & Pickups'!H$52)","v":1.0778710283659088},{"$f":"MAX(J66*'Strings & Pickups'!B$52,P66*'Strings & Pickups'!$C$52,V66*'Strings & Pickups'!$D$52,AB66*'Strings & Pickups'!$E$52,AH66*'Strings & Pickups'!$F$52,AN66*'Strings & Pickups'!$G$52,AT66*'Strings & Pickups'!H$52)","v":1.0778708239743733},1.0778708239743733,1.1132276294468086,554.36526195374495,0.65133433024943688,0.65133433024943688,0.93167953296304873,{"$f":"Main!AX91","v":-2.5102275719343989}]
[587.32953583481594,9481.2630101397299,100000000000,100000000000,{"$f":"'Strings & Pickups'!B$5*F$5/$A67","v":68.081076019978767},{"$f":"SIN('Strings & Pickups'!B$6/E67*PI())/((1+($A67/F$18)^2)^0.5)*10^('Strings & Pickups'!B$15/20)","v":1.0416906988680625},{"$f":"SIN('Strings & Pickups'!C$6/E67*PI())/((1+($A67/G$18)^2)^0.5)*10^('Strings & Pickups'!C$15/20)","v":-1.0826781774351681},{"$f":"SIN('Strings & Pickups'!D$6/E67*PI())/((1+($A67/H$18)^2)^0.5)*10^('Strings & Pickups'!D$15/20)","v":1.0011818252130551},{"$f":"IF($A67<F$5,0.000001,(ABS(F67*'Strings & Pickups'!$B$23+G67*'Strings & Pickups'!$C$23+H67*'Strings & Pickups'!$D$23)))","v":1.0416906988680625},{"$f":"IF($A67<F$5,0.000001,(ABS(F67*'Strings & Pickups'!$B$23*(1/(1/$C67+1/$D67)/($B67+1/(1/$C67+1/$D67)))+G67*'Strings & Pickups'!$C$23*(1/(1/$B67+1/$D67)/($C67+1/(1/$B67+1/$D67)))+H67*'Strings & Pickups'!$D$23*(1/(1/$B67+1/$C67)/($D67+1/(1/$B67+1/$C67))))))","v":1.0416905013372302},null,null,null,null,null,null,null,null,null,null,null,null,null,null,null,null,null,null,null,null,null,null,null,null,null,null,null,null,null,null,null,null,null,null,null,null,{"$f":"MAX(I67*'Strings & Pickups'!B$52,O67*'Strings & Pickups'!$C$52,U67*'Strings & Pickups'!$D$52,AA67*'Strings & Pickups'!$E$52,AG67*'Strings & Pickups'!$F$52,AM67*'Strings & Pickups'!$G$52,AS67*'Strings & Pickups'!H$52)","v":1.0416906988680625},{"$f":"MAX(J67*'Strings & Pickups'!B$52,P67*'Strings & Pickups'!$C$52,V67*'Strings & Pickups'!$D$52,AB67*'Strings & Pickups'!$E$52,AH67*'Strings & Pickups'!$F$52,AN67*'Strings & Pickups'!$G$52,AT67*'Strings & Pickups'!H$52)","v":1.0416905013372302},1.0416905013372302,1.1119806993518628,587.32953583481594,0.35477408124025533,0.35477408124025533,0.92194498524941859,{"$f":"Main!AX92","v":-2.5157164456365404}]
[622.25396744416275,9481.2630101397299,100000000000,100000000000,{"$f":"'Strings & Pickups'!B$5*F$5/$A68","v":64.259978834987578},{"$f":"SIN('Strings & Pickups'!B$6/E68*PI())/((1+($A68/F$18)^2)^0.5)*10^('Strings & Pickups'!B$15/20)","v":0.99050826495902899},{"$f":"SIN('Strings & Pickups'!C$6/E68*PI())/((1+($A68/G$18)^2)^0.5)*10^('Strings & Pickups'!C$15/20)","v":-1.0950768770468609},{"$f":"SIN('Strings & Pickups'!D$6/E68*PI())/((1+($A68/H$18)^2)^0.5)*10^('Strings & Pickups'!D$15/20)","v":1.098432161364761},{"$f":"IF($A68<F$5,0.000001,(ABS(F68*'Strings & Pickups'!$B$23+G68*'Strings & Pickups'!$C$23+H68*'Strings & Pickups'!$D$23)))","v":0.99050826495902899},{"$f":"IF($A68<F$5,0.000001,(ABS(F68*'Strings & Pickups'!$B$23*(1/(1/$C68+1/$D68)/($B68+1/(1/$C68+1/$D68)))+G68*'Strings & Pickups'!$C$23*(1/(1/$B68+1/$D68)/($C68+1/(1/$B68+1/$D68)))+H68*'Strings & Pickups'!$D$23*(1/(1/$B68+1/$C68)/($D68+1/(1/$B68+1/$C68))))))","v":0.99050807713367717},null,null,null,null,null,null,null,null,null,null,null,null,null,null,null,null,null,null,null,null,null,null,null,null,null,null,null,null,null,null,null,null,null,null,null,null,{"$f":"MAX(I68*'Strings & Pickups'!B$52,O68*'Strings & Pickups'!$C$52,U68*'Strings & Pickups'!$D$52,AA68*'Strings & Pickups'!$E$52,AG68*'Strings & Pickups'!$F$52,AM68*'Strings & Pickups'!$G$52,AS68*'Strings & Pickups'!H$52)","v":0.99050826495902899},{"$f":"MAX(J68*'Strings & Pickups'!B$52,P68*'Strings & Pickups'!$C$52,V68*'Strings & Pickups'!$D$52,AB68*'Strings & Pickups'!$E$52,AH68*'Strings & Pickups'!$F$52,AN68*'Strings & Pickups'!$G$52,AT68*'Strings & Pickups'!H$52)","v":0.99050807713367717},0.99050807713367717,1.1007380239536453,622.25396744416275,-8.283957282098775E-2,-8.283957282098775E-2,0.83367938053467938,{"$f":"Main!AX93","v":-2.4983997079564699}]
[659.25511382574086,9481.2630101397299,100000000000,100000000000,{"$f":"'Strings & Pickups'!B$5*F$5/$A69","v":60.653343355814066},{"$f":"SIN('Strings & Pickups'!B$6/E69*PI())/((1+($A69/F$18)^2)^0.5)*10^('Strings & Pickups'!B$15/20)","v":0.92271875009632864},{"$f":"SIN('Strings & Pickups'!C$6/E69*PI())/((1+($A69/G$18)^2)^0.5)*10^('Strings & Pickups'!C$15/20)","v":-1.0224282486217782},{"$f":"SIN('Strings & Pickups'!D$6/E69*PI())/((1+($A69/H$18)^2)^0.5)*10^('Strings & Pickups'!D$15/20)","v":0.97198875760441228},{"$f":"IF($A69<F$5,0.000001,(ABS(F69*'Strings & Pickups'!$B$23+G69*'Strings & Pickups'!$C$23+H69*'Strings & Pickups'!$D$23)))","v":0.92271875009632864},{"$f":"IF($A69<F$5,0.000001,(ABS(F69*'Strings & Pickups'!$B$23*(1/(1/$C69+1/$D69)/($B69+1/(1/$C69+1/$D69)))+G69*'Strings & Pickups'!$C$23*(1/(1/$B69+1/$D69)/($C69+1/(1/$B69+1/$D69)))+H69*'Strings & Pickups'!$D$23*(1/(1/$B69+1/$C69)/($D69+1/(1/$B69+1/$C69))))))","v":0.92271857512557875},null,null,null,null,null,null,null,null,null,null,null,null,null,null,null,null,null,null,null,null,null,null,null,null,null,null,null,null,null,null,null,null,null,null,null,null,{"$f":"MAX(I69*'Strings & Pickups'!B$52,O69*'Strings & Pickups'!$C$52,U69*'Strings & Pickups'!$D$52,AA69*'Strings & Pickups'!$E$52,AG69*'Strings & Pickups'!$F$52,AM69*'Strings & Pickups'!$G$52,AS69*'Strings & Pickups'!H$52)","v":0.92271875009632864},{"$f":"MAX(J69*'Strings & Pickups'!B$52,P69*'Strings & Pickups'!$C$52,V69*'Strings & Pickups'!$D$52,AB69*'Strings & Pickups'!$E$52,AH69*'Strings & Pickups'!$F$52,AN69*'Strings & Pickups'!$G$52,AT69*'Strings & Pickups'!H$52)","v":0.92271857512557875},0.92271857512557875,1.0778708239743733,659.25511382574086,-0.69861473152068343,-0.69861473152068343,0.65133433024943688,{"$f":"Main!AX94","v":-2.4532384084007823}]
[698.45646286600891,9481.2630101397299,100000000000,100000000000,{"$f":"'Strings & Pickups'!B$5*F$5/$A70","v":57.249132771815752},{"$f":"SIN('Strings & Pickups'!B$6/E70*PI())/((1+($A70/F$18)^2)^0.5)*10^('Strings & Pickups'!B$15/20)","v":0.83691562461317859},{"$f":"SIN('Strings & Pickups'!C$6/E70*PI())/((1+($A70/G$18)^2)^0.5)*10^('Strings & Pickups'!C$15/20)","v":-0.85660450011640499},{"$f":"SIN('Strings & Pickups'!D$6/E70*PI())/((1+($A70/H$18)^2)^0.5)*10^('Strings & Pickups'!D$15/20)","v":0.61371241702704282},{"$f":"IF($A70<F$5,0.000001,(ABS(F70*'Strings & Pickups'!$B$23+G70*'Strings & Pickups'!$C$23+H70*'Strings & Pickups'!$D$23)))","v":0.83691562461317859},{"$f":"IF($A70<F$5,0.000001,(ABS(F70*'Strings & Pickups'!$B$23*(1/(1/$C70+1/$D70)/($B70+1/(1/$C70+1/$D70)))+G70*'Strings & Pickups'!$C$23*(1/(1/$B70+1/$D70)/($C70+1/(1/$B70+1/$D70)))+H70*'Strings & Pickups'!$D$23*(1/(1/$B70+1/$C70)/($D70+1/(1/$B70+1/$C70))))))","v":0.8369154659128657},null,null,null,null,null,null,null,null,null,null,null,null,null,null,null,null,null,null,null,null,null,null,null,null,null,null,null,null,null,null,null,null,null,null,null,null,{"$f":"MAX(I70*'Strings & Pickups'!B$52,O70*'Strings & Pickups'!$C$52,U70*'Strings & Pickups'!$D$52,AA70*'Strings & Pickups'!$E$52,AG70*'Strings & Pickups'!$F$52,AM70*'Strings & Pickups'!$G$52,AS70*'Strings & Pickups'!H$52)","v":0.83691562461317859},{"$f":"MAX(J70*'Strings & Pickups'!B$52,P70*'Strings & Pickups'!$C$52,V70*'Strings & Pickups'!$D$52,AB70*'Strings & Pickups'!$E$52,AH70*'Strings & Pickups'!$F$52,AN70*'Strings & Pickups'!$G$52,AT70*'Strings & Pickups'!H$52)","v":0.8369154659128657},0.8369154659128657,1.0416905013372302,698.45646286600891,-1.5463681290625619,-1.5463681290625619,0.35477408124025533,{"$f":"Main!AX95","v":-2.4304663880471673}]
[739.98884542327005,9481.2630101397299,100000000000,100000000000,{"$f":"'Strings & Pickups'!B$5*F$5/$A71","v":54.035985846620605},{"$f":"SIN('Strings & Pickups'!B$6/E71*PI())/((1+($A71/F$18)^2)^0.5)*10^('Strings & Pickups'!B$15/20)","v":0.73204007056082343},{"$f":"SIN('Strings & Pickups'!C$6/E71*PI())/((1+($A71/G$18)^2)^0.5)*10^('Strings & Pickups'!C$15/20)","v":-0.59876243320938161},{"$f":"SIN('Strings & Pickups'!D$6/E71*PI())/((1+($A71/H$18)^2)^0.5)*10^('Strings & Pickups'!D$15/20)","v":7.9990294469455547E-2},{"$f":"IF($A71<F$5,0.000001,(ABS(F71*'Strings & Pickups'!$B$23+G71*'Strings & Pickups'!$C$23+H71*'Strings & Pickups'!$D$23)))","v":0.73204007056082343},{"$f":"IF($A71<F$5,0.000001,(ABS(F71*'Strings & Pickups'!$B$23*(1/(1/$C71+1/$D71)/($B71+1/(1/$C71+1/$D71)))+G71*'Strings & Pickups'!$C$23*(1/(1/$B71+1/$D71)/($C71+1/(1/$B71+1/$D71)))+H71*'Strings & Pickups'!$D$23*(1/(1/$B71+1/$C71)/($D71+1/(1/$B71+1/$C71))))))","v":0.73203993174756088},null,null,null,null,null,null,null,null,null,null,null,null,null,null,null,null,null,null,null,null,null,null,null,null,null,null,null,null,null,null,null,null,null,null,null,null,{"$f":"MAX(I71*'Strings & Pickups'!B$52,O71*'Strings & Pickups'!$C$52,U71*'Strings & Pickups'!$D$52,AA71*'Strings & Pickups'!$E$52,AG71*'Strings & Pickups'!$F$52,AM71*'Strings & Pickups'!$G$52,AS71*'Strings & Pickups'!H$52)","v":0.73204007056082343},{"$f":"MAX(J71*'Strings & Pickups'!B$52,P71*'Strings & Pickups'!$C$52,V71*'Strings & Pickups'!$D$52,AB71*'Strings & Pickups'!$E$52,AH71*'Strings & Pickups'!$F$52,AN71*'Strings & Pickups'!$G$52,AT71*'Strings & Pickups'!H$52)","v":0.73203993174756088},0.73203993174756088,0.99050807713367717,739.98884542327005,-2.7093045628590682,-2.7093045628590682,-8.283957282098775E-2,{"$f":"Main!AX96","v":-2.4260215247637618}]
[783.9908719634999,9481.2630101397299,100000000000,100000000000,{"$f":"'Strings & Pickups'!B$5*F$5/$A72","v":51.003179001056743},{"$f":"SIN('Strings & Pickups'!B$6/E72*PI())/((1+($A72/F$18)^2)^0.5)*10^('Strings & Pickups'!B$15/20)","v":0.60756859364076021},{"$f":"SIN('Strings & Pickups'!C$6/E72*PI())/((1+($A72/G$18)^2)^0.5)*10^('Strings & Pickups'!C$15/20)","v":-0.26315076308882396},{"$f":"SIN('Strings & Pickups'!D$6/E72*PI())/((1+($A72/H$18)^2)^0.5)*10^('Strings & Pickups'!D$15/20)","v":-0.49948996152675718},{"$f":"IF($A72<F$5,0.000001,(ABS(F72*'Strings & Pickups'!$B$23+G72*'Strings & Pickups'!$C$23+H72*'Strings & Pickups'!$D$23)))","v":0.60756859364076021},{"$f":"IF($A72<F$5,0.000001,(ABS(F72*'Strings & Pickups'!$B$23*(1/(1/$C72+1/$D72)/($B72+1/(1/$C72+1/$D72)))+G72*'Strings & Pickups'!$C$23*(1/(1/$B72+1/$D72)/($C72+1/(1/$B72+1/$D72)))+H72*'Strings & Pickups'!$D$23*(1/(1/$B72+1/$C72)/($D72+1/(1/$B72+1/$C72))))))","v":0.60756847843042938},null,null,null,null,null,null,null,null,null,null,null,null,null,null,null,null,null,null,null,null,null,null,null,null,null,null,null,null,null,null,null,null,null,null,null,null,{"$f":"MAX(I72*'Strings & Pickups'!B$52,O72*'Strings & Pickups'!$C$52,U72*'Strings & Pickups'!$D$52,AA72*'Strings & Pickups'!$E$52,AG72*'Strings & Pickups'!$F$52,AM72*'Strings & Pickups'!$G$52,AS72*'Strings & Pickups'!H$52)","v":0.60756859364076021},{"$f":"MAX(J72*'Strings & Pickups'!B$52,P72*'Strings & Pickups'!$C$52,V72*'Strings & Pickups'!$D$52,AB72*'Strings & Pickups'!$E$52,AH72*'Strings & Pickups'!$F$52,AN72*'Strings & Pickups'!$G$52,AT72*'Strings & Pickups'!H$52)","v":0.60756847843042938},0.60756847843042938,0.92271857512557875,783.9908719634999,-4.3280953215582638,-4.3280953215582638,-0.69861473152068343,{"$f":"Main!AX97","v":-2.4367481209400443}]
[830.60939515989173,9481.2630101397299,100000000000,100000000000,{"$f":"'Strings & Pickups'!B$5*F$5/$A73","v":48.140590524203816},{"$f":"SIN('Strings & Pickups'!B$6/E73*PI())/((1+($A73/F$18)^2)^0.5)*10^('Strings & Pickups'!B$15/20)","v":0.46373995462516165},{"$f":"SIN('Strings & Pickups'!C$6/E73*PI())/((1+($A73/G$18)^2)^0.5)*10^('Strings & Pickups'!C$15/20)","v":0.11982409780719992},{"$f":"SIN('Strings & Pickups'!D$6/E73*PI())/((1+($A73/H$18)^2)^0.5)*10^('Strings & Pickups'!D$15/20)","v":-0.93967284619262215},{"$f":"IF($A73<F$5,0.000001,(ABS(F73*'Strings & Pickups'!$B$23+G73*'Strings & Pickups'!$C$23+H73*'Strings & Pickups'!$D$23)))","v":0.46373995462516165},{"$f":"IF($A73<F$5,0.000001,(ABS(F73*'Strings & Pickups'!$B$23*(1/(1/$C73+1/$D73)/($B73+1/(1/$C73+1/$D73)))+G73*'Strings & Pickups'!$C$23*(1/(1/$B73+1/$D73)/($C73+1/(1/$B73+1/$D73)))+H73*'Strings & Pickups'!$D$23*(1/(1/$B73+1/$C73)/($D73+1/(1/$B73+1/$C73))))))","v":0.46373986668836881},null,null,null,null,null,null,null,null,null,null,null,null,null,null,null,null,null,null,null,null,null,null,null,null,null,null,null,null,null,null,null,null,null,null,null,null,{"$f":"MAX(I73*'Strings & Pickups'!B$52,O73*'Strings & Pickups'!$C$52,U73*'Strings & Pickups'!$D$52,AA73*'Strings & Pickups'!$E$52,AG73*'Strings & Pickups'!$F$52,AM73*'Strings & Pickups'!$G$52,AS73*'Strings & Pickups'!H$52)","v":0.46373995462516165},{"$f":"MAX(J73*'Strings & Pickups'!B$52,P73*'Strings & Pickups'!$C$52,V73*'Strings & Pickups'!$D$52,AB73*'Strings & Pickups'!$E$52,AH73*'Strings & Pickups'!$F$52,AN73*'Strings & Pickups'!$G$52,AT73*'Strings & Pickups'!H$52)","v":0.46373986668836881},0.46373986668836881,0.8369154659128657,830.60939515989173,-6.6745113433075067,-6.6745113433075067,-1.5463681290625619,{"$f":"Main!AX98","v":-2.363931514842422}]
[880.00000000000159,9481.2630101397299,100000000000,100000000000,{"$f":"'Strings & Pickups'!B$5*F$5/$A74","v":45.438666793123716},{"$f":"SIN('Strings & Pickups'!B$6/E74*PI())/((1+($A74/F$18)^2)^0.5)*10^('Strings & Pickups'!B$15/20)","v":0.30181797438111324},{"$f":"SIN('Strings & Pickups'!C$6/E74*PI())/((1+($A74/G$18)^2)^0.5)*10^('Strings & Pickups'!C$15/20)","v":0.50260756252812144},{"$f":"SIN('Strings & Pickups'!D$6/E74*PI())/((1+($A74/H$18)^2)^0.5)*10^('Strings & Pickups'!D$15/20)","v":-1.0548295845448246},{"$f":"IF($A74<F$5,0.000001,(ABS(F74*'Strings & Pickups'!$B$23+G74*'Strings & Pickups'!$C$23+H74*'Strings & Pickups'!$D$23)))","v":0.30181797438111324},{"$f":"IF($A74<F$5,0.000001,(ABS(F74*'Strings & Pickups'!$B$23*(1/(1/$C74+1/$D74)/($B74+1/(1/$C74+1/$D74)))+G74*'Strings & Pickups'!$C$23*(1/(1/$B74+1/$D74)/($C74+1/(1/$B74+1/$D74)))+H74*'Strings & Pickups'!$D$23*(1/(1/$B74+1/$C74)/($D74+1/(1/$B74+1/$C74))))))","v":0.30181791714881218},null,null,null,null,null,null,null,null,null,null,null,null,null,null,null,null,null,null,null,null,null,null,null,null,null,null,null,null,null,null,null,null,null,null,null,null,{"$f":"MAX(I74*'Strings & Pickups'!B$52,O74*'Strings & Pickups'!$C$52,U74*'Strings & Pickups'!$D$52,AA74*'Strings & Pickups'!$E$52,AG74*'Strings & Pickups'!$F$52,AM74*'Strings & Pickups'!$G$52,AS74*'Strings & Pickups'!H$52)","v":0.30181797438111324},{"$f":"MAX(J74*'Strings & Pickups'!B$52,P74*'Strings & Pickups'!$C$52,V74*'Strings & Pickups'!$D$52,AB74*'Strings & Pickups'!$E$52,AH74*'Strings & Pickups'!$F$52,AN74*'Strings & Pickups'!$G$52,AT74*'Strings & Pickups'!H$52)","v":0.30181791714881218},0.30181791714881218,0.73203993174756088,880.00000000000159,-10.405099645887804,-10.405099645887804,-2.7093045628590682,{"$f":"Main!AX99","v":-2.3019261102979618}]
[932.32752303618156,9481.2630101397299,100000000000,100000000000,{"$f":"'Strings & Pickups'!B$5*F$5/$A75","v":42.888390388532137},{"$f":"SIN('Strings & Pickups'!B$6/E75*PI())/((1+($A75/F$18)^2)^0.5)*10^('Strings & Pickups'!B$15/20)","v":0.1243798728102655},{"$f":"SIN('Strings & Pickups'!C$6/E75*PI())/((1+($A75/G$18)^2)^0.5)*10^('Strings & Pickups'!C$15/20)","v":0.8232786243614123},{"$f":"SIN('Strings & Pickups'!D$6/E75*PI())/((1+($A75/H$18)^2)^0.5)*10^('Strings & Pickups'!D$15/20)","v":-0.74563381989732214},{"$f":"IF($A75<F$5,0.000001,(ABS(F75*'Strings & Pickups'!$B$23+G75*'Strings & Pickups'!$C$23+H75*'Strings & Pickups'!$D$23)))","v":0.1243798728102655},{"$f":"IF($A75<F$5,0.000001,(ABS(F75*'Strings & Pickups'!$B$23*(1/(1/$C75+1/$D75)/($B75+1/(1/$C75+1/$D75)))+G75*'Strings & Pickups'!$C$23*(1/(1/$B75+1/$D75)/($C75+1/(1/$B75+1/$D75)))+H75*'Strings & Pickups'!$D$23*(1/(1/$B75+1/$C75)/($D75+1/(1/$B75+1/$C75))))))","v":0.12437984922470423},null,null,null,null,null,null,null,null,null,null,null,null,null,null,null,null,null,null,null,null,null,null,null,null,null,null,null,null,null,null,null,null,null,null,null,null,{"$f":"MAX(I75*'Strings & Pickups'!B$52,O75*'Strings & Pickups'!$C$52,U75*'Strings & Pickups'!$D$52,AA75*'Strings & Pickups'!$E$52,AG75*'Strings & Pickups'!$F$52,AM75*'Strings & Pickups'!$G$52,AS75*'Strings & Pickups'!H$52)","v":0.1243798728102655},{"$f":"MAX(J75*'Strings & Pickups'!B$52,P75*'Strings & Pickups'!$C$52,V75*'Strings & Pickups'!$D$52,AB75*'Strings & Pickups'!$E$52,AH75*'Strings & Pickups'!$F$52,AN75*'Strings & Pickups'!$G$52,AT75*'Strings & Pickups'!H$52)","v":0.12437984922470423},0.12437984922470423,0.60756847843042938,932.32752303618156,-18.104999479621586,-18.104999479621586,-4.3280953215582638,{"$f":"Main!AX100","v":-2.2601494992137625}]
[987.76660251225007,9481.2630101397299,100000000000,100000000000,{"$f":"'Strings & Pickups'!B$5*F$5/$A76","v":40.481249999999918},{"$f":"SIN('Strings & Pickups'!B$6/E76*PI())/((1+($A76/F$18)^2)^0.5)*10^('Strings & Pickups'!B$15/20)","v":-6.4390160201369548E-2},{"$f":"SIN('Strings & Pickups'!C$6/E76*PI())/((1+($A76/G$18)^2)^0.5)*10^('Strings & Pickups'!C$15/20)","v":1.0138081942716086},{"$f":"SIN('Strings & Pickups'!D$6/E76*PI())/((1+($A76/H$18)^2)^0.5)*10^('Strings & Pickups'!D$15/20)","v":-8.8223378767205776E-2},{"$f":"IF($A76<F$5,0.000001,(ABS(F76*'Strings & Pickups'!$B$23+G76*'Strings & Pickups'!$C$23+H76*'Strings & Pickups'!$D$23)))","v":6.4390160201369548E-2},{"$f":"IF($A76<F$5,0.000001,(ABS(F76*'Strings & Pickups'!$B$23*(1/(1/$C76+1/$D76)/($B76+1/(1/$C76+1/$D76)))+G76*'Strings & Pickups'!$C$23*(1/(1/$B76+1/$D76)/($C76+1/(1/$B76+1/$D76)))+H76*'Strings & Pickups'!$D$23*(1/(1/$B76+1/$C76)/($D76+1/(1/$B76+1/$C76))))))","v":6.439014799137098E-2},null,null,null,null,null,null,null,null,null,null,null,null,null,null,null,null,null,null,null,null,null,null,null,null,null,null,null,null,null,null,null,null,null,null,null,null,{"$f":"MAX(I76*'Strings & Pickups'!B$52,O76*'Strings & Pickups'!$C$52,U76*'Strings & Pickups'!$D$52,AA76*'Strings & Pickups'!$E$52,AG76*'Strings & Pickups'!$F$52,AM76*'Strings & Pickups'!$G$52,AS76*'Strings & Pickups'!H$52)","v":6.4390160201369548E-2},{"$f":"MAX(J76*'Strings & Pickups'!B$52,P76*'Strings & Pickups'!$C$52,V76*'Strings & Pickups'!$D$52,AB76*'Strings & Pickups'!$E$52,AH76*'Strings & Pickups'!$F$52,AN76*'Strings & Pickups'!$G$52,AT76*'Strings & Pickups'!H$52)","v":6.439014799137098E-2},6.439014799137098E-2,0.46373986668836881,987.76660251225007,-23.823611534883117,-23.823611534883117,-6.6745113433075067,{"$f":"Main!AX101","v":-2.2342497638466798}]
[1046.5022612023965,9481.2630101397299,100000000000,100000000000,{"$f":"'Strings & Pickups'!B$5*F$5/$A77","v":38.209212020245729},{"$f":"SIN('Strings & Pickups'!B$6/E77*PI())/((1+($A77/F$18)^2)^0.5)*10^('Strings & Pickups'!B$15/20)","v":-0.25843590210845357},{"$f":"SIN('Strings & Pickups'!C$6/E77*PI())/((1+($A77/G$18)^2)^0.5)*10^('Strings & Pickups'!C$15/20)","v":1.0147717683328454},{"$f":"SIN('Strings & Pickups'!D$6/E77*PI())/((1+($A77/H$18)^2)^0.5)*10^('Strings & Pickups'!D$15/20)","v":0.6334735199668019},{"$f":"IF($A77<F$5,0.000001,(ABS(F77*'Strings & Pickups'!$B$23+G77*'Strings & Pickups'!$C$23+H77*'Strings & Pickups'!$D$23)))","v":0.25843590210845357},{"$f":"IF($A77<F$5,0.000001,(ABS(F77*'Strings & Pickups'!$B$23*(1/(1/$C77+1/$D77)/($B77+1/(1/$C77+1/$D77)))+G77*'Strings & Pickups'!$C$23*(1/(1/$B77+1/$D77)/($C77+1/(1/$B77+1/$D77)))+H77*'Strings & Pickups'!$D$23*(1/(1/$B77+1/$C77)/($D77+1/(1/$B77+1/$C77))))))","v":0.25843585310248768},null,null,null,null,null,null,null,null,null,null,null,null,null,null,null,null,null,null,null,null,null,null,null,null,null,null,null,null,null,null,null,null,null,null,null,null,{"$f":"MAX(I77*'Strings & Pickups'!B$52,O77*'Strings & Pickups'!$C$52,U77*'Strings & Pickups'!$D$52,AA77*'Strings & Pickups'!$E$52,AG77*'Strings & Pickups'!$F$52,AM77*'Strings & Pickups'!$G$52,AS77*'Strings & Pickups'!H$52)","v":0.25843590210845357},{"$f":"MAX(J77*'Strings & Pickups'!B$52,P77*'Strings & Pickups'!$C$52,V77*'Strings & Pickups'!$D$52,AB77*'Strings & Pickups'!$E$52,AH77*'Strings & Pickups'!$F$52,AN77*'Strings & Pickups'!$G$52,AT77*'Strings & Pickups'!H$52)","v":0.25843585310248768},0.25843585310248768,0.62780260089816153,1046.5022612023965,-11.752944726507975,-11.752944726507975,-4.0435377882219248,{"$f":"Main!AX102","v":-2.2207394985348317}]
[1108.7305239074906,9481.2630101397299,100000000000,100000000000,{"$f":"'Strings & Pickups'!B$5*F$5/$A78","v":36.064693733718535},{"$f":"SIN('Strings & Pickups'!B$6/E78*PI())/((1+($A78/F$18)^2)^0.5)*10^('Strings & Pickups'!B$15/20)","v":-0.44964313874753775},{"$f":"SIN('Strings & Pickups'!C$6/E78*PI())/((1+($A78/G$18)^2)^0.5)*10^('Strings & Pickups'!C$15/20)","v":0.79562707366739849},{"$f":"SIN('Strings & Pickups'!D$6/E78*PI())/((1+($A78/H$18)^2)^0.5)*10^('Strings & Pickups'!D$15/20)","v":1.017319186795882},{"$f":"IF($A78<F$5,0.000001,(ABS(F78*'Strings & Pickups'!$B$23+G78*'Strings & Pickups'!$C$23+H78*'Strings & Pickups'!$D$23)))","v":0.44964313874753775},{"$f":"IF($A78<F$5,0.000001,(ABS(F78*'Strings & Pickups'!$B$23*(1/(1/$C78+1/$D78)/($B78+1/(1/$C78+1/$D78)))+G78*'Strings & Pickups'!$C$23*(1/(1/$B78+1/$D78)/($C78+1/(1/$B78+1/$D78)))+H78*'Strings & Pickups'!$D$23*(1/(1/$B78+1/$C78)/($D78+1/(1/$B78+1/$C78))))))","v":0.44964305348385675},null,null,null,null,null,null,null,null,null,null,null,null,null,null,null,null,null,null,null,null,null,null,null,null,null,null,null,null,null,null,null,null,null,null,null,null,{"$f":"MAX(I78*'Strings & Pickups'!B$52,O78*'Strings & Pickups'!$C$52,U78*'Strings & Pickups'!$D$52,AA78*'Strings & Pickups'!$E$52,AG78*'Strings & Pickups'!$F$52,AM78*'Strings & Pickups'!$G$52,AS78*'Strings & Pickups'!H$52)","v":0.44964313874753775},{"$f":"MAX(J78*'Strings & Pickups'!B$52,P78*'Strings & Pickups'!$C$52,V78*'Strings & Pickups'!$D$52,AB78*'Strings & Pickups'!$E$52,AH78*'Strings & Pickups'!$F$52,AN78*'Strings & Pickups'!$G$52,AT78*'Strings & Pickups'!H$52)","v":0.44964305348385675},0.44964305348385675,0.78081172098008489,1108.7305239074906,-6.9426422319083647,-6.9426422319083647,-2.1490735195637982,{"$f":"Main!AX103","v":-2.2169523040951571}]
[1174.6590716696326,9481.2630101397299,100000000000,100000000000,{"$f":"'Strings & Pickups'!B$5*F$5/$A79","v":34.040538009989362},{"$f":"SIN('Strings & Pickups'!B$6/E79*PI())/((1+($A79/F$18)^2)^0.5)*10^('Strings & Pickups'!B$15/20)","v":-0.62780271994539305},{"$f":"SIN('Strings & Pickups'!C$6/E79*PI())/((1+($A79/G$18)^2)^0.5)*10^('Strings & Pickups'!C$15/20)","v":0.37646122470721216},{"$f":"SIN('Strings & Pickups'!D$6/E79*PI())/((1+($A79/H$18)^2)^0.5)*10^('Strings & Pickups'!D$15/20)","v":0.77131126060606592},{"$f":"IF($A79<F$5,0.000001,(ABS(F79*'Strings & Pickups'!$B$23+G79*'Strings & Pickups'!$C$23+H79*'Strings & Pickups'!$D$23)))","v":0.62780271994539305},{"$f":"IF($A79<F$5,0.000001,(ABS(F79*'Strings & Pickups'!$B$23*(1/(1/$C79+1/$D79)/($B79+1/(1/$C79+1/$D79)))+G79*'Strings & Pickups'!$C$23*(1/(1/$B79+1/$D79)/($C79+1/(1/$B79+1/$D79)))+H79*'Strings & Pickups'!$D$23*(1/(1/$B79+1/$C79)/($D79+1/(1/$B79+1/$C79))))))","v":0.62780260089816153},null,null,null,null,null,null,null,null,null,null,null,null,null,null,null,null,null,null,null,null,null,null,null,null,null,null,null,null,null,null,null,null,null,null,null,null,{"$f":"MAX(I79*'Strings & Pickups'!B$52,O79*'Strings & Pickups'!$C$52,U79*'Strings & Pickups'!$D$52,AA79*'Strings & Pickups'!$E$52,AG79*'Strings & Pickups'!$F$52,AM79*'Strings & Pickups'!$G$52,AS79*'Strings & Pickups'!H$52)","v":0.62780271994539305},{"$f":"MAX(J79*'Strings & Pickups'!B$52,P79*'Strings & Pickups'!$C$52,V79*'Strings & Pickups'!$D$52,AB79*'Strings & Pickups'!$E$52,AH79*'Strings & Pickups'!$F$52,AN79*'Strings & Pickups'!$G$52,AT79*'Strings & Pickups'!H$52)","v":0.62780260089816153},0.62780260089816153,0.89521749353372115,1174.6590716696326,-4.0435377882219248,-4.0435377882219248,-0.96142879610589316,{"$f":"Main!AX104","v":-2.220931657329301}]
[1244.5079348883262,9481.2630101397299,100000000000,100000000000,{"$f":"'Strings & Pickups'!B$5*F$5/$A80","v":32.129989417493768},{"$f":"SIN('Strings & Pickups'!B$6/E80*PI())/((1+($A80/F$18)^2)^0.5)*10^('Strings & Pickups'!B$15/20)","v":-0.78081186904171063},{"$f":"SIN('Strings & Pickups'!C$6/E80*PI())/((1+($A80/G$18)^2)^0.5)*10^('Strings & Pickups'!C$15/20)","v":-0.15700034947839514},{"$f":"SIN('Strings & Pickups'!D$6/E80*PI())/((1+($A80/H$18)^2)^0.5)*10^('Strings & Pickups'!D$15/20)","v":-1.8299908863105074E-2},{"$f":"IF($A80<F$5,0.000001,(ABS(F80*'Strings & Pickups'!$B$23+G80*'Strings & Pickups'!$C$23+H80*'Strings & Pickups'!$D$23)))","v":0.78081186904171063},{"$f":"IF($A80<F$5,0.000001,(ABS(F80*'Strings & Pickups'!$B$23*(1/(1/$C80+1/$D80)/($B80+1/(1/$C80+1/$D80)))+G80*'Strings & Pickups'!$C$23*(1/(1/$B80+1/$D80)/($C80+1/(1/$B80+1/$D80)))+H80*'Strings & Pickups'!$D$23*(1/(1/$B80+1/$C80)/($D80+1/(1/$B80+1/$C80))))))","v":0.78081172098008489},null,null,null,null,null,null,null,null,null,null,null,null,null,null,null,null,null,null,null,null,null,null,null,null,null,null,null,null,null,null,null,null,null,null,null,null,{"$f":"MAX(I80*'Strings & Pickups'!B$52,O80*'Strings & Pickups'!$C$52,U80*'Strings & Pickups'!$D$52,AA80*'Strings & Pickups'!$E$52,AG80*'Strings & Pickups'!$F$52,AM80*'Strings & Pickups'!$G$52,AS80*'Strings & Pickups'!H$52)","v":0.78081186904171063},{"$f":"MAX(J80*'Strings & Pickups'!B$52,P80*'Strings & Pickups'!$C$52,V80*'Strings & Pickups'!$D$52,AB80*'Strings & Pickups'!$E$52,AH80*'Strings & Pickups'!$F$52,AN80*'Strings & Pickups'!$G$52,AT80*'Strings & Pickups'!H$52)","v":0.78081172098008489},0.78081172098008489,0.95720883225493747,1244.5079348883262,-2.1490735195637982,-2.1490735195637982,-0.3798660552905716,{"$f":"Main!AX105","v":-2.2313014776294313}]
[1318.5102276514824,9481.2630101397299,100000000000,100000000000,{"$f":"'Strings & Pickups'!B$5*F$5/$A81","v":30.326671677907015},{"$f":"SIN('Strings & Pickups'!B$6/E81*PI())/((1+($A81/F$18)^2)^0.5)*10^('Strings & Pickups'!B$15/20)","v":-0.89521766328957131},{"$f":"SIN('Strings & Pickups'!C$6/E81*PI())/((1+($A81/G$18)^2)^0.5)*10^('Strings & Pickups'!C$15/20)","v":-0.65674931632302258},{"$f":"SIN('Strings & Pickups'!D$6/E81*PI())/((1+($A81/H$18)^2)^0.5)*10^('Strings & Pickups'!D$15/20)","v":-0.80552968343323172},{"$f":"IF($A81<F$5,0.000001,(ABS(F81*'Strings & Pickups'!$B$23+G81*'Strings & Pickups'!$C$23+H81*'Strings & Pickups'!$D$23)))","v":0.89521766328957131},{"$f":"IF($A81<F$5,0.000001,(ABS(F81*'Strings & Pickups'!$B$23*(1/(1/$C81+1/$D81)/($B81+1/(1/$C81+1/$D81)))+G81*'Strings & Pickups'!$C$23*(1/(1/$B81+1/$D81)/($C81+1/(1/$B81+1/$D81)))+H81*'Strings & Pickups'!$D$23*(1/(1/$B81+1/$C81)/($D81+1/(1/$B81+1/$C81))))))","v":0.89521749353372115},null,null,null,null,null,null,null,null,null,null,null,null,null,null,null,null,null,null,null,null,null,null,null,null,null,null,null,null,null,null,null,null,null,null,null,null,{"$f":"MAX(I81*'Strings & Pickups'!B$52,O81*'Strings & Pickups'!$C$52,U81*'Strings & Pickups'!$D$52,AA81*'Strings & Pickups'!$E$52,AG81*'Strings & Pickups'!$F$52,AM81*'Strings & Pickups'!$G$52,AS81*'Strings & Pickups'!H$52)","v":0.89521766328957131},{"$f":"MAX(J81*'Strings & Pickups'!B$52,P81*'Strings & Pickups'!$C$52,V81*'Strings & Pickups'!$D$52,AB81*'Strings & Pickups'!$E$52,AH81*'Strings & Pickups'!$F$52,AN81*'Strings & Pickups'!$G$52,AT81*'Strings & Pickups'!H$52)","v":0.89521749353372115},0.89521749353372115,0.95720883225493747,1318.5102276514824,-0.96142879610589316,-0.96142879610589316,-0.3798660552905716,{"$f":"Main!AX106","v":-2.2471454109621436}]
[1396.9129257320185,{"$f":"B$20","v":9481.2630101397299},100000000000,100000000000,{"$f":"'Strings & Pickups'!B$5*F$5/$A82","v":28.624566385907862},{"$f":"SIN('Strings & Pickups'!B$6/E82*PI())/((1+($A82/F$18)^2)^0.5)*10^('Strings & Pickups'!B$15/20)","v":-0.95720901376591128},{"$f":"SIN('Strings & Pickups'!C$6/E82*PI())/((1+($A82/G$18)^2)^0.5)*10^('Strings & Pickups'!C$15/20)","v":-0.94547549387064012},{"$f":"SIN('Strings & Pickups'!D$6/E82*PI())/((1+($A82/H$18)^2)^0.5)*10^('Strings & Pickups'!D$15/20)","v":-0.90630199685914514},{"$f":"IF($A82<F$5,0.000001,(ABS(F82*'Strings & Pickups'!$B$23+G82*'Strings & Pickups'!$C$23+H82*'Strings & Pickups'!$D$23)))","v":0.95720901376591128},{"$f":"IF($A82<F$5,0.000001,(ABS(F82*'Strings & Pickups'!$B$23*(1/(1/$C82+1/$D82)/($B82+1/(1/$C82+1/$D82)))+G82*'Strings & Pickups'!$C$23*(1/(1/$B82+1/$D82)/($C82+1/(1/$B82+1/$D82)))+H82*'Strings & Pickups'!$D$23*(1/(1/$B82+1/$C82)/($D82+1/(1/$B82+1/$C82))))))","v":0.95720883225493747},null,null,null,null,null,null,null,null,null,null,null,null,null,null,null,null,null,null,null,null,null,null,null,null,null,null,null,null,null,null,null,null,null,null,null,null,{"$f":"MAX(I82*'Strings & Pickups'!B$52,O82*'Strings & Pickups'!$C$52,U82*'Strings & Pickups'!$D$52,AA82*'Strings & Pickups'!$E$52,AG82*'Strings & Pickups'!$F$52,AM82*'Strings & Pickups'!$G$52,AS82*'Strings & Pickups'!H$52)","v":0.95720901376591128},{"$f":"MAX(J82*'Strings & Pickups'!B$52,P82*'Strings & Pickups'!$C$52,V82*'Strings & Pickups'!$D$52,AB82*'Strings & Pickups'!$E$52,AH82*'Strings & Pickups'!$F$52,AN82*'Strings & Pickups'!$G$52,AT82*'Strings & Pickups'!H$52)","v":0.95720883225493747},0.95720883225493747,0.95720883225493747,1396.9129257320185,-0.3798660552905716,-0.3798660552905716,-0.3798660552905716,{"$f":"Main!AX107","v":-2.2679065578499662}]
[1479.9776908465408,9481.2630101397299,100000000000,100000000000,{"$f":"'Strings & Pickups'!B$5*F$5/$A83","v":27.017992923310292},{"$f":"SIN('Strings & Pickups'!B$6/E83*PI())/((1+($A83/F$18)^2)^0.5)*10^('Strings & Pickups'!B$15/20)","v":-0.95414259601286477},{"$f":"SIN('Strings & Pickups'!C$6/E83*PI())/((1+($A83/G$18)^2)^0.5)*10^('Strings & Pickups'!C$15/20)","v":-0.88228880080643057},{"$f":"SIN('Strings & Pickups'!D$6/E83*PI())/((1+($A83/H$18)^2)^0.5)*10^('Strings & Pickups'!D$15/20)","v":-0.14104426928734373},{"$f":"IF($A83<F$5,0.000001,(ABS(F83*'Strings & Pickups'!$B$23+G83*'Strings & Pickups'!$C$23+H83*'Strings & Pickups'!$D$23)))","v":0.95414259601286477},{"$f":"IF($A83<F$5,0.000001,(ABS(F83*'Strings & Pickups'!$B$23*(1/(1/$C83+1/$D83)/($B83+1/(1/$C83+1/$D83)))+G83*'Strings & Pickups'!$C$23*(1/(1/$B83+1/$D83)/($C83+1/(1/$B83+1/$D83)))+H83*'Strings & Pickups'!$D$23*(1/(1/$B83+1/$C83)/($D83+1/(1/$B83+1/$C83))))))","v":0.95414241508336106},null,null,null,null,null,null,null,null,null,null,null,null,null,null,null,null,null,null,null,null,null,null,null,null,null,null,null,null,null,null,null,null,null,null,null,null,{"$f":"MAX(I83*'Strings & Pickups'!B$52,O83*'Strings & Pickups'!$C$52,U83*'Strings & Pickups'!$D$52,AA83*'Strings & Pickups'!$E$52,AG83*'Strings & Pickups'!$F$52,AM83*'Strings & Pickups'!$G$52,AS83*'Strings & Pickups'!H$52)","v":0.95414259601286477},{"$f":"MAX(J83*'Strings & Pickups'!B$52,P83*'Strings & Pickups'!$C$52,V83*'Strings & Pickups'!$D$52,AB83*'Strings & Pickups'!$E$52,AH83*'Strings & Pickups'!$F$52,AN83*'Strings & Pickups'!$G$52,AT83*'Strings & Pickups'!H$52)","v":0.95414241508336106},0.95414241508336106,0.95720883225493747,1479.9776908465408,-0.40773595521057315,-0.40773595521057315,-0.3798660552905716,{"$f":"Main!AX108","v":-2.2933108438530754}]
[1567.9817439270007,9481.2630101397299,100000000000,100000000000,{"$f":"'Strings & Pickups'!B$5*F$5/$A84","v":25.501589500528357},{"$f":"SIN('Strings & Pickups'!B$6/E84*PI())/((1+($A84/F$18)^2)^0.5)*10^('Strings & Pickups'!B$15/20)","v":-0.87662993170029868},{"$f":"SIN('Strings & Pickups'!C$6/E84*PI())/((1+($A84/G$18)^2)^0.5)*10^('Strings & Pickups'!C$15/20)","v":-0.44586386505874875},{"$f":"SIN('Strings & Pickups'!D$6/E84*PI())/((1+($A84/H$18)^2)^0.5)*10^('Strings & Pickups'!D$15/20)","v":0.77325503120429728},{"$f":"IF($A84<F$5,0.000001,(ABS(F84*'Strings & Pickups'!$B$23+G84*'Strings & Pickups'!$C$23+H84*'Strings & Pickups'!$D$23)))","v":0.87662993170029868},{"$f":"IF($A84<F$5,0.000001,(ABS(F84*'Strings & Pickups'!$B$23*(1/(1/$C84+1/$D84)/($B84+1/(1/$C84+1/$D84)))+G84*'Strings & Pickups'!$C$23*(1/(1/$B84+1/$D84)/($C84+1/(1/$B84+1/$D84)))+H84*'Strings & Pickups'!$D$23*(1/(1/$B84+1/$C84)/($D84+1/(1/$B84+1/$C84))))))","v":0.87662976546915139},null,null,null,null,null,null,null,null,null,null,null,null,null,null,null,null,null,null,null,null,null,null,null,null,null,null,null,null,null,null,null,null,null,null,null,null,{"$f":"MAX(I84*'Strings & Pickups'!B$52,O84*'Strings & Pickups'!$C$52,U84*'Strings & Pickups'!$D$52,AA84*'Strings & Pickups'!$E$52,AG84*'Strings & Pickups'!$F$52,AM84*'Strings & Pickups'!$G$52,AS84*'Strings & Pickups'!H$52)","v":0.87662993170029868},{"$f":"MAX(J84*'Strings & Pickups'!B$52,P84*'Strings & Pickups'!$C$52,V84*'Strings & Pickups'!$D$52,AB84*'Strings & Pickups'!$E$52,AH84*'Strings & Pickups'!$F$52,AN84*'Strings & Pickups'!$G$52,AT84*'Strings & Pickups'!H$52)","v":0.87662976546915139},0.87662976546915139,0.95720883225493747,1567.9817439270007,-1.1436757441514114,-1.1436757441514114,-0.3798660552905716,{"$f":"Main!AX109","v":-2.3233135248721819}]
[1661.2187903197844,9481.2630101397299,100000000000,100000000000,{"$f":"'Strings & Pickups'!B$5*F$5/$A85","v":24.070295262101894},{"$f":"SIN('Strings & Pickups'!B$6/E85*PI())/((1+($A85/F$18)^2)^0.5)*10^('Strings & Pickups'!B$15/20)","v":-0.72110203395210315},{"$f":"SIN('Strings & Pickups'!C$6/E85*PI())/((1+($A85/G$18)^2)^0.5)*10^('Strings & Pickups'!C$15/20)","v":0.20542821972920811},{"$f":"SIN('Strings & Pickups'!D$6/E85*PI())/((1+($A85/H$18)^2)^0.5)*10^('Strings & Pickups'!D$15/20)","v":0.77662133928442578},{"$f":"IF($A85<F$5,0.000001,(ABS(F85*'Strings & Pickups'!$B$23+G85*'Strings & Pickups'!$C$23+H85*'Strings & Pickups'!$D$23)))","v":0.72110203395210315},{"$f":"IF($A85<F$5,0.000001,(ABS(F85*'Strings & Pickups'!$B$23*(1/(1/$C85+1/$D85)/($B85+1/(1/$C85+1/$D85)))+G85*'Strings & Pickups'!$C$23*(1/(1/$B85+1/$D85)/($C85+1/(1/$B85+1/$D85)))+H85*'Strings & Pickups'!$D$23*(1/(1/$B85+1/$C85)/($D85+1/(1/$B85+1/$C85))))))","v":0.72110189721296825},null,null,null,null,null,null,null,null,null,null,null,null,null,null,null,null,null,null,null,null,null,null,null,null,null,null,null,null,null,null,null,null,null,null,null,null,{"$f":"MAX(I85*'Strings & Pickups'!B$52,O85*'Strings & Pickups'!$C$52,U85*'Strings & Pickups'!$D$52,AA85*'Strings & Pickups'!$E$52,AG85*'Strings & Pickups'!$F$52,AM85*'Strings & Pickups'!$G$52,AS85*'Strings & Pickups'!H$52)","v":0.72110203395210315},{"$f":"MAX(J85*'Strings & Pickups'!B$52,P85*'Strings & Pickups'!$C$52,V85*'Strings & Pickups'!$D$52,AB85*'Strings & Pickups'!$E$52,AH85*'Strings & Pickups'!$F$52,AN85*'Strings & Pickups'!$G$52,AT85*'Strings & Pickups'!H$52)","v":0.72110189721296825},{"$f":"AU85*$AU$19+AV85*$AV$19","v":0.72110189721296825},0.95720883225493747,{"$f":"A85","v":1661.2187903197844},-2.8400672362495771,{"$f":"IF(AY85<$BE$21,-100,AZ85)","v":-2.8400672362495771},{"$f":"IF(AY87<$BE$21,-100,MAX(AZ82:AZ87))","v":-0.3798660552905716},{"$f":"Main!AX110","v":-2.358067654959334}]
[1760.0000000000041,9481.2630101397299,100000000000,100000000000,{"$f":"'Strings & Pickups'!B$5*F$5/$A86","v":22.719333396561847},{"$f":"SIN('Strings & Pickups'!B$6/E86*PI())/((1+($A86/F$18)^2)^0.5)*10^('Strings & Pickups'!B$15/20)","v":-0.49259320298494524},{"$f":"SIN('Strings & Pickups'!C$6/E86*PI())/((1+($A86/G$18)^2)^0.5)*10^('Strings & Pickups'!C$15/20)","v":0.75384771144984186},{"$f":"SIN('Strings & Pickups'!D$6/E86*PI())/((1+($A86/H$18)^2)^0.5)*10^('Strings & Pickups'!D$15/20)","v":-0.22305574023369754},{"$f":"IF($A86<F$5,0.000001,(ABS(F86*'Strings & Pickups'!$B$23+G86*'Strings & Pickups'!$C$23+H86*'Strings & Pickups'!$D$23)))","v":0.49259320298494524},{"$f":"IF($A86<F$5,0.000001,(ABS(F86*'Strings & Pickups'!$B$23*(1/(1/$C86+1/$D86)/($B86+1/(1/$C86+1/$D86)))+G86*'Strings & Pickups'!$C$23*(1/(1/$B86+1/$D86)/($C86+1/(1/$B86+1/$D86)))+H86*'Strings & Pickups'!$D$23*(1/(1/$B86+1/$C86)/($D86+1/(1/$B86+1/$C86))))))","v":0.49259310957684871},null,null,null,null,null,null,null,null,null,null,null,null,null,null,null,null,null,null,null,null,null,null,null,null,null,null,null,null,null,null,null,null,null,null,null,null,{"$f":"MAX(I86*'Strings & Pickups'!B$52,O86*'Strings & Pickups'!$C$52,U86*'Strings & Pickups'!$D$52,AA86*'Strings & Pickups'!$E$52,AG86*'Strings & Pickups'!$F$52,AM86*'Strings & Pickups'!$G$52,AS86*'Strings & Pickups'!H$52)","v":0.49259320298494524},{"$f":"MAX(J86*'Strings & Pickups'!B$52,P86*'Strings & Pickups'!$C$52,V86*'Strings & Pickups'!$D$52,AB86*'Strings & Pickups'!$E$52,AH86*'Strings & Pickups'!$F$52,AN86*'Strings & Pickups'!$G$52,AT86*'Strings & Pickups'!H$52)","v":0.49259310957684871},0.49259310957684871,{"$f":"MAX(AW83:AW88)","v":0.95414241508336106},1760.0000000000041,{"$f":"20*LOG(AW86)","v":-6.1502333478547522},-6.1502333478547522,-0.40773595521057315,{"$f":"Main!AX111","v":-2.3979146545594849}]
[{"$f":"A86*2^(1/12)","v":1864.655046072364},9481.2630101397299,100000000000,100000000000,{"$f":"'Strings & Pickups'!B$5*F$5/$A87","v":21.444195194266058},{"$f":"SIN('Strings & Pickups'!B$6/E87*PI())/((1+($A87/F$18)^2)^0.5)*10^('Strings & Pickups'!B$15/20)","v":-0.20724754475307444},{"$f":"SIN('Strings & Pickups'!C$6/E87*PI())/((1+($A87/G$18)^2)^0.5)*10^('Strings & Pickups'!C$15/20)","v":0.86372117877658094},{"$f":"SIN('Strings & Pickups'!D$6/E87*PI())/((1+($A87/H$18)^2)^0.5)*10^('Strings & Pickups'!D$15/20)","v":-0.88503623942610221},{"$f":"IF($A87<F$5,0.000001,(ABS(F87*'Strings & Pickups'!$B$23+G87*'Strings & Pickups'!$C$23+H87*'Strings & Pickups'!$D$23)))","v":0.20724754475307444},{"$f":"IF($A87<F$5,0.000001,(ABS(F87*'Strings & Pickups'!$B$23*(1/(1/$C87+1/$D87)/($B87+1/(1/$C87+1/$D87)))+G87*'Strings & Pickups'!$C$23*(1/(1/$B87+1/$D87)/($C87+1/(1/$B87+1/$D87)))+H87*'Strings & Pickups'!$D$23*(1/(1/$B87+1/$C87)/($D87+1/(1/$B87+1/$C87))))))","v":0.20724750545371232},null,null,null,null,null,null,null,null,null,null,null,null,null,null,null,null,null,null,null,null,null,null,null,null,null,null,null,null,null,null,null,null,null,null,null,null,{"$f":"MAX(I87*'Strings & Pickups'!B$52,O87*'Strings & Pickups'!$C$52,U87*'Strings & Pickups'!$D$52,AA87*'Strings & Pickups'!$E$52,AG87*'Strings & Pickups'!$F$52,AM87*'Strings & Pickups'!$G$52,AS87*'Strings & Pickups'!H$52)","v":0.20724754475307444},{"$f":"MAX(J87*'Strings & Pickups'!B$52,P87*'Strings & Pickups'!$C$52,V87*'Strings & Pickups'!$D$52,AB87*'Strings & Pickups'!$E$52,AH87*'Strings & Pickups'!$F$52,AN87*'Strings & Pickups'!$G$52,AT87*'Strings & Pickups'!H$52)","v":0.20724750545371232},0.20724750545371232,0.87662976546915139,1864.655046072364,-13.670213763125075,-13.670213763125075,-1.1436757441514114,{"$f":"Main!AX112","v":-2.4434001006984731}]
[1975.5332050245011,9481.2630101397299,100000000000,100000000000,{"$f":"'Strings & Pickups'!B$5*F$5/$A88","v":20.240624999999952},{"$f":"SIN('Strings & Pickups'!B$6/E88*PI())/((1+($A88/F$18)^2)^0.5)*10^('Strings & Pickups'!B$15/20)","v":0.10622292830090199},{"$f":"SIN('Strings & Pickups'!C$6/E88*PI())/((1+($A88/G$18)^2)^0.5)*10^('Strings & Pickups'!C$15/20)","v":0.41225594082417277},{"$f":"SIN('Strings & Pickups'!D$6/E88*PI())/((1+($A88/H$18)^2)^0.5)*10^('Strings & Pickups'!D$15/20)","v":-0.14529696813195878},{"$f":"IF($A88<F$5,0.000001,(ABS(F88*'Strings & Pickups'!$B$23+G88*'Strings & Pickups'!$C$23+H88*'Strings & Pickups'!$D$23)))","v":0.10622292830090199},{"$f":"IF($A88<F$5,0.000001,(ABS(F88*'Strings & Pickups'!$B$23*(1/(1/$C88+1/$D88)/($B88+1/(1/$C88+1/$D88)))+G88*'Strings & Pickups'!$C$23*(1/(1/$B88+1/$D88)/($C88+1/(1/$B88+1/$D88)))+H88*'Strings & Pickups'!$D$23*(1/(1/$B88+1/$C88)/($D88+1/(1/$B88+1/$C88))))))","v":0.1062229081583554},null,null,null,null,null,null,null,null,null,null,null,null,null,null,null,null,null,null,null,null,null,null,null,null,null,null,null,null,null,null,null,null,null,null,null,null,{"$f":"MAX(I88*'Strings & Pickups'!B$52,O88*'Strings & Pickups'!$C$52,U88*'Strings & Pickups'!$D$52,AA88*'Strings & Pickups'!$E$52,AG88*'Strings & Pickups'!$F$52,AM88*'Strings & Pickups'!$G$52,AS88*'Strings & Pickups'!H$52)","v":0.10622292830090199},{"$f":"MAX(J88*'Strings & Pickups'!B$52,P88*'Strings & Pickups'!$C$52,V88*'Strings & Pickups'!$D$52,AB88*'Strings & Pickups'!$E$52,AH88*'Strings & Pickups'!$F$52,AN88*'Strings & Pickups'!$G$52,AT88*'Strings & Pickups'!H$52)","v":0.1062229081583554},0.1062229081583554,0.72110189721296825,1975.5332050245011,-19.475636253811743,-19.475636253811743,-2.8400672362495771,{"$f":"Main!AX113","v":-2.4953229918362725}]
[2093.004522404794,9481.2630101397299,100000000000,100000000000,{"$f":"'Strings & Pickups'!B$5*F$5/$A89","v":19.104606010122854},{"$f":"SIN('Strings & Pickups'!B$6/E89*PI())/((1+($A89/F$18)^2)^0.5)*10^('Strings & Pickups'!B$15/20)","v":0.4071423162554908},{"$f":"SIN('Strings & Pickups'!C$6/E89*PI())/((1+($A89/G$18)^2)^0.5)*10^('Strings & Pickups'!C$15/20)","v":-0.3338905648949651},{"$f":"SIN('Strings & Pickups'!D$6/E89*PI())/((1+($A89/H$18)^2)^0.5)*10^('Strings & Pickups'!D$15/20)","v":0.81553377273064287},{"$f":"IF($A89<F$5,0.000001,(ABS(F89*'Strings & Pickups'!$B$23+G89*'Strings & Pickups'!$C$23+H89*'Strings & Pickups'!$D$23)))","v":0.4071423162554908},{"$f":"IF($A89<F$5,0.000001,(ABS(F89*'Strings & Pickups'!$B$23*(1/(1/$C89+1/$D89)/($B89+1/(1/$C89+1/$D89)))+G89*'Strings & Pickups'!$C$23*(1/(1/$B89+1/$D89)/($C89+1/(1/$B89+1/$D89)))+H89*'Strings & Pickups'!$D$23*(1/(1/$B89+1/$C89)/($D89+1/(1/$B89+1/$C89))))))","v":0.4071422390510378},null,null,null,null,null,null,null,null,null,null,null,null,null,null,null,null,null,null,null,null,null,null,null,null,null,null,null,null,null,null,null,null,null,null,null,null,{"$f":"MAX(I89*'Strings & Pickups'!B$52,O89*'Strings & Pickups'!$C$52,U89*'Strings & Pickups'!$D$52,AA89*'Strings & Pickups'!$E$52,AG89*'Strings & Pickups'!$F$52,AM89*'Strings & Pickups'!$G$52,AS89*'Strings & Pickups'!H$52)","v":0.4071423162554908},{"$f":"MAX(J89*'Strings & Pickups'!B$52,P89*'Strings & Pickups'!$C$52,V89*'Strings & Pickups'!$D$52,AB89*'Strings & Pickups'!$E$52,AH89*'Strings & Pickups'!$F$52,AN89*'Strings & Pickups'!$G$52,AT89*'Strings & Pickups'!H$52)","v":0.4071422390510378},0.4071422390510378,0.77538494587786544,2093.004522404794,-7.8050767863499608,-7.8050767863499608,-2.2096527017487193,{"$f":"Main!AX114","v":-2.5548354752071827}]
[2217.4610478149821,9481.2630101397299,100000000000,100000000000,{"$f":"'Strings & Pickups'!B$5*F$5/$A90","v":18.03234686685926},{"$f":"SIN('Strings & Pickups'!B$6/E90*PI())/((1+($A90/F$18)^2)^0.5)*10^('Strings & Pickups'!B$15/20)","v":0.64663470421287117},{"$f":"SIN('Strings & Pickups'!C$6/E90*PI())/((1+($A90/G$18)^2)^0.5)*10^('Strings & Pickups'!C$15/20)","v":-0.80326779902101486},{"$f":"SIN('Strings & Pickups'!D$6/E90*PI())/((1+($A90/H$18)^2)^0.5)*10^('Strings & Pickups'!D$15/20)","v":0.20566357453423939},{"$f":"IF($A90<F$5,0.000001,(ABS(F90*'Strings & Pickups'!$B$23+G90*'Strings & Pickups'!$C$23+H90*'Strings & Pickups'!$D$23)))","v":0.64663470421287117},{"$f":"IF($A90<F$5,0.000001,(ABS(F90*'Strings & Pickups'!$B$23*(1/(1/$C90+1/$D90)/($B90+1/(1/$C90+1/$D90)))+G90*'Strings & Pickups'!$C$23*(1/(1/$B90+1/$D90)/($C90+1/(1/$B90+1/$D90)))+H90*'Strings & Pickups'!$D$23*(1/(1/$B90+1/$C90)/($D90+1/(1/$B90+1/$C90))))))","v":0.64663458159462039},null,null,null,null,null,null,null,null,null,null,null,null,null,null,null,null,null,null,null,null,null,null,null,null,null,null,null,null,null,null,null,null,null,null,null,null,{"$f":"MAX(I90*'Strings & Pickups'!B$52,O90*'Strings & Pickups'!$C$52,U90*'Strings & Pickups'!$D$52,AA90*'Strings & Pickups'!$E$52,AG90*'Strings & Pickups'!$F$52,AM90*'Strings & Pickups'!$G$52,AS90*'Strings & Pickups'!H$52)","v":0.64663470421287117},{"$f":"MAX(J90*'Strings & Pickups'!B$52,P90*'Strings & Pickups'!$C$52,V90*'Strings & Pickups'!$D$52,AB90*'Strings & Pickups'!$E$52,AH90*'Strings & Pickups'!$F$52,AN90*'Strings & Pickups'!$G$52,AT90*'Strings & Pickups'!H$52)","v":0.64663458159462039},0.64663458159462039,0.77538494587786544,2217.4610478149821,-3.7868214663692563,-3.7868214663692563,-2.2096527017487193,{"$f":"Main!AX115","v":-2.6236254025772174}]
[2349.318143339266,9481.2630101397299,100000000000,100000000000,{"$f":"'Strings & Pickups'!B$5*F$5/$A91","v":17.020269004994674},{"$f":"SIN('Strings & Pickups'!B$6/E91*PI())/((1+($A91/F$18)^2)^0.5)*10^('Strings & Pickups'!B$15/20)","v":0.77538509291043756},{"$f":"SIN('Strings & Pickups'!C$6/E91*PI())/((1+($A91/G$18)^2)^0.5)*10^('Strings & Pickups'!C$15/20)","v":-0.54977984411261738},{"$f":"SIN('Strings & Pickups'!D$6/E91*PI())/((1+($A91/H$18)^2)^0.5)*10^('Strings & Pickups'!D$15/20)","v":-0.78746232831682816},{"$f":"IF($A91<F$5,0.000001,(ABS(F91*'Strings & Pickups'!$B$23+G91*'Strings & Pickups'!$C$23+H91*'Strings & Pickups'!$D$23)))","v":0.77538509291043756},{"$f":"IF($A91<F$5,0.000001,(ABS(F91*'Strings & Pickups'!$B$23*(1/(1/$C91+1/$D91)/($B91+1/(1/$C91+1/$D91)))+G91*'Strings & Pickups'!$C$23*(1/(1/$B91+1/$D91)/($C91+1/(1/$B91+1/$D91)))+H91*'Strings & Pickups'!$D$23*(1/(1/$B91+1/$C91)/($D91+1/(1/$B91+1/$C91))))))","v":0.77538494587786544},null,null,null,null,null,null,null,null,null,null,null,null,null,null,null,null,null,null,null,null,null,null,null,null,null,null,null,null,null,null,null,null,null,null,null,null,{"$f":"MAX(I91*'Strings & Pickups'!B$52,O91*'Strings & Pickups'!$C$52,U91*'Strings & Pickups'!$D$52,AA91*'Strings & Pickups'!$E$52,AG91*'Strings & Pickups'!$F$52,AM91*'Strings & Pickups'!$G$52,AS91*'Strings & Pickups'!H$52)","v":0.77538509291043756},{"$f":"MAX(J91*'Strings & Pickups'!B$52,P91*'Strings & Pickups'!$C$52,V91*'Strings & Pickups'!$D$52,AB91*'Strings & Pickups'!$E$52,AH91*'Strings & Pickups'!$F$52,AN91*'Strings & Pickups'!$G$52,AT91*'Strings & Pickups'!H$52)","v":0.77538494587786544},0.77538494587786544,0.77538494587786544,2349.318143339266,-2.2096527017487193,-2.2096527017487193,-2.2096527017487193,{"$f":"Main!AX116","v":-2.7042420308887358}]
[2489.0158697766533,9481.2630101397299,100000000000,100000000000,{"$f":"'Strings & Pickups'!B$5*F$5/$A92","v":16.064994708746877},{"$f":"SIN('Strings & Pickups'!B$6/E92*PI())/((1+($A92/F$18)^2)^0.5)*10^('Strings & Pickups'!B$15/20)","v":0.75541455050761697},{"$f":"SIN('Strings & Pickups'!C$6/E92*PI())/((1+($A92/G$18)^2)^0.5)*10^('Strings & Pickups'!C$15/20)","v":0.23957963171901916},{"$f":"SIN('Strings & Pickups'!D$6/E92*PI())/((1+($A92/H$18)^2)^0.5)*10^('Strings & Pickups'!D$15/20)","v":2.8270242470948167E-2},{"$f":"IF($A92<F$5,0.000001,(ABS(F92*'Strings & Pickups'!$B$23+G92*'Strings & Pickups'!$C$23+H92*'Strings & Pickups'!$D$23)))","v":0.75541455050761697},{"$f":"IF($A92<F$5,0.000001,(ABS(F92*'Strings & Pickups'!$B$23*(1/(1/$C92+1/$D92)/($B92+1/(1/$C92+1/$D92)))+G92*'Strings & Pickups'!$C$23*(1/(1/$B92+1/$D92)/($C92+1/(1/$B92+1/$D92)))+H92*'Strings & Pickups'!$D$23*(1/(1/$B92+1/$C92)/($D92+1/(1/$B92+1/$C92))))))","v":0.75541440726196352},null,null,null,null,null,null,null,null,null,null,null,null,null,null,null,null,null,null,null,null,null,null,null,null,null,null,null,null,null,null,null,null,null,null,null,null,{"$f":"MAX(I92*'Strings & Pickups'!B$52,O92*'Strings & Pickups'!$C$52,U92*'Strings & Pickups'!$D$52,AA92*'Strings & Pickups'!$E$52,AG92*'Strings & Pickups'!$F$52,AM92*'Strings & Pickups'!$G$52,AS92*'Strings & Pickups'!H$52)","v":0.75541455050761697},{"$f":"MAX(J92*'Strings & Pickups'!B$52,P92*'Strings & Pickups'!$C$52,V92*'Strings & Pickups'!$D$52,AB92*'Strings & Pickups'!$E$52,AH92*'Strings & Pickups'!$F$52,AN92*'Strings & Pickups'!$G$52,AT92*'Strings & Pickups'!H$52)","v":0.75541440726196352},0.75541440726196352,0.77538494587786544,2489.0158697766533,-2.4362947313215031,-2.4362947313215031,-2.2096527017487193,{"$f":"Main!AX117","v":-2.8006770898758457}]
[2637.0204553029657,9481.2630101397299,100000000000,100000000000,{"$f":"'Strings & Pickups'!B$5*F$5/$A93","v":15.163335838953502},{"$f":"SIN('Strings & Pickups'!B$6/E93*PI())/((1+($A93/F$18)^2)^0.5)*10^('Strings & Pickups'!B$15/20)","v":0.57435323381793724},{"$f":"SIN('Strings & Pickups'!C$6/E93*PI())/((1+($A93/G$18)^2)^0.5)*10^('Strings & Pickups'!C$15/20)","v":0.74430971218984221},{"$f":"SIN('Strings & Pickups'!D$6/E93*PI())/((1+($A93/H$18)^2)^0.5)*10^('Strings & Pickups'!D$15/20)","v":0.70747009250473336},{"$f":"IF($A93<F$5,0.000001,(ABS(F93*'Strings & Pickups'!$B$23+G93*'Strings & Pickups'!$C$23+H93*'Strings & Pickups'!$D$23)))","v":0.57435323381793724},{"$f":"IF($A93<F$5,0.000001,(ABS(F93*'Strings & Pickups'!$B$23*(1/(1/$C93+1/$D93)/($B93+1/(1/$C93+1/$D93)))+G93*'Strings & Pickups'!$C$23*(1/(1/$B93+1/$D93)/($C93+1/(1/$B93+1/$D93)))+H93*'Strings & Pickups'!$D$23*(1/(1/$B93+1/$C93)/($D93+1/(1/$B93+1/$C93))))))","v":0.57435312490607648},null,null,null,null,null,null,null,null,null,null,null,null,null,null,null,null,null,null,null,null,null,null,null,null,null,null,null,null,null,null,null,null,null,null,null,null,{"$f":"MAX(I93*'Strings & Pickups'!B$52,O93*'Strings & Pickups'!$C$52,U93*'Strings & Pickups'!$D$52,AA93*'Strings & Pickups'!$E$52,AG93*'Strings & Pickups'!$F$52,AM93*'Strings & Pickups'!$G$52,AS93*'Strings & Pickups'!H$52)","v":0.57435323381793724},{"$f":"MAX(J93*'Strings & Pickups'!B$52,P93*'Strings & Pickups'!$C$52,V93*'Strings & Pickups'!$D$52,AB93*'Strings & Pickups'!$E$52,AH93*'Strings & Pickups'!$F$52,AN93*'Strings & Pickups'!$G$52,AT93*'Strings & Pickups'!H$52)","v":0.57435312490607648},0.57435312490607648,0.77538494587786544,2637.0204553029657,-4.8164202341360332,-4.8164202341360332,-2.2096527017487193,{"$f":"Main!AX118","v":-2.9194107072890958}]
[2793.8258514640379,9481.2630101397299,100000000000,100000000000,{"$f":"'Strings & Pickups'!B$5*F$5/$A94","v":14.312283192953927},{"$f":"SIN('Strings & Pickups'!B$6/E94*PI())/((1+($A94/F$18)^2)^0.5)*10^('Strings & Pickups'!B$15/20)","v":0.25852540651640504},{"$f":"SIN('Strings & Pickups'!C$6/E94*PI())/((1+($A94/G$18)^2)^0.5)*10^('Strings & Pickups'!C$15/20)","v":0.33453221095786823},{"$f":"SIN('Strings & Pickups'!D$6/E94*PI())/((1+($A94/H$18)^2)^0.5)*10^('Strings & Pickups'!D$15/20)","v":-0.49221178037324437},{"$f":"IF($A94<F$5,0.000001,(ABS(F94*'Strings & Pickups'!$B$23+G94*'Strings & Pickups'!$C$23+H94*'Strings & Pickups'!$D$23)))","v":0.25852540651640504},{"$f":"IF($A94<F$5,0.000001,(ABS(F94*'Strings & Pickups'!$B$23*(1/(1/$C94+1/$D94)/($B94+1/(1/$C94+1/$D94)))+G94*'Strings & Pickups'!$C$23*(1/(1/$B94+1/$D94)/($C94+1/(1/$B94+1/$D94)))+H94*'Strings & Pickups'!$D$23*(1/(1/$B94+1/$C94)/($D94+1/(1/$B94+1/$C94))))))","v":0.25852535749346689},null,null,null,null,null,null,null,null,null,null,null,null,null,null,null,null,null,null,null,null,null,null,null,null,null,null,null,null,null,null,null,null,null,null,null,null,{"$f":"MAX(I94*'Strings & Pickups'!B$52,O94*'Strings & Pickups'!$C$52,U94*'Strings & Pickups'!$D$52,AA94*'Strings & Pickups'!$E$52,AG94*'Strings & Pickups'!$F$52,AM94*'Strings & Pickups'!$G$52,AS94*'Strings & Pickups'!H$52)","v":0.25852540651640504},{"$f":"MAX(J94*'Strings & Pickups'!B$52,P94*'Strings & Pickups'!$C$52,V94*'Strings & Pickups'!$D$52,AB94*'Strings & Pickups'!$E$52,AH94*'Strings & Pickups'!$F$52,AN94*'Strings & Pickups'!$G$52,AT94*'Strings & Pickups'!H$52)","v":0.25852535749346689},0.25852535749346689,0.77538494587786544,2793.8258514640379,-11.749937052995916,-11.749937052995916,-2.2096527017487193,{"$f":"Main!AX119","v":-3.0713122937426793}]
[2959.9553816930825,9481.2630101397299,100000000000,100000000000,{"$f":"'Strings & Pickups'!B$5*F$5/$A95","v":13.508996461655141},{"$f":"SIN('Strings & Pickups'!B$6/E95*PI())/((1+($A95/F$18)^2)^0.5)*10^('Strings & Pickups'!B$15/20)","v":-0.12109692293508091},{"$f":"SIN('Strings & Pickups'!C$6/E95*PI())/((1+($A95/G$18)^2)^0.5)*10^('Strings & Pickups'!C$15/20)","v":-0.5015683359275509},{"$f":"SIN('Strings & Pickups'!D$6/E95*PI())/((1+($A95/H$18)^2)^0.5)*10^('Strings & Pickups'!D$15/20)","v":-0.20382497354555049},{"$f":"IF($A95<F$5,0.000001,(ABS(F95*'Strings & Pickups'!$B$23+G95*'Strings & Pickups'!$C$23+H95*'Strings & Pickups'!$D$23)))","v":0.12109692293508091},{"$f":"IF($A95<F$5,0.000001,(ABS(F95*'Strings & Pickups'!$B$23*(1/(1/$C95+1/$D95)/($B95+1/(1/$C95+1/$D95)))+G95*'Strings & Pickups'!$C$23*(1/(1/$B95+1/$D95)/($C95+1/(1/$B95+1/$D95)))+H95*'Strings & Pickups'!$D$23*(1/(1/$B95+1/$C95)/($D95+1/(1/$B95+1/$C95))))))","v":0.12109689997204975},null,null,null,null,null,null,null,null,null,null,null,null,null,null,null,null,null,null,null,null,null,null,null,null,null,null,null,null,null,null,null,null,null,null,null,null,{"$f":"MAX(I95*'Strings & Pickups'!B$52,O95*'Strings & Pickups'!$C$52,U95*'Strings & Pickups'!$D$52,AA95*'Strings & Pickups'!$E$52,AG95*'Strings & Pickups'!$F$52,AM95*'Strings & Pickups'!$G$52,AS95*'Strings & Pickups'!H$52)","v":0.12109692293508091},{"$f":"MAX(J95*'Strings & Pickups'!B$52,P95*'Strings & Pickups'!$C$52,V95*'Strings & Pickups'!$D$52,AB95*'Strings & Pickups'!$E$52,AH95*'Strings & Pickups'!$F$52,AN95*'Strings & Pickups'!$G$52,AT95*'Strings & Pickups'!H$52)","v":0.12109689997204975},0.12109689997204975,0.75541440726196352,2959.9553816930825,-18.337339489288428,-18.337339489288428,-2.4362947313215031,{"$f":"Main!AX120","v":-3.2751072335634062}]
[3135.9634878540023,9481.2630101397299,100000000000,100000000000,{"$f":"'Strings & Pickups'!B$5*F$5/$A96","v":12.750794750264175},{"$f":"SIN('Strings & Pickups'!B$6/E96*PI())/((1+($A96/F$18)^2)^0.5)*10^('Strings & Pickups'!B$15/20)","v":-0.45712763580900867},{"$f":"SIN('Strings & Pickups'!C$6/E96*PI())/((1+($A96/G$18)^2)^0.5)*10^('Strings & Pickups'!C$15/20)","v":-0.56279085958240105},{"$f":"SIN('Strings & Pickups'!D$6/E96*PI())/((1+($A96/H$18)^2)^0.5)*10^('Strings & Pickups'!D$15/20)","v":0.63176229691773289},{"$f":"IF($A96<F$5,0.000001,(ABS(F96*'Strings & Pickups'!$B$23+G96*'Strings & Pickups'!$C$23+H96*'Strings & Pickups'!$D$23)))","v":0.45712763580900867},{"$f":"IF($A96<F$5,0.000001,(ABS(F96*'Strings & Pickups'!$B$23*(1/(1/$C96+1/$D96)/($B96+1/(1/$C96+1/$D96)))+G96*'Strings & Pickups'!$C$23*(1/(1/$B96+1/$D96)/($C96+1/(1/$B96+1/$D96)))+H96*'Strings & Pickups'!$D$23*(1/(1/$B96+1/$C96)/($D96+1/(1/$B96+1/$C96))))))","v":0.45712754912607823},null,null,null,null,null,null,null,null,null,null,null,null,null,null,null,null,null,null,null,null,null,null,null,null,null,null,null,null,null,null,null,null,null,null,null,null,{"$f":"MAX(I96*'Strings & Pickups'!B$52,O96*'Strings & Pickups'!$C$52,U96*'Strings & Pickups'!$D$52,AA96*'Strings & Pickups'!$E$52,AG96*'Strings & Pickups'!$F$52,AM96*'Strings & Pickups'!$G$52,AS96*'Strings & Pickups'!H$52)","v":0.45712763580900867},{"$f":"MAX(J96*'Strings & Pickups'!B$52,P96*'Strings & Pickups'!$C$52,V96*'Strings & Pickups'!$D$52,AB96*'Strings & Pickups'!$E$52,AH96*'Strings & Pickups'!$F$52,AN96*'Strings & Pickups'!$G$52,AT96*'Strings & Pickups'!H$52)","v":0.45712754912607823},0.45712754912607823,0.63333195395511099,3135.9634878540023,-6.7992520969477042,-6.7992520969477042,-3.9673719929262314,{"$f":"Main!AX121","v":-3.5636197457614003}]
[3322.4375806395697,9481.2630101397299,100000000000,100000000000,{"$f":"'Strings & Pickups'!B$5*F$5/$A97","v":12.035147631050943},{"$f":"SIN('Strings & Pickups'!B$6/E97*PI())/((1+($A97/F$18)^2)^0.5)*10^('Strings & Pickups'!B$15/20)","v":-0.63333207405084757},{"$f":"SIN('Strings & Pickups'!C$6/E97*PI())/((1+($A97/G$18)^2)^0.5)*10^('Strings & Pickups'!C$15/20)","v":0.28159082282289344},{"$f":"SIN('Strings & Pickups'!D$6/E97*PI())/((1+($A97/H$18)^2)^0.5)*10^('Strings & Pickups'!D$15/20)","v":-0.5907548486168076},{"$f":"IF($A97<F$5,0.000001,(ABS(F97*'Strings & Pickups'!$B$23+G97*'Strings & Pickups'!$C$23+H97*'Strings & Pickups'!$D$23)))","v":0.63333207405084757},{"$f":"IF($A97<F$5,0.000001,(ABS(F97*'Strings & Pickups'!$B$23*(1/(1/$C97+1/$D97)/($B97+1/(1/$C97+1/$D97)))+G97*'Strings & Pickups'!$C$23*(1/(1/$B97+1/$D97)/($C97+1/(1/$B97+1/$D97)))+H97*'Strings & Pickups'!$D$23*(1/(1/$B97+1/$C97)/($D97+1/(1/$B97+1/$C97))))))","v":0.63333195395511099},null,null,null,null,null,null,null,null,null,null,null,null,null,null,null,null,null,null,null,null,null,null,null,null,null,null,null,null,null,null,null,null,null,null,null,null,{"$f":"MAX(I97*'Strings & Pickups'!B$52,O97*'Strings & Pickups'!$C$52,U97*'Strings & Pickups'!$D$52,AA97*'Strings & Pickups'!$E$52,AG97*'Strings & Pickups'!$F$52,AM97*'Strings & Pickups'!$G$52,AS97*'Strings & Pickups'!H$52)","v":0.63333207405084757},{"$f":"MAX(J97*'Strings & Pickups'!B$52,P97*'Strings & Pickups'!$C$52,V97*'Strings & Pickups'!$D$52,AB97*'Strings & Pickups'!$E$52,AH97*'Strings & Pickups'!$F$52,AN97*'Strings & Pickups'!$G$52,AT97*'Strings & Pickups'!H$52)","v":0.63333195395511099},0.63333195395511099,0.63333195395511099,3322.4375806395697,-3.9673719929262314,-3.9673719929262314,-3.9673719929262314,{"$f":"Main!AX122","v":-3.99449187813725}]
[3520.0000000000091,9481.2630101397299,100000000000,100000000000,{"$f":"'Strings & Pickups'!B$5*F$5/$A98","v":11.35966669828092},{"$f":"SIN('Strings & Pickups'!B$6/E98*PI())/((1+($A98/F$18)^2)^0.5)*10^('Strings & Pickups'!B$15/20)","v":-0.56986987338056205},{"$f":"SIN('Strings & Pickups'!C$6/E98*PI())/((1+($A98/G$18)^2)^0.5)*10^('Strings & Pickups'!C$15/20)","v":0.57490395438336039},{"$f":"SIN('Strings & Pickups'!D$6/E98*PI())/((1+($A98/H$18)^2)^0.5)*10^('Strings & Pickups'!D$15/20)","v":0.29814810545628162},{"$f":"IF($A98<F$5,0.000001,(ABS(F98*'Strings & Pickups'!$B$23+G98*'Strings & Pickups'!$C$23+H98*'Strings & Pickups'!$D$23)))","v":0.56986987338056205},{"$f":"IF($A98<F$5,0.000001,(ABS(F98*'Strings & Pickups'!$B$23*(1/(1/$C98+1/$D98)/($B98+1/(1/$C98+1/$D98)))+G98*'Strings & Pickups'!$C$23*(1/(1/$B98+1/$D98)/($C98+1/(1/$B98+1/$D98)))+H98*'Strings & Pickups'!$D$23*(1/(1/$B98+1/$C98)/($D98+1/(1/$B98+1/$C98))))))","v":0.56986976531885958},null,null,null,null,null,null,null,null,null,null,null,null,null,null,null,null,null,null,null,null,null,null,null,null,null,null,null,null,null,null,null,null,null,null,null,null,{"$f":"MAX(I98*'Strings & Pickups'!B$52,O98*'Strings & Pickups'!$C$52,U98*'Strings & Pickups'!$D$52,AA98*'Strings & Pickups'!$E$52,AG98*'Strings & Pickups'!$F$52,AM98*'Strings & Pickups'!$G$52,AS98*'Strings & Pickups'!H$52)","v":0.56986987338056205},{"$f":"MAX(J98*'Strings & Pickups'!B$52,P98*'Strings & Pickups'!$C$52,V98*'Strings & Pickups'!$D$52,AB98*'Strings & Pickups'!$E$52,AH98*'Strings & Pickups'!$F$52,AN98*'Strings & Pickups'!$G$52,AT98*'Strings & Pickups'!H$52)","v":0.56986976531885958},0.56986976531885958,0.63333195395511099,3520.0000000000091,-4.8844876818430629,-4.8844876818430629,-3.9673719929262314,{"$f":"Main!AX123","v":-4.666430509969917}]
[3729.310092144729,9481.2630101397299,100000000000,100000000000,{"$f":"'Strings & Pickups'!B$5*F$5/$A99","v":10.722097597133027},{"$f":"SIN('Strings & Pickups'!B$6/E99*PI())/((1+($A99/F$18)^2)^0.5)*10^('Strings & Pickups'!B$15/20)","v":-0.27264599509305909},{"$f":"SIN('Strings & Pickups'!C$6/E99*PI())/((1+($A99/G$18)^2)^0.5)*10^('Strings & Pickups'!C$15/20)","v":-0.25496417449580505},{"$f":"SIN('Strings & Pickups'!D$6/E99*PI())/((1+($A99/H$18)^2)^0.5)*10^('Strings & Pickups'!D$15/20)","v":-9.4465244657090258E-4},{"$f":"IF($A99<F$5,0.000001,(ABS(F99*'Strings & Pickups'!$B$23+G99*'Strings & Pickups'!$C$23+H99*'Strings & Pickups'!$D$23)))","v":0.27264599509305909},{"$f":"IF($A99<F$5,0.000001,(ABS(F99*'Strings & Pickups'!$B$23*(1/(1/$C99+1/$D99)/($B99+1/(1/$C99+1/$D99)))+G99*'Strings & Pickups'!$C$23*(1/(1/$B99+1/$D99)/($C99+1/(1/$B99+1/$D99)))+H99*'Strings & Pickups'!$D$23*(1/(1/$B99+1/$C99)/($D99+1/(1/$B99+1/$C99))))))","v":0.27264594339250114},null,null,null,null,null,null,null,null,null,null,null,null,null,null,null,null,null,null,null,null,null,null,null,null,null,null,null,null,null,null,null,null,null,null,null,null,{"$f":"MAX(I99*'Strings & Pickups'!B$52,O99*'Strings & Pickups'!$C$52,U99*'Strings & Pickups'!$D$52,AA99*'Strings & Pickups'!$E$52,AG99*'Strings & Pickups'!$F$52,AM99*'Strings & Pickups'!$G$52,AS99*'Strings & Pickups'!H$52)","v":0.27264599509305909},{"$f":"MAX(J99*'Strings & Pickups'!B$52,P99*'Strings & Pickups'!$C$52,V99*'Strings & Pickups'!$D$52,AB99*'Strings & Pickups'!$E$52,AH99*'Strings & Pickups'!$F$52,AN99*'Strings & Pickups'!$G$52,AT99*'Strings & Pickups'!H$52)","v":0.27264594339250114},0.27264594339250114,0.63333195395511099,3729.310092144729,-11.288019193018958,-11.288019193018958,-3.9673719929262314,{"$f":"Main!AX124","v":-5.7370053147339792}]
[3951.0664100490035,9481.2630101397299,100000000000,100000000000,{"$f":"'Strings & Pickups'!B$5*F$5/$A100","v":10.120312499999972},{"$f":"SIN('Strings & Pickups'!B$6/E100*PI())/((1+($A100/F$18)^2)^0.5)*10^('Strings & Pickups'!B$15/20)","v":0.13999157177804278},{"$f":"SIN('Strings & Pickups'!C$6/E100*PI())/((1+($A100/G$18)^2)^0.5)*10^('Strings & Pickups'!C$15/20)","v":-0.48118640054551409},{"$f":"SIN('Strings & Pickups'!D$6/E100*PI())/((1+($A100/H$18)^2)^0.5)*10^('Strings & Pickups'!D$15/20)","v":-0.19020440279918124},{"$f":"IF($A100<F$5,0.000001,(ABS(F100*'Strings & Pickups'!$B$23+G100*'Strings & Pickups'!$C$23+H100*'Strings & Pickups'!$D$23)))","v":0.13999157177804278},{"$f":"IF($A100<F$5,0.000001,(ABS(F100*'Strings & Pickups'!$B$23*(1/(1/$C100+1/$D100)/($B100+1/(1/$C100+1/$D100)))+G100*'Strings & Pickups'!$C$23*(1/(1/$B100+1/$D100)/($C100+1/(1/$B100+1/$D100)))+H100*'Strings & Pickups'!$D$23*(1/(1/$B100+1/$C100)/($D100+1/(1/$B100+1/$C100))))))","v":0.1399915452321096},null,null,null,null,null,null,null,null,null,null,null,null,null,null,null,null,null,null,null,null,null,null,null,null,null,null,null,null,null,null,null,null,null,null,null,null,{"$f":"MAX(I100*'Strings & Pickups'!B$52,O100*'Strings & Pickups'!$C$52,U100*'Strings & Pickups'!$D$52,AA100*'Strings & Pickups'!$E$52,AG100*'Strings & Pickups'!$F$52,AM100*'Strings & Pickups'!$G$52,AS100*'Strings & Pickups'!H$52)","v":0.13999157177804278},{"$f":"MAX(J100*'Strings & Pickups'!B$52,P100*'Strings & Pickups'!$C$52,V100*'Strings & Pickups'!$D$52,AB100*'Strings & Pickups'!$E$52,AH100*'Strings & Pickups'!$F$52,AN100*'Strings & Pickups'!$G$52,AT100*'Strings & Pickups'!H$52)","v":0.1399915452321096},0.1399915452321096,0.63333195395511099,3951.0664100490035,-17.07796385356653,-17.07796385356653,-3.9673719929262314,{"$f":"Main!AX125","v":-7.426248701089416}]
[4186.0090448095898,9481.2630101397299,100000000000,100000000000,{"$f":"'Strings & Pickups'!B$5*F$5/$A101","v":9.5523030050614235},{"$f":"SIN('Strings & Pickups'!B$6/E101*PI())/((1+($A101/F$18)^2)^0.5)*10^('Strings & Pickups'!B$15/20)","v":0.4647542557379768},{"$f":"SIN('Strings & Pickups'!C$6/E101*PI())/((1+($A101/G$18)^2)^0.5)*10^('Strings & Pickups'!C$15/20)","v":0.39967986982500697},{"$f":"SIN('Strings & Pickups'!D$6/E101*PI())/((1+($A101/H$18)^2)^0.5)*10^('Strings & Pickups'!D$15/20)","v":0.26846059716729714},{"$f":"IF($A101<F$5,0.000001,(ABS(F101*'Strings & Pickups'!$B$23+G101*'Strings & Pickups'!$C$23+H101*'Strings & Pickups'!$D$23)))","v":0.4647542557379768},{"$f":"IF($A101<F$5,0.000001,(ABS(F101*'Strings & Pickups'!$B$23*(1/(1/$C101+1/$D101)/($B101+1/(1/$C101+1/$D101)))+G101*'Strings & Pickups'!$C$23*(1/(1/$B101+1/$D101)/($C101+1/(1/$B101+1/$D101)))+H101*'Strings & Pickups'!$D$23*(1/(1/$B101+1/$C101)/($D101+1/(1/$B101+1/$C101))))))","v":0.46475416760884686},null,null,null,null,null,null,null,null,null,null,null,null,null,null,null,null,null,null,null,null,null,null,null,null,null,null,null,null,null,null,null,null,null,null,null,null,{"$f":"MAX(I101*'Strings & Pickups'!B$52,O101*'Strings & Pickups'!$C$52,U101*'Strings & Pickups'!$D$52,AA101*'Strings & Pickups'!$E$52,AG101*'Strings & Pickups'!$F$52,AM101*'Strings & Pickups'!$G$52,AS101*'Strings & Pickups'!H$52)","v":0.4647542557379768},{"$f":"MAX(J101*'Strings & Pickups'!B$52,P101*'Strings & Pickups'!$C$52,V101*'Strings & Pickups'!$D$52,AB101*'Strings & Pickups'!$E$52,AH101*'Strings & Pickups'!$F$52,AN101*'Strings & Pickups'!$G$52,AT101*'Strings & Pickups'!H$52)","v":0.46475416760884686},0.46475416760884686,0.56986976531885958,4186.0090448095898,-6.6555341414425415,-6.6555341414425415,-4.8844876818430629,{"$f":"Main!AX126","v":-9.9908943087812752}]
[4434.922095629966,{"$f":"B$20","v":9481.2630101397299},100000000000,100000000000,{"$f":"'Strings & Pickups'!B$5*F$5/$A102","v":9.0161734334296266},{"$f":"SIN('Strings & Pickups'!B$6/E102*PI())/((1+($A102/F$18)^2)^0.5)*10^('Strings & Pickups'!B$15/20)","v":0.50965108456873998},{"$f":"SIN('Strings & Pickups'!C$6/E102*PI())/((1+($A102/G$18)^2)^0.5)*10^('Strings & Pickups'!C$15/20)","v":0.20959543927907701},{"$f":"SIN('Strings & Pickups'!D$6/E102*PI())/((1+($A102/H$18)^2)^0.5)*10^('Strings & Pickups'!D$15/20)","v":-0.25493614845925194},{"$f":"IF($A102<F$5,0.000001,(ABS(F102*'Strings & Pickups'!$B$23+G102*'Strings & Pickups'!$C$23+H102*'Strings & Pickups'!$D$23)))","v":0.50965108456873998},{"$f":"IF($A102<F$5,0.000001,(ABS(F102*'Strings & Pickups'!$B$23*(1/(1/$C102+1/$D102)/($B102+1/(1/$C102+1/$D102)))+G102*'Strings & Pickups'!$C$23*(1/(1/$B102+1/$D102)/($C102+1/(1/$B102+1/$D102)))+H102*'Strings & Pickups'!$D$23*(1/(1/$B102+1/$C102)/($D102+1/(1/$B102+1/$C102))))))","v":0.5096509879260388},null,null,null,null,null,null,null,null,null,null,null,null,null,null,null,null,null,null,null,null,null,null,null,null,null,null,null,null,null,null,null,null,null,null,null,null,{"$f":"MAX(I102*'Strings & Pickups'!B$52,O102*'Strings & Pickups'!$C$52,U102*'Strings & Pickups'!$D$52,AA102*'Strings & Pickups'!$E$52,AG102*'Strings & Pickups'!$F$52,AM102*'Strings & Pickups'!$G$52,AS102*'Strings & Pickups'!H$52)","v":0.50965108456873998},{"$f":"MAX(J102*'Strings & Pickups'!B$52,P102*'Strings & Pickups'!$C$52,V102*'Strings & Pickups'!$D$52,AB102*'Strings & Pickups'!$E$52,AH102*'Strings & Pickups'!$F$52,AN102*'Strings & Pickups'!$G$52,AT102*'Strings & Pickups'!H$52)","v":0.5096509879260388},0.5096509879260388,0.5096509879260388,4434.922095629966,-5.8545425919784231,-5.8545425919784231,-5.8545425919784231,{"$f":"Main!AX127","v":-11.94283793311044}]
[4698.6362866785339,9481.2630101397299,100000000000,100000000000,{"$f":"'Strings & Pickups'!B$5*F$5/$A103","v":8.5101345024973334},{"$f":"SIN('Strings & Pickups'!B$6/E103*PI())/((1+($A103/F$18)^2)^0.5)*10^('Strings & Pickups'!B$15/20)","v":0.22761957933938343},{"$f":"SIN('Strings & Pickups'!C$6/E103*PI())/((1+($A103/G$18)^2)^0.5)*10^('Strings & Pickups'!C$15/20)","v":-0.50107464359160481},{"$f":"SIN('Strings & Pickups'!D$6/E103*PI())/((1+($A103/H$18)^2)^0.5)*10^('Strings & Pickups'!D$15/20)","v":0.15585523075679875},{"$f":"IF($A103<F$5,0.000001,(ABS(F103*'Strings & Pickups'!$B$23+G103*'Strings & Pickups'!$C$23+H103*'Strings & Pickups'!$D$23)))","v":0.22761957933938343},{"$f":"IF($A103<F$5,0.000001,(ABS(F103*'Strings & Pickups'!$B$23*(1/(1/$C103+1/$D103)/($B103+1/(1/$C103+1/$D103)))+G103*'Strings & Pickups'!$C$23*(1/(1/$B103+1/$D103)/($C103+1/(1/$B103+1/$D103)))+H103*'Strings & Pickups'!$D$23*(1/(1/$B103+1/$C103)/($D103+1/(1/$B103+1/$C103))))))","v":0.22761953617696967},null,null,null,null,null,null,null,null,null,null,null,null,null,null,null,null,null,null,null,null,null,null,null,null,null,null,null,null,null,null,null,null,null,null,null,null,{"$f":"MAX(I103*'Strings & Pickups'!B$52,O103*'Strings & Pickups'!$C$52,U103*'Strings & Pickups'!$D$52,AA103*'Strings & Pickups'!$E$52,AG103*'Strings & Pickups'!$F$52,AM103*'Strings & Pickups'!$G$52,AS103*'Strings & Pickups'!H$52)","v":0.22761957933938343},{"$f":"MAX(J103*'Strings & Pickups'!B$52,P103*'Strings & Pickups'!$C$52,V103*'Strings & Pickups'!$D$52,AB103*'Strings & Pickups'!$E$52,AH103*'Strings & Pickups'!$F$52,AN103*'Strings & Pickups'!$G$52,AT103*'Strings & Pickups'!H$52)","v":0.22761953617696967},0.22761953617696967,0.5096509879260388,4698.6362866785339,-12.855809319199938,-12.855809319199938,-5.8545425919784231,{"$f":"Main!AX128","v":-13.701888116773937}]
[4978.0317395533084,9481.2630101397299,100000000000,100000000000,{"$f":"'Strings & Pickups'!B$5*F$5/$A104","v":8.0324973543734366},{"$f":"SIN('Strings & Pickups'!B$6/E104*PI())/((1+($A104/F$18)^2)^0.5)*10^('Strings & Pickups'!B$15/20)","v":-0.20174989721023637},{"$f":"SIN('Strings & Pickups'!C$6/E104*PI())/((1+($A104/G$18)^2)^0.5)*10^('Strings & Pickups'!C$15/20)","v":0.2818665352323862},{"$f":"SIN('Strings & Pickups'!D$6/E104*PI())/((1+($A104/H$18)^2)^0.5)*10^('Strings & Pickups'!D$15/20)","v":3.4956204873936227E-2},{"$f":"IF($A104<F$5,0.000001,(ABS(F104*'Strings & Pickups'!$B$23+G104*'Strings & Pickups'!$C$23+H104*'Strings & Pickups'!$D$23)))","v":0.20174989721023637},{"$f":"IF($A104<F$5,0.000001,(ABS(F104*'Strings & Pickups'!$B$23*(1/(1/$C104+1/$D104)/($B104+1/(1/$C104+1/$D104)))+G104*'Strings & Pickups'!$C$23*(1/(1/$B104+1/$D104)/($C104+1/(1/$B104+1/$D104)))+H104*'Strings & Pickups'!$D$23*(1/(1/$B104+1/$C104)/($D104+1/(1/$B104+1/$C104))))))","v":0.20174985895336689},null,null,null,null,null,null,null,null,null,null,null,null,null,null,null,null,null,null,null,null,null,null,null,null,null,null,null,null,null,null,null,null,null,null,null,null,{"$f":"MAX(I104*'Strings & Pickups'!B$52,O104*'Strings & Pickups'!$C$52,U104*'Strings & Pickups'!$D$52,AA104*'Strings & Pickups'!$E$52,AG104*'Strings & Pickups'!$F$52,AM104*'Strings & Pickups'!$G$52,AS104*'Strings & Pickups'!H$52)","v":0.20174989721023637},{"$f":"MAX(J104*'Strings & Pickups'!B$52,P104*'Strings & Pickups'!$C$52,V104*'Strings & Pickups'!$D$52,AB104*'Strings & Pickups'!$E$52,AH104*'Strings & Pickups'!$F$52,AN104*'Strings & Pickups'!$G$52,AT104*'Strings & Pickups'!H$52)","v":0.20174985895336689},0.20174985895336689,0.5096509879260388,4978.0317395533084,-13.903735204563525,-13.903735204563525,-5.8545425919784231,{"$f":"Main!AX129","v":-15.375527504699082}]
[5274.0409106059342,9481.2630101397299,100000000000,100000000000,{"$f":"'Strings & Pickups'!B$5*F$5/$A105","v":7.5816679194767476},{"$f":"SIN('Strings & Pickups'!B$6/E105*PI())/((1+($A105/F$18)^2)^0.5)*10^('Strings & Pickups'!B$15/20)","v":-0.44916453184661087},{"$f":"SIN('Strings & Pickups'!C$6/E105*PI())/((1+($A105/G$18)^2)^0.5)*10^('Strings & Pickups'!C$15/20)","v":0.10521966723109263},{"$f":"SIN('Strings & Pickups'!D$6/E105*PI())/((1+($A105/H$18)^2)^0.5)*10^('Strings & Pickups'!D$15/20)","v":-0.28401448874350455},{"$f":"IF($A105<F$5,0.000001,(ABS(F105*'Strings & Pickups'!$B$23+G105*'Strings & Pickups'!$C$23+H105*'Strings & Pickups'!$D$23)))","v":0.44916453184661087},{"$f":"IF($A105<F$5,0.000001,(ABS(F105*'Strings & Pickups'!$B$23*(1/(1/$C105+1/$D105)/($B105+1/(1/$C105+1/$D105)))+G105*'Strings & Pickups'!$C$23*(1/(1/$B105+1/$D105)/($C105+1/(1/$B105+1/$D105)))+H105*'Strings & Pickups'!$D$23*(1/(1/$B105+1/$C105)/($D105+1/(1/$B105+1/$C105))))))","v":0.44916444667368582},null,null,null,null,null,null,null,null,null,null,null,null,null,null,null,null,null,null,null,null,null,null,null,null,null,null,null,null,null,null,null,null,null,null,null,null,{"$f":"MAX(I105*'Strings & Pickups'!B$52,O105*'Strings & Pickups'!$C$52,U105*'Strings & Pickups'!$D$52,AA105*'Strings & Pickups'!$E$52,AG105*'Strings & Pickups'!$F$52,AM105*'Strings & Pickups'!$G$52,AS105*'Strings & Pickups'!H$52)","v":0.44916453184661087},{"$f":"MAX(J105*'Strings & Pickups'!B$52,P105*'Strings & Pickups'!$C$52,V105*'Strings & Pickups'!$D$52,AB105*'Strings & Pickups'!$E$52,AH105*'Strings & Pickups'!$F$52,AN105*'Strings & Pickups'!$G$52,AT105*'Strings & Pickups'!H$52)","v":0.44916444667368582},0.44916444667368582,0.5096509879260388,5274.0409106059342,-6.9518925470767527,-6.9518925470767527,-5.8545425919784231,{"$f":"Main!AX130","v":-16.217870157961492}]
[5587.6517029280785,9481.2630101397299,100000000000,100000000000,{"$f":"'Strings & Pickups'!B$5*F$5/$A106","v":7.1561415964769601},{"$f":"SIN('Strings & Pickups'!B$6/E106*PI())/((1+($A106/F$18)^2)^0.5)*10^('Strings & Pickups'!B$15/20)","v":-0.28955725326556686},{"$f":"SIN('Strings & Pickups'!C$6/E106*PI())/((1+($A106/G$18)^2)^0.5)*10^('Strings & Pickups'!C$15/20)","v":-0.35578528558801759},{"$f":"SIN('Strings & Pickups'!D$6/E106*PI())/((1+($A106/H$18)^2)^0.5)*10^('Strings & Pickups'!D$15/20)","v":0.43311493008294477},{"$f":"IF($A106<F$5,0.000001,(ABS(F106*'Strings & Pickups'!$B$23+G106*'Strings & Pickups'!$C$23+H106*'Strings & Pickups'!$D$23)))","v":0.28955725326556686},{"$f":"IF($A106<F$5,0.000001,(ABS(F106*'Strings & Pickups'!$B$23*(1/(1/$C106+1/$D106)/($B106+1/(1/$C106+1/$D106)))+G106*'Strings & Pickups'!$C$23*(1/(1/$B106+1/$D106)/($C106+1/(1/$B106+1/$D106)))+H106*'Strings & Pickups'!$D$23*(1/(1/$B106+1/$C106)/($D106+1/(1/$B106+1/$C106))))))","v":0.28955719835820781},null,null,null,null,null,null,null,null,null,null,null,null,null,null,null,null,null,null,null,null,null,null,null,null,null,null,null,null,null,null,null,null,null,null,null,null,{"$f":"MAX(I106*'Strings & Pickups'!B$52,O106*'Strings & Pickups'!$C$52,U106*'Strings & Pickups'!$D$52,AA106*'Strings & Pickups'!$E$52,AG106*'Strings & Pickups'!$F$52,AM106*'Strings & Pickups'!$G$52,AS106*'Strings & Pickups'!H$52)","v":0.28955725326556686},{"$f":"MAX(J106*'Strings & Pickups'!B$52,P106*'Strings & Pickups'!$C$52,V106*'Strings & Pickups'!$D$52,AB106*'Strings & Pickups'!$E$52,AH106*'Strings & Pickups'!$F$52,AN106*'Strings & Pickups'!$G$52,AT106*'Strings & Pickups'!H$52)","v":0.28955719835820781},0.28955719835820781,0.44916444667368582,5587.6517029280785,-10.765312681723902,-10.765312681723902,-6.9518925470767527,{"$f":"Main!AX131","v":-17.682778230176037}]
[5919.9107633861677,9481.2630101397299,100000000000,100000000000,{"$f":"'Strings & Pickups'!B$5*F$5/$A107","v":6.7544982308275676},{"$f":"SIN('Strings & Pickups'!B$6/E107*PI())/((1+($A107/F$18)^2)^0.5)*10^('Strings & Pickups'!B$15/20)","v":0.14091905215427938},{"$f":"SIN('Strings & Pickups'!C$6/E107*PI())/((1+($A107/G$18)^2)^0.5)*10^('Strings & Pickups'!C$15/20)","v":0.41317505682010525},{"$f":"SIN('Strings & Pickups'!D$6/E107*PI())/((1+($A107/H$18)^2)^0.5)*10^('Strings & Pickups'!D$15/20)","v":-0.23037782978656579},{"$f":"IF($A107<F$5,0.000001,(ABS(F107*'Strings & Pickups'!$B$23+G107*'Strings & Pickups'!$C$23+H107*'Strings & Pickups'!$D$23)))","v":0.14091905215427938},{"$f":"IF($A107<F$5,0.000001,(ABS(F107*'Strings & Pickups'!$B$23*(1/(1/$C107+1/$D107)/($B107+1/(1/$C107+1/$D107)))+G107*'Strings & Pickups'!$C$23*(1/(1/$B107+1/$D107)/($C107+1/(1/$B107+1/$D107)))+H107*'Strings & Pickups'!$D$23*(1/(1/$B107+1/$C107)/($D107+1/(1/$B107+1/$C107))))))","v":0.14091902543247253},null,null,null,null,null,null,null,null,null,null,null,null,null,null,null,null,null,null,null,null,null,null,null,null,null,null,null,null,null,null,null,null,null,null,null,null,{"$f":"MAX(I107*'Strings & Pickups'!B$52,O107*'Strings & Pickups'!$C$52,U107*'Strings & Pickups'!$D$52,AA107*'Strings & Pickups'!$E$52,AG107*'Strings & Pickups'!$F$52,AM107*'Strings & Pickups'!$G$52,AS107*'Strings & Pickups'!H$52)","v":0.14091905215427938},{"$f":"MAX(J107*'Strings & Pickups'!B$52,P107*'Strings & Pickups'!$C$52,V107*'Strings & Pickups'!$D$52,AB107*'Strings & Pickups'!$E$52,AH107*'Strings & Pickups'!$F$52,AN107*'Strings & Pickups'!$G$52,AT107*'Strings & Pickups'!H$52)","v":0.14091902543247253},0.14091902543247253,0.44916444667368582,5919.9107633861677,-17.02060737946719,-17.02060737946719,-6.9518925470767527,{"$f":"Main!AX132","v":-19.734398989221937}]
[6271.9269757080074,9481.2630101397299,100000000000,100000000000,{"$f":"'Strings & Pickups'!B$5*F$5/$A108","v":6.3753973751320849},{"$f":"SIN('Strings & Pickups'!B$6/E108*PI())/((1+($A108/F$18)^2)^0.5)*10^('Strings & Pickups'!B$15/20)","v":0.39167643914450551},{"$f":"SIN('Strings & Pickups'!C$6/E108*PI())/((1+($A108/G$18)^2)^0.5)*10^('Strings & Pickups'!C$15/20)","v":-0.36143101365637476},{"$f":"SIN('Strings & Pickups'!D$6/E108*PI())/((1+($A108/H$18)^2)^0.5)*10^('Strings & Pickups'!D$15/20)","v":-0.25777741107969948},{"$f":"IF($A108<F$5,0.000001,(ABS(F108*'Strings & Pickups'!$B$23+G108*'Strings & Pickups'!$C$23+H108*'Strings & Pickups'!$D$23)))","v":0.39167643914450551},{"$f":"IF($A108<F$5,0.000001,(ABS(F108*'Strings & Pickups'!$B$23*(1/(1/$C108+1/$D108)/($B108+1/(1/$C108+1/$D108)))+G108*'Strings & Pickups'!$C$23*(1/(1/$B108+1/$D108)/($C108+1/(1/$B108+1/$D108)))+H108*'Strings & Pickups'!$D$23*(1/(1/$B108+1/$C108)/($D108+1/(1/$B108+1/$C108))))))","v":0.39167636487277291},null,null,null,null,null,null,null,null,null,null,null,null,null,null,null,null,null,null,null,null,null,null,null,null,null,null,null,null,null,null,null,null,null,null,null,null,{"$f":"MAX(I108*'Strings & Pickups'!B$52,O108*'Strings & Pickups'!$C$52,U108*'Strings & Pickups'!$D$52,AA108*'Strings & Pickups'!$E$52,AG108*'Strings & Pickups'!$F$52,AM108*'Strings & Pickups'!$G$52,AS108*'Strings & Pickups'!H$52)","v":0.39167643914450551},{"$f":"MAX(J108*'Strings & Pickups'!B$52,P108*'Strings & Pickups'!$C$52,V108*'Strings & Pickups'!$D$52,AB108*'Strings & Pickups'!$E$52,AH108*'Strings & Pickups'!$F$52,AN108*'Strings & Pickups'!$G$52,AT108*'Strings & Pickups'!H$52)","v":0.39167636487277291},0.39167636487277291,0.44916444667368582,6271.9269757080074,-8.141452690310425,-8.141452690310425,-6.9518925470767527,{"$f":"Main!AX133","v":-22.45395120599872}]
[6644.875161279142,9481.2630101397299,100000000000,100000000000,{"$f":"'Strings & Pickups'!B$5*F$5/$A109","v":6.017573815525469},{"$f":"SIN('Strings & Pickups'!B$6/E109*PI())/((1+($A109/F$18)^2)^0.5)*10^('Strings & Pickups'!B$15/20)","v":0.15994736954472771},{"$f":"SIN('Strings & Pickups'!C$6/E109*PI())/((1+($A109/G$18)^2)^0.5)*10^('Strings & Pickups'!C$15/20)","v":0.29184368396072702},{"$f":"SIN('Strings & Pickups'!D$6/E109*PI())/((1+($A109/H$18)^2)^0.5)*10^('Strings & Pickups'!D$15/20)","v":0.28171638944230287},{"$f":"IF($A109<F$5,0.000001,(ABS(F109*'Strings & Pickups'!$B$23+G109*'Strings & Pickups'!$C$23+H109*'Strings & Pickups'!$D$23)))","v":0.15994736954472771},{"$f":"IF($A109<F$5,0.000001,(ABS(F109*'Strings & Pickups'!$B$23*(1/(1/$C109+1/$D109)/($B109+1/(1/$C109+1/$D109)))+G109*'Strings & Pickups'!$C$23*(1/(1/$B109+1/$D109)/($C109+1/(1/$B109+1/$D109)))+H109*'Strings & Pickups'!$D$23*(1/(1/$B109+1/$C109)/($D109+1/(1/$B109+1/$C109))))))","v":0.15994733921467191},null,null,null,null,null,null,null,null,null,null,null,null,null,null,null,null,null,null,null,null,null,null,null,null,null,null,null,null,null,null,null,null,null,null,null,null,{"$f":"MAX(I109*'Strings & Pickups'!B$52,O109*'Strings & Pickups'!$C$52,U109*'Strings & Pickups'!$D$52,AA109*'Strings & Pickups'!$E$52,AG109*'Strings & Pickups'!$F$52,AM109*'Strings & Pickups'!$G$52,AS109*'Strings & Pickups'!H$52)","v":0.15994736954472771},{"$f":"MAX(J109*'Strings & Pickups'!B$52,P109*'Strings & Pickups'!$C$52,V109*'Strings & Pickups'!$D$52,AB109*'Strings & Pickups'!$E$52,AH109*'Strings & Pickups'!$F$52,AN109*'Strings & Pickups'!$G$52,AT109*'Strings & Pickups'!H$52)","v":0.15994733921467191},0.15994733921467191,0.39167636487277291,6644.875161279142,-15.920459603500838,-15.920459603500838,-8.141452690310425,{"$f":"Main!AX134","v":-22.888614333083336}]
[7040.0000000000209,9481.2630101397299,100000000000,100000000000,{"$f":"'Strings & Pickups'!B$5*F$5/$A110","v":5.6798333491404582},{"$f":"SIN('Strings & Pickups'!B$6/E110*PI())/((1+($A110/F$18)^2)^0.5)*10^('Strings & Pickups'!B$15/20)","v":-0.26364122849754196},{"$f":"SIN('Strings & Pickups'!C$6/E110*PI())/((1+($A110/G$18)^2)^0.5)*10^('Strings & Pickups'!C$15/20)","v":-0.25381484811543059},{"$f":"SIN('Strings & Pickups'!D$6/E110*PI())/((1+($A110/H$18)^2)^0.5)*10^('Strings & Pickups'!D$15/20)","v":0.29761114859161258},{"$f":"IF($A110<F$5,0.000001,(ABS(F110*'Strings & Pickups'!$B$23+G110*'Strings & Pickups'!$C$23+H110*'Strings & Pickups'!$D$23)))","v":0.26364122849754196},{"$f":"IF($A110<F$5,0.000001,(ABS(F110*'Strings & Pickups'!$B$23*(1/(1/$C110+1/$D110)/($B110+1/(1/$C110+1/$D110)))+G110*'Strings & Pickups'!$C$23*(1/(1/$B110+1/$D110)/($C110+1/(1/$B110+1/$D110)))+H110*'Strings & Pickups'!$D$23*(1/(1/$B110+1/$C110)/($D110+1/(1/$B110+1/$C110))))))","v":0.26364117850451491},null,null,null,null,null,null,null,null,null,null,null,null,null,null,null,null,null,null,null,null,null,null,null,null,null,null,null,null,null,null,null,null,null,null,null,null,{"$f":"MAX(I110*'Strings & Pickups'!B$52,O110*'Strings & Pickups'!$C$52,U110*'Strings & Pickups'!$D$52,AA110*'Strings & Pickups'!$E$52,AG110*'Strings & Pickups'!$F$52,AM110*'Strings & Pickups'!$G$52,AS110*'Strings & Pickups'!H$52)","v":0.26364122849754196},{"$f":"MAX(J110*'Strings & Pickups'!B$52,P110*'Strings & Pickups'!$C$52,V110*'Strings & Pickups'!$D$52,AB110*'Strings & Pickups'!$E$52,AH110*'Strings & Pickups'!$F$52,AN110*'Strings & Pickups'!$G$52,AT110*'Strings & Pickups'!H$52)","v":0.26364117850451491},0.26364117850451491,0.39167636487277291,7040.0000000000209,-11.579735113686624,-11.579735113686624,-8.141452690310425,{"$f":"Main!AX135","v":-23.593274204238096}]
[7458.6201842894616,9481.2630101397299,100000000000,100000000000,{"$f":"'Strings & Pickups'!B$5*F$5/$A111","v":5.361048798566511},{"$f":"SIN('Strings & Pickups'!B$6/E111*PI())/((1+($A111/F$18)^2)^0.5)*10^('Strings & Pickups'!B$15/20)","v":-0.27272562334499317},{"$f":"SIN('Strings & Pickups'!C$6/E111*PI())/((1+($A111/G$18)^2)^0.5)*10^('Strings & Pickups'!C$15/20)","v":0.2591902731391339},{"$f":"SIN('Strings & Pickups'!D$6/E111*PI())/((1+($A111/H$18)^2)^0.5)*10^('Strings & Pickups'!D$15/20)","v":1.0613219571269671E-3},{"$f":"IF($A111<F$5,0.000001,(ABS(F111*'Strings & Pickups'!$B$23+G111*'Strings & Pickups'!$C$23+H111*'Strings & Pickups'!$D$23)))","v":0.27272562334499317},{"$f":"IF($A111<F$5,0.000001,(ABS(F111*'Strings & Pickups'!$B$23*(1/(1/$C111+1/$D111)/($B111+1/(1/$C111+1/$D111)))+G111*'Strings & Pickups'!$C$23*(1/(1/$B111+1/$D111)/($C111+1/(1/$B111+1/$D111)))+H111*'Strings & Pickups'!$D$23*(1/(1/$B111+1/$C111)/($D111+1/(1/$B111+1/$C111))))))","v":0.27272557162933569},null,null,null,null,null,null,null,null,null,null,null,null,null,null,null,null,null,null,null,null,null,null,null,null,null,null,null,null,null,null,null,null,null,null,null,null,{"$f":"MAX(I111*'Strings & Pickups'!B$52,O111*'Strings & Pickups'!$C$52,U111*'Strings & Pickups'!$D$52,AA111*'Strings & Pickups'!$E$52,AG111*'Strings & Pickups'!$F$52,AM111*'Strings & Pickups'!$G$52,AS111*'Strings & Pickups'!H$52)","v":0.27272562334499317},{"$f":"MAX(J111*'Strings & Pickups'!B$52,P111*'Strings & Pickups'!$C$52,V111*'Strings & Pickups'!$D$52,AB111*'Strings & Pickups'!$E$52,AH111*'Strings & Pickups'!$F$52,AN111*'Strings & Pickups'!$G$52,AT111*'Strings & Pickups'!H$52)","v":0.27272557162933569},0.27272557162933569,0.39167636487277291,7458.6201842894616,-11.285482785953009,-11.285482785953009,-8.141452690310425,{"$f":"Main!AX136","v":-24.861338859219032}]
[7902.1328200980106,9481.2630101397299,100000000000,100000000000,{"$f":"'Strings & Pickups'!B$5*F$5/$A112","v":5.0601562499999835},{"$f":"SIN('Strings & Pickups'!B$6/E112*PI())/((1+($A112/F$18)^2)^0.5)*10^('Strings & Pickups'!B$15/20)","v":0.15092979178422475},{"$f":"SIN('Strings & Pickups'!C$6/E112*PI())/((1+($A112/G$18)^2)^0.5)*10^('Strings & Pickups'!C$15/20)","v":-0.29157802188105009},{"$f":"SIN('Strings & Pickups'!D$6/E112*PI())/((1+($A112/H$18)^2)^0.5)*10^('Strings & Pickups'!D$15/20)","v":-0.19950326486995493},{"$f":"IF($A112<F$5,0.000001,(ABS(F112*'Strings & Pickups'!$B$23+G112*'Strings & Pickups'!$C$23+H112*'Strings & Pickups'!$D$23)))","v":0.15092979178422475},{"$f":"IF($A112<F$5,0.000001,(ABS(F112*'Strings & Pickups'!$B$23*(1/(1/$C112+1/$D112)/($B112+1/(1/$C112+1/$D112)))+G112*'Strings & Pickups'!$C$23*(1/(1/$B112+1/$D112)/($C112+1/(1/$B112+1/$D112)))+H112*'Strings & Pickups'!$D$23*(1/(1/$B112+1/$C112)/($D112+1/(1/$B112+1/$C112))))))","v":0.15092976316412915},null,null,null,null,null,null,null,null,null,null,null,null,null,null,null,null,null,null,null,null,null,null,null,null,null,null,null,null,null,null,null,null,null,null,null,null,{"$f":"MAX(I112*'Strings & Pickups'!B$52,O112*'Strings & Pickups'!$C$52,U112*'Strings & Pickups'!$D$52,AA112*'Strings & Pickups'!$E$52,AG112*'Strings & Pickups'!$F$52,AM112*'Strings & Pickups'!$G$52,AS112*'Strings & Pickups'!H$52)","v":0.15092979178422475},{"$f":"MAX(J112*'Strings & Pickups'!B$52,P112*'Strings & Pickups'!$C$52,V112*'Strings & Pickups'!$D$52,AB112*'Strings & Pickups'!$E$52,AH112*'Strings & Pickups'!$F$52,AN112*'Strings & Pickups'!$G$52,AT112*'Strings & Pickups'!H$52)","v":0.15092976316412915},0.15092976316412915,0.27286792199664661,7902.1328200980106,-16.424502188799934,-16.424502188799934,-11.280950328645869,{"$f":"Main!AX137","v":-26.700029191561221}]
[8372.0180896191832,9481.2630101397299,100000000000,100000000000,{"$f":"'Strings & Pickups'!B$5*F$5/$A113","v":4.77615150253071},{"$f":"SIN('Strings & Pickups'!B$6/E113*PI())/((1+($A113/F$18)^2)^0.5)*10^('Strings & Pickups'!B$15/20)","v":0.27286797373929733},{"$f":"SIN('Strings & Pickups'!C$6/E113*PI())/((1+($A113/G$18)^2)^0.5)*10^('Strings & Pickups'!C$15/20)","v":0.30190495563936404},{"$f":"SIN('Strings & Pickups'!D$6/E113*PI())/((1+($A113/H$18)^2)^0.5)*10^('Strings & Pickups'!D$15/20)","v":-0.25786255124822488},{"$f":"IF($A113<F$5,0.000001,(ABS(F113*'Strings & Pickups'!$B$23+G113*'Strings & Pickups'!$C$23+H113*'Strings & Pickups'!$D$23)))","v":0.27286797373929733},{"$f":"IF($A113<F$5,0.000001,(ABS(F113*'Strings & Pickups'!$B$23*(1/(1/$C113+1/$D113)/($B113+1/(1/$C113+1/$D113)))+G113*'Strings & Pickups'!$C$23*(1/(1/$B113+1/$D113)/($C113+1/(1/$B113+1/$D113)))+H113*'Strings & Pickups'!$D$23*(1/(1/$B113+1/$C113)/($D113+1/(1/$B113+1/$C113))))))","v":0.27286792199664661},null,null,null,null,null,null,null,null,null,null,null,null,null,null,null,null,null,null,null,null,null,null,null,null,null,null,null,null,null,null,null,null,null,null,null,null,{"$f":"MAX(I113*'Strings & Pickups'!B$52,O113*'Strings & Pickups'!$C$52,U113*'Strings & Pickups'!$D$52,AA113*'Strings & Pickups'!$E$52,AG113*'Strings & Pickups'!$F$52,AM113*'Strings & Pickups'!$G$52,AS113*'Strings & Pickups'!H$52)","v":0.27286797373929733},{"$f":"MAX(J113*'Strings & Pickups'!B$52,P113*'Strings & Pickups'!$C$52,V113*'Strings & Pickups'!$D$52,AB113*'Strings & Pickups'!$E$52,AH113*'Strings & Pickups'!$F$52,AN113*'Strings & Pickups'!$G$52,AT113*'Strings & Pickups'!H$52)","v":0.27286792199664661},0.27286792199664661,0.27286792199664661,8372.0180896191832,-11.280950328645869,-11.280950328645869,-11.280950328645869,{"$f":"Main!AX138","v":-29.212052995700169}]
[8869.8441912599355,9481.2630101397299,100000000000,100000000000,{"$f":"'Strings & Pickups'!B$5*F$5/$A114","v":4.5080867167148115},{"$f":"SIN('Strings & Pickups'!B$6/E114*PI())/((1+($A114/F$18)^2)^0.5)*10^('Strings & Pickups'!B$15/20)","v":-0.13469887871502625},{"$f":"SIN('Strings & Pickups'!C$6/E114*PI())/((1+($A114/G$18)^2)^0.5)*10^('Strings & Pickups'!C$15/20)","v":-0.20968136460399514},{"$f":"SIN('Strings & Pickups'!D$6/E114*PI())/((1+($A114/H$18)^2)^0.5)*10^('Strings & Pickups'!D$15/20)","v":-0.24318864895794426},{"$f":"IF($A114<F$5,0.000001,(ABS(F114*'Strings & Pickups'!$B$23+G114*'Strings & Pickups'!$C$23+H114*'Strings & Pickups'!$D$23)))","v":0.13469887871502625},{"$f":"IF($A114<F$5,0.000001,(ABS(F114*'Strings & Pickups'!$B$23*(1/(1/$C114+1/$D114)/($B114+1/(1/$C114+1/$D114)))+G114*'Strings & Pickups'!$C$23*(1/(1/$B114+1/$D114)/($C114+1/(1/$B114+1/$D114)))+H114*'Strings & Pickups'!$D$23*(1/(1/$B114+1/$C114)/($D114+1/(1/$B114+1/$C114))))))","v":0.13469885317272118},null,null,null,null,null,null,null,null,null,null,null,null,null,null,null,null,null,null,null,null,null,null,null,null,null,null,null,null,null,null,null,null,null,null,null,null,{"$f":"MAX(I114*'Strings & Pickups'!B$52,O114*'Strings & Pickups'!$C$52,U114*'Strings & Pickups'!$D$52,AA114*'Strings & Pickups'!$E$52,AG114*'Strings & Pickups'!$F$52,AM114*'Strings & Pickups'!$G$52,AS114*'Strings & Pickups'!H$52)","v":0.13469887871502625},{"$f":"MAX(J114*'Strings & Pickups'!B$52,P114*'Strings & Pickups'!$C$52,V114*'Strings & Pickups'!$D$52,AB114*'Strings & Pickups'!$E$52,AH114*'Strings & Pickups'!$F$52,AN114*'Strings & Pickups'!$G$52,AT114*'Strings & Pickups'!H$52)","v":0.13469885317272118},0.13469885317272118,0.27286792199664661,8869.8441912599355,-17.412722036970003,-17.412722036970003,-11.280950328645869,{"$f":"Main!AX139","v":-32.653689880194356}]
[9397.2725733570733,9481.2630101397299,100000000000,100000000000,{"$f":"'Strings & Pickups'!B$5*F$5/$A115","v":4.255067251248664},{"$f":"SIN('Strings & Pickups'!B$6/E115*PI())/((1+($A115/F$18)^2)^0.5)*10^('Strings & Pickups'!B$15/20)","v":-0.21947759958438129},{"$f":"SIN('Strings & Pickups'!C$6/E115*PI())/((1+($A115/G$18)^2)^0.5)*10^('Strings & Pickups'!C$15/20)","v":-2.6699290872808305E-2},{"$f":"SIN('Strings & Pickups'!D$6/E115*PI())/((1+($A115/H$18)^2)^0.5)*10^('Strings & Pickups'!D$15/20)","v":-0.16029240606279763},{"$f":"IF($A115<F$5,0.000001,(ABS(F115*'Strings & Pickups'!$B$23+G115*'Strings & Pickups'!$C$23+H115*'Strings & Pickups'!$D$23)))","v":0.21947759958438129},{"$f":"IF($A115<F$5,0.000001,(ABS(F115*'Strings & Pickups'!$B$23*(1/(1/$C115+1/$D115)/($B115+1/(1/$C115+1/$D115)))+G115*'Strings & Pickups'!$C$23*(1/(1/$B115+1/$D115)/($C115+1/(1/$B115+1/$D115)))+H115*'Strings & Pickups'!$D$23*(1/(1/$B115+1/$C115)/($D115+1/(1/$B115+1/$C115))))))","v":0.21947755796589227},null,null,null,null,null,null,null,null,null,null,null,null,null,null,null,null,null,null,null,null,null,null,null,null,null,null,null,null,null,null,null,null,null,null,null,null,{"$f":"MAX(I115*'Strings & Pickups'!B$52,O115*'Strings & Pickups'!$C$52,U115*'Strings & Pickups'!$D$52,AA115*'Strings & Pickups'!$E$52,AG115*'Strings & Pickups'!$F$52,AM115*'Strings & Pickups'!$G$52,AS115*'Strings & Pickups'!H$52)","v":0.21947759958438129},{"$f":"MAX(J115*'Strings & Pickups'!B$52,P115*'Strings & Pickups'!$C$52,V115*'Strings & Pickups'!$D$52,AB115*'Strings & Pickups'!$E$52,AH115*'Strings & Pickups'!$F$52,AN115*'Strings & Pickups'!$G$52,AT115*'Strings & Pickups'!H$52)","v":0.21947755796589227},0.21947755796589227,0.27286792199664661,9397.2725733570733,-13.172197613207683,-13.172197613207683,-11.280950328645869,{"$f":"Main!AX140","v":-36.249835714602973}]
[9956.0634791066223,9481.2630101397299,100000000000,100000000000,{"$f":"'Strings & Pickups'!B$5*F$5/$A116","v":4.0162486771867156},{"$f":"SIN('Strings & Pickups'!B$6/E116*PI())/((1+($A116/F$18)^2)^0.5)*10^('Strings & Pickups'!B$15/20)","v":0.19645438776949345},{"$f":"SIN('Strings & Pickups'!C$6/E116*PI())/((1+($A116/G$18)^2)^0.5)*10^('Strings & Pickups'!C$15/20)","v":0.24461960782005299},{"$f":"SIN('Strings & Pickups'!D$6/E116*PI())/((1+($A116/H$18)^2)^0.5)*10^('Strings & Pickups'!D$15/20)","v":3.7436011822531513E-2},{"$f":"IF($A116<F$5,0.000001,(ABS(F116*'Strings & Pickups'!$B$23+G116*'Strings & Pickups'!$C$23+H116*'Strings & Pickups'!$D$23)))","v":0.19645438776949345},{"$f":"IF($A116<F$5,0.000001,(ABS(F116*'Strings & Pickups'!$B$23*(1/(1/$C116+1/$D116)/($B116+1/(1/$C116+1/$D116)))+G116*'Strings & Pickups'!$C$23*(1/(1/$B116+1/$D116)/($C116+1/(1/$B116+1/$D116)))+H116*'Strings & Pickups'!$D$23*(1/(1/$B116+1/$C116)/($D116+1/(1/$B116+1/$C116))))))","v":0.19645435051678611},null,null,null,null,null,null,null,null,null,null,null,null,null,null,null,null,null,null,null,null,null,null,null,null,null,null,null,null,null,null,null,null,null,null,null,null,{"$f":"MAX(I116*'Strings & Pickups'!B$52,O116*'Strings & Pickups'!$C$52,U116*'Strings & Pickups'!$D$52,AA116*'Strings & Pickups'!$E$52,AG116*'Strings & Pickups'!$F$52,AM116*'Strings & Pickups'!$G$52,AS116*'Strings & Pickups'!H$52)","v":0.19645438776949345},{"$f":"MAX(J116*'Strings & Pickups'!B$52,P116*'Strings & Pickups'!$C$52,V116*'Strings & Pickups'!$D$52,AB116*'Strings & Pickups'!$E$52,AH116*'Strings & Pickups'!$F$52,AN116*'Strings & Pickups'!$G$52,AT116*'Strings & Pickups'!H$52)","v":0.19645435051678611},0.19645435051678611,0.27286792199664661,9956.0634791066223,-14.134766984331577,-14.134766984331577,-11.280950328645869,{"$f":"Main!AX141","v":-38.170383329619582}]
[10548.081821211874,9481.2630101397299,100000000000,100000000000,{"$f":"'Strings & Pickups'!B$5*F$5/$A117","v":3.790833959738372},{"$f":"SIN('Strings & Pickups'!B$6/E117*PI())/((1+($A117/F$18)^2)^0.5)*10^('Strings & Pickups'!B$15/20)","v":8.3752996177312994E-2},{"$f":"SIN('Strings & Pickups'!C$6/E117*PI())/((1+($A117/G$18)^2)^0.5)*10^('Strings & Pickups'!C$15/20)","v":-0.10917697649054772},{"$f":"SIN('Strings & Pickups'!D$6/E117*PI())/((1+($A117/H$18)^2)^0.5)*10^('Strings & Pickups'!D$15/20)","v":0.23700780910676164},{"$f":"IF($A117<F$5,0.000001,(ABS(F117*'Strings & Pickups'!$B$23+G117*'Strings & Pickups'!$C$23+H117*'Strings & Pickups'!$D$23)))","v":8.3752996177312994E-2},{"$f":"IF($A117<F$5,0.000001,(ABS(F117*'Strings & Pickups'!$B$23*(1/(1/$C117+1/$D117)/($B117+1/(1/$C117+1/$D117)))+G117*'Strings & Pickups'!$C$23*(1/(1/$B117+1/$D117)/($C117+1/(1/$B117+1/$D117)))+H117*'Strings & Pickups'!$D$23*(1/(1/$B117+1/$C117)/($D117+1/(1/$B117+1/$C117))))))","v":8.3752980295632315E-2},null,null,null,null,null,null,null,null,null,null,null,null,null,null,null,null,null,null,null,null,null,null,null,null,null,null,null,null,null,null,null,null,null,null,null,null,{"$f":"MAX(I117*'Strings & Pickups'!B$52,O117*'Strings & Pickups'!$C$52,U117*'Strings & Pickups'!$D$52,AA117*'Strings & Pickups'!$E$52,AG117*'Strings & Pickups'!$F$52,AM117*'Strings & Pickups'!$G$52,AS117*'Strings & Pickups'!H$52)","v":8.3752996177312994E-2},{"$f":"MAX(J117*'Strings & Pickups'!B$52,P117*'Strings & Pickups'!$C$52,V117*'Strings & Pickups'!$D$52,AB117*'Strings & Pickups'!$E$52,AH117*'Strings & Pickups'!$F$52,AN117*'Strings & Pickups'!$G$52,AT117*'Strings & Pickups'!H$52)","v":8.3752980295632315E-2},{"$f":"AU117*$AU$19+AV117*$AV$19","v":8.3752980295632315E-2},0.21947755796589227,10548.081821211874,-21.539994598558248,{"$f":"IF(AY117<$BE$21,-100,AZ117)","v":-21.539994598558248},{"$f":"IF(AY119<$BE$21,-100,MAX(AZ114:AZ119))","v":-13.172197613207683},{"$f":"Main!AX142","v":-42.223170532985975}]
[null,null,null,null,null,null,null,null,null,null,null,null,null,null,null,null,null,null,null,null,null,null,null,null,null,null,null,null,null,null,null,null,null,null,null,null,null,null,null,null,null,null,null,null,null,null,null,null,null,null,20000,-60]
[null,null,null,null,null,null,null,null,null,null,null,null,null,null,null,null,null,null,null,null,null,null,null,null,null,null,null,null,null,null,null,null,null,null,null,null,null,null,null,null,null,null,null,null,null,null,null,null,null,null,20000,-60]
[]
[null,null,"check relative impedances"]
[]
[null,null,"Inductance","Resistance","impedance",null,null,null,"realtive"]
[null,null,null,null,80,440,4000,null,{"$f":"E124","v":80},{"$f":"F124","v":440},{"$f":"G124","v":4000}]
[null,null,7.5,15000,{"$f":"((2*PI()*E$124*$C125)^2+$D125^2)^0.5","v":15466.487330275375},{"$f":"((2*PI()*F$124*$C125)^2+$D125^2)^0.5","v":25591.404176235668},189091.4483627477,null,{"$f":"E125/E$127","v":2.7569152982488787},3.1208513187723748,3.4030733719294646]
[null,null,5,15000,{"$f":"((2*PI()*E$124*$C126)^2+$D126^2)^0.5","v":15209.094214209377},20397.929826457635,126555.78628313669,null,2.711034743460123,2.4875112659211061,2.2776208553733057]
[null,null,2.2000000000000002,5500,{"$f":"((2*PI()*E$124*$C127)^2+$D127^2)^0.5","v":5610.0698269907989},8200.1356560306631,55564.90492461442,null,1,1,1]
[null,null,2.2000000000000002,4400,{"$f":"((2*PI()*E$124*$C128)^2+$D128^2)^0.5","v":4536.8362835474436},7506.8118916957974,55466.824853072671,null,0.80869515415300453,0.91544972017323012,0.99823485576597648]
[null,null,4.2,8400,{"$f":"((2*PI()*E$124*$C129)^2+$D129^2)^0.5","v":8661.2329049542095},14331.186338691976,105891.21108313873,null,1.543872567019372,1.74767673851253,1.9057210882805002]
[]
[null,null,null,null,null,null,null,null,{"$f":"20*LOG(J129/I129)","v":1.0769931102647357},null,{"$f":"20*LOG(J129/K129)","v":-0.75196467936390654}]
[null,null,null,null,null,null,null,null,{"$f":"20*LOG(I129/(I129+I127))","v":-4.3376780322232742},{"$f":"20*LOG(J129/(J129+J127))","v":-3.9300906246841345},{"$f":"20*LOG(K129/(K129+K127))","v":-3.6638917098614248}]

{"sheet":"Notes","index":5,"n_rows":35,"n_cols":28,"rows_kept":35,"cut":false,"hidden":false,"merged":[[0,0,0,2],[17,1,17,3],[17,5,17,7],[18,5,18,7],[29,1,29,9],[28,1,28,9],[21,1,21,9],[22,1,22,9],[23,1,23,9],[24,1,24,9],[25,1,25,9],[26,1,26,9],[27,1,27,9],[17,13,17,15],[18,13,18,15],[18,1,18,3],[20,1,20,3],[17,9,17,11],[18,9,18,11],[17,25,17,27],[18,25,18,27],[17,17,17,19],[4,17,4,19],[18,17,18,19],[17,21,17,23],[18,21,18,23]]}
["Notes",null,null,null,null,"Modelling of Tone Control Circuits"]
[null,null,null,null,null,"The 'Full Analysis' tone circuit is used to model all options. Unused components are negated by making their values very large or small as required"]
[]
[]
[]
[null,null,null,null,null,null,null,null,null,"R1",null,null,null,null,null,null,null,null,null,null,null,null,null,null,null,"R1"]
[null,null,null,"added ver 6.6",null,null,null,null,null,null,null,null,null,null,null,null,null,"R1"]
[null,null,null,null,null,null,null,null,null,"L1",null,null,null,"L1"]
[null,null,null,null,null,null,null,null,null,null,null,null,null,null,"R5"]
[null,null,null,null,null,null,null,null,null,null,null,null,null,null,null,null,null,null,null,null,null,"C1"]
[null,null,null,null,null,"C1",null,null,null,"C1",null,"C4",null,"C1",null,"C4",null,"C1",null,null,null,null,null,"R2b"]
[null,null,null,null,null,null,null,null,null,null,null,"R2b",null,null,null,"R2b",null,null,null,null,null,"R2a"]
[null,null,null,null,null,null,"R2a",null,null,null,"R2a",null,null,null,"R2a",null,null,null,"R2a",null,null,null,null,null,null,null,"R2a","R3"]
[null,null,null,null,null,null,null,null,null,null,null,null,null,null,null,null,null,null,null,"R3",null,null,null,null,null,null,"R4"]
[null,null,null,null,null,null,null,null,null,null,null,null,null,null,null,null,null,"C2",null,null,null,null,null,null,null,null,null,"C3"]
[]
[]
[null,"Full Analysis Circuit ",null,null,null,"Standard and 'No-Load",null,null,null,"Gibson 'Varitone' ",null,null,null,"Torres 'Mid-Shaper'\n",null,null,null,"Fender Grease-Bucket\n",null,null,null,"Standard with load resistor",null,null,null,"Fender TBX"]
[null,"Adjust values of components to model various tone control circuits. Unused parts are assigned values that are very high, or very low, to negate their effect. See 'Custom' option on 'Tone' page to adust all values. \nVersion 6.6: Components within red box added\n",null,null,null,"Basic tone control uses C1 and R2. In 'No-Load', R2 becomes very high at maximum.\n\n",null,null,null,"This models the Gibson Varitone control. The main treble control is C4 and R2b. There is an additional cap and inductor in series L1 and C1. R2a is made negligible. R1 is the inductor resistance ",null,null,null,"Similar to Varitone, adds 2nd cap C4 to R2 and resistor R5 across C1. Similar to Torres design and others.\n",null,null,null,"This is a single 250k log pot, with all lugs used. In the analysis, R2a and R3 represent top and bottom sides of pot. C1 is the main tone cap. C2 is usually a 100nF cap.",null,null,null,"This models the effect of adding a resistor across the volume pot to make the pickup 'see' a lower resistance load. A fixed resistor is used for  R2b . Enter value into yellow cell M13 on the Tone page. Use with 'Modern' wiring only",null,null,null,"This is a dual gang pot with centre detent. R2a is very low 0-5, then rises linearly to about 1M at max. R3 is 250k log from 0 to 5 (ie, taper slope change at 2.5, then becomes very high / no-load at 5 (detent) and upwards. R1 represents the minimum value of the 1M (R2) pot, about 200 Ohms.\n"]
[]
[null,"Notes:",null,null,null,null,null,null,null,null,null,"Bass control"]
[null,"1. Coloured sliders represent guitar knobs",null,null,null,null,null,null,null,null,null,"10. Bass control can be lin, log or reverse log. 'Lin' and 'log' assume use of center and clockwise lugs so max bass at '10', max cut at '0' "]
[null,"2. Grey sliders set component values selected from tables of standrad values",null,null,null,null,null,null,null,null,null,"11. 'Reverse log' is based on standard A type log pot using centre and anticlockwise lugs, so max bass cut is at '10'. "]
[null,"3. The mani controls and outputs  repeat on Main and Tone pages",null,null,null,null,null,null,null,null,null,"12. A 'C' type reverse log pot (not currently included) will behave like the rev log bass pot modelled here, but will have max bass at '10'"]
[null,"4. Type directly into yellow cells, or use option buttons to set values"]
[null,"5. The main live trace (Red) changes interactively as values are changed",null,null,null,null,null,null,null,null,null,"Pickup Output"]
[null,"6. Press 'Reference' button to copty the live trace to the (dark blue) reference trace",null,null,null,null,null,null,null,null,null,"13. Relative pickup output may be entered in db, based on single coil = 0db. "]
[null,"7. Press 'Save Trace' button to store up to 8 additional traces",null,null,null,null,null,null,null,null,null,"14. Values are based on comparative mv output from DiMarzio. Single coil = 130mv, PAF=210mv, Hot Hb = 420mV "]
[null,"8. Legends typed into yellow cell M27 or O34 (Main and Tone pages) are copied to chart legend for each reference or saved trace",null,null,null,null,null,null,null,null,null,"15. db = 20log(output(mv)/130(mv))",null,null,null,null,null,"mv to db calculator"]
[null,"9. Pots may be log (10%) or linear(50%) taper, and are shown next to the pot on the Main page. Option buttons for pot taper are on Tone page",null,null,null,null,null,null,null,null,null,"16. Output values are approximate only",null,null,null,null,null,"0db ref",130,"mv"]
[null,null,null,null,null,null,null,null,null,null,null,null,null,null,null,null,null,"output",210,"mv"]
[null,"References",null,null,null,null,null,null,null,null,null,null,null,null,null,null,null,"relative db",{"$f":"20*LOG(S31/S30)","v":4.1655188485416499}]
[null,"http://www.till.com/articles/PickupResponse/index.html"]
[null,"http://research.spa.aalto.fi/publications/theses/jungmann_mst.pdf"]
[null,"http://buildyourguitar.com/resources/lemme/index.htm"]

{"sheet":"Chart","index":6,"n_rows":102,"n_cols":36,"rows_kept":102,"cut":false,"hidden":false,"merged":[]}
["Chart",{"$f":"Main!AS36","v":false},{"$f":"$B$45-C$45","v":3.3994318879813545},3.1413053210685908,0.81716716964054836,0.81716716964054836,0.81716716964054836,0.81716716964054836,0.81716716964054836,{"$f":"$B$45-J$45","v":0.81716716964054836},{"$f":"$B$45-K$45","v":0.81716716964054836}]
[null,"Ref","Output db",3,4,5,6,7,8,9,10,null,1,2,3,4,5,6,7,8,9,10,null,2,3,4,5,6,7,8,9,10]
[null,"Electrical only",{"$f":"IF(Main!L30=\"\",Tone!M38,Main!L30)","v":"Envelope"},"Full response",null,null,null,null,null,null,null,null,{"$f":"IF(B3=0,\"\",B3)","v":"Electrical only"},{"$f":"IF(C3=0,\"\",C3)","v":"Envelope"},{"$f":"IF(D3=0,\"\",D3)","v":"Full response"},"","","","","",{"$f":"IF(J3=0,\"\",J3)","v":""},{"$f":"IF(K3=0,\"\",K3)","v":""}]
[{"$f":"Main!AW46","v":41.203444614108754},{"$error":"#N/A"},{"$f":"Main!AX46","v":{"$error":"#N/A"}},{"$error":"#N/A"},null,null,null,null,null,null,null,{"$f":"A4","v":41.203444614108754},{"$f":"IF(B4=\"\",\"\",B4)","v":{"$error":"#N/A"}},{"$f":"IF(C4=\"\",\"\",C4+IF($B$1,C$1))","v":{"$error":"#N/A"}},{"$error":"#N/A"},"","","","","",{"$f":"IF(J4=\"\",\"\",J4+IF($B$1,J$1))","v":""},{"$f":"IF(K4=\"\",\"\",K4+IF($B$1,K$1))","v":""},null,{"$f":"IF(Main!$K$26<$A4,(IF(Main!$M$26>$A4,IF(N4=\"\",\"\",(N4-$M4)),\"\")),\"\")","v":""},{"$f":"IF(Main!$K$26<$A4,(IF(Main!$M$26>$A4,IF(O4=\"\",\"\",(O4-$M4)),\"\")),\"\")","v":""},{"$f":"IF(Main!$K$26<$A4,(IF(Main!$M$26>$A4,IF(P4=\"\",\"\",(P4-$M4)),\"\")),\"\")","v":""},{"$f":"IF(Main!$K$26<$A4,(IF(Main!$M$26>$A4,IF(Q4=\"\",\"\",(Q4-$M4)),\"\")),\"\")","v":""},{"$f":"IF(Main!$K$26<$A4,(IF(Main!$M$26>$A4,IF(R4=\"\",\"\",(R4-$M4)),\"\")),\"\")","v":""},{"$f":"IF(Main!$K$26<$A4,(IF(Main!$M$26>$A4,IF(S4=\"\",\"\",(S4-$M4)),\"\")),\"\")","v":""},{"$f":"IF(Main!$K$26<$A4,(IF(Main!$M$26>$A4,IF(T4=\"\",\"\",(T4-$M4)),\"\")),\"\")","v":""},{"$f":"IF(Main!$K$26<$A4,(IF(Main!$M$26>$A4,IF(U4=\"\",\"\",(U4-$M4)),\"\")),\"\")","v":""},{"$f":"IF(Main!$K$26<$A4,(IF(Main!$M$26>$A4,IF(V4=\"\",\"\",(V4-$M4)),\"\")),\"\")","v":""},null,null,41.203444614108754,{"$error":"#N/A"}]
[{"$f":"Main!AW47","v":43.6535289291255},{"$error":"#N/A"},{"$f":"Main!AX47","v":{"$error":"#N/A"}},{"$error":"#N/A"},null,null,null,null,null,null,null,{"$f":"A5","v":43.6535289291255},{"$f":"IF(B5=\"\",\"\",B5)","v":{"$error":"#N/A"}},{"$f":"IF(C5=\"\",\"\",C5+IF($B$1,C$1))","v":{"$error":"#N/A"}},{"$f":"IF(D5=\"\",\"\",D5+IF($B$1,D$1))","v":{"$error":"#N/A"}},{"$f":"IF(E5=\"\",\"\",E5+IF($B$1,E$1))","v":""},{"$f":"IF(F5=\"\",\"\",F5+IF($B$1,F$1))","v":""},{"$f":"IF(G5=\"\",\"\",G5+IF($B$1,G$1))","v":""},{"$f":"IF(H5=\"\",\"\",H5+IF($B$1,H$1))","v":""},{"$f":"IF(I5=\"\",\"\",I5+IF($B$1,I$1))","v":""},{"$f":"IF(J5=\"\",\"\",J5+IF($B$1,J$1))","v":""},{"$f":"IF(K5=\"\",\"\",K5+IF($B$1,K$1))","v":""},null,{"$f":"IF(Main!$K$26<$A5,(IF(Main!$M$26>$A5,IF(N5=\"\",\"\",(N5-$M5)),\"\")),\"\")","v":""},{"$f":"IF(Main!$K$26<$A5,(IF(Main!$M$26>$A5,IF(O5=\"\",\"\",(O5-$M5)),\"\")),\"\")","v":""},{"$f":"IF(Main!$K$26<$A5,(IF(Main!$M$26>$A5,IF(P5=\"\",\"\",(P5-$M5)),\"\")),\"\")","v":""},{"$f":"IF(Main!$K$26<$A5,(IF(Main!$M$26>$A5,IF(Q5=\"\",\"\",(Q5-$M5)),\"\")),\"\")","v":""},{"$f":"IF(Main!$K$26<$A5,(IF(Main!$M$26>$A5,IF(R5=\"\",\"\",(R5-$M5)),\"\")),\"\")","v":""},{"$f":"IF(Main!$K$26<$A5,(IF(Main!$M$26>$A5,IF(S5=\"\",\"\",(S5-$M5)),\"\")),\"\")","v":""},{"$f":"IF(Main!$K$26<$A5,(IF(Main!$M$26>$A5,IF(T5=\"\",\"\",(T5-$M5)),\"\")),\"\")","v":""},{"$f":"IF(Main!$K$26<$A5,(IF(Main!$M$26>$A5,IF(U5=\"\",\"\",(U5-$M5)),\"\")),\"\")","v":""},{"$f":"IF(Main!$K$26<$A5,(IF(Main!$M$26>$A5,IF(V5=\"\",\"\",(V5-$M5)),\"\")),\"\")","v":""},null,null,43.6535289291255,{"$error":"#N/A"}]
[{"$f":"Main!AW48","v":46.249302838954314},{"$error":"#N/A"},{"$f":"Main!AX48","v":{"$error":"#N/A"}},{"$error":"#N/A"},null,null,null,null,null,null,null,46.249302838954314,{"$error":"#N/A"},{"$error":"#N/A"},{"$error":"#N/A"},"","","","","","","",null,{"$f":"IF(Main!$K$26<$A6,(IF(Main!$M$26>$A6,IF(N6=\"\",\"\",(N6-$M6)),\"\")),\"\")","v":""},{"$f":"IF(Main!$K$26<$A6,(IF(Main!$M$26>$A6,IF(O6=\"\",\"\",(O6-$M6)),\"\")),\"\")","v":""},{"$f":"IF(Main!$K$26<$A6,(IF(Main!$M$26>$A6,IF(P6=\"\",\"\",(P6-$M6)),\"\")),\"\")","v":""},{"$f":"IF(Main!$K$26<$A6,(IF(Main!$M$26>$A6,IF(Q6=\"\",\"\",(Q6-$M6)),\"\")),\"\")","v":""},{"$f":"IF(Main!$K$26<$A6,(IF(Main!$M$26>$A6,IF(R6=\"\",\"\",(R6-$M6)),\"\")),\"\")","v":""},{"$f":"IF(Main!$K$26<$A6,(IF(Main!$M$26>$A6,IF(S6=\"\",\"\",(S6-$M6)),\"\")),\"\")","v":""},{"$f":"IF(Main!$K$26<$A6,(IF(Main!$M$26>$A6,IF(T6=\"\",\"\",(T6-$M6)),\"\")),\"\")","v":""},{"$f":"IF(Main!$K$26<$A6,(IF(Main!$M$26>$A6,IF(U6=\"\",\"\",(U6-$M6)),\"\")),\"\")","v":""},{"$f":"IF(Main!$K$26<$A6,(IF(Main!$M$26>$A6,IF(V6=\"\",\"\",(V6-$M6)),\"\")),\"\")","v":""},null,null,46.249302838954314,{"$error":"#N/A"}]
[{"$f":"Main!AW49","v":48.99942949771868},{"$error":"#N/A"},{"$f":"Main!AX49","v":{"$error":"#N/A"}},{"$error":"#N/A"},null,null,null,null,null,null,null,48.99942949771868,{"$error":"#N/A"},{"$error":"#N/A"},{"$error":"#N/A"},"","","","","","","",null,{"$f":"IF(Main!$K$26<$A7,(IF(Main!$M$26>$A7,IF(N7=\"\",\"\",(N7-$M7)),\"\")),\"\")","v":""},{"$f":"IF(Main!$K$26<$A7,(IF(Main!$M$26>$A7,IF(O7=\"\",\"\",(O7-$M7)),\"\")),\"\")","v":""},{"$f":"IF(Main!$K$26<$A7,(IF(Main!$M$26>$A7,IF(P7=\"\",\"\",(P7-$M7)),\"\")),\"\")","v":""},{"$f":"IF(Main!$K$26<$A7,(IF(Main!$M$26>$A7,IF(Q7=\"\",\"\",(Q7-$M7)),\"\")),\"\")","v":""},{"$f":"IF(Main!$K$26<$A7,(IF(Main!$M$26>$A7,IF(R7=\"\",\"\",(R7-$M7)),\"\")),\"\")","v":""},{"$f":"IF(Main!$K$26<$A7,(IF(Main!$M$26>$A7,IF(S7=\"\",\"\",(S7-$M7)),\"\")),\"\")","v":""},{"$f":"IF(Main!$K$26<$A7,(IF(Main!$M$26>$A7,IF(T7=\"\",\"\",(T7-$M7)),\"\")),\"\")","v":""},{"$f":"IF(Main!$K$26<$A7,(IF(Main!$M$26>$A7,IF(U7=\"\",\"\",(U7-$M7)),\"\")),\"\")","v":""},{"$f":"IF(Main!$K$26<$A7,(IF(Main!$M$26>$A7,IF(V7=\"\",\"\",(V7-$M7)),\"\")),\"\")","v":""},null,null,48.99942949771868,{"$error":"#N/A"}]
[{"$f":"Main!AW50","v":51.913087197493162},{"$error":"#N/A"},{"$f":"Main!AX50","v":{"$error":"#N/A"}},{"$error":"#N/A"},null,null,null,null,null,null,null,51.913087197493162,{"$error":"#N/A"},{"$error":"#N/A"},{"$error":"#N/A"},"","","","","","","",null,{"$f":"IF(Main!$K$26<$A8,(IF(Main!$M$26>$A8,IF(N8=\"\",\"\",(N8-$M8)),\"\")),\"\")","v":""},{"$f":"IF(Main!$K$26<$A8,(IF(Main!$M$26>$A8,IF(O8=\"\",\"\",(O8-$M8)),\"\")),\"\")","v":""},{"$f":"IF(Main!$K$26<$A8,(IF(Main!$M$26>$A8,IF(P8=\"\",\"\",(P8-$M8)),\"\")),\"\")","v":""},{"$f":"IF(Main!$K$26<$A8,(IF(Main!$M$26>$A8,IF(Q8=\"\",\"\",(Q8-$M8)),\"\")),\"\")","v":""},{"$f":"IF(Main!$K$26<$A8,(IF(Main!$M$26>$A8,IF(R8=\"\",\"\",(R8-$M8)),\"\")),\"\")","v":""},{"$f":"IF(Main!$K$26<$A8,(IF(Main!$M$26>$A8,IF(S8=\"\",\"\",(S8-$M8)),\"\")),\"\")","v":""},{"$f":"IF(Main!$K$26<$A8,(IF(Main!$M$26>$A8,IF(T8=\"\",\"\",(T8-$M8)),\"\")),\"\")","v":""},{"$f":"IF(Main!$K$26<$A8,(IF(Main!$M$26>$A8,IF(U8=\"\",\"\",(U8-$M8)),\"\")),\"\")","v":""},{"$f":"IF(Main!$K$26<$A8,(IF(Main!$M$26>$A8,IF(V8=\"\",\"\",(V8-$M8)),\"\")),\"\")","v":""},null,null,51.913087197493162,{"$error":"#N/A"}]
[{"$f":"Main!AW51","v":55.000000000000021},{"$error":"#N/A"},{"$f":"Main!AX51","v":{"$error":"#N/A"}},{"$error":"#N/A"},null,null,null,null,null,null,null,55.000000000000021,{"$error":"#N/A"},{"$error":"#N/A"},{"$error":"#N/A"},"","","","","","","",null,{"$f":"IF(Main!$K$26<$A9,(IF(Main!$M$26>$A9,IF(N9=\"\",\"\",(N9-$M9)),\"\")),\"\")","v":""},{"$f":"IF(Main!$K$26<$A9,(IF(Main!$M$26>$A9,IF(O9=\"\",\"\",(O9-$M9)),\"\")),\"\")","v":""},{"$f":"IF(Main!$K$26<$A9,(IF(Main!$M$26>$A9,IF(P9=\"\",\"\",(P9-$M9)),\"\")),\"\")","v":""},{"$f":"IF(Main!$K$26<$A9,(IF(Main!$M$26>$A9,IF(Q9=\"\",\"\",(Q9-$M9)),\"\")),\"\")","v":""},{"$f":"IF(Main!$K$26<$A9,(IF(Main!$M$26>$A9,IF(R9=\"\",\"\",(R9-$M9)),\"\")),\"\")","v":""},{"$f":"IF(Main!$K$26<$A9,(IF(Main!$M$26>$A9,IF(S9=\"\",\"\",(S9-$M9)),\"\")),\"\")","v":""},{"$f":"IF(Main!$K$26<$A9,(IF(Main!$M$26>$A9,IF(T9=\"\",\"\",(T9-$M9)),\"\")),\"\")","v":""},{"$f":"IF(Main!$K$26<$A9,(IF(Main!$M$26>$A9,IF(U9=\"\",\"\",(U9-$M9)),\"\")),\"\")","v":""},{"$f":"IF(Main!$K$26<$A9,(IF(Main!$M$26>$A9,IF(V9=\"\",\"\",(V9-$M9)),\"\")),\"\")","v":""},null,null,55.000000000000021,{"$error":"#N/A"}]
[{"$f":"Main!AW52","v":58.270470189761262},{"$error":"#N/A"},{"$f":"Main!AX52","v":{"$error":"#N/A"}},{"$error":"#N/A"},null,null,null,null,null,null,null,58.270470189761262,{"$error":"#N/A"},{"$error":"#N/A"},{"$error":"#N/A"},"","","","","","","",null,{"$f":"IF(Main!$K$26<$A10,(IF(Main!$M$26>$A10,IF(N10=\"\",\"\",(N10-$M10)),\"\")),\"\")","v":""},{"$f":"IF(Main!$K$26<$A10,(IF(Main!$M$26>$A10,IF(O10=\"\",\"\",(O10-$M10)),\"\")),\"\")","v":""},{"$f":"IF(Main!$K$26<$A10,(IF(Main!$M$26>$A10,IF(P10=\"\",\"\",(P10-$M10)),\"\")),\"\")","v":""},{"$f":"IF(Main!$K$26<$A10,(IF(Main!$M$26>$A10,IF(Q10=\"\",\"\",(Q10-$M10)),\"\")),\"\")","v":""},{"$f":"IF(Main!$K$26<$A10,(IF(Main!$M$26>$A10,IF(R10=\"\",\"\",(R10-$M10)),\"\")),\"\")","v":""},{"$f":"IF(Main!$K$26<$A10,(IF(Main!$M$26>$A10,IF(S10=\"\",\"\",(S10-$M10)),\"\")),\"\")","v":""},{"$f":"IF(Main!$K$26<$A10,(IF(Main!$M$26>$A10,IF(T10=\"\",\"\",(T10-$M10)),\"\")),\"\")","v":""},{"$f":"IF(Main!$K$26<$A10,(IF(Main!$M$26>$A10,IF(U10=\"\",\"\",(U10-$M10)),\"\")),\"\")","v":""},{"$f":"IF(Main!$K$26<$A10,(IF(Main!$M$26>$A10,IF(V10=\"\",\"\",(V10-$M10)),\"\")),\"\")","v":""},null,null,58.270470189761262,{"$error":"#N/A"}]
[{"$f":"Main!AW53","v":61.735412657015537},{"$error":"#N/A"},{"$f":"Main!AX53","v":{"$error":"#N/A"}},{"$error":"#N/A"},null,null,null,null,null,null,null,61.735412657015537,{"$error":"#N/A"},{"$error":"#N/A"},{"$error":"#N/A"},"","","","","","","",null,{"$f":"IF(Main!$K$26<$A11,(IF(Main!$M$26>$A11,IF(N11=\"\",\"\",(N11-$M11)),\"\")),\"\")","v":""},{"$f":"IF(Main!$K$26<$A11,(IF(Main!$M$26>$A11,IF(O11=\"\",\"\",(O11-$M11)),\"\")),\"\")","v":""},{"$f":"IF(Main!$K$26<$A11,(IF(Main!$M$26>$A11,IF(P11=\"\",\"\",(P11-$M11)),\"\")),\"\")","v":""},{"$f":"IF(Main!$K$26<$A11,(IF(Main!$M$26>$A11,IF(Q11=\"\",\"\",(Q11-$M11)),\"\")),\"\")","v":""},{"$f":"IF(Main!$K$26<$A11,(IF(Main!$M$26>$A11,IF(R11=\"\",\"\",(R11-$M11)),\"\")),\"\")","v":""},{"$f":"IF(Main!$K$26<$A11,(IF(Main!$M$26>$A11,IF(S11=\"\",\"\",(S11-$M11)),\"\")),\"\")","v":""},{"$f":"IF(Main!$K$26<$A11,(IF(Main!$M$26>$A11,IF(T11=\"\",\"\",(T11-$M11)),\"\")),\"\")","v":""},{"$f":"IF(Main!$K$26<$A11,(IF(Main!$M$26>$A11,IF(U11=\"\",\"\",(U11-$M11)),\"\")),\"\")","v":""},{"$f":"IF(Main!$K$26<$A11,(IF(Main!$M$26>$A11,IF(V11=\"\",\"\",(V11-$M11)),\"\")),\"\")","v":""},null,null,61.735412657015537,{"$error":"#N/A"}]
[{"$f":"Main!AW54","v":65.406391325149684},{"$error":"#N/A"},{"$f":"Main!AX54","v":{"$error":"#N/A"}},{"$error":"#N/A"},null,null,null,null,null,null,null,65.406391325149684,{"$error":"#N/A"},{"$error":"#N/A"},{"$error":"#N/A"},"","","","","","","",null,{"$f":"IF(Main!$K$26<$A12,(IF(Main!$M$26>$A12,IF(N12=\"\",\"\",(N12-$M12)),\"\")),\"\")","v":""},{"$f":"IF(Main!$K$26<$A12,(IF(Main!$M$26>$A12,IF(O12=\"\",\"\",(O12-$M12)),\"\")),\"\")","v":""},{"$f":"IF(Main!$K$26<$A12,(IF(Main!$M$26>$A12,IF(P12=\"\",\"\",(P12-$M12)),\"\")),\"\")","v":""},{"$f":"IF(Main!$K$26<$A12,(IF(Main!$M$26>$A12,IF(Q12=\"\",\"\",(Q12-$M12)),\"\")),\"\")","v":""},{"$f":"IF(Main!$K$26<$A12,(IF(Main!$M$26>$A12,IF(R12=\"\",\"\",(R12-$M12)),\"\")),\"\")","v":""},{"$f":"IF(Main!$K$26<$A12,(IF(Main!$M$26>$A12,IF(S12=\"\",\"\",(S12-$M12)),\"\")),\"\")","v":""},{"$f":"IF(Main!$K$26<$A12,(IF(Main!$M$26>$A12,IF(T12=\"\",\"\",(T12-$M12)),\"\")),\"\")","v":""},{"$f":"IF(Main!$K$26<$A12,(IF(Main!$M$26>$A12,IF(U12=\"\",\"\",(U12-$M12)),\"\")),\"\")","v":""},{"$f":"IF(Main!$K$26<$A12,(IF(Main!$M$26>$A12,IF(V12=\"\",\"\",(V12-$M12)),\"\")),\"\")","v":""},null,null,65.406391325149684,{"$error":"#N/A"}]
[{"$f":"Main!AW55","v":69.295657744218047},{"$error":"#N/A"},{"$f":"Main!AX55","v":{"$error":"#N/A"}},{"$error":"#N/A"},null,null,null,null,null,null,null,69.295657744218047,{"$error":"#N/A"},{"$error":"#N/A"},{"$error":"#N/A"},"","","","","","","",null,{"$f":"IF(Main!$K$26<$A13,(IF(Main!$M$26>$A13,IF(N13=\"\",\"\",(N13-$M13)),\"\")),\"\")","v":""},{"$f":"IF(Main!$K$26<$A13,(IF(Main!$M$26>$A13,IF(O13=\"\",\"\",(O13-$M13)),\"\")),\"\")","v":""},{"$f":"IF(Main!$K$26<$A13,(IF(Main!$M$26>$A13,IF(P13=\"\",\"\",(P13-$M13)),\"\")),\"\")","v":""},{"$f":"IF(Main!$K$26<$A13,(IF(Main!$M$26>$A13,IF(Q13=\"\",\"\",(Q13-$M13)),\"\")),\"\")","v":""},{"$f":"IF(Main!$K$26<$A13,(IF(Main!$M$26>$A13,IF(R13=\"\",\"\",(R13-$M13)),\"\")),\"\")","v":""},{"$f":"IF(Main!$K$26<$A13,(IF(Main!$M$26>$A13,IF(S13=\"\",\"\",(S13-$M13)),\"\")),\"\")","v":""},{"$f":"IF(Main!$K$26<$A13,(IF(Main!$M$26>$A13,IF(T13=\"\",\"\",(T13-$M13)),\"\")),\"\")","v":""},{"$f":"IF(Main!$K$26<$A13,(IF(Main!$M$26>$A13,IF(U13=\"\",\"\",(U13-$M13)),\"\")),\"\")","v":""},{"$f":"IF(Main!$K$26<$A13,(IF(Main!$M$26>$A13,IF(V13=\"\",\"\",(V13-$M13)),\"\")),\"\")","v":""},null,null,69.295657744218047,{"$error":"#N/A"}]
[{"$f":"Main!AW56","v":73.416191979351922},{"$error":"#N/A"},{"$f":"Main!AX56","v":{"$error":"#N/A"}},{"$error":"#N/A"},null,null,null,null,null,null,null,73.416191979351922,{"$error":"#N/A"},{"$error":"#N/A"},{"$error":"#N/A"},"","","","","","","",null,{"$f":"IF(Main!$K$26<$A14,(IF(Main!$M$26>$A14,IF(N14=\"\",\"\",(N14-$M14)),\"\")),\"\")","v":""},{"$f":"IF(Main!$K$26<$A14,(IF(Main!$M$26>$A14,IF(O14=\"\",\"\",(O14-$M14)),\"\")),\"\")","v":""},{"$f":"IF(Main!$K$26<$A14,(IF(Main!$M$26>$A14,IF(P14=\"\",\"\",(P14-$M14)),\"\")),\"\")","v":""},{"$f":"IF(Main!$K$26<$A14,(IF(Main!$M$26>$A14,IF(Q14=\"\",\"\",(Q14-$M14)),\"\")),\"\")","v":""},{"$f":"IF(Main!$K$26<$A14,(IF(Main!$M$26>$A14,IF(R14=\"\",\"\",(R14-$M14)),\"\")),\"\")","v":""},{"$f":"IF(Main!$K$26<$A14,(IF(Main!$M$26>$A14,IF(S14=\"\",\"\",(S14-$M14)),\"\")),\"\")","v":""},{"$f":"IF(Main!$K$26<$A14,(IF(Main!$M$26>$A14,IF(T14=\"\",\"\",(T14-$M14)),\"\")),\"\")","v":""},{"$f":"IF(Main!$K$26<$A14,(IF(Main!$M$26>$A14,IF(U14=\"\",\"\",(U14-$M14)),\"\")),\"\")","v":""},{"$f":"IF(Main!$K$26<$A14,(IF(Main!$M$26>$A14,IF(V14=\"\",\"\",(V14-$M14)),\"\")),\"\")","v":""},null,null,73.416191979351922,{"$error":"#N/A"}]
[{"$f":"Main!AW57","v":77.781745930520259},{"$error":"#N/A"},{"$f":"Main!AX57","v":{"$error":"#N/A"}},{"$error":"#N/A"},null,null,null,null,null,null,null,77.781745930520259,{"$error":"#N/A"},{"$error":"#N/A"},{"$error":"#N/A"},"","","","","","","",null,{"$f":"IF(Main!$K$26<$A15,(IF(Main!$M$26>$A15,IF(N15=\"\",\"\",(N15-$M15)),\"\")),\"\")","v":""},{"$f":"IF(Main!$K$26<$A15,(IF(Main!$M$26>$A15,IF(O15=\"\",\"\",(O15-$M15)),\"\")),\"\")","v":""},{"$f":"IF(Main!$K$26<$A15,(IF(Main!$M$26>$A15,IF(P15=\"\",\"\",(P15-$M15)),\"\")),\"\")","v":""},{"$f":"IF(Main!$K$26<$A15,(IF(Main!$M$26>$A15,IF(Q15=\"\",\"\",(Q15-$M15)),\"\")),\"\")","v":""},{"$f":"IF(Main!$K$26<$A15,(IF(Main!$M$26>$A15,IF(R15=\"\",\"\",(R15-$M15)),\"\")),\"\")","v":""},{"$f":"IF(Main!$K$26<$A15,(IF(Main!$M$26>$A15,IF(S15=\"\",\"\",(S15-$M15)),\"\")),\"\")","v":""},{"$f":"IF(Main!$K$26<$A15,(IF(Main!$M$26>$A15,IF(T15=\"\",\"\",(T15-$M15)),\"\")),\"\")","v":""},{"$f":"IF(Main!$K$26<$A15,(IF(Main!$M$26>$A15,IF(U15=\"\",\"\",(U15-$M15)),\"\")),\"\")","v":""},{"$f":"IF(Main!$K$26<$A15,(IF(Main!$M$26>$A15,IF(V15=\"\",\"\",(V15-$M15)),\"\")),\"\")","v":""},null,null,77.781745930520259,{"$error":"#N/A"}]
[{"$f":"Main!AW58","v":82.406889228217523},0.73556234796372211,{"$f":"Main!AX58","v":-7.7987227223712168},-7.7707669841448546,null,null,null,null,null,null,null,82.406889228217523,0.73556234796372211,-7.7987227223712168,-7.7707669841448546,"","","","","","","",null,{"$f":"IF(Main!$K$26<$A16,(IF(Main!$M$26>$A16,IF(N16=\"\",\"\",(N16-$M16)),\"\")),\"\")","v":""},{"$f":"IF(Main!$K$26<$A16,(IF(Main!$M$26>$A16,IF(O16=\"\",\"\",(O16-$M16)),\"\")),\"\")","v":""},{"$f":"IF(Main!$K$26<$A16,(IF(Main!$M$26>$A16,IF(P16=\"\",\"\",(P16-$M16)),\"\")),\"\")","v":""},{"$f":"IF(Main!$K$26<$A16,(IF(Main!$M$26>$A16,IF(Q16=\"\",\"\",(Q16-$M16)),\"\")),\"\")","v":""},{"$f":"IF(Main!$K$26<$A16,(IF(Main!$M$26>$A16,IF(R16=\"\",\"\",(R16-$M16)),\"\")),\"\")","v":""},{"$f":"IF(Main!$K$26<$A16,(IF(Main!$M$26>$A16,IF(S16=\"\",\"\",(S16-$M16)),\"\")),\"\")","v":""},{"$f":"IF(Main!$K$26<$A16,(IF(Main!$M$26>$A16,IF(T16=\"\",\"\",(T16-$M16)),\"\")),\"\")","v":""},{"$f":"IF(Main!$K$26<$A16,(IF(Main!$M$26>$A16,IF(U16=\"\",\"\",(U16-$M16)),\"\")),\"\")","v":""},{"$f":"IF(Main!$K$26<$A16,(IF(Main!$M$26>$A16,IF(V16=\"\",\"\",(V16-$M16)),\"\")),\"\")","v":""},null,null,82.406889228217523,0.73556234796372211]
[{"$f":"Main!AW59","v":87.307057858251014},0.73592433125791923,{"$f":"Main!AX59","v":-7.3155731724552941},-58.801809236151634,null,null,null,null,null,null,null,87.307057858251014,0.73592433125791923,-7.3155731724552941,-58.801809236151634,"","","","","","","",null,{"$f":"IF(Main!$K$26<$A17,(IF(Main!$M$26>$A17,IF(N17=\"\",\"\",(N17-$M17)),\"\")),\"\")","v":""},{"$f":"IF(Main!$K$26<$A17,(IF(Main!$M$26>$A17,IF(O17=\"\",\"\",(O17-$M17)),\"\")),\"\")","v":""},{"$f":"IF(Main!$K$26<$A17,(IF(Main!$M$26>$A17,IF(P17=\"\",\"\",(P17-$M17)),\"\")),\"\")","v":""},{"$f":"IF(Main!$K$26<$A17,(IF(Main!$M$26>$A17,IF(Q17=\"\",\"\",(Q17-$M17)),\"\")),\"\")","v":""},{"$f":"IF(Main!$K$26<$A17,(IF(Main!$M$26>$A17,IF(R17=\"\",\"\",(R17-$M17)),\"\")),\"\")","v":""},{"$f":"IF(Main!$K$26<$A17,(IF(Main!$M$26>$A17,IF(S17=\"\",\"\",(S17-$M17)),\"\")),\"\")","v":""},{"$f":"IF(Main!$K$26<$A17,(IF(Main!$M$26>$A17,IF(T17=\"\",\"\",(T17-$M17)),\"\")),\"\")","v":""},{"$f":"IF(Main!$K$26<$A17,(IF(Main!$M$26>$A17,IF(U17=\"\",\"\",(U17-$M17)),\"\")),\"\")","v":""},{"$f":"IF(Main!$K$26<$A17,(IF(Main!$M$26>$A17,IF(V17=\"\",\"\",(V17-$M17)),\"\")),\"\")","v":""},null,null,87.307057858251014,0.73592433125791923]
[{"$f":"Main!AW60","v":92.498605677908643},0.73633065762092342,{"$f":"Main!AX60","v":-6.8378805641617033},-58.308113899427262,null,null,null,null,null,null,null,92.498605677908643,0.73633065762092342,-6.8378805641617033,-58.308113899427262,"","","","","","","",null,{"$f":"IF(Main!$K$26<$A18,(IF(Main!$M$26>$A18,IF(N18=\"\",\"\",(N18-$M18)),\"\")),\"\")","v":""},{"$f":"IF(Main!$K$26<$A18,(IF(Main!$M$26>$A18,IF(O18=\"\",\"\",(O18-$M18)),\"\")),\"\")","v":""},{"$f":"IF(Main!$K$26<$A18,(IF(Main!$M$26>$A18,IF(P18=\"\",\"\",(P18-$M18)),\"\")),\"\")","v":""},{"$f":"IF(Main!$K$26<$A18,(IF(Main!$M$26>$A18,IF(Q18=\"\",\"\",(Q18-$M18)),\"\")),\"\")","v":""},{"$f":"IF(Main!$K$26<$A18,(IF(Main!$M$26>$A18,IF(R18=\"\",\"\",(R18-$M18)),\"\")),\"\")","v":""},{"$f":"IF(Main!$K$26<$A18,(IF(Main!$M$26>$A18,IF(S18=\"\",\"\",(S18-$M18)),\"\")),\"\")","v":""},{"$f":"IF(Main!$K$26<$A18,(IF(Main!$M$26>$A18,IF(T18=\"\",\"\",(T18-$M18)),\"\")),\"\")","v":""},{"$f":"IF(Main!$K$26<$A18,(IF(Main!$M$26>$A18,IF(U18=\"\",\"\",(U18-$M18)),\"\")),\"\")","v":""},{"$f":"IF(Main!$K$26<$A18,(IF(Main!$M$26>$A18,IF(V18=\"\",\"\",(V18-$M18)),\"\")),\"\")","v":""},null,null,92.498605677908643,0.73633065762092342]
[{"$f":"Main!AW61","v":97.998858995437374},0.73678676099658569,{"$f":"Main!AX61","v":-6.3675044764887172},-57.815404326337521,null,null,null,null,null,null,null,97.998858995437374,0.73678676099658569,-6.3675044764887172,-57.815404326337521,"","","","","","","",null,{"$f":"IF(Main!$K$26<$A19,(IF(Main!$M$26>$A19,IF(N19=\"\",\"\",(N19-$M19)),\"\")),\"\")","v":""},{"$f":"IF(Main!$K$26<$A19,(IF(Main!$M$26>$A19,IF(O19=\"\",\"\",(O19-$M19)),\"\")),\"\")","v":""},{"$f":"IF(Main!$K$26<$A19,(IF(Main!$M$26>$A19,IF(P19=\"\",\"\",(P19-$M19)),\"\")),\"\")","v":""},{"$f":"IF(Main!$K$26<$A19,(IF(Main!$M$26>$A19,IF(Q19=\"\",\"\",(Q19-$M19)),\"\")),\"\")","v":""},{"$f":"IF(Main!$K$26<$A19,(IF(Main!$M$26>$A19,IF(R19=\"\",\"\",(R19-$M19)),\"\")),\"\")","v":""},{"$f":"IF(Main!$K$26<$A19,(IF(Main!$M$26>$A19,IF(S19=\"\",\"\",(S19-$M19)),\"\")),\"\")","v":""},{"$f":"IF(Main!$K$26<$A19,(IF(Main!$M$26>$A19,IF(T19=\"\",\"\",(T19-$M19)),\"\")),\"\")","v":""},{"$f":"IF(Main!$K$26<$A19,(IF(Main!$M$26>$A19,IF(U19=\"\",\"\",(U19-$M19)),\"\")),\"\")","v":""},{"$f":"IF(Main!$K$26<$A19,(IF(Main!$M$26>$A19,IF(V19=\"\",\"\",(V19-$M19)),\"\")),\"\")","v":""},null,null,97.998858995437374,0.73678676099658569]
[{"$f":"Main!AW62","v":103.82617439498634},0.73729874171662313,{"$f":"Main!AX62","v":-5.9069097615681914},-57.32380213911032,null,null,null,null,null,null,null,103.82617439498634,0.73729874171662313,-5.9069097615681914,-57.32380213911032,"","","","","","","",null,{"$f":"IF(Main!$K$26<$A20,(IF(Main!$M$26>$A20,IF(N20=\"\",\"\",(N20-$M20)),\"\")),\"\")","v":""},{"$f":"IF(Main!$K$26<$A20,(IF(Main!$M$26>$A20,IF(O20=\"\",\"\",(O20-$M20)),\"\")),\"\")","v":""},{"$f":"IF(Main!$K$26<$A20,(IF(Main!$M$26>$A20,IF(P20=\"\",\"\",(P20-$M20)),\"\")),\"\")","v":""},{"$f":"IF(Main!$K$26<$A20,(IF(Main!$M$26>$A20,IF(Q20=\"\",\"\",(Q20-$M20)),\"\")),\"\")","v":""},{"$f":"IF(Main!$K$26<$A20,(IF(Main!$M$26>$A20,IF(R20=\"\",\"\",(R20-$M20)),\"\")),\"\")","v":""},{"$f":"IF(Main!$K$26<$A20,(IF(Main!$M$26>$A20,IF(S20=\"\",\"\",(S20-$M20)),\"\")),\"\")","v":""},{"$f":"IF(Main!$K$26<$A20,(IF(Main!$M$26>$A20,IF(T20=\"\",\"\",(T20-$M20)),\"\")),\"\")","v":""},{"$f":"IF(Main!$K$26<$A20,(IF(Main!$M$26>$A20,IF(U20=\"\",\"\",(U20-$M20)),\"\")),\"\")","v":""},{"$f":"IF(Main!$K$26<$A20,(IF(Main!$M$26>$A20,IF(V20=\"\",\"\",(V20-$M20)),\"\")),\"\")","v":""},null,null,103.82617439498634,0.73729874171662313]
[{"$f":"Main!AW63","v":110.00000000000006},0.73787344835111601,{"$f":"Main!AX63","v":-5.4592992057487253},-7.7684558837574604,null,null,null,null,null,null,null,110.00000000000006,0.73787344835111601,-5.4592992057487253,-7.7684558837574604,"","","","","","","",null,{"$f":"IF(Main!$K$26<$A21,(IF(Main!$M$26>$A21,IF(N21=\"\",\"\",(N21-$M21)),\"\")),\"\")","v":""},{"$f":"IF(Main!$K$26<$A21,(IF(Main!$M$26>$A21,IF(O21=\"\",\"\",(O21-$M21)),\"\")),\"\")","v":""},{"$f":"IF(Main!$K$26<$A21,(IF(Main!$M$26>$A21,IF(P21=\"\",\"\",(P21-$M21)),\"\")),\"\")","v":""},{"$f":"IF(Main!$K$26<$A21,(IF(Main!$M$26>$A21,IF(Q21=\"\",\"\",(Q21-$M21)),\"\")),\"\")","v":""},{"$f":"IF(Main!$K$26<$A21,(IF(Main!$M$26>$A21,IF(R21=\"\",\"\",(R21-$M21)),\"\")),\"\")","v":""},{"$f":"IF(Main!$K$26<$A21,(IF(Main!$M$26>$A21,IF(S21=\"\",\"\",(S21-$M21)),\"\")),\"\")","v":""},{"$f":"IF(Main!$K$26<$A21,(IF(Main!$M$26>$A21,IF(T21=\"\",\"\",(T21-$M21)),\"\")),\"\")","v":""},{"$f":"IF(Main!$K$26<$A21,(IF(Main!$M$26>$A21,IF(U21=\"\",\"\",(U21-$M21)),\"\")),\"\")","v":""},{"$f":"IF(Main!$K$26<$A21,(IF(Main!$M$26>$A21,IF(V21=\"\",\"\",(V21-$M21)),\"\")),\"\")","v":""},null,null,110.00000000000006,0.73787344835111601]
[{"$f":"Main!AW64","v":116.54094037952254},0.73851856964587625,{"$f":"Main!AX64","v":-5.0287163007701725},-56.344483982599137,null,null,null,null,null,null,null,116.54094037952254,0.73851856964587625,-5.0287163007701725,-56.344483982599137,"","","","","","","",null,{"$f":"IF(Main!$K$26<$A22,(IF(Main!$M$26>$A22,IF(N22=\"\",\"\",(N22-$M22)),\"\")),\"\")","v":""},{"$f":"IF(Main!$K$26<$A22,(IF(Main!$M$26>$A22,IF(O22=\"\",\"\",(O22-$M22)),\"\")),\"\")","v":""},{"$f":"IF(Main!$K$26<$A22,(IF(Main!$M$26>$A22,IF(P22=\"\",\"\",(P22-$M22)),\"\")),\"\")","v":""},{"$f":"IF(Main!$K$26<$A22,(IF(Main!$M$26>$A22,IF(Q22=\"\",\"\",(Q22-$M22)),\"\")),\"\")","v":""},{"$f":"IF(Main!$K$26<$A22,(IF(Main!$M$26>$A22,IF(R22=\"\",\"\",(R22-$M22)),\"\")),\"\")","v":""},{"$f":"IF(Main!$K$26<$A22,(IF(Main!$M$26>$A22,IF(S22=\"\",\"\",(S22-$M22)),\"\")),\"\")","v":""},{"$f":"IF(Main!$K$26<$A22,(IF(Main!$M$26>$A22,IF(T22=\"\",\"\",(T22-$M22)),\"\")),\"\")","v":""},{"$f":"IF(Main!$K$26<$A22,(IF(Main!$M$26>$A22,IF(U22=\"\",\"\",(U22-$M22)),\"\")),\"\")","v":""},{"$f":"IF(Main!$K$26<$A22,(IF(Main!$M$26>$A22,IF(V22=\"\",\"\",(V22-$M22)),\"\")),\"\")","v":""},null,null,116.54094037952254,0.73851856964587625]
[{"$f":"Main!AW65","v":123.4708253140311},0.73924273779827798,{"$f":"Main!AX65","v":-4.620062060824849},-55.857094827061417,null,null,null,null,null,null,null,123.4708253140311,0.73924273779827798,-4.620062060824849,-55.857094827061417,"","","","","","","",null,{"$f":"IF(Main!$K$26<$A23,(IF(Main!$M$26>$A23,IF(N23=\"\",\"\",(N23-$M23)),\"\")),\"\")","v":""},{"$f":"IF(Main!$K$26<$A23,(IF(Main!$M$26>$A23,IF(O23=\"\",\"\",(O23-$M23)),\"\")),\"\")","v":""},{"$f":"IF(Main!$K$26<$A23,(IF(Main!$M$26>$A23,IF(P23=\"\",\"\",(P23-$M23)),\"\")),\"\")","v":""},{"$f":"IF(Main!$K$26<$A23,(IF(Main!$M$26>$A23,IF(Q23=\"\",\"\",(Q23-$M23)),\"\")),\"\")","v":""},{"$f":"IF(Main!$K$26<$A23,(IF(Main!$M$26>$A23,IF(R23=\"\",\"\",(R23-$M23)),\"\")),\"\")","v":""},{"$f":"IF(Main!$K$26<$A23,(IF(Main!$M$26>$A23,IF(S23=\"\",\"\",(S23-$M23)),\"\")),\"\")","v":""},{"$f":"IF(Main!$K$26<$A23,(IF(Main!$M$26>$A23,IF(T23=\"\",\"\",(T23-$M23)),\"\")),\"\")","v":""},{"$f":"IF(Main!$K$26<$A23,(IF(Main!$M$26>$A23,IF(U23=\"\",\"\",(U23-$M23)),\"\")),\"\")","v":""},{"$f":"IF(Main!$K$26<$A23,(IF(Main!$M$26>$A23,IF(V23=\"\",\"\",(V23-$M23)),\"\")),\"\")","v":""},null,null,123.4708253140311,0.73924273779827798]
[{"$f":"Main!AW66","v":130.8127826502994},0.74005564448089811,{"$f":"Main!AX66","v":-4.2389478418904067},-55.371471304892687,null,null,null,null,null,null,null,130.8127826502994,0.74005564448089811,-4.2389478418904067,-55.371471304892687,"","","","","","","",null,{"$f":"IF(Main!$K$26<$A24,(IF(Main!$M$26>$A24,IF(N24=\"\",\"\",(N24-$M24)),\"\")),\"\")","v":""},{"$f":"IF(Main!$K$26<$A24,(IF(Main!$M$26>$A24,IF(O24=\"\",\"\",(O24-$M24)),\"\")),\"\")","v":""},{"$f":"IF(Main!$K$26<$A24,(IF(Main!$M$26>$A24,IF(P24=\"\",\"\",(P24-$M24)),\"\")),\"\")","v":""},{"$f":"IF(Main!$K$26<$A24,(IF(Main!$M$26>$A24,IF(Q24=\"\",\"\",(Q24-$M24)),\"\")),\"\")","v":""},{"$f":"IF(Main!$K$26<$A24,(IF(Main!$M$26>$A24,IF(R24=\"\",\"\",(R24-$M24)),\"\")),\"\")","v":""},{"$f":"IF(Main!$K$26<$A24,(IF(Main!$M$26>$A24,IF(S24=\"\",\"\",(S24-$M24)),\"\")),\"\")","v":""},{"$f":"IF(Main!$K$26<$A24,(IF(Main!$M$26>$A24,IF(T24=\"\",\"\",(T24-$M24)),\"\")),\"\")","v":""},{"$f":"IF(Main!$K$26<$A24,(IF(Main!$M$26>$A24,IF(U24=\"\",\"\",(U24-$M24)),\"\")),\"\")","v":""},{"$f":"IF(Main!$K$26<$A24,(IF(Main!$M$26>$A24,IF(V24=\"\",\"\",(V24-$M24)),\"\")),\"\")","v":""},null,null,130.8127826502994,0.74005564448089811]
[{"$f":"Main!AW67","v":138.59131548843615},0.74096817120016245,{"$f":"Main!AX67","v":-3.8913058695858975},-54.887832543719156,null,null,null,null,null,null,null,138.59131548843615,0.74096817120016245,-3.8913058695858975,-54.887832543719156,"","","","","","","",null,{"$f":"IF(Main!$K$26<$A25,(IF(Main!$M$26>$A25,IF(N25=\"\",\"\",(N25-$M25)),\"\")),\"\")","v":""},{"$f":"IF(Main!$K$26<$A25,(IF(Main!$M$26>$A25,IF(O25=\"\",\"\",(O25-$M25)),\"\")),\"\")","v":""},{"$f":"IF(Main!$K$26<$A25,(IF(Main!$M$26>$A25,IF(P25=\"\",\"\",(P25-$M25)),\"\")),\"\")","v":""},{"$f":"IF(Main!$K$26<$A25,(IF(Main!$M$26>$A25,IF(Q25=\"\",\"\",(Q25-$M25)),\"\")),\"\")","v":""},{"$f":"IF(Main!$K$26<$A25,(IF(Main!$M$26>$A25,IF(R25=\"\",\"\",(R25-$M25)),\"\")),\"\")","v":""},{"$f":"IF(Main!$K$26<$A25,(IF(Main!$M$26>$A25,IF(S25=\"\",\"\",(S25-$M25)),\"\")),\"\")","v":""},{"$f":"IF(Main!$K$26<$A25,(IF(Main!$M$26>$A25,IF(T25=\"\",\"\",(T25-$M25)),\"\")),\"\")","v":""},{"$f":"IF(Main!$K$26<$A25,(IF(Main!$M$26>$A25,IF(U25=\"\",\"\",(U25-$M25)),\"\")),\"\")","v":""},{"$f":"IF(Main!$K$26<$A25,(IF(Main!$M$26>$A25,IF(V25=\"\",\"\",(V25-$M25)),\"\")),\"\")","v":""},null,null,138.59131548843615,0.74096817120016245]
[{"$f":"Main!AW68","v":146.8323839587039},0.74199253577829427,{"$f":"Main!AX68","v":-3.5827294630962592},-7.7643367963302827,null,null,null,null,null,null,null,146.8323839587039,0.74199253577829427,-3.5827294630962592,-7.7643367963302827,"","","","","","","",null,{"$f":"IF(Main!$K$26<$A26,(IF(Main!$M$26>$A26,IF(N26=\"\",\"\",(N26-$M26)),\"\")),\"\")","v":""},{"$f":"IF(Main!$K$26<$A26,(IF(Main!$M$26>$A26,IF(O26=\"\",\"\",(O26-$M26)),\"\")),\"\")","v":""},{"$f":"IF(Main!$K$26<$A26,(IF(Main!$M$26>$A26,IF(P26=\"\",\"\",(P26-$M26)),\"\")),\"\")","v":""},{"$f":"IF(Main!$K$26<$A26,(IF(Main!$M$26>$A26,IF(Q26=\"\",\"\",(Q26-$M26)),\"\")),\"\")","v":""},{"$f":"IF(Main!$K$26<$A26,(IF(Main!$M$26>$A26,IF(R26=\"\",\"\",(R26-$M26)),\"\")),\"\")","v":""},{"$f":"IF(Main!$K$26<$A26,(IF(Main!$M$26>$A26,IF(S26=\"\",\"\",(S26-$M26)),\"\")),\"\")","v":""},{"$f":"IF(Main!$K$26<$A26,(IF(Main!$M$26>$A26,IF(T26=\"\",\"\",(T26-$M26)),\"\")),\"\")","v":""},{"$f":"IF(Main!$K$26<$A26,(IF(Main!$M$26>$A26,IF(U26=\"\",\"\",(U26-$M26)),\"\")),\"\")","v":""},{"$f":"IF(Main!$K$26<$A26,(IF(Main!$M$26>$A26,IF(V26=\"\",\"\",(V26-$M26)),\"\")),\"\")","v":""},null,null,146.8323839587039,0.74199253577829427]
[{"$f":"Main!AW69","v":155.5634918610406},0.74314245697465264,{"$f":"Main!AX69","v":-3.317630336738715},-53.92752741253814,null,null,null,null,null,null,null,155.5634918610406,0.74314245697465264,-3.317630336738715,-53.92752741253814,"","","","","","","",null,{"$f":"IF(Main!$K$26<$A27,(IF(Main!$M$26>$A27,IF(N27=\"\",\"\",(N27-$M27)),\"\")),\"\")","v":""},{"$f":"IF(Main!$K$26<$A27,(IF(Main!$M$26>$A27,IF(O27=\"\",\"\",(O27-$M27)),\"\")),\"\")","v":""},{"$f":"IF(Main!$K$26<$A27,(IF(Main!$M$26>$A27,IF(P27=\"\",\"\",(P27-$M27)),\"\")),\"\")","v":""},{"$f":"IF(Main!$K$26<$A27,(IF(Main!$M$26>$A27,IF(Q27=\"\",\"\",(Q27-$M27)),\"\")),\"\")","v":""},{"$f":"IF(Main!$K$26<$A27,(IF(Main!$M$26>$A27,IF(R27=\"\",\"\",(R27-$M27)),\"\")),\"\")","v":""},{"$f":"IF(Main!$K$26<$A27,(IF(Main!$M$26>$A27,IF(S27=\"\",\"\",(S27-$M27)),\"\")),\"\")","v":""},{"$f":"IF(Main!$K$26<$A27,(IF(Main!$M$26>$A27,IF(T27=\"\",\"\",(T27-$M27)),\"\")),\"\")","v":""},{"$f":"IF(Main!$K$26<$A27,(IF(Main!$M$26>$A27,IF(U27=\"\",\"\",(U27-$M27)),\"\")),\"\")","v":""},{"$f":"IF(Main!$K$26<$A27,(IF(Main!$M$26>$A27,IF(V27=\"\",\"\",(V27-$M27)),\"\")),\"\")","v":""},null,null,155.5634918610406,0.74314245697465264]
[{"$f":"Main!AW70","v":164.81377845643513},0.74443333951991142,{"$f":"Main!AX70","v":-3.0984421232116981},-3.2256626517164353,null,null,null,null,null,null,null,164.81377845643513,0.74443333951991142,-3.0984421232116981,-3.2256626517164353,"","","","","","","",null,{"$f":"IF(Main!$K$26<$A28,(IF(Main!$M$26>$A28,IF(N28=\"\",\"\",(N28-$M28)),\"\")),\"\")","v":""},{"$f":"IF(Main!$K$26<$A28,(IF(Main!$M$26>$A28,IF(O28=\"\",\"\",(O28-$M28)),\"\")),\"\")","v":""},{"$f":"IF(Main!$K$26<$A28,(IF(Main!$M$26>$A28,IF(P28=\"\",\"\",(P28-$M28)),\"\")),\"\")","v":""},{"$f":"IF(Main!$K$26<$A28,(IF(Main!$M$26>$A28,IF(Q28=\"\",\"\",(Q28-$M28)),\"\")),\"\")","v":""},{"$f":"IF(Main!$K$26<$A28,(IF(Main!$M$26>$A28,IF(R28=\"\",\"\",(R28-$M28)),\"\")),\"\")","v":""},{"$f":"IF(Main!$K$26<$A28,(IF(Main!$M$26>$A28,IF(S28=\"\",\"\",(S28-$M28)),\"\")),\"\")","v":""},{"$f":"IF(Main!$K$26<$A28,(IF(Main!$M$26>$A28,IF(T28=\"\",\"\",(T28-$M28)),\"\")),\"\")","v":""},{"$f":"IF(Main!$K$26<$A28,(IF(Main!$M$26>$A28,IF(U28=\"\",\"\",(U28-$M28)),\"\")),\"\")","v":""},{"$f":"IF(Main!$K$26<$A28,(IF(Main!$M$26>$A28,IF(V28=\"\",\"\",(V28-$M28)),\"\")),\"\")","v":""},null,null,164.81377845643513,0.74443333951991142]
[{"$f":"Main!AW71","v":174.61411571650211},0.74588248212875941,{"$f":"Main!AX71","v":-2.9251657572408609},-52.978552575538629,null,null,null,null,null,null,null,174.61411571650211,0.74588248212875941,-2.9251657572408609,-52.978552575538629,"","","","","","","",null,{"$f":"IF(Main!$K$26<$A29,(IF(Main!$M$26>$A29,IF(N29=\"\",\"\",(N29-$M29)),\"\")),\"\")","v":""},{"$f":"IF(Main!$K$26<$A29,(IF(Main!$M$26>$A29,IF(O29=\"\",\"\",(O29-$M29)),\"\")),\"\")","v":""},{"$f":"IF(Main!$K$26<$A29,(IF(Main!$M$26>$A29,IF(P29=\"\",\"\",(P29-$M29)),\"\")),\"\")","v":""},{"$f":"IF(Main!$K$26<$A29,(IF(Main!$M$26>$A29,IF(Q29=\"\",\"\",(Q29-$M29)),\"\")),\"\")","v":""},{"$f":"IF(Main!$K$26<$A29,(IF(Main!$M$26>$A29,IF(R29=\"\",\"\",(R29-$M29)),\"\")),\"\")","v":""},{"$f":"IF(Main!$K$26<$A29,(IF(Main!$M$26>$A29,IF(S29=\"\",\"\",(S29-$M29)),\"\")),\"\")","v":""},{"$f":"IF(Main!$K$26<$A29,(IF(Main!$M$26>$A29,IF(T29=\"\",\"\",(T29-$M29)),\"\")),\"\")","v":""},{"$f":"IF(Main!$K$26<$A29,(IF(Main!$M$26>$A29,IF(U29=\"\",\"\",(U29-$M29)),\"\")),\"\")","v":""},{"$f":"IF(Main!$K$26<$A29,(IF(Main!$M$26>$A29,IF(V29=\"\",\"\",(V29-$M29)),\"\")),\"\")","v":""},null,null,174.61411571650211,0.74588248212875941]
[{"$f":"Main!AW72","v":184.9972113558174},0.7475093113879473,{"$f":"Main!AX72","v":-2.7954533246612985},-52.509227033774849,null,null,null,null,null,null,null,184.9972113558174,0.7475093113879473,-2.7954533246612985,-52.509227033774849,"","","","","","","",null,{"$f":"IF(Main!$K$26<$A30,(IF(Main!$M$26>$A30,IF(N30=\"\",\"\",(N30-$M30)),\"\")),\"\")","v":""},{"$f":"IF(Main!$K$26<$A30,(IF(Main!$M$26>$A30,IF(O30=\"\",\"\",(O30-$M30)),\"\")),\"\")","v":""},{"$f":"IF(Main!$K$26<$A30,(IF(Main!$M$26>$A30,IF(P30=\"\",\"\",(P30-$M30)),\"\")),\"\")","v":""},{"$f":"IF(Main!$K$26<$A30,(IF(Main!$M$26>$A30,IF(Q30=\"\",\"\",(Q30-$M30)),\"\")),\"\")","v":""},{"$f":"IF(Main!$K$26<$A30,(IF(Main!$M$26>$A30,IF(R30=\"\",\"\",(R30-$M30)),\"\")),\"\")","v":""},{"$f":"IF(Main!$K$26<$A30,(IF(Main!$M$26>$A30,IF(S30=\"\",\"\",(S30-$M30)),\"\")),\"\")","v":""},{"$f":"IF(Main!$K$26<$A30,(IF(Main!$M$26>$A30,IF(T30=\"\",\"\",(T30-$M30)),\"\")),\"\")","v":""},{"$f":"IF(Main!$K$26<$A30,(IF(Main!$M$26>$A30,IF(U30=\"\",\"\",(U30-$M30)),\"\")),\"\")","v":""},{"$f":"IF(Main!$K$26<$A30,(IF(Main!$M$26>$A30,IF(V30=\"\",\"\",(V30-$M30)),\"\")),\"\")","v":""},null,null,184.9972113558174,0.7475093113879473]
[{"$f":"Main!AW73","v":195.99771799087486},0.74933564479293713,{"$f":"Main!AX73","v":-2.7051956297316675},-7.7569936873156395,null,null,null,null,null,null,null,195.99771799087486,0.74933564479293713,-2.7051956297316675,-7.7569936873156395,"","","","","","","",null,{"$f":"IF(Main!$K$26<$A31,(IF(Main!$M$26>$A31,IF(N31=\"\",\"\",(N31-$M31)),\"\")),\"\")","v":""},{"$f":"IF(Main!$K$26<$A31,(IF(Main!$M$26>$A31,IF(O31=\"\",\"\",(O31-$M31)),\"\")),\"\")","v":""},{"$f":"IF(Main!$K$26<$A31,(IF(Main!$M$26>$A31,IF(P31=\"\",\"\",(P31-$M31)),\"\")),\"\")","v":""},{"$f":"IF(Main!$K$26<$A31,(IF(Main!$M$26>$A31,IF(Q31=\"\",\"\",(Q31-$M31)),\"\")),\"\")","v":""},{"$f":"IF(Main!$K$26<$A31,(IF(Main!$M$26>$A31,IF(R31=\"\",\"\",(R31-$M31)),\"\")),\"\")","v":""},{"$f":"IF(Main!$K$26<$A31,(IF(Main!$M$26>$A31,IF(S31=\"\",\"\",(S31-$M31)),\"\")),\"\")","v":""},{"$f":"IF(Main!$K$26<$A31,(IF(Main!$M$26>$A31,IF(T31=\"\",\"\",(T31-$M31)),\"\")),\"\")","v":""},{"$f":"IF(Main!$K$26<$A31,(IF(Main!$M$26>$A31,IF(U31=\"\",\"\",(U31-$M31)),\"\")),\"\")","v":""},{"$f":"IF(Main!$K$26<$A31,(IF(Main!$M$26>$A31,IF(V31=\"\",\"\",(V31-$M31)),\"\")),\"\")","v":""},null,null,195.99771799087486,0.74933564479293713]
[{"$f":"Main!AW74","v":207.65234878997279},0.75138598663431277,{"$f":"Main!AX74","v":-2.6493718562104704},-51.5831548587797,null,null,null,null,null,null,null,207.65234878997279,0.75138598663431277,-2.6493718562104704,-51.5831548587797,"","","","","","","",null,{"$f":"IF(Main!$K$26<$A32,(IF(Main!$M$26>$A32,IF(N32=\"\",\"\",(N32-$M32)),\"\")),\"\")","v":""},{"$f":"IF(Main!$K$26<$A32,(IF(Main!$M$26>$A32,IF(O32=\"\",\"\",(O32-$M32)),\"\")),\"\")","v":""},{"$f":"IF(Main!$K$26<$A32,(IF(Main!$M$26>$A32,IF(P32=\"\",\"\",(P32-$M32)),\"\")),\"\")","v":""},{"$f":"IF(Main!$K$26<$A32,(IF(Main!$M$26>$A32,IF(Q32=\"\",\"\",(Q32-$M32)),\"\")),\"\")","v":""},{"$f":"IF(Main!$K$26<$A32,(IF(Main!$M$26>$A32,IF(R32=\"\",\"\",(R32-$M32)),\"\")),\"\")","v":""},{"$f":"IF(Main!$K$26<$A32,(IF(Main!$M$26>$A32,IF(S32=\"\",\"\",(S32-$M32)),\"\")),\"\")","v":""},{"$f":"IF(Main!$K$26<$A32,(IF(Main!$M$26>$A32,IF(T32=\"\",\"\",(T32-$M32)),\"\")),\"\")","v":""},{"$f":"IF(Main!$K$26<$A32,(IF(Main!$M$26>$A32,IF(U32=\"\",\"\",(U32-$M32)),\"\")),\"\")","v":""},{"$f":"IF(Main!$K$26<$A32,(IF(Main!$M$26>$A32,IF(V32=\"\",\"\",(V32-$M32)),\"\")),\"\")","v":""},null,null,207.65234878997279,0.75138598663431277]
[{"$f":"Main!AW75","v":220.00000000000026},0.75368786092265405,{"$f":"Main!AX75","v":-2.6228701729688915},-3.2164081303136927,null,null,null,null,null,null,null,220.00000000000026,0.75368786092265405,-2.6228701729688915,-3.2164081303136927,"","","","","","","",null,{"$f":"IF(Main!$K$26<$A33,(IF(Main!$M$26>$A33,IF(N33=\"\",\"\",(N33-$M33)),\"\")),\"\")","v":""},{"$f":"IF(Main!$K$26<$A33,(IF(Main!$M$26>$A33,IF(O33=\"\",\"\",(O33-$M33)),\"\")),\"\")","v":""},{"$f":"IF(Main!$K$26<$A33,(IF(Main!$M$26>$A33,IF(P33=\"\",\"\",(P33-$M33)),\"\")),\"\")","v":""},{"$f":"IF(Main!$K$26<$A33,(IF(Main!$M$26>$A33,IF(Q33=\"\",\"\",(Q33-$M33)),\"\")),\"\")","v":""},{"$f":"IF(Main!$K$26<$A33,(IF(Main!$M$26>$A33,IF(R33=\"\",\"\",(R33-$M33)),\"\")),\"\")","v":""},{"$f":"IF(Main!$K$26<$A33,(IF(Main!$M$26>$A33,IF(S33=\"\",\"\",(S33-$M33)),\"\")),\"\")","v":""},{"$f":"IF(Main!$K$26<$A33,(IF(Main!$M$26>$A33,IF(T33=\"\",\"\",(T33-$M33)),\"\")),\"\")","v":""},{"$f":"IF(Main!$K$26<$A33,(IF(Main!$M$26>$A33,IF(U33=\"\",\"\",(U33-$M33)),\"\")),\"\")","v":""},{"$f":"IF(Main!$K$26<$A33,(IF(Main!$M$26>$A33,IF(V33=\"\",\"\",(V33-$M33)),\"\")),\"\")","v":""},null,null,220.00000000000026,0.75368786092265405]
[{"$f":"Main!AW76","v":233.08188075904525},0.75627218609663249,{"$f":"Main!AX76","v":-2.6210873756361424},-50.677581370176966,null,null,null,null,null,null,null,233.08188075904525,0.75627218609663249,-2.6210873756361424,-50.677581370176966,"","","","","","","",null,{"$f":"IF(Main!$K$26<$A34,(IF(Main!$M$26>$A34,IF(N34=\"\",\"\",(N34-$M34)),\"\")),\"\")","v":""},{"$f":"IF(Main!$K$26<$A34,(IF(Main!$M$26>$A34,IF(O34=\"\",\"\",(O34-$M34)),\"\")),\"\")","v":""},{"$f":"IF(Main!$K$26<$A34,(IF(Main!$M$26>$A34,IF(P34=\"\",\"\",(P34-$M34)),\"\")),\"\")","v":""},{"$f":"IF(Main!$K$26<$A34,(IF(Main!$M$26>$A34,IF(Q34=\"\",\"\",(Q34-$M34)),\"\")),\"\")","v":""},{"$f":"IF(Main!$K$26<$A34,(IF(Main!$M$26>$A34,IF(R34=\"\",\"\",(R34-$M34)),\"\")),\"\")","v":""},{"$f":"IF(Main!$K$26<$A34,(IF(Main!$M$26>$A34,IF(S34=\"\",\"\",(S34-$M34)),\"\")),\"\")","v":""},{"$f":"IF(Main!$K$26<$A34,(IF(Main!$M$26>$A34,IF(T34=\"\",\"\",(T34-$M34)),\"\")),\"\")","v":""},{"$f":"IF(Main!$K$26<$A34,(IF(Main!$M$26>$A34,IF(U34=\"\",\"\",(U34-$M34)),\"\")),\"\")","v":""},{"$f":"IF(Main!$K$26<$A34,(IF(Main!$M$26>$A34,IF(V34=\"\",\"\",(V34-$M34)),\"\")),\"\")","v":""},null,null,233.08188075904525,0.75627218609663249]
[{"$f":"Main!AW77","v":246.94165062806238},0.759173696894475,{"$f":"Main!AX77","v":-2.6402581910868794},-2.3821316241741157,null,null,null,null,null,null,null,246.94165062806238,0.759173696894475,-2.6402581910868794,-2.3821316241741157,"","","","","","","",null,{"$f":"IF(Main!$K$26<$A35,(IF(Main!$M$26>$A35,IF(N35=\"\",\"\",(N35-$M35)),\"\")),\"\")","v":""},{"$f":"IF(Main!$K$26<$A35,(IF(Main!$M$26>$A35,IF(O35=\"\",\"\",(O35-$M35)),\"\")),\"\")","v":""},{"$f":"IF(Main!$K$26<$A35,(IF(Main!$M$26>$A35,IF(P35=\"\",\"\",(P35-$M35)),\"\")),\"\")","v":""},{"$f":"IF(Main!$K$26<$A35,(IF(Main!$M$26>$A35,IF(Q35=\"\",\"\",(Q35-$M35)),\"\")),\"\")","v":""},{"$f":"IF(Main!$K$26<$A35,(IF(Main!$M$26>$A35,IF(R35=\"\",\"\",(R35-$M35)),\"\")),\"\")","v":""},{"$f":"IF(Main!$K$26<$A35,(IF(Main!$M$26>$A35,IF(S35=\"\",\"\",(S35-$M35)),\"\")),\"\")","v":""},{"$f":"IF(Main!$K$26<$A35,(IF(Main!$M$26>$A35,IF(T35=\"\",\"\",(T35-$M35)),\"\")),\"\")","v":""},{"$f":"IF(Main!$K$26<$A35,(IF(Main!$M$26>$A35,IF(U35=\"\",\"\",(U35-$M35)),\"\")),\"\")","v":""},{"$f":"IF(Main!$K$26<$A35,(IF(Main!$M$26>$A35,IF(V35=\"\",\"\",(V35-$M35)),\"\")),\"\")","v":""},null,null,246.94165062806238,0.759173696894475]
[{"$f":"Main!AW78","v":261.62556530059896},0.76243141949628979,{"$f":"Main!AX78","v":-2.6775631194414302},-49.798072677846456,null,null,null,null,null,null,null,261.62556530059896,0.76243141949628979,-2.6775631194414302,-49.798072677846456,"","","","","","","",null,{"$f":"IF(Main!$K$26<$A36,(IF(Main!$M$26>$A36,IF(N36=\"\",\"\",(N36-$M36)),\"\")),\"\")","v":""},{"$f":"IF(Main!$K$26<$A36,(IF(Main!$M$26>$A36,IF(O36=\"\",\"\",(O36-$M36)),\"\")),\"\")","v":""},{"$f":"IF(Main!$K$26<$A36,(IF(Main!$M$26>$A36,IF(P36=\"\",\"\",(P36-$M36)),\"\")),\"\")","v":""},{"$f":"IF(Main!$K$26<$A36,(IF(Main!$M$26>$A36,IF(Q36=\"\",\"\",(Q36-$M36)),\"\")),\"\")","v":""},{"$f":"IF(Main!$K$26<$A36,(IF(Main!$M$26>$A36,IF(R36=\"\",\"\",(R36-$M36)),\"\")),\"\")","v":""},{"$f":"IF(Main!$K$26<$A36,(IF(Main!$M$26>$A36,IF(S36=\"\",\"\",(S36-$M36)),\"\")),\"\")","v":""},{"$f":"IF(Main!$K$26<$A36,(IF(Main!$M$26>$A36,IF(T36=\"\",\"\",(T36-$M36)),\"\")),\"\")","v":""},{"$f":"IF(Main!$K$26<$A36,(IF(Main!$M$26>$A36,IF(U36=\"\",\"\",(U36-$M36)),\"\")),\"\")","v":""},{"$f":"IF(Main!$K$26<$A36,(IF(Main!$M$26>$A36,IF(V36=\"\",\"\",(V36-$M36)),\"\")),\"\")","v":""},null,null,261.62556530059896,0.76243141949628979]
[{"$f":"Main!AW79","v":277.18263097687247},0.76608920687892779,{"$f":"Main!AX79","v":-2.6346686359658555},-49.37025548044015,null,null,null,null,null,null,null,277.18263097687247,0.76608920687892779,-2.6346686359658555,{"$f":"IF(D37=\"\",\"\",D37+IF($B$1,D$1))","v":-49.37025548044015},{"$f":"IF(E37=\"\",\"\",E37+IF($B$1,E$1))","v":""},{"$f":"IF(F37=\"\",\"\",F37+IF($B$1,F$1))","v":""},{"$f":"IF(G37=\"\",\"\",G37+IF($B$1,G$1))","v":""},{"$f":"IF(H37=\"\",\"\",H37+IF($B$1,H$1))","v":""},{"$f":"IF(I37=\"\",\"\",I37+IF($B$1,I$1))","v":""},"","",null,{"$f":"IF(Main!$K$26<$A37,(IF(Main!$M$26>$A37,IF(N37=\"\",\"\",(N37-$M37)),\"\")),\"\")","v":""},{"$f":"IF(Main!$K$26<$A37,(IF(Main!$M$26>$A37,IF(O37=\"\",\"\",(O37-$M37)),\"\")),\"\")","v":""},{"$f":"IF(Main!$K$26<$A37,(IF(Main!$M$26>$A37,IF(P37=\"\",\"\",(P37-$M37)),\"\")),\"\")","v":""},{"$f":"IF(Main!$K$26<$A37,(IF(Main!$M$26>$A37,IF(Q37=\"\",\"\",(Q37-$M37)),\"\")),\"\")","v":""},{"$f":"IF(Main!$K$26<$A37,(IF(Main!$M$26>$A37,IF(R37=\"\",\"\",(R37-$M37)),\"\")),\"\")","v":""},{"$f":"IF(Main!$K$26<$A37,(IF(Main!$M$26>$A37,IF(S37=\"\",\"\",(S37-$M37)),\"\")),\"\")","v":""},{"$f":"IF(Main!$K$26<$A37,(IF(Main!$M$26>$A37,IF(T37=\"\",\"\",(T37-$M37)),\"\")),\"\")","v":""},{"$f":"IF(Main!$K$26<$A37,(IF(Main!$M$26>$A37,IF(U37=\"\",\"\",(U37-$M37)),\"\")),\"\")","v":""},{"$f":"IF(Main!$K$26<$A37,(IF(Main!$M$26>$A37,IF(V37=\"\",\"\",(V37-$M37)),\"\")),\"\")","v":""},null,null,277.18263097687247,0.76608920687892779]
[{"$f":"Main!AW80","v":293.66476791740797},0.77019634228390865,{"$f":"Main!AX80","v":-2.6063616916076366},-3.1998996489524378,null,null,null,null,null,null,null,293.66476791740797,0.77019634228390865,-2.6063616916076366,-3.1998996489524378,"","","","","","","",null,{"$f":"IF(Main!$K$26<$A38,(IF(Main!$M$26>$A38,IF(N38=\"\",\"\",(N38-$M38)),\"\")),\"\")","v":""},{"$f":"IF(Main!$K$26<$A38,(IF(Main!$M$26>$A38,IF(O38=\"\",\"\",(O38-$M38)),\"\")),\"\")","v":""},{"$f":"IF(Main!$K$26<$A38,(IF(Main!$M$26>$A38,IF(P38=\"\",\"\",(P38-$M38)),\"\")),\"\")","v":""},{"$f":"IF(Main!$K$26<$A38,(IF(Main!$M$26>$A38,IF(Q38=\"\",\"\",(Q38-$M38)),\"\")),\"\")","v":""},{"$f":"IF(Main!$K$26<$A38,(IF(Main!$M$26>$A38,IF(R38=\"\",\"\",(R38-$M38)),\"\")),\"\")","v":""},{"$f":"IF(Main!$K$26<$A38,(IF(Main!$M$26>$A38,IF(S38=\"\",\"\",(S38-$M38)),\"\")),\"\")","v":""},{"$f":"IF(Main!$K$26<$A38,(IF(Main!$M$26>$A38,IF(T38=\"\",\"\",(T38-$M38)),\"\")),\"\")","v":""},{"$f":"IF(Main!$K$26<$A38,(IF(Main!$M$26>$A38,IF(U38=\"\",\"\",(U38-$M38)),\"\")),\"\")","v":""},{"$f":"IF(Main!$K$26<$A38,(IF(Main!$M$26>$A38,IF(V38=\"\",\"\",(V38-$M38)),\"\")),\"\")","v":""},null,null,293.66476791740797,0.77019634228390865]
[{"$f":"Main!AW81","v":311.12698372208138},0.77480821980322645,{"$f":"Main!AX81","v":-2.6025513419295483},-48.543905479403236,null,null,null,null,null,null,null,311.12698372208138,0.77480821980322645,-2.6025513419295483,-48.543905479403236,"","","","","","","",null,{"$f":"IF(Main!$K$26<$A39,(IF(Main!$M$26>$A39,IF(N39=\"\",\"\",(N39-$M39)),\"\")),\"\")","v":""},{"$f":"IF(Main!$K$26<$A39,(IF(Main!$M$26>$A39,IF(O39=\"\",\"\",(O39-$M39)),\"\")),\"\")","v":""},{"$f":"IF(Main!$K$26<$A39,(IF(Main!$M$26>$A39,IF(P39=\"\",\"\",(P39-$M39)),\"\")),\"\")","v":""},{"$f":"IF(Main!$K$26<$A39,(IF(Main!$M$26>$A39,IF(Q39=\"\",\"\",(Q39-$M39)),\"\")),\"\")","v":""},{"$f":"IF(Main!$K$26<$A39,(IF(Main!$M$26>$A39,IF(R39=\"\",\"\",(R39-$M39)),\"\")),\"\")","v":""},{"$f":"IF(Main!$K$26<$A39,(IF(Main!$M$26>$A39,IF(S39=\"\",\"\",(S39-$M39)),\"\")),\"\")","v":""},{"$f":"IF(Main!$K$26<$A39,(IF(Main!$M$26>$A39,IF(T39=\"\",\"\",(T39-$M39)),\"\")),\"\")","v":""},{"$f":"IF(Main!$K$26<$A39,(IF(Main!$M$26>$A39,IF(U39=\"\",\"\",(U39-$M39)),\"\")),\"\")","v":""},{"$f":"IF(Main!$K$26<$A39,(IF(Main!$M$26>$A39,IF(V39=\"\",\"\",(V39-$M39)),\"\")),\"\")","v":""},null,null,311.12698372208138,0.77480821980322645]
[{"$f":"Main!AW82","v":329.62755691287043},0.77998711236345897,{"$f":"Main!AX82","v":-2.6194447756178953},-2.3613182087051316,null,null,null,null,null,null,null,329.62755691287043,0.77998711236345897,-2.6194447756178953,-2.3613182087051316,"","","","","","","",null,{"$f":"IF(Main!$K$26<$A40,(IF(Main!$M$26>$A40,IF(N40=\"\",\"\",(N40-$M40)),\"\")),\"\")","v":""},{"$f":"IF(Main!$K$26<$A40,(IF(Main!$M$26>$A40,IF(O40=\"\",\"\",(O40-$M40)),\"\")),\"\")","v":""},{"$f":"IF(Main!$K$26<$A40,(IF(Main!$M$26>$A40,IF(P40=\"\",\"\",(P40-$M40)),\"\")),\"\")","v":""},{"$f":"IF(Main!$K$26<$A40,(IF(Main!$M$26>$A40,IF(Q40=\"\",\"\",(Q40-$M40)),\"\")),\"\")","v":""},{"$f":"IF(Main!$K$26<$A40,(IF(Main!$M$26>$A40,IF(R40=\"\",\"\",(R40-$M40)),\"\")),\"\")","v":""},{"$f":"IF(Main!$K$26<$A40,(IF(Main!$M$26>$A40,IF(S40=\"\",\"\",(S40-$M40)),\"\")),\"\")","v":""},{"$f":"IF(Main!$K$26<$A40,(IF(Main!$M$26>$A40,IF(T40=\"\",\"\",(T40-$M40)),\"\")),\"\")","v":""},{"$f":"IF(Main!$K$26<$A40,(IF(Main!$M$26>$A40,IF(U40=\"\",\"\",(U40-$M40)),\"\")),\"\")","v":""},{"$f":"IF(Main!$K$26<$A40,(IF(Main!$M$26>$A40,IF(V40=\"\",\"\",(V40-$M40)),\"\")),\"\")","v":""},null,null,329.62755691287043,0.77998711236345897]
[{"$f":"Main!AW83","v":349.22823143300445},0.78580303886446257,{"$f":"Main!AX83","v":-2.6541915000732574},-47.765687080272592,null,null,null,null,null,null,null,349.22823143300445,0.78580303886446257,-2.6541915000732574,-47.765687080272592,"","","","","","","",null,{"$f":"IF(Main!$K$26<$A41,(IF(Main!$M$26>$A41,IF(N41=\"\",\"\",(N41-$M41)),\"\")),\"\")","v":""},{"$f":"IF(Main!$K$26<$A41,(IF(Main!$M$26>$A41,IF(O41=\"\",\"\",(O41-$M41)),\"\")),\"\")","v":""},{"$f":"IF(Main!$K$26<$A41,(IF(Main!$M$26>$A41,IF(P41=\"\",\"\",(P41-$M41)),\"\")),\"\")","v":""},{"$f":"IF(Main!$K$26<$A41,(IF(Main!$M$26>$A41,IF(Q41=\"\",\"\",(Q41-$M41)),\"\")),\"\")","v":""},{"$f":"IF(Main!$K$26<$A41,(IF(Main!$M$26>$A41,IF(R41=\"\",\"\",(R41-$M41)),\"\")),\"\")","v":""},{"$f":"IF(Main!$K$26<$A41,(IF(Main!$M$26>$A41,IF(S41=\"\",\"\",(S41-$M41)),\"\")),\"\")","v":""},{"$f":"IF(Main!$K$26<$A41,(IF(Main!$M$26>$A41,IF(T41=\"\",\"\",(T41-$M41)),\"\")),\"\")","v":""},{"$f":"IF(Main!$K$26<$A41,(IF(Main!$M$26>$A41,IF(U41=\"\",\"\",(U41-$M41)),\"\")),\"\")","v":""},{"$f":"IF(Main!$K$26<$A41,(IF(Main!$M$26>$A41,IF(V41=\"\",\"\",(V41-$M41)),\"\")),\"\")","v":""},null,null,349.22823143300445,0.78580303886446257]
[{"$f":"Main!AW84","v":369.99442271163502},0.79233474394280323,{"$f":"Main!AX84","v":-2.6084230989019801},-47.398798207094679,null,null,null,null,null,null,null,369.99442271163502,0.79233474394280323,-2.6084230989019801,-47.398798207094679,"","","","","","","",null,{"$f":"IF(Main!$K$26<$A42,(IF(Main!$M$26>$A42,IF(N42=\"\",\"\",(N42-$M42)),\"\")),\"\")","v":""},{"$f":"IF(Main!$K$26<$A42,(IF(Main!$M$26>$A42,IF(O42=\"\",\"\",(O42-$M42)),\"\")),\"\")","v":""},{"$f":"IF(Main!$K$26<$A42,(IF(Main!$M$26>$A42,IF(P42=\"\",\"\",(P42-$M42)),\"\")),\"\")","v":""},{"$f":"IF(Main!$K$26<$A42,(IF(Main!$M$26>$A42,IF(Q42=\"\",\"\",(Q42-$M42)),\"\")),\"\")","v":""},{"$f":"IF(Main!$K$26<$A42,(IF(Main!$M$26>$A42,IF(R42=\"\",\"\",(R42-$M42)),\"\")),\"\")","v":""},{"$f":"IF(Main!$K$26<$A42,(IF(Main!$M$26>$A42,IF(S42=\"\",\"\",(S42-$M42)),\"\")),\"\")","v":""},{"$f":"IF(Main!$K$26<$A42,(IF(Main!$M$26>$A42,IF(T42=\"\",\"\",(T42-$M42)),\"\")),\"\")","v":""},{"$f":"IF(Main!$K$26<$A42,(IF(Main!$M$26>$A42,IF(U42=\"\",\"\",(U42-$M42)),\"\")),\"\")","v":""},{"$f":"IF(Main!$K$26<$A42,(IF(Main!$M$26>$A42,IF(V42=\"\",\"\",(V42-$M42)),\"\")),\"\")","v":""},null,null,369.99442271163502,0.79233474394280323]
[{"$f":"Main!AW85","v":391.99543598174995},0.79967080582405559,{"$f":"Main!AX85","v":-2.5768872280674895},-3.1704251854122907,null,null,null,null,null,null,null,391.99543598174995,0.79967080582405559,-2.5768872280674895,-3.1704251854122907,"","","","","","","",null,{"$f":"IF(Main!$K$26<$A43,(IF(Main!$M$26>$A43,IF(N43=\"\",\"\",(N43-$M43)),\"\")),\"\")","v":""},{"$f":"IF(Main!$K$26<$A43,(IF(Main!$M$26>$A43,IF(O43=\"\",\"\",(O43-$M43)),\"\")),\"\")","v":""},{"$f":"IF(Main!$K$26<$A43,(IF(Main!$M$26>$A43,IF(P43=\"\",\"\",(P43-$M43)),\"\")),\"\")","v":""},{"$f":"IF(Main!$K$26<$A43,(IF(Main!$M$26>$A43,IF(Q43=\"\",\"\",(Q43-$M43)),\"\")),\"\")","v":""},{"$f":"IF(Main!$K$26<$A43,(IF(Main!$M$26>$A43,IF(R43=\"\",\"\",(R43-$M43)),\"\")),\"\")","v":""},{"$f":"IF(Main!$K$26<$A43,(IF(Main!$M$26>$A43,IF(S43=\"\",\"\",(S43-$M43)),\"\")),\"\")","v":""},{"$f":"IF(Main!$K$26<$A43,(IF(Main!$M$26>$A43,IF(T43=\"\",\"\",(T43-$M43)),\"\")),\"\")","v":""},{"$f":"IF(Main!$K$26<$A43,(IF(Main!$M$26>$A43,IF(U43=\"\",\"\",(U43-$M43)),\"\")),\"\")","v":""},{"$f":"IF(Main!$K$26<$A43,(IF(Main!$M$26>$A43,IF(V43=\"\",\"\",(V43-$M43)),\"\")),\"\")","v":""},null,null,391.99543598174995,0.79967080582405559]
[{"$f":"Main!AW86","v":415.30469757994587},0.80791089005611239,{"$f":"Main!AX86","v":-2.5694486716766622},-10.115325650034276,null,null,null,null,null,null,null,415.30469757994587,0.80791089005611239,-2.5694486716766622,-10.115325650034276,"","","","","","","",null,{"$f":"IF(Main!$K$26<$A44,(IF(Main!$M$26>$A44,IF(N44=\"\",\"\",(N44-$M44)),\"\")),\"\")","v":-3.3773595617327747},{"$f":"IF(Main!$K$26<$A44,(IF(Main!$M$26>$A44,IF(O44=\"\",\"\",(O44-$M44)),\"\")),\"\")","v":-10.923236540090388},{"$f":"IF(Main!$K$26<$A44,(IF(Main!$M$26>$A44,IF(P44=\"\",\"\",(P44-$M44)),\"\")),\"\")","v":""},{"$f":"IF(Main!$K$26<$A44,(IF(Main!$M$26>$A44,IF(Q44=\"\",\"\",(Q44-$M44)),\"\")),\"\")","v":""},{"$f":"IF(Main!$K$26<$A44,(IF(Main!$M$26>$A44,IF(R44=\"\",\"\",(R44-$M44)),\"\")),\"\")","v":""},{"$f":"IF(Main!$K$26<$A44,(IF(Main!$M$26>$A44,IF(S44=\"\",\"\",(S44-$M44)),\"\")),\"\")","v":""},{"$f":"IF(Main!$K$26<$A44,(IF(Main!$M$26>$A44,IF(T44=\"\",\"\",(T44-$M44)),\"\")),\"\")","v":""},{"$f":"IF(Main!$K$26<$A44,(IF(Main!$M$26>$A44,IF(U44=\"\",\"\",(U44-$M44)),\"\")),\"\")","v":""},{"$f":"IF(Main!$K$26<$A44,(IF(Main!$M$26>$A44,IF(V44=\"\",\"\",(V44-$M44)),\"\")),\"\")","v":""},null,null,415.30469757994587,0.80791089005611239]
[{"$f":"Main!AW87","v":440.0000000000008},0.81716716964054836,{"$f":"Main!AX87","v":-2.5822647183408063},-2.3241381514280426,null,null,null,null,null,null,null,440.0000000000008,0.81716716964054836,-2.5822647183408063,-2.3241381514280426,"","","","","","","",null,{"$f":"IF(Main!$K$26<$A45,(IF(Main!$M$26>$A45,IF(N45=\"\",\"\",(N45-$M45)),\"\")),\"\")","v":-3.3994318879813545},{"$f":"IF(Main!$K$26<$A45,(IF(Main!$M$26>$A45,IF(O45=\"\",\"\",(O45-$M45)),\"\")),\"\")","v":-3.1413053210685908},{"$f":"IF(Main!$K$26<$A45,(IF(Main!$M$26>$A45,IF(P45=\"\",\"\",(P45-$M45)),\"\")),\"\")","v":""},{"$f":"IF(Main!$K$26<$A45,(IF(Main!$M$26>$A45,IF(Q45=\"\",\"\",(Q45-$M45)),\"\")),\"\")","v":""},{"$f":"IF(Main!$K$26<$A45,(IF(Main!$M$26>$A45,IF(R45=\"\",\"\",(R45-$M45)),\"\")),\"\")","v":""},{"$f":"IF(Main!$K$26<$A45,(IF(Main!$M$26>$A45,IF(S45=\"\",\"\",(S45-$M45)),\"\")),\"\")","v":""},{"$f":"IF(Main!$K$26<$A45,(IF(Main!$M$26>$A45,IF(T45=\"\",\"\",(T45-$M45)),\"\")),\"\")","v":""},{"$f":"IF(Main!$K$26<$A45,(IF(Main!$M$26>$A45,IF(U45=\"\",\"\",(U45-$M45)),\"\")),\"\")","v":""},{"$f":"IF(Main!$K$26<$A45,(IF(Main!$M$26>$A45,IF(V45=\"\",\"\",(V45-$M45)),\"\")),\"\")","v":""},null,null,440.0000000000008,0.81716716964054836]
[{"$f":"Main!AW88","v":466.16376151809078},0.82756593527909939,{"$f":"Main!AX88","v":-2.6124286036586208},-46.133166121147624,null,null,null,null,null,null,null,466.16376151809078,0.82756593527909939,-2.6124286036586208,-46.133166121147624,"","","","","","","",null,{"$f":"IF(Main!$K$26<$A46,(IF(Main!$M$26>$A46,IF(N46=\"\",\"\",(N46-$M46)),\"\")),\"\")","v":-3.4399945389377202},{"$f":"IF(Main!$K$26<$A46,(IF(Main!$M$26>$A46,IF(O46=\"\",\"\",(O46-$M46)),\"\")),\"\")","v":-46.960732056426721},{"$f":"IF(Main!$K$26<$A46,(IF(Main!$M$26>$A46,IF(P46=\"\",\"\",(P46-$M46)),\"\")),\"\")","v":""},{"$f":"IF(Main!$K$26<$A46,(IF(Main!$M$26>$A46,IF(Q46=\"\",\"\",(Q46-$M46)),\"\")),\"\")","v":""},{"$f":"IF(Main!$K$26<$A46,(IF(Main!$M$26>$A46,IF(R46=\"\",\"\",(R46-$M46)),\"\")),\"\")","v":""},{"$f":"IF(Main!$K$26<$A46,(IF(Main!$M$26>$A46,IF(S46=\"\",\"\",(S46-$M46)),\"\")),\"\")","v":""},{"$f":"IF(Main!$K$26<$A46,(IF(Main!$M$26>$A46,IF(T46=\"\",\"\",(T46-$M46)),\"\")),\"\")","v":""},{"$f":"IF(Main!$K$26<$A46,(IF(Main!$M$26>$A46,IF(U46=\"\",\"\",(U46-$M46)),\"\")),\"\")","v":""},{"$f":"IF(Main!$K$26<$A46,(IF(Main!$M$26>$A46,IF(V46=\"\",\"\",(V46-$M46)),\"\")),\"\")","v":""},null,null,466.16376151809078,0.82756593527909939]
[{"$f":"Main!AW89","v":493.88330125612504},0.83924942322059748,{"$f":"Main!AX89","v":-2.561508419624186},-3.1308465680157491,null,null,null,null,null,null,null,493.88330125612504,0.83924942322059748,-2.561508419624186,-3.1308465680157491,"","","","","","","",null,{"$f":"IF(Main!$K$26<$A47,(IF(Main!$M$26>$A47,IF(N47=\"\",\"\",(N47-$M47)),\"\")),\"\")","v":-3.4007578428447833},{"$f":"IF(Main!$K$26<$A47,(IF(Main!$M$26>$A47,IF(O47=\"\",\"\",(O47-$M47)),\"\")),\"\")","v":-3.9700959912363465},{"$f":"IF(Main!$K$26<$A47,(IF(Main!$M$26>$A47,IF(P47=\"\",\"\",(P47-$M47)),\"\")),\"\")","v":""},{"$f":"IF(Main!$K$26<$A47,(IF(Main!$M$26>$A47,IF(Q47=\"\",\"\",(Q47-$M47)),\"\")),\"\")","v":""},{"$f":"IF(Main!$K$26<$A47,(IF(Main!$M$26>$A47,IF(R47=\"\",\"\",(R47-$M47)),\"\")),\"\")","v":""},{"$f":"IF(Main!$K$26<$A47,(IF(Main!$M$26>$A47,IF(S47=\"\",\"\",(S47-$M47)),\"\")),\"\")","v":""},{"$f":"IF(Main!$K$26<$A47,(IF(Main!$M$26>$A47,IF(T47=\"\",\"\",(T47-$M47)),\"\")),\"\")","v":""},{"$f":"IF(Main!$K$26<$A47,(IF(Main!$M$26>$A47,IF(U47=\"\",\"\",(U47-$M47)),\"\")),\"\")","v":""},{"$f":"IF(Main!$K$26<$A47,(IF(Main!$M$26>$A47,IF(V47=\"\",\"\",(V47-$M47)),\"\")),\"\")","v":""},null,null,493.88330125612504,0.83924942322059748]
[{"$f":"Main!AW90","v":523.25113060119827},0.85237789264546471,{"$f":"Main!AX90","v":-2.5241801412460805},-45.66689489377589,null,null,null,null,null,null,null,523.25113060119827,0.85237789264546471,-2.5241801412460805,-45.66689489377589,"","","","","","","",null,{"$f":"IF(Main!$K$26<$A48,(IF(Main!$M$26>$A48,IF(N48=\"\",\"\",(N48-$M48)),\"\")),\"\")","v":-3.3765580338915453},{"$f":"IF(Main!$K$26<$A48,(IF(Main!$M$26>$A48,IF(O48=\"\",\"\",(O48-$M48)),\"\")),\"\")","v":-46.519272786421354},{"$f":"IF(Main!$K$26<$A48,(IF(Main!$M$26>$A48,IF(P48=\"\",\"\",(P48-$M48)),\"\")),\"\")","v":""},{"$f":"IF(Main!$K$26<$A48,(IF(Main!$M$26>$A48,IF(Q48=\"\",\"\",(Q48-$M48)),\"\")),\"\")","v":""},{"$f":"IF(Main!$K$26<$A48,(IF(Main!$M$26>$A48,IF(R48=\"\",\"\",(R48-$M48)),\"\")),\"\")","v":""},{"$f":"IF(Main!$K$26<$A48,(IF(Main!$M$26>$A48,IF(S48=\"\",\"\",(S48-$M48)),\"\")),\"\")","v":""},{"$f":"IF(Main!$K$26<$A48,(IF(Main!$M$26>$A48,IF(T48=\"\",\"\",(T48-$M48)),\"\")),\"\")","v":""},{"$f":"IF(Main!$K$26<$A48,(IF(Main!$M$26>$A48,IF(U48=\"\",\"\",(U48-$M48)),\"\")),\"\")","v":""},{"$f":"IF(Main!$K$26<$A48,(IF(Main!$M$26>$A48,IF(V48=\"\",\"\",(V48-$M48)),\"\")),\"\")","v":""},null,null,523.25113060119827,0.85237789264546471]
[{"$f":"Main!AW91","v":554.36526195374529},0.86713198979837558,{"$f":"Main!AX91","v":-2.5102275719343989},-10.056104550292012,null,null,null,null,null,null,null,554.36526195374529,0.86713198979837558,-2.5102275719343989,-10.056104550292012,"","","","","","","",null,{"$f":"IF(Main!$K$26<$A49,(IF(Main!$M$26>$A49,IF(N49=\"\",\"\",(N49-$M49)),\"\")),\"\")","v":-3.3773595617327743},{"$f":"IF(Main!$K$26<$A49,(IF(Main!$M$26>$A49,IF(O49=\"\",\"\",(O49-$M49)),\"\")),\"\")","v":-10.923236540090388},{"$f":"IF(Main!$K$26<$A49,(IF(Main!$M$26>$A49,IF(P49=\"\",\"\",(P49-$M49)),\"\")),\"\")","v":""},{"$f":"IF(Main!$K$26<$A49,(IF(Main!$M$26>$A49,IF(Q49=\"\",\"\",(Q49-$M49)),\"\")),\"\")","v":""},{"$f":"IF(Main!$K$26<$A49,(IF(Main!$M$26>$A49,IF(R49=\"\",\"\",(R49-$M49)),\"\")),\"\")","v":""},{"$f":"IF(Main!$K$26<$A49,(IF(Main!$M$26>$A49,IF(S49=\"\",\"\",(S49-$M49)),\"\")),\"\")","v":""},{"$f":"IF(Main!$K$26<$A49,(IF(Main!$M$26>$A49,IF(T49=\"\",\"\",(T49-$M49)),\"\")),\"\")","v":""},{"$f":"IF(Main!$K$26<$A49,(IF(Main!$M$26>$A49,IF(U49=\"\",\"\",(U49-$M49)),\"\")),\"\")","v":""},{"$f":"IF(Main!$K$26<$A49,(IF(Main!$M$26>$A49,IF(V49=\"\",\"\",(V49-$M49)),\"\")),\"\")","v":""},null,null,554.36526195374529,0.86713198979837558]
[{"$f":"Main!AW92","v":587.32953583481628},0.88371544234481436,{"$f":"Main!AX92","v":-2.5157164456365404},-2.2575898787237767,null,null,null,null,null,null,null,587.32953583481628,0.88371544234481436,-2.5157164456365404,-2.2575898787237767,"","","","","","","",null,{"$f":"IF(Main!$K$26<$A50,(IF(Main!$M$26>$A50,IF(N50=\"\",\"\",(N50-$M50)),\"\")),\"\")","v":-3.399431887981355},{"$f":"IF(Main!$K$26<$A50,(IF(Main!$M$26>$A50,IF(O50=\"\",\"\",(O50-$M50)),\"\")),\"\")","v":-3.1413053210685913},{"$f":"IF(Main!$K$26<$A50,(IF(Main!$M$26>$A50,IF(P50=\"\",\"\",(P50-$M50)),\"\")),\"\")","v":""},{"$f":"IF(Main!$K$26<$A50,(IF(Main!$M$26>$A50,IF(Q50=\"\",\"\",(Q50-$M50)),\"\")),\"\")","v":""},{"$f":"IF(Main!$K$26<$A50,(IF(Main!$M$26>$A50,IF(R50=\"\",\"\",(R50-$M50)),\"\")),\"\")","v":""},{"$f":"IF(Main!$K$26<$A50,(IF(Main!$M$26>$A50,IF(S50=\"\",\"\",(S50-$M50)),\"\")),\"\")","v":""},{"$f":"IF(Main!$K$26<$A50,(IF(Main!$M$26>$A50,IF(T50=\"\",\"\",(T50-$M50)),\"\")),\"\")","v":""},{"$f":"IF(Main!$K$26<$A50,(IF(Main!$M$26>$A50,IF(U50=\"\",\"\",(U50-$M50)),\"\")),\"\")","v":""},{"$f":"IF(Main!$K$26<$A50,(IF(Main!$M$26>$A50,IF(V50=\"\",\"\",(V50-$M50)),\"\")),\"\")","v":""},null,null,587.32953583481628,0.88371544234481436]
[{"$f":"Main!AW93","v":622.2539674441631},0.90235813488831329,{"$f":"Main!AX93","v":-2.4983997079564699},-45.286390403480574,null,null,null,null,null,null,null,622.2539674441631,0.90235813488831329,-2.4983997079564699,-45.286390403480574,"","","","","","","",null,{"$f":"IF(Main!$K$26<$A51,(IF(Main!$M$26>$A51,IF(N51=\"\",\"\",(N51-$M51)),\"\")),\"\")","v":-3.4007578428447833},{"$f":"IF(Main!$K$26<$A51,(IF(Main!$M$26>$A51,IF(O51=\"\",\"\",(O51-$M51)),\"\")),\"\")","v":-46.188748538368884},{"$f":"IF(Main!$K$26<$A51,(IF(Main!$M$26>$A51,IF(P51=\"\",\"\",(P51-$M51)),\"\")),\"\")","v":""},{"$f":"IF(Main!$K$26<$A51,(IF(Main!$M$26>$A51,IF(Q51=\"\",\"\",(Q51-$M51)),\"\")),\"\")","v":""},{"$f":"IF(Main!$K$26<$A51,(IF(Main!$M$26>$A51,IF(R51=\"\",\"\",(R51-$M51)),\"\")),\"\")","v":""},{"$f":"IF(Main!$K$26<$A51,(IF(Main!$M$26>$A51,IF(S51=\"\",\"\",(S51-$M51)),\"\")),\"\")","v":""},{"$f":"IF(Main!$K$26<$A51,(IF(Main!$M$26>$A51,IF(T51=\"\",\"\",(T51-$M51)),\"\")),\"\")","v":""},{"$f":"IF(Main!$K$26<$A51,(IF(Main!$M$26>$A51,IF(U51=\"\",\"\",(U51-$M51)),\"\")),\"\")","v":""},{"$f":"IF(Main!$K$26<$A51,(IF(Main!$M$26>$A51,IF(V51=\"\",\"\",(V51-$M51)),\"\")),\"\")","v":""},null,null,622.2539674441631,0.90235813488831329]
[{"$f":"Main!AW94","v":659.2551138257412},0.92331962549076296,{"$f":"Main!AX94","v":-2.4532384084007823},-3.0467763657455835,null,null,null,null,null,null,null,659.2551138257412,0.92331962549076296,-2.4532384084007823,-3.0467763657455835,"","","","","","","",null,{"$f":"IF(Main!$K$26<$A52,(IF(Main!$M$26>$A52,IF(N52=\"\",\"\",(N52-$M52)),\"\")),\"\")","v":-3.3765580338915453},{"$f":"IF(Main!$K$26<$A52,(IF(Main!$M$26>$A52,IF(O52=\"\",\"\",(O52-$M52)),\"\")),\"\")","v":-3.9700959912363465},{"$f":"IF(Main!$K$26<$A52,(IF(Main!$M$26>$A52,IF(P52=\"\",\"\",(P52-$M52)),\"\")),\"\")","v":""},{"$f":"IF(Main!$K$26<$A52,(IF(Main!$M$26>$A52,IF(Q52=\"\",\"\",(Q52-$M52)),\"\")),\"\")","v":""},{"$f":"IF(Main!$K$26<$A52,(IF(Main!$M$26>$A52,IF(R52=\"\",\"\",(R52-$M52)),\"\")),\"\")","v":""},{"$f":"IF(Main!$K$26<$A52,(IF(Main!$M$26>$A52,IF(S52=\"\",\"\",(S52-$M52)),\"\")),\"\")","v":""},{"$f":"IF(Main!$K$26<$A52,(IF(Main!$M$26>$A52,IF(T52=\"\",\"\",(T52-$M52)),\"\")),\"\")","v":""},{"$f":"IF(Main!$K$26<$A52,(IF(Main!$M$26>$A52,IF(U52=\"\",\"\",(U52-$M52)),\"\")),\"\")","v":""},{"$f":"IF(Main!$K$26<$A52,(IF(Main!$M$26>$A52,IF(V52=\"\",\"\",(V52-$M52)),\"\")),\"\")","v":""},null,null,659.2551138257412,0.92331962549076296]
[{"$f":"Main!AW95","v":698.45646286600925},0.94689317368560755,{"$f":"Main!AX95","v":-2.4304663880471673},-45.339855517111651,null,null,null,null,null,null,null,698.45646286600925,0.94689317368560755,-2.4304663880471673,-45.339855517111651,"","","","","","","",null,{"$f":"IF(Main!$K$26<$A53,(IF(Main!$M$26>$A53,IF(N53=\"\",\"\",(N53-$M53)),\"\")),\"\")","v":-3.3773595617327747},{"$f":"IF(Main!$K$26<$A53,(IF(Main!$M$26>$A53,IF(O53=\"\",\"\",(O53-$M53)),\"\")),\"\")","v":-46.286748690797261},{"$f":"IF(Main!$K$26<$A53,(IF(Main!$M$26>$A53,IF(P53=\"\",\"\",(P53-$M53)),\"\")),\"\")","v":""},{"$f":"IF(Main!$K$26<$A53,(IF(Main!$M$26>$A53,IF(Q53=\"\",\"\",(Q53-$M53)),\"\")),\"\")","v":""},{"$f":"IF(Main!$K$26<$A53,(IF(Main!$M$26>$A53,IF(R53=\"\",\"\",(R53-$M53)),\"\")),\"\")","v":""},{"$f":"IF(Main!$K$26<$A53,(IF(Main!$M$26>$A53,IF(S53=\"\",\"\",(S53-$M53)),\"\")),\"\")","v":""},{"$f":"IF(Main!$K$26<$A53,(IF(Main!$M$26>$A53,IF(T53=\"\",\"\",(T53-$M53)),\"\")),\"\")","v":""},{"$f":"IF(Main!$K$26<$A53,(IF(Main!$M$26>$A53,IF(U53=\"\",\"\",(U53-$M53)),\"\")),\"\")","v":""},{"$f":"IF(Main!$K$26<$A53,(IF(Main!$M$26>$A53,IF(V53=\"\",\"\",(V53-$M53)),\"\")),\"\")","v":""},null,null,698.45646286600925,0.94689317368560755]
[{"$f":"Main!AW96","v":739.98884542327039},0.97341036321759256,{"$f":"Main!AX96","v":-2.4260215247637618},-2.1678949578509981,null,null,null,null,null,null,null,739.98884542327039,0.97341036321759256,-2.4260215247637618,-2.1678949578509981,"","","","","","","",null,{"$f":"IF(Main!$K$26<$A54,(IF(Main!$M$26>$A54,IF(N54=\"\",\"\",(N54-$M54)),\"\")),\"\")","v":-3.3994318879813541},{"$f":"IF(Main!$K$26<$A54,(IF(Main!$M$26>$A54,IF(O54=\"\",\"\",(O54-$M54)),\"\")),\"\")","v":-3.1413053210685904},{"$f":"IF(Main!$K$26<$A54,(IF(Main!$M$26>$A54,IF(P54=\"\",\"\",(P54-$M54)),\"\")),\"\")","v":""},{"$f":"IF(Main!$K$26<$A54,(IF(Main!$M$26>$A54,IF(Q54=\"\",\"\",(Q54-$M54)),\"\")),\"\")","v":""},{"$f":"IF(Main!$K$26<$A54,(IF(Main!$M$26>$A54,IF(R54=\"\",\"\",(R54-$M54)),\"\")),\"\")","v":""},{"$f":"IF(Main!$K$26<$A54,(IF(Main!$M$26>$A54,IF(S54=\"\",\"\",(S54-$M54)),\"\")),\"\")","v":""},{"$f":"IF(Main!$K$26<$A54,(IF(Main!$M$26>$A54,IF(T54=\"\",\"\",(T54-$M54)),\"\")),\"\")","v":""},{"$f":"IF(Main!$K$26<$A54,(IF(Main!$M$26>$A54,IF(U54=\"\",\"\",(U54-$M54)),\"\")),\"\")","v":""},{"$f":"IF(Main!$K$26<$A54,(IF(Main!$M$26>$A54,IF(V54=\"\",\"\",(V54-$M54)),\"\")),\"\")","v":""},null,null,739.98884542327039,0.97341036321759256]
[{"$f":"Main!AW97","v":783.99087196350035},1.0032464179976761,{"$f":"Main!AX97","v":-2.4367481209400443},-4.0257681476288782,null,null,null,null,null,null,null,783.99087196350035,1.0032464179976761,-2.4367481209400443,-4.0257681476288782,"","","","","","","",null,{"$f":"IF(Main!$K$26<$A55,(IF(Main!$M$26>$A55,IF(N55=\"\",\"\",(N55-$M55)),\"\")),\"\")","v":-3.4399945389377207},{"$f":"IF(Main!$K$26<$A55,(IF(Main!$M$26>$A55,IF(O55=\"\",\"\",(O55-$M55)),\"\")),\"\")","v":-5.0290145656265546},{"$f":"IF(Main!$K$26<$A55,(IF(Main!$M$26>$A55,IF(P55=\"\",\"\",(P55-$M55)),\"\")),\"\")","v":""},{"$f":"IF(Main!$K$26<$A55,(IF(Main!$M$26>$A55,IF(Q55=\"\",\"\",(Q55-$M55)),\"\")),\"\")","v":""},{"$f":"IF(Main!$K$26<$A55,(IF(Main!$M$26>$A55,IF(R55=\"\",\"\",(R55-$M55)),\"\")),\"\")","v":""},{"$f":"IF(Main!$K$26<$A55,(IF(Main!$M$26>$A55,IF(S55=\"\",\"\",(S55-$M55)),\"\")),\"\")","v":""},{"$f":"IF(Main!$K$26<$A55,(IF(Main!$M$26>$A55,IF(T55=\"\",\"\",(T55-$M55)),\"\")),\"\")","v":""},{"$f":"IF(Main!$K$26<$A55,(IF(Main!$M$26>$A55,IF(U55=\"\",\"\",(U55-$M55)),\"\")),\"\")","v":""},{"$f":"IF(Main!$K$26<$A55,(IF(Main!$M$26>$A55,IF(V55=\"\",\"\",(V55-$M55)),\"\")),\"\")","v":""},null,null,783.99087196350035,1.0032464179976761]
[{"$f":"Main!AW98","v":830.60939515989219},1.0368263280023613,{"$f":"Main!AX98","v":-2.363931514842422},-10.575787037740351,null,null,null,null,null,null,null,830.60939515989219,1.0368263280023613,-2.363931514842422,-10.575787037740351,"","","","","","","",null,{"$f":"IF(Main!$K$26<$A56,(IF(Main!$M$26>$A56,IF(N56=\"\",\"\",(N56-$M56)),\"\")),\"\")","v":-3.4007578428447833},{"$f":"IF(Main!$K$26<$A56,(IF(Main!$M$26>$A56,IF(O56=\"\",\"\",(O56-$M56)),\"\")),\"\")","v":-11.612613365742712},{"$f":"IF(Main!$K$26<$A56,(IF(Main!$M$26>$A56,IF(P56=\"\",\"\",(P56-$M56)),\"\")),\"\")","v":""},{"$f":"IF(Main!$K$26<$A56,(IF(Main!$M$26>$A56,IF(Q56=\"\",\"\",(Q56-$M56)),\"\")),\"\")","v":""},{"$f":"IF(Main!$K$26<$A56,(IF(Main!$M$26>$A56,IF(R56=\"\",\"\",(R56-$M56)),\"\")),\"\")","v":""},{"$f":"IF(Main!$K$26<$A56,(IF(Main!$M$26>$A56,IF(S56=\"\",\"\",(S56-$M56)),\"\")),\"\")","v":""},{"$f":"IF(Main!$K$26<$A56,(IF(Main!$M$26>$A56,IF(T56=\"\",\"\",(T56-$M56)),\"\")),\"\")","v":""},{"$f":"IF(Main!$K$26<$A56,(IF(Main!$M$26>$A56,IF(U56=\"\",\"\",(U56-$M56)),\"\")),\"\")","v":""},{"$f":"IF(Main!$K$26<$A56,(IF(Main!$M$26>$A56,IF(V56=\"\",\"\",(V56-$M56)),\"\")),\"\")","v":""},null,null,830.60939515989219,1.0368263280023613]
[{"$f":"Main!AW99","v":880.00000000000205},1.0746319235935833,{"$f":"Main!AX99","v":-2.3019261102979618},-6.6733992262160262,null,null,null,null,null,null,null,880.00000000000205,1.0746319235935833,-2.3019261102979618,-6.6733992262160262,"","","","","","","",null,{"$f":"IF(Main!$K$26<$A57,(IF(Main!$M$26>$A57,IF(N57=\"\",\"\",(N57-$M57)),\"\")),\"\")","v":-3.3765580338915449},{"$f":"IF(Main!$K$26<$A57,(IF(Main!$M$26>$A57,IF(O57=\"\",\"\",(O57-$M57)),\"\")),\"\")","v":-7.7480311498096093},{"$f":"IF(Main!$K$26<$A57,(IF(Main!$M$26>$A57,IF(P57=\"\",\"\",(P57-$M57)),\"\")),\"\")","v":""},{"$f":"IF(Main!$K$26<$A57,(IF(Main!$M$26>$A57,IF(Q57=\"\",\"\",(Q57-$M57)),\"\")),\"\")","v":""},{"$f":"IF(Main!$K$26<$A57,(IF(Main!$M$26>$A57,IF(R57=\"\",\"\",(R57-$M57)),\"\")),\"\")","v":""},{"$f":"IF(Main!$K$26<$A57,(IF(Main!$M$26>$A57,IF(S57=\"\",\"\",(S57-$M57)),\"\")),\"\")","v":""},{"$f":"IF(Main!$K$26<$A57,(IF(Main!$M$26>$A57,IF(T57=\"\",\"\",(T57-$M57)),\"\")),\"\")","v":""},{"$f":"IF(Main!$K$26<$A57,(IF(Main!$M$26>$A57,IF(U57=\"\",\"\",(U57-$M57)),\"\")),\"\")","v":""},{"$f":"IF(Main!$K$26<$A57,(IF(Main!$M$26>$A57,IF(V57=\"\",\"\",(V57-$M57)),\"\")),\"\")","v":""},null,null,880.00000000000205,1.0746319235935833]
[{"$f":"Main!AW100","v":932.32752303618201},1.1172100625190122,{"$f":"Main!AX100","v":-2.2601494992137625},-18.884264883031918,null,null,null,null,null,null,null,932.32752303618201,1.1172100625190122,-2.2601494992137625,-18.884264883031918,"","","","","","","",null,{"$f":"IF(Main!$K$26<$A58,(IF(Main!$M$26>$A58,IF(N58=\"\",\"\",(N58-$M58)),\"\")),\"\")","v":-3.3773595617327747},{"$f":"IF(Main!$K$26<$A58,(IF(Main!$M$26>$A58,IF(O58=\"\",\"\",(O58-$M58)),\"\")),\"\")","v":-20.001474945550932},{"$f":"IF(Main!$K$26<$A58,(IF(Main!$M$26>$A58,IF(P58=\"\",\"\",(P58-$M58)),\"\")),\"\")","v":""},{"$f":"IF(Main!$K$26<$A58,(IF(Main!$M$26>$A58,IF(Q58=\"\",\"\",(Q58-$M58)),\"\")),\"\")","v":""},{"$f":"IF(Main!$K$26<$A58,(IF(Main!$M$26>$A58,IF(R58=\"\",\"\",(R58-$M58)),\"\")),\"\")","v":""},{"$f":"IF(Main!$K$26<$A58,(IF(Main!$M$26>$A58,IF(S58=\"\",\"\",(S58-$M58)),\"\")),\"\")","v":""},{"$f":"IF(Main!$K$26<$A58,(IF(Main!$M$26>$A58,IF(T58=\"\",\"\",(T58-$M58)),\"\")),\"\")","v":""},{"$f":"IF(Main!$K$26<$A58,(IF(Main!$M$26>$A58,IF(U58=\"\",\"\",(U58-$M58)),\"\")),\"\")","v":""},{"$f":"IF(Main!$K$26<$A58,(IF(Main!$M$26>$A58,IF(V58=\"\",\"\",(V58-$M58)),\"\")),\"\")","v":""},null,null,932.32752303618201,1.1172100625190122]
[{"$f":"Main!AW101","v":987.76660251225053},1.1651821241346749,{"$f":"Main!AX101","v":-2.2342497638466798},-1.9761231969339159,null,null,null,null,null,null,null,987.76660251225053,1.1651821241346749,-2.2342497638466798,-1.9761231969339159,"","","","","","","",null,{"$f":"IF(Main!$K$26<$A59,(IF(Main!$M$26>$A59,IF(N59=\"\",\"\",(N59-$M59)),\"\")),\"\")","v":-3.399431887981355},{"$f":"IF(Main!$K$26<$A59,(IF(Main!$M$26>$A59,IF(O59=\"\",\"\",(O59-$M59)),\"\")),\"\")","v":-3.1413053210685908},{"$f":"IF(Main!$K$26<$A59,(IF(Main!$M$26>$A59,IF(P59=\"\",\"\",(P59-$M59)),\"\")),\"\")","v":""},{"$f":"IF(Main!$K$26<$A59,(IF(Main!$M$26>$A59,IF(Q59=\"\",\"\",(Q59-$M59)),\"\")),\"\")","v":""},{"$f":"IF(Main!$K$26<$A59,(IF(Main!$M$26>$A59,IF(R59=\"\",\"\",(R59-$M59)),\"\")),\"\")","v":""},{"$f":"IF(Main!$K$26<$A59,(IF(Main!$M$26>$A59,IF(S59=\"\",\"\",(S59-$M59)),\"\")),\"\")","v":""},{"$f":"IF(Main!$K$26<$A59,(IF(Main!$M$26>$A59,IF(T59=\"\",\"\",(T59-$M59)),\"\")),\"\")","v":""},{"$f":"IF(Main!$K$26<$A59,(IF(Main!$M$26>$A59,IF(U59=\"\",\"\",(U59-$M59)),\"\")),\"\")","v":""},{"$f":"IF(Main!$K$26<$A59,(IF(Main!$M$26>$A59,IF(V59=\"\",\"\",(V59-$M59)),\"\")),\"\")","v":""},null,null,987.76660251225053,1.1651821241346749]
[{"$f":"Main!AW102","v":1046.502261202397},1.2192550404028888,{"$f":"Main!AX102","v":-2.2207394985348317},-9.5811174715173202,null,null,null,null,null,null,null,1046.502261202397,1.2192550404028888,-2.2207394985348317,-9.5811174715173202,"","","","","","","",null,{"$f":"IF(Main!$K$26<$A60,(IF(Main!$M$26>$A60,IF(N60=\"\",\"\",(N60-$M60)),\"\")),\"\")","v":-3.4399945389377207},{"$f":"IF(Main!$K$26<$A60,(IF(Main!$M$26>$A60,IF(O60=\"\",\"\",(O60-$M60)),\"\")),\"\")","v":-10.800372511920209},{"$f":"IF(Main!$K$26<$A60,(IF(Main!$M$26>$A60,IF(P60=\"\",\"\",(P60-$M60)),\"\")),\"\")","v":""},{"$f":"IF(Main!$K$26<$A60,(IF(Main!$M$26>$A60,IF(Q60=\"\",\"\",(Q60-$M60)),\"\")),\"\")","v":""},{"$f":"IF(Main!$K$26<$A60,(IF(Main!$M$26>$A60,IF(R60=\"\",\"\",(R60-$M60)),\"\")),\"\")","v":""},{"$f":"IF(Main!$K$26<$A60,(IF(Main!$M$26>$A60,IF(S60=\"\",\"\",(S60-$M60)),\"\")),\"\")","v":""},{"$f":"IF(Main!$K$26<$A60,(IF(Main!$M$26>$A60,IF(T60=\"\",\"\",(T60-$M60)),\"\")),\"\")","v":""},{"$f":"IF(Main!$K$26<$A60,(IF(Main!$M$26>$A60,IF(U60=\"\",\"\",(U60-$M60)),\"\")),\"\")","v":""},{"$f":"IF(Main!$K$26<$A60,(IF(Main!$M$26>$A60,IF(V60=\"\",\"\",(V60-$M60)),\"\")),\"\")","v":""},null,null,1046.502261202397,1.2192550404028888]
[{"$f":"Main!AW103","v":1108.730523907491},1.2802341326537057,{"$f":"Main!AX103","v":-2.2169523040951571},-10.332379233089007,null,null,null,null,null,null,null,1108.730523907491,1.2802341326537057,-2.2169523040951571,-10.332379233089007,"","","","","","","",null,{"$f":"IF(Main!$K$26<$A61,(IF(Main!$M$26>$A61,IF(N61=\"\",\"\",(N61-$M61)),\"\")),\"\")","v":-3.497186436748863},{"$f":"IF(Main!$K$26<$A61,(IF(Main!$M$26>$A61,IF(O61=\"\",\"\",(O61-$M61)),\"\")),\"\")","v":-11.612613365742712},{"$f":"IF(Main!$K$26<$A61,(IF(Main!$M$26>$A61,IF(P61=\"\",\"\",(P61-$M61)),\"\")),\"\")","v":""},{"$f":"IF(Main!$K$26<$A61,(IF(Main!$M$26>$A61,IF(Q61=\"\",\"\",(Q61-$M61)),\"\")),\"\")","v":""},{"$f":"IF(Main!$K$26<$A61,(IF(Main!$M$26>$A61,IF(R61=\"\",\"\",(R61-$M61)),\"\")),\"\")","v":""},{"$f":"IF(Main!$K$26<$A61,(IF(Main!$M$26>$A61,IF(S61=\"\",\"\",(S61-$M61)),\"\")),\"\")","v":""},{"$f":"IF(Main!$K$26<$A61,(IF(Main!$M$26>$A61,IF(T61=\"\",\"\",(T61-$M61)),\"\")),\"\")","v":""},{"$f":"IF(Main!$K$26<$A61,(IF(Main!$M$26>$A61,IF(U61=\"\",\"\",(U61-$M61)),\"\")),\"\")","v":""},{"$f":"IF(Main!$K$26<$A61,(IF(Main!$M$26>$A61,IF(V61=\"\",\"\",(V61-$M61)),\"\")),\"\")","v":""},null,null,1108.730523907491,1.2802341326537057]
[{"$f":"Main!AW104","v":1174.659071669633},1.3490380655406879,{"$f":"Main!AX104","v":-2.220931657329301},-6.3989930842689215,null,null,null,null,null,null,null,1174.659071669633,1.3490380655406879,-2.220931657329301,-6.3989930842689215,"","","","","","","",null,{"$f":"IF(Main!$K$26<$A62,(IF(Main!$M$26>$A62,IF(N62=\"\",\"\",(N62-$M62)),\"\")),\"\")","v":-3.5699697228699891},{"$f":"IF(Main!$K$26<$A62,(IF(Main!$M$26>$A62,IF(O62=\"\",\"\",(O62-$M62)),\"\")),\"\")","v":-7.7480311498096093},{"$f":"IF(Main!$K$26<$A62,(IF(Main!$M$26>$A62,IF(P62=\"\",\"\",(P62-$M62)),\"\")),\"\")","v":""},{"$f":"IF(Main!$K$26<$A62,(IF(Main!$M$26>$A62,IF(Q62=\"\",\"\",(Q62-$M62)),\"\")),\"\")","v":""},{"$f":"IF(Main!$K$26<$A62,(IF(Main!$M$26>$A62,IF(R62=\"\",\"\",(R62-$M62)),\"\")),\"\")","v":""},{"$f":"IF(Main!$K$26<$A62,(IF(Main!$M$26>$A62,IF(S62=\"\",\"\",(S62-$M62)),\"\")),\"\")","v":""},{"$f":"IF(Main!$K$26<$A62,(IF(Main!$M$26>$A62,IF(T62=\"\",\"\",(T62-$M62)),\"\")),\"\")","v":""},{"$f":"IF(Main!$K$26<$A62,(IF(Main!$M$26>$A62,IF(U62=\"\",\"\",(U62-$M62)),\"\")),\"\")","v":""},{"$f":"IF(Main!$K$26<$A62,(IF(Main!$M$26>$A62,IF(V62=\"\",\"\",(V62-$M62)),\"\")),\"\")","v":""},null,null,1174.659071669633,1.3490380655406879]
[{"$f":"Main!AW105","v":1244.5079348883266},1.4267162714820592,{"$f":"Main!AX105","v":-2.2313014776294313},-9.4965202686083288,null,null,null,null,null,null,null,1244.5079348883266,1.4267162714820592,-2.2313014776294313,-9.4965202686083288,"","","","","","","",null,{"$f":"IF(Main!$K$26<$A63,(IF(Main!$M$26>$A63,IF(N63=\"\",\"\",(N63-$M63)),\"\")),\"\")","v":-3.6580177491114902},{"$f":"IF(Main!$K$26<$A63,(IF(Main!$M$26>$A63,IF(O63=\"\",\"\",(O63-$M63)),\"\")),\"\")","v":-10.923236540090388},{"$f":"IF(Main!$K$26<$A63,(IF(Main!$M$26>$A63,IF(P63=\"\",\"\",(P63-$M63)),\"\")),\"\")","v":""},{"$f":"IF(Main!$K$26<$A63,(IF(Main!$M$26>$A63,IF(Q63=\"\",\"\",(Q63-$M63)),\"\")),\"\")","v":""},{"$f":"IF(Main!$K$26<$A63,(IF(Main!$M$26>$A63,IF(R63=\"\",\"\",(R63-$M63)),\"\")),\"\")","v":""},{"$f":"IF(Main!$K$26<$A63,(IF(Main!$M$26>$A63,IF(S63=\"\",\"\",(S63-$M63)),\"\")),\"\")","v":""},{"$f":"IF(Main!$K$26<$A63,(IF(Main!$M$26>$A63,IF(T63=\"\",\"\",(T63-$M63)),\"\")),\"\")","v":""},{"$f":"IF(Main!$K$26<$A63,(IF(Main!$M$26>$A63,IF(U63=\"\",\"\",(U63-$M63)),\"\")),\"\")","v":""},{"$f":"IF(Main!$K$26<$A63,(IF(Main!$M$26>$A63,IF(V63=\"\",\"\",(V63-$M63)),\"\")),\"\")","v":""},null,null,1244.5079348883266,1.4267162714820592]
[{"$f":"Main!AW106","v":1318.5102276514829},1.5144692324411997,{"$f":"Main!AX106","v":-2.2471454109621436},-3.5145453331853544,null,null,null,null,null,null,null,1318.5102276514829,1.5144692324411997,-2.2471454109621436,-3.5145453331853544,"","","","","","","",null,{"$f":"IF(Main!$K$26<$A64,(IF(Main!$M$26>$A64,IF(N64=\"\",\"\",(N64-$M64)),\"\")),\"\")","v":-3.7616146434033433},{"$f":"IF(Main!$K$26<$A64,(IF(Main!$M$26>$A64,IF(O64=\"\",\"\",(O64-$M64)),\"\")),\"\")","v":-5.0290145656265537},{"$f":"IF(Main!$K$26<$A64,(IF(Main!$M$26>$A64,IF(P64=\"\",\"\",(P64-$M64)),\"\")),\"\")","v":""},{"$f":"IF(Main!$K$26<$A64,(IF(Main!$M$26>$A64,IF(Q64=\"\",\"\",(Q64-$M64)),\"\")),\"\")","v":""},{"$f":"IF(Main!$K$26<$A64,(IF(Main!$M$26>$A64,IF(R64=\"\",\"\",(R64-$M64)),\"\")),\"\")","v":""},{"$f":"IF(Main!$K$26<$A64,(IF(Main!$M$26>$A64,IF(S64=\"\",\"\",(S64-$M64)),\"\")),\"\")","v":""},{"$f":"IF(Main!$K$26<$A64,(IF(Main!$M$26>$A64,IF(T64=\"\",\"\",(T64-$M64)),\"\")),\"\")","v":""},{"$f":"IF(Main!$K$26<$A64,(IF(Main!$M$26>$A64,IF(U64=\"\",\"\",(U64-$M64)),\"\")),\"\")","v":""},{"$f":"IF(Main!$K$26<$A64,(IF(Main!$M$26>$A64,IF(V64=\"\",\"\",(V64-$M64)),\"\")),\"\")","v":""},null,null,1318.5102276514829,1.5144692324411997]
[{"$f":"Main!AW107","v":1396.9129257320189},1.613672015727293,{"$f":"Main!AX107","v":-2.2679065578499662},-9.1867004961929162,null,null,null,null,null,null,null,1396.9129257320189,1.613672015727293,-2.2679065578499662,-9.1867004961929162,"","","","","","","",null,{"$f":"IF(Main!$K$26<$A65,(IF(Main!$M$26>$A65,IF(N65=\"\",\"\",(N65-$M65)),\"\")),\"\")","v":-3.8815785735772592},{"$f":"IF(Main!$K$26<$A65,(IF(Main!$M$26>$A65,IF(O65=\"\",\"\",(O65-$M65)),\"\")),\"\")","v":-10.800372511920209},{"$f":"IF(Main!$K$26<$A65,(IF(Main!$M$26>$A65,IF(P65=\"\",\"\",(P65-$M65)),\"\")),\"\")","v":""},{"$f":"IF(Main!$K$26<$A65,(IF(Main!$M$26>$A65,IF(Q65=\"\",\"\",(Q65-$M65)),\"\")),\"\")","v":""},{"$f":"IF(Main!$K$26<$A65,(IF(Main!$M$26>$A65,IF(R65=\"\",\"\",(R65-$M65)),\"\")),\"\")","v":""},{"$f":"IF(Main!$K$26<$A65,(IF(Main!$M$26>$A65,IF(S65=\"\",\"\",(S65-$M65)),\"\")),\"\")","v":""},{"$f":"IF(Main!$K$26<$A65,(IF(Main!$M$26>$A65,IF(T65=\"\",\"\",(T65-$M65)),\"\")),\"\")","v":""},{"$f":"IF(Main!$K$26<$A65,(IF(Main!$M$26>$A65,IF(U65=\"\",\"\",(U65-$M65)),\"\")),\"\")","v":""},{"$f":"IF(Main!$K$26<$A65,(IF(Main!$M$26>$A65,IF(V65=\"\",\"\",(V65-$M65)),\"\")),\"\")","v":""},null,null,1396.9129257320189,1.613672015727293]
[{"$f":"Main!AW108","v":1479.9776908465412},1.7259014167789197,{"$f":"Main!AX108","v":-2.2933108438530754},-9.8867119489637929,null,null,null,null,null,null,null,1479.9776908465412,1.7259014167789197,-2.2933108438530754,-9.8867119489637929,"","","","","","","",null,{"$f":"IF(Main!$K$26<$A66,(IF(Main!$M$26>$A66,IF(N66=\"\",\"\",(N66-$M66)),\"\")),\"\")","v":-4.0192122606319955},{"$f":"IF(Main!$K$26<$A66,(IF(Main!$M$26>$A66,IF(O66=\"\",\"\",(O66-$M66)),\"\")),\"\")","v":-11.612613365742712},{"$f":"IF(Main!$K$26<$A66,(IF(Main!$M$26>$A66,IF(P66=\"\",\"\",(P66-$M66)),\"\")),\"\")","v":""},{"$f":"IF(Main!$K$26<$A66,(IF(Main!$M$26>$A66,IF(Q66=\"\",\"\",(Q66-$M66)),\"\")),\"\")","v":""},{"$f":"IF(Main!$K$26<$A66,(IF(Main!$M$26>$A66,IF(R66=\"\",\"\",(R66-$M66)),\"\")),\"\")","v":""},{"$f":"IF(Main!$K$26<$A66,(IF(Main!$M$26>$A66,IF(S66=\"\",\"\",(S66-$M66)),\"\")),\"\")","v":""},{"$f":"IF(Main!$K$26<$A66,(IF(Main!$M$26>$A66,IF(T66=\"\",\"\",(T66-$M66)),\"\")),\"\")","v":""},{"$f":"IF(Main!$K$26<$A66,(IF(Main!$M$26>$A66,IF(U66=\"\",\"\",(U66-$M66)),\"\")),\"\")","v":""},{"$f":"IF(Main!$K$26<$A66,(IF(Main!$M$26>$A66,IF(V66=\"\",\"\",(V66-$M66)),\"\")),\"\")","v":""},null,null,1479.9776908465412,1.7259014167789197]
[{"$f":"Main!AW109","v":1567.9817439270012},1.8529669080641002,{"$f":"Main!AX109","v":-2.3233135248721819},-5.8950642417455095,null,null,null,null,null,null,null,1567.9817439270012,1.8529669080641002,-2.3233135248721819,-5.8950642417455095,"","","","","","","",null,{"$f":"IF(Main!$K$26<$A67,(IF(Main!$M$26>$A67,IF(N67=\"\",\"\",(N67-$M67)),\"\")),\"\")","v":-4.1762804329362826},{"$f":"IF(Main!$K$26<$A67,(IF(Main!$M$26>$A67,IF(O67=\"\",\"\",(O67-$M67)),\"\")),\"\")","v":-7.7480311498096093},{"$f":"IF(Main!$K$26<$A67,(IF(Main!$M$26>$A67,IF(P67=\"\",\"\",(P67-$M67)),\"\")),\"\")","v":""},{"$f":"IF(Main!$K$26<$A67,(IF(Main!$M$26>$A67,IF(Q67=\"\",\"\",(Q67-$M67)),\"\")),\"\")","v":""},{"$f":"IF(Main!$K$26<$A67,(IF(Main!$M$26>$A67,IF(R67=\"\",\"\",(R67-$M67)),\"\")),\"\")","v":""},{"$f":"IF(Main!$K$26<$A67,(IF(Main!$M$26>$A67,IF(S67=\"\",\"\",(S67-$M67)),\"\")),\"\")","v":""},{"$f":"IF(Main!$K$26<$A67,(IF(Main!$M$26>$A67,IF(T67=\"\",\"\",(T67-$M67)),\"\")),\"\")","v":""},{"$f":"IF(Main!$K$26<$A67,(IF(Main!$M$26>$A67,IF(U67=\"\",\"\",(U67-$M67)),\"\")),\"\")","v":""},{"$f":"IF(Main!$K$26<$A67,(IF(Main!$M$26>$A67,IF(V67=\"\",\"\",(V67-$M67)),\"\")),\"\")","v":""},null,null,1567.9817439270012,1.8529669080641002]
[{"$f":"Main!AW110","v":1661.2187903197848},1.9969452226902926,{"$f":"Main!AX110","v":-2.358067654959334},-8.9262913174000964,null,null,null,null,null,null,null,1661.2187903197848,1.9969452226902926,-2.358067654959334,-8.9262913174000964,"","","","","","","",null,{"$f":"IF(Main!$K$26<$A68,(IF(Main!$M$26>$A68,IF(N68=\"\",\"\",(N68-$M68)),\"\")),\"\")","v":-4.3550128776496262},{"$f":"IF(Main!$K$26<$A68,(IF(Main!$M$26>$A68,IF(O68=\"\",\"\",(O68-$M68)),\"\")),\"\")","v":-10.923236540090389},{"$f":"IF(Main!$K$26<$A68,(IF(Main!$M$26>$A68,IF(P68=\"\",\"\",(P68-$M68)),\"\")),\"\")","v":""},{"$f":"IF(Main!$K$26<$A68,(IF(Main!$M$26>$A68,IF(Q68=\"\",\"\",(Q68-$M68)),\"\")),\"\")","v":""},{"$f":"IF(Main!$K$26<$A68,(IF(Main!$M$26>$A68,IF(R68=\"\",\"\",(R68-$M68)),\"\")),\"\")","v":""},{"$f":"IF(Main!$K$26<$A68,(IF(Main!$M$26>$A68,IF(S68=\"\",\"\",(S68-$M68)),\"\")),\"\")","v":""},{"$f":"IF(Main!$K$26<$A68,(IF(Main!$M$26>$A68,IF(T68=\"\",\"\",(T68-$M68)),\"\")),\"\")","v":""},{"$f":"IF(Main!$K$26<$A68,(IF(Main!$M$26>$A68,IF(U68=\"\",\"\",(U68-$M68)),\"\")),\"\")","v":""},{"$f":"IF(Main!$K$26<$A68,(IF(Main!$M$26>$A68,IF(V68=\"\",\"\",(V68-$M68)),\"\")),\"\")","v":""},null,null,1661.2187903197848,1.9969452226902926]
[{"$f":"Main!AW111","v":1760.0000000000045},2.1602176132091317,{"$f":"Main!AX111","v":-2.3979146545594849},-6.0302303854447805,null,null,null,null,null,null,null,{"$f":"A69","v":1760.0000000000045},{"$f":"IF(B69=\"\",\"\",B69)","v":2.1602176132091317},{"$f":"IF(C69=\"\",\"\",C69+IF($B$1,C$1))","v":-2.3979146545594849},{"$f":"IF(D69=\"\",\"\",D69+IF($B$1,D$1))","v":-6.0302303854447805},{"$f":"IF(E69=\"\",\"\",E69+IF($B$1,E$1))","v":""},{"$f":"IF(F69=\"\",\"\",F69+IF($B$1,F$1))","v":""},{"$f":"IF(G69=\"\",\"\",G69+IF($B$1,G$1))","v":""},{"$f":"IF(H69=\"\",\"\",H69+IF($B$1,H$1))","v":""},{"$f":"IF(I69=\"\",\"\",I69+IF($B$1,I$1))","v":""},{"$f":"IF(J69=\"\",\"\",J69+IF($B$1,J$1))","v":""},{"$f":"IF(K69=\"\",\"\",K69+IF($B$1,K$1))","v":""},null,{"$f":"IF(Main!$K$26<$A69,(IF(Main!$M$26>$A69,IF(N69=\"\",\"\",(N69-$M69)),\"\")),\"\")","v":-4.5581322677686167},{"$f":"IF(Main!$K$26<$A69,(IF(Main!$M$26>$A69,IF(O69=\"\",\"\",(O69-$M69)),\"\")),\"\")","v":-8.1904479986539123},{"$f":"IF(Main!$K$26<$A69,(IF(Main!$M$26>$A69,IF(P69=\"\",\"\",(P69-$M69)),\"\")),\"\")","v":""},{"$f":"IF(Main!$K$26<$A69,(IF(Main!$M$26>$A69,IF(Q69=\"\",\"\",(Q69-$M69)),\"\")),\"\")","v":""},{"$f":"IF(Main!$K$26<$A69,(IF(Main!$M$26>$A69,IF(R69=\"\",\"\",(R69-$M69)),\"\")),\"\")","v":""},{"$f":"IF(Main!$K$26<$A69,(IF(Main!$M$26>$A69,IF(S69=\"\",\"\",(S69-$M69)),\"\")),\"\")","v":""},{"$f":"IF(Main!$K$26<$A69,(IF(Main!$M$26>$A69,IF(T69=\"\",\"\",(T69-$M69)),\"\")),\"\")","v":""},{"$f":"IF(Main!$K$26<$A69,(IF(Main!$M$26>$A69,IF(U69=\"\",\"\",(U69-$M69)),\"\")),\"\")","v":""},{"$f":"IF(Main!$K$26<$A69,(IF(Main!$M$26>$A69,IF(V69=\"\",\"\",(V69-$M69)),\"\")),\"\")","v":""},null,null,1760.0000000000045,2.1602176132091317]
[{"$f":"Main!AW112","v":1864.6550460723645},2.3455072403510377,{"$f":"Main!AX112","v":-2.4434001006984731},-17.256967917394142,null,null,null,null,null,null,null,1864.6550460723645,2.3455072403510377,-2.4434001006984731,-17.256967917394142,"","","","","","","",null,{"$f":"IF(Main!$K$26<$A70,(IF(Main!$M$26>$A70,IF(N70=\"\",\"\",(N70-$M70)),\"\")),\"\")","v":-4.7889073410495104},{"$f":"IF(Main!$K$26<$A70,(IF(Main!$M$26>$A70,IF(O70=\"\",\"\",(O70-$M70)),\"\")),\"\")","v":-19.602475157745179},{"$f":"IF(Main!$K$26<$A70,(IF(Main!$M$26>$A70,IF(P70=\"\",\"\",(P70-$M70)),\"\")),\"\")","v":""},{"$f":"IF(Main!$K$26<$A70,(IF(Main!$M$26>$A70,IF(Q70=\"\",\"\",(Q70-$M70)),\"\")),\"\")","v":""},{"$f":"IF(Main!$K$26<$A70,(IF(Main!$M$26>$A70,IF(R70=\"\",\"\",(R70-$M70)),\"\")),\"\")","v":""},{"$f":"IF(Main!$K$26<$A70,(IF(Main!$M$26>$A70,IF(S70=\"\",\"\",(S70-$M70)),\"\")),\"\")","v":""},{"$f":"IF(Main!$K$26<$A70,(IF(Main!$M$26>$A70,IF(T70=\"\",\"\",(T70-$M70)),\"\")),\"\")","v":""},{"$f":"IF(Main!$K$26<$A70,(IF(Main!$M$26>$A70,IF(U70=\"\",\"\",(U70-$M70)),\"\")),\"\")","v":""},{"$f":"IF(Main!$K$26<$A70,(IF(Main!$M$26>$A70,IF(V70=\"\",\"\",(V70-$M70)),\"\")),\"\")","v":""},null,null,1864.6550460723645,2.3455072403510377]
[{"$f":"Main!AW113","v":1975.5332050245017},2.5559110387761712,{"$f":"Main!AX113","v":-2.4953229918362725},-5.1921201110334385,null,null,null,null,null,null,null,1975.5332050245017,2.5559110387761712,-2.4953229918362725,-5.1921201110334385,"","","","","","","",null,{"$f":"IF(Main!$K$26<$A71,(IF(Main!$M$26>$A71,IF(N71=\"\",\"\",(N71-$M71)),\"\")),\"\")","v":-5.0512340306124432},{"$f":"IF(Main!$K$26<$A71,(IF(Main!$M$26>$A71,IF(O71=\"\",\"\",(O71-$M71)),\"\")),\"\")","v":-7.7480311498096093},{"$f":"IF(Main!$K$26<$A71,(IF(Main!$M$26>$A71,IF(P71=\"\",\"\",(P71-$M71)),\"\")),\"\")","v":""},{"$f":"IF(Main!$K$26<$A71,(IF(Main!$M$26>$A71,IF(Q71=\"\",\"\",(Q71-$M71)),\"\")),\"\")","v":""},{"$f":"IF(Main!$K$26<$A71,(IF(Main!$M$26>$A71,IF(R71=\"\",\"\",(R71-$M71)),\"\")),\"\")","v":""},{"$f":"IF(Main!$K$26<$A71,(IF(Main!$M$26>$A71,IF(S71=\"\",\"\",(S71-$M71)),\"\")),\"\")","v":""},{"$f":"IF(Main!$K$26<$A71,(IF(Main!$M$26>$A71,IF(T71=\"\",\"\",(T71-$M71)),\"\")),\"\")","v":""},{"$f":"IF(Main!$K$26<$A71,(IF(Main!$M$26>$A71,IF(U71=\"\",\"\",(U71-$M71)),\"\")),\"\")","v":""},{"$f":"IF(Main!$K$26<$A71,(IF(Main!$M$26>$A71,IF(V71=\"\",\"\",(V71-$M71)),\"\")),\"\")","v":""},null,null,1975.5332050245017,2.5559110387761712]
[{"$f":"Main!AW114","v":2093.0045224047949},2.7949143858344323,{"$f":"Main!AX114","v":-2.5548354752071827},-16.679128196247955,null,null,null,null,null,null,null,2093.0045224047949,2.7949143858344323,-2.5548354752071827,-16.679128196247955,"","","","","","","",null,{"$f":"IF(Main!$K$26<$A72,(IF(Main!$M$26>$A72,IF(N72=\"\",\"\",(N72-$M72)),\"\")),\"\")","v":-5.349749861041615},{"$f":"IF(Main!$K$26<$A72,(IF(Main!$M$26>$A72,IF(O72=\"\",\"\",(O72-$M72)),\"\")),\"\")","v":-19.474042582082387},{"$f":"IF(Main!$K$26<$A72,(IF(Main!$M$26>$A72,IF(P72=\"\",\"\",(P72-$M72)),\"\")),\"\")","v":""},{"$f":"IF(Main!$K$26<$A72,(IF(Main!$M$26>$A72,IF(Q72=\"\",\"\",(Q72-$M72)),\"\")),\"\")","v":""},{"$f":"IF(Main!$K$26<$A72,(IF(Main!$M$26>$A72,IF(R72=\"\",\"\",(R72-$M72)),\"\")),\"\")","v":""},{"$f":"IF(Main!$K$26<$A72,(IF(Main!$M$26>$A72,IF(S72=\"\",\"\",(S72-$M72)),\"\")),\"\")","v":""},{"$f":"IF(Main!$K$26<$A72,(IF(Main!$M$26>$A72,IF(T72=\"\",\"\",(T72-$M72)),\"\")),\"\")","v":""},{"$f":"IF(Main!$K$26<$A72,(IF(Main!$M$26>$A72,IF(U72=\"\",\"\",(U72-$M72)),\"\")),\"\")","v":""},{"$f":"IF(Main!$K$26<$A72,(IF(Main!$M$26>$A72,IF(V72=\"\",\"\",(V72-$M72)),\"\")),\"\")","v":""},null,null,2093.0045224047949,2.7949143858344323]
[{"$f":"Main!AW115","v":2217.461047814983},3.0663652708864477,{"$f":"Main!AX115","v":-2.6236254025772174},-5.1240827277674645,null,null,null,null,null,null,null,2217.461047814983,3.0663652708864477,-2.6236254025772174,-5.1240827277674645,"","","","","","","",null,{"$f":"IF(Main!$K$26<$A73,(IF(Main!$M$26>$A73,IF(N73=\"\",\"\",(N73-$M73)),\"\")),\"\")","v":-5.6899906734636652},{"$f":"IF(Main!$K$26<$A73,(IF(Main!$M$26>$A73,IF(O73=\"\",\"\",(O73-$M73)),\"\")),\"\")","v":-8.1904479986539123},{"$f":"IF(Main!$K$26<$A73,(IF(Main!$M$26>$A73,IF(P73=\"\",\"\",(P73-$M73)),\"\")),\"\")","v":""},{"$f":"IF(Main!$K$26<$A73,(IF(Main!$M$26>$A73,IF(Q73=\"\",\"\",(Q73-$M73)),\"\")),\"\")","v":""},{"$f":"IF(Main!$K$26<$A73,(IF(Main!$M$26>$A73,IF(R73=\"\",\"\",(R73-$M73)),\"\")),\"\")","v":""},{"$f":"IF(Main!$K$26<$A73,(IF(Main!$M$26>$A73,IF(S73=\"\",\"\",(S73-$M73)),\"\")),\"\")","v":""},{"$f":"IF(Main!$K$26<$A73,(IF(Main!$M$26>$A73,IF(T73=\"\",\"\",(T73-$M73)),\"\")),\"\")","v":""},{"$f":"IF(Main!$K$26<$A73,(IF(Main!$M$26>$A73,IF(U73=\"\",\"\",(U73-$M73)),\"\")),\"\")","v":""},{"$f":"IF(Main!$K$26<$A73,(IF(Main!$M$26>$A73,IF(V73=\"\",\"\",(V73-$M73)),\"\")),\"\")","v":""},null,null,2217.461047814983,3.0663652708864477]
[{"$f":"Main!AW116","v":2349.318143339267},3.3743621911024122,{"$f":"Main!AX116","v":-2.7042420308887358},-7.426010320817797,null,null,null,null,null,null,null,2349.318143339267,3.3743621911024122,-2.7042420308887358,-7.426010320817797,"","","","","","","",null,{"$f":"IF(Main!$K$26<$A74,(IF(Main!$M$26>$A74,IF(N74=\"\",\"\",(N74-$M74)),\"\")),\"\")","v":-6.0786042219911476},{"$f":"IF(Main!$K$26<$A74,(IF(Main!$M$26>$A74,IF(O74=\"\",\"\",(O74-$M74)),\"\")),\"\")","v":-10.800372511920209},{"$f":"IF(Main!$K$26<$A74,(IF(Main!$M$26>$A74,IF(P74=\"\",\"\",(P74-$M74)),\"\")),\"\")","v":""},{"$f":"IF(Main!$K$26<$A74,(IF(Main!$M$26>$A74,IF(Q74=\"\",\"\",(Q74-$M74)),\"\")),\"\")","v":""},{"$f":"IF(Main!$K$26<$A74,(IF(Main!$M$26>$A74,IF(R74=\"\",\"\",(R74-$M74)),\"\")),\"\")","v":""},{"$f":"IF(Main!$K$26<$A74,(IF(Main!$M$26>$A74,IF(S74=\"\",\"\",(S74-$M74)),\"\")),\"\")","v":""},{"$f":"IF(Main!$K$26<$A74,(IF(Main!$M$26>$A74,IF(T74=\"\",\"\",(T74-$M74)),\"\")),\"\")","v":""},{"$f":"IF(Main!$K$26<$A74,(IF(Main!$M$26>$A74,IF(U74=\"\",\"\",(U74-$M74)),\"\")),\"\")","v":""},{"$f":"IF(Main!$K$26<$A74,(IF(Main!$M$26>$A74,IF(V74=\"\",\"\",(V74-$M74)),\"\")),\"\")","v":""},null,null,2349.318143339267,3.3743621911024122]
[{"$f":"Main!AW117","v":2489.0158697766542},3.7229665574701341,{"$f":"Main!AX117","v":-2.8006770898758457},-7.8896468082725786,null,null,null,null,null,null,null,2489.0158697766542,3.7229665574701341,-2.8006770898758457,-7.8896468082725786,"","","","","","","",null,{"$f":"IF(Main!$K$26<$A75,(IF(Main!$M$26>$A75,IF(N75=\"\",\"\",(N75-$M75)),\"\")),\"\")","v":-6.5236436473459793},{"$f":"IF(Main!$K$26<$A75,(IF(Main!$M$26>$A75,IF(O75=\"\",\"\",(O75-$M75)),\"\")),\"\")","v":-11.612613365742712},{"$f":"IF(Main!$K$26<$A75,(IF(Main!$M$26>$A75,IF(P75=\"\",\"\",(P75-$M75)),\"\")),\"\")","v":""},{"$f":"IF(Main!$K$26<$A75,(IF(Main!$M$26>$A75,IF(Q75=\"\",\"\",(Q75-$M75)),\"\")),\"\")","v":""},{"$f":"IF(Main!$K$26<$A75,(IF(Main!$M$26>$A75,IF(R75=\"\",\"\",(R75-$M75)),\"\")),\"\")","v":""},{"$f":"IF(Main!$K$26<$A75,(IF(Main!$M$26>$A75,IF(S75=\"\",\"\",(S75-$M75)),\"\")),\"\")","v":""},{"$f":"IF(Main!$K$26<$A75,(IF(Main!$M$26>$A75,IF(T75=\"\",\"\",(T75-$M75)),\"\")),\"\")","v":""},{"$f":"IF(Main!$K$26<$A75,(IF(Main!$M$26>$A75,IF(U75=\"\",\"\",(U75-$M75)),\"\")),\"\")","v":""},{"$f":"IF(Main!$K$26<$A75,(IF(Main!$M$26>$A75,IF(V75=\"\",\"\",(V75-$M75)),\"\")),\"\")","v":""},null,null,2489.0158697766542,3.7229665574701341]
[{"$f":"Main!AW118","v":2637.0204553029671},4.1155668637198346,{"$f":"Main!AX118","v":-2.9194107072890958},-3.6324642860897747,null,null,null,null,null,null,null,2637.0204553029671,4.1155668637198346,-2.9194107072890958,-3.6324642860897747,"","","","","","","",null,{"$f":"IF(Main!$K$26<$A76,(IF(Main!$M$26>$A76,IF(N76=\"\",\"\",(N76-$M76)),\"\")),\"\")","v":-7.0349775710089304},{"$f":"IF(Main!$K$26<$A76,(IF(Main!$M$26>$A76,IF(O76=\"\",\"\",(O76-$M76)),\"\")),\"\")","v":-7.7480311498096093},{"$f":"IF(Main!$K$26<$A76,(IF(Main!$M$26>$A76,IF(P76=\"\",\"\",(P76-$M76)),\"\")),\"\")","v":""},{"$f":"IF(Main!$K$26<$A76,(IF(Main!$M$26>$A76,IF(Q76=\"\",\"\",(Q76-$M76)),\"\")),\"\")","v":""},{"$f":"IF(Main!$K$26<$A76,(IF(Main!$M$26>$A76,IF(R76=\"\",\"\",(R76-$M76)),\"\")),\"\")","v":""},{"$f":"IF(Main!$K$26<$A76,(IF(Main!$M$26>$A76,IF(S76=\"\",\"\",(S76-$M76)),\"\")),\"\")","v":""},{"$f":"IF(Main!$K$26<$A76,(IF(Main!$M$26>$A76,IF(T76=\"\",\"\",(T76-$M76)),\"\")),\"\")","v":""},{"$f":"IF(Main!$K$26<$A76,(IF(Main!$M$26>$A76,IF(U76=\"\",\"\",(U76-$M76)),\"\")),\"\")","v":""},{"$f":"IF(Main!$K$26<$A76,(IF(Main!$M$26>$A76,IF(V76=\"\",\"\",(V76-$M76)),\"\")),\"\")","v":""},null,null,2637.0204553029671,4.1155668637198346]
[{"$f":"Main!AW119","v":2793.8258514640393},4.5535646037341149,{"$f":"Main!AX119","v":-3.0713122937426793},-14.920477978348272,null,null,null,null,null,null,null,2793.8258514640393,4.5535646037341149,-3.0713122937426793,-14.920477978348272,"","","","","","","",null,{"$f":"IF(Main!$K$26<$A77,(IF(Main!$M$26>$A77,IF(N77=\"\",\"\",(N77-$M77)),\"\")),\"\")","v":-7.6248768974767938},{"$f":"IF(Main!$K$26<$A77,(IF(Main!$M$26>$A77,IF(O77=\"\",\"\",(O77-$M77)),\"\")),\"\")","v":-19.474042582082387},{"$f":"IF(Main!$K$26<$A77,(IF(Main!$M$26>$A77,IF(P77=\"\",\"\",(P77-$M77)),\"\")),\"\")","v":""},{"$f":"IF(Main!$K$26<$A77,(IF(Main!$M$26>$A77,IF(Q77=\"\",\"\",(Q77-$M77)),\"\")),\"\")","v":""},{"$f":"IF(Main!$K$26<$A77,(IF(Main!$M$26>$A77,IF(R77=\"\",\"\",(R77-$M77)),\"\")),\"\")","v":""},{"$f":"IF(Main!$K$26<$A77,(IF(Main!$M$26>$A77,IF(S77=\"\",\"\",(S77-$M77)),\"\")),\"\")","v":""},{"$f":"IF(Main!$K$26<$A77,(IF(Main!$M$26>$A77,IF(T77=\"\",\"\",(T77-$M77)),\"\")),\"\")","v":""},{"$f":"IF(Main!$K$26<$A77,(IF(Main!$M$26>$A77,IF(U77=\"\",\"\",(U77-$M77)),\"\")),\"\")","v":""},{"$f":"IF(Main!$K$26<$A77,(IF(Main!$M$26>$A77,IF(V77=\"\",\"\",(V77-$M77)),\"\")),\"\")","v":""},null,null,2793.8258514640393,4.5535646037341149]
[{"$f":"Main!AW120","v":2959.9553816930838},5.0337727249698379,{"$f":"Main!AX120","v":-3.2751072335634062},-3.1566752736840753,null,null,null,null,null,null,null,2959.9553816930838,5.0337727249698379,-3.2751072335634062,-3.1566752736840753,"","","","","","","",null,{"$f":"IF(Main!$K$26<$A78,(IF(Main!$M$26>$A78,IF(N78=\"\",\"\",(N78-$M78)),\"\")),\"\")","v":-8.3088799585332431},{"$f":"IF(Main!$K$26<$A78,(IF(Main!$M$26>$A78,IF(O78=\"\",\"\",(O78-$M78)),\"\")),\"\")","v":-8.1904479986539123},{"$f":"IF(Main!$K$26<$A78,(IF(Main!$M$26>$A78,IF(P78=\"\",\"\",(P78-$M78)),\"\")),\"\")","v":""},{"$f":"IF(Main!$K$26<$A78,(IF(Main!$M$26>$A78,IF(Q78=\"\",\"\",(Q78-$M78)),\"\")),\"\")","v":""},{"$f":"IF(Main!$K$26<$A78,(IF(Main!$M$26>$A78,IF(R78=\"\",\"\",(R78-$M78)),\"\")),\"\")","v":""},{"$f":"IF(Main!$K$26<$A78,(IF(Main!$M$26>$A78,IF(S78=\"\",\"\",(S78-$M78)),\"\")),\"\")","v":""},{"$f":"IF(Main!$K$26<$A78,(IF(Main!$M$26>$A78,IF(T78=\"\",\"\",(T78-$M78)),\"\")),\"\")","v":""},{"$f":"IF(Main!$K$26<$A78,(IF(Main!$M$26>$A78,IF(U78=\"\",\"\",(U78-$M78)),\"\")),\"\")","v":""},{"$f":"IF(Main!$K$26<$A78,(IF(Main!$M$26>$A78,IF(V78=\"\",\"\",(V78-$M78)),\"\")),\"\")","v":""},null,null,2959.9553816930838,5.0337727249698379]
[{"$f":"Main!AW121","v":3135.9634878540037},5.5434956489154885,{"$f":"Main!AX121","v":-3.5636197457614003},-11.775174483475762,null,null,null,null,null,null,null,3135.9634878540037,5.5434956489154885,-3.5636197457614003,-11.775174483475762,"","","","","","","",null,{"$f":"IF(Main!$K$26<$A79,(IF(Main!$M$26>$A79,IF(N79=\"\",\"\",(N79-$M79)),\"\")),\"\")","v":-9.1071153946768888},{"$f":"IF(Main!$K$26<$A79,(IF(Main!$M$26>$A79,IF(O79=\"\",\"\",(O79-$M79)),\"\")),\"\")","v":-17.318670132391251},{"$f":"IF(Main!$K$26<$A79,(IF(Main!$M$26>$A79,IF(P79=\"\",\"\",(P79-$M79)),\"\")),\"\")","v":""},{"$f":"IF(Main!$K$26<$A79,(IF(Main!$M$26>$A79,IF(Q79=\"\",\"\",(Q79-$M79)),\"\")),\"\")","v":""},{"$f":"IF(Main!$K$26<$A79,(IF(Main!$M$26>$A79,IF(R79=\"\",\"\",(R79-$M79)),\"\")),\"\")","v":""},{"$f":"IF(Main!$K$26<$A79,(IF(Main!$M$26>$A79,IF(S79=\"\",\"\",(S79-$M79)),\"\")),\"\")","v":""},{"$f":"IF(Main!$K$26<$A79,(IF(Main!$M$26>$A79,IF(T79=\"\",\"\",(T79-$M79)),\"\")),\"\")","v":""},{"$f":"IF(Main!$K$26<$A79,(IF(Main!$M$26>$A79,IF(U79=\"\",\"\",(U79-$M79)),\"\")),\"\")","v":""},{"$f":"IF(Main!$K$26<$A79,(IF(Main!$M$26>$A79,IF(V79=\"\",\"\",(V79-$M79)),\"\")),\"\")","v":""},null,null,3135.9634878540037,5.5434956489154885]
[{"$f":"Main!AW122","v":3322.437580639571},6.0519245039752985,{"$f":"Main!AX122","v":-3.99449187813725},-5.5606888617674137,null,null,null,null,null,null,null,3322.437580639571,6.0519245039752985,-3.99449187813725,-5.5606888617674137,"","","","","","","",null,{"$f":"IF(Main!$K$26<$A80,(IF(Main!$M$26>$A80,IF(N80=\"\",\"\",(N80-$M80)),\"\")),\"\")","v":-10.046416382112549},{"$f":"IF(Main!$K$26<$A80,(IF(Main!$M$26>$A80,IF(O80=\"\",\"\",(O80-$M80)),\"\")),\"\")","v":-11.612613365742712},{"$f":"IF(Main!$K$26<$A80,(IF(Main!$M$26>$A80,IF(P80=\"\",\"\",(P80-$M80)),\"\")),\"\")","v":""},{"$f":"IF(Main!$K$26<$A80,(IF(Main!$M$26>$A80,IF(Q80=\"\",\"\",(Q80-$M80)),\"\")),\"\")","v":""},{"$f":"IF(Main!$K$26<$A80,(IF(Main!$M$26>$A80,IF(R80=\"\",\"\",(R80-$M80)),\"\")),\"\")","v":""},{"$f":"IF(Main!$K$26<$A80,(IF(Main!$M$26>$A80,IF(S80=\"\",\"\",(S80-$M80)),\"\")),\"\")","v":""},{"$f":"IF(Main!$K$26<$A80,(IF(Main!$M$26>$A80,IF(T80=\"\",\"\",(T80-$M80)),\"\")),\"\")","v":""},{"$f":"IF(Main!$K$26<$A80,(IF(Main!$M$26>$A80,IF(U80=\"\",\"\",(U80-$M80)),\"\")),\"\")","v":""},{"$f":"IF(Main!$K$26<$A80,(IF(Main!$M$26>$A80,IF(V80=\"\",\"\",(V80-$M80)),\"\")),\"\")","v":""},null,null,3322.437580639571,6.0519245039752985]
[{"$f":"Main!AW123","v":3520.0000000000105},6.4974569532639155,{"$f":"Main!AX123","v":-4.666430509969917},-17.210467957890089,null,null,null,null,null,null,null,3520.0000000000105,6.4974569532639155,-4.666430509969917,-17.210467957890089,"","","","","","","",null,{"$f":"IF(Main!$K$26<$A81,(IF(Main!$M$26>$A81,IF(N81=\"\",\"\",(N81-$M81)),\"\")),\"\")","v":-11.163887463233833},{"$f":"IF(Main!$K$26<$A81,(IF(Main!$M$26>$A81,IF(O81=\"\",\"\",(O81-$M81)),\"\")),\"\")","v":-23.707924911154002},{"$f":"IF(Main!$K$26<$A81,(IF(Main!$M$26>$A81,IF(P81=\"\",\"\",(P81-$M81)),\"\")),\"\")","v":""},{"$f":"IF(Main!$K$26<$A81,(IF(Main!$M$26>$A81,IF(Q81=\"\",\"\",(Q81-$M81)),\"\")),\"\")","v":""},{"$f":"IF(Main!$K$26<$A81,(IF(Main!$M$26>$A81,IF(R81=\"\",\"\",(R81-$M81)),\"\")),\"\")","v":""},{"$f":"IF(Main!$K$26<$A81,(IF(Main!$M$26>$A81,IF(S81=\"\",\"\",(S81-$M81)),\"\")),\"\")","v":""},{"$f":"IF(Main!$K$26<$A81,(IF(Main!$M$26>$A81,IF(T81=\"\",\"\",(T81-$M81)),\"\")),\"\")","v":""},{"$f":"IF(Main!$K$26<$A81,(IF(Main!$M$26>$A81,IF(U81=\"\",\"\",(U81-$M81)),\"\")),\"\")","v":""},{"$f":"IF(Main!$K$26<$A81,(IF(Main!$M$26>$A81,IF(V81=\"\",\"\",(V81-$M81)),\"\")),\"\")","v":""},null,null,3520.0000000000105,6.4974569532639155]
[{"$f":"Main!AW124","v":3729.3100921447308},6.7763375420160976,{"$f":"Main!AX124","v":-5.7370053147339792},-12.697705040066289,null,null,null,null,null,null,null,3729.3100921447308,6.7763375420160976,-5.7370053147339792,-12.697705040066289,"","","","","","","",null,{"$f":"IF(Main!$K$26<$A82,(IF(Main!$M$26>$A82,IF(N82=\"\",\"\",(N82-$M82)),\"\")),\"\")","v":-12.513342856750077},{"$f":"IF(Main!$K$26<$A82,(IF(Main!$M$26>$A82,IF(O82=\"\",\"\",(O82-$M82)),\"\")),\"\")","v":-19.474042582082387},{"$f":"IF(Main!$K$26<$A82,(IF(Main!$M$26>$A82,IF(P82=\"\",\"\",(P82-$M82)),\"\")),\"\")","v":""},{"$f":"IF(Main!$K$26<$A82,(IF(Main!$M$26>$A82,IF(Q82=\"\",\"\",(Q82-$M82)),\"\")),\"\")","v":""},{"$f":"IF(Main!$K$26<$A82,(IF(Main!$M$26>$A82,IF(R82=\"\",\"\",(R82-$M82)),\"\")),\"\")","v":""},{"$f":"IF(Main!$K$26<$A82,(IF(Main!$M$26>$A82,IF(S82=\"\",\"\",(S82-$M82)),\"\")),\"\")","v":""},{"$f":"IF(Main!$K$26<$A82,(IF(Main!$M$26>$A82,IF(T82=\"\",\"\",(T82-$M82)),\"\")),\"\")","v":""},{"$f":"IF(Main!$K$26<$A82,(IF(Main!$M$26>$A82,IF(U82=\"\",\"\",(U82-$M82)),\"\")),\"\")","v":""},{"$f":"IF(Main!$K$26<$A82,(IF(Main!$M$26>$A82,IF(V82=\"\",\"\",(V82-$M82)),\"\")),\"\")","v":""},null,null,3729.3100921447308,6.7763375420160976]
[{"$f":"Main!AW125","v":3951.0664100490053},6.7517368801715261,{"$f":"Main!AX125","v":-7.426248701089416},-11.606295428008352,null,null,null,null,null,null,null,3951.0664100490053,6.7517368801715261,-7.426248701089416,-11.606295428008352,"","","","","","","",null,{"$f":"IF(Main!$K$26<$A83,(IF(Main!$M$26>$A83,IF(N83=\"\",\"\",(N83-$M83)),\"\")),\"\")","v":-14.177985581260941},{"$f":"IF(Main!$K$26<$A83,(IF(Main!$M$26>$A83,IF(O83=\"\",\"\",(O83-$M83)),\"\")),\"\")","v":-18.35803230817988},{"$f":"IF(Main!$K$26<$A83,(IF(Main!$M$26>$A83,IF(P83=\"\",\"\",(P83-$M83)),\"\")),\"\")","v":""},{"$f":"IF(Main!$K$26<$A83,(IF(Main!$M$26>$A83,IF(Q83=\"\",\"\",(Q83-$M83)),\"\")),\"\")","v":""},{"$f":"IF(Main!$K$26<$A83,(IF(Main!$M$26>$A83,IF(R83=\"\",\"\",(R83-$M83)),\"\")),\"\")","v":""},{"$f":"IF(Main!$K$26<$A83,(IF(Main!$M$26>$A83,IF(S83=\"\",\"\",(S83-$M83)),\"\")),\"\")","v":""},{"$f":"IF(Main!$K$26<$A83,(IF(Main!$M$26>$A83,IF(T83=\"\",\"\",(T83-$M83)),\"\")),\"\")","v":""},{"$f":"IF(Main!$K$26<$A83,(IF(Main!$M$26>$A83,IF(U83=\"\",\"\",(U83-$M83)),\"\")),\"\")","v":""},{"$f":"IF(Main!$K$26<$A83,(IF(Main!$M$26>$A83,IF(V83=\"\",\"\",(V83-$M83)),\"\")),\"\")","v":""},null,null,3951.0664100490053,6.7517368801715261]
[{"$f":"Main!AW126","v":4186.0090448095916},6.3075913587778096,{"$f":"Main!AX126","v":-9.9908943087812752},-11.011078773613441,null,null,null,null,null,null,null,4186.0090448095916,6.3075913587778096,-9.9908943087812752,-11.011078773613441,"","","","","","","",null,{"$f":"IF(Main!$K$26<$A84,(IF(Main!$M$26>$A84,IF(N84=\"\",\"\",(N84-$M84)),\"\")),\"\")","v":-16.298485667559085},{"$f":"IF(Main!$K$26<$A84,(IF(Main!$M$26>$A84,IF(O84=\"\",\"\",(O84-$M84)),\"\")),\"\")","v":-17.318670132391251},{"$f":"IF(Main!$K$26<$A84,(IF(Main!$M$26>$A84,IF(P84=\"\",\"\",(P84-$M84)),\"\")),\"\")","v":""},{"$f":"IF(Main!$K$26<$A84,(IF(Main!$M$26>$A84,IF(Q84=\"\",\"\",(Q84-$M84)),\"\")),\"\")","v":""},{"$f":"IF(Main!$K$26<$A84,(IF(Main!$M$26>$A84,IF(R84=\"\",\"\",(R84-$M84)),\"\")),\"\")","v":""},{"$f":"IF(Main!$K$26<$A84,(IF(Main!$M$26>$A84,IF(S84=\"\",\"\",(S84-$M84)),\"\")),\"\")","v":""},{"$f":"IF(Main!$K$26<$A84,(IF(Main!$M$26>$A84,IF(T84=\"\",\"\",(T84-$M84)),\"\")),\"\")","v":""},{"$f":"IF(Main!$K$26<$A84,(IF(Main!$M$26>$A84,IF(U84=\"\",\"\",(U84-$M84)),\"\")),\"\")","v":""},{"$f":"IF(Main!$K$26<$A84,(IF(Main!$M$26>$A84,IF(V84=\"\",\"\",(V84-$M84)),\"\")),\"\")","v":""},null,null,4186.0090448095916,6.3075913587778096]
[{"$f":"Main!AW127","v":4434.9220956299678},5.4245679149503339,{"$f":"Main!AX127","v":-11.94283793311044},-14.177907242794845,null,null,null,null,null,null,null,4434.9220956299678,5.4245679149503339,-11.94283793311044,-14.177907242794845,"","","","","","","",null,{"$f":"IF(Main!$K$26<$A85,(IF(Main!$M$26>$A85,IF(N85=\"\",\"\",(N85-$M85)),\"\")),\"\")","v":-17.367405848060773},{"$f":"IF(Main!$K$26<$A85,(IF(Main!$M$26>$A85,IF(O85=\"\",\"\",(O85-$M85)),\"\")),\"\")","v":-19.602475157745179},{"$f":"IF(Main!$K$26<$A85,(IF(Main!$M$26>$A85,IF(P85=\"\",\"\",(P85-$M85)),\"\")),\"\")","v":""},{"$f":"IF(Main!$K$26<$A85,(IF(Main!$M$26>$A85,IF(Q85=\"\",\"\",(Q85-$M85)),\"\")),\"\")","v":""},{"$f":"IF(Main!$K$26<$A85,(IF(Main!$M$26>$A85,IF(R85=\"\",\"\",(R85-$M85)),\"\")),\"\")","v":""},{"$f":"IF(Main!$K$26<$A85,(IF(Main!$M$26>$A85,IF(S85=\"\",\"\",(S85-$M85)),\"\")),\"\")","v":""},{"$f":"IF(Main!$K$26<$A85,(IF(Main!$M$26>$A85,IF(T85=\"\",\"\",(T85-$M85)),\"\")),\"\")","v":""},{"$f":"IF(Main!$K$26<$A85,(IF(Main!$M$26>$A85,IF(U85=\"\",\"\",(U85-$M85)),\"\")),\"\")","v":""},{"$f":"IF(Main!$K$26<$A85,(IF(Main!$M$26>$A85,IF(V85=\"\",\"\",(V85-$M85)),\"\")),\"\")","v":""},null,null,4434.9220956299678,5.4245679149503339]
[{"$f":"Main!AW128","v":4698.6362866785366},4.1951041286321384,{"$f":"Main!AX128","v":-13.701888116773937},-18.837461602141598,null,null,null,null,null,null,null,4698.6362866785366,4.1951041286321384,-13.701888116773937,-18.837461602141598,"","","","","","","",null,{"$f":"IF(Main!$K$26<$A86,(IF(Main!$M$26>$A86,IF(N86=\"\",\"\",(N86-$M86)),\"\")),\"\")","v":-17.896992245406075},{"$f":"IF(Main!$K$26<$A86,(IF(Main!$M$26>$A86,IF(O86=\"\",\"\",(O86-$M86)),\"\")),\"\")","v":-23.032565730773737},{"$f":"IF(Main!$K$26<$A86,(IF(Main!$M$26>$A86,IF(P86=\"\",\"\",(P86-$M86)),\"\")),\"\")","v":""},{"$f":"IF(Main!$K$26<$A86,(IF(Main!$M$26>$A86,IF(Q86=\"\",\"\",(Q86-$M86)),\"\")),\"\")","v":""},{"$f":"IF(Main!$K$26<$A86,(IF(Main!$M$26>$A86,IF(R86=\"\",\"\",(R86-$M86)),\"\")),\"\")","v":""},{"$f":"IF(Main!$K$26<$A86,(IF(Main!$M$26>$A86,IF(S86=\"\",\"\",(S86-$M86)),\"\")),\"\")","v":""},{"$f":"IF(Main!$K$26<$A86,(IF(Main!$M$26>$A86,IF(T86=\"\",\"\",(T86-$M86)),\"\")),\"\")","v":""},{"$f":"IF(Main!$K$26<$A86,(IF(Main!$M$26>$A86,IF(U86=\"\",\"\",(U86-$M86)),\"\")),\"\")","v":""},{"$f":"IF(Main!$K$26<$A86,(IF(Main!$M$26>$A86,IF(V86=\"\",\"\",(V86-$M86)),\"\")),\"\")","v":""},null,null,4698.6362866785366,4.1951041286321384]
[{"$f":"Main!AW129","v":4978.0317395533111},2.7576530419075169,{"$f":"Main!AX129","v":-15.375527504699082},-15.600379266272359,null,null,null,null,null,null,null,4978.0317395533111,2.7576530419075169,-15.375527504699082,-15.600379266272359,"","","","","","","",null,{"$f":"IF(Main!$K$26<$A87,(IF(Main!$M$26>$A87,IF(N87=\"\",\"\",(N87-$M87)),\"\")),\"\")","v":-18.133180546606599},{"$f":"IF(Main!$K$26<$A87,(IF(Main!$M$26>$A87,IF(O87=\"\",\"\",(O87-$M87)),\"\")),\"\")","v":-18.358032308179876},{"$f":"IF(Main!$K$26<$A87,(IF(Main!$M$26>$A87,IF(P87=\"\",\"\",(P87-$M87)),\"\")),\"\")","v":""},{"$f":"IF(Main!$K$26<$A87,(IF(Main!$M$26>$A87,IF(Q87=\"\",\"\",(Q87-$M87)),\"\")),\"\")","v":""},{"$f":"IF(Main!$K$26<$A87,(IF(Main!$M$26>$A87,IF(R87=\"\",\"\",(R87-$M87)),\"\")),\"\")","v":""},{"$f":"IF(Main!$K$26<$A87,(IF(Main!$M$26>$A87,IF(S87=\"\",\"\",(S87-$M87)),\"\")),\"\")","v":""},{"$f":"IF(Main!$K$26<$A87,(IF(Main!$M$26>$A87,IF(T87=\"\",\"\",(T87-$M87)),\"\")),\"\")","v":""},{"$f":"IF(Main!$K$26<$A87,(IF(Main!$M$26>$A87,IF(U87=\"\",\"\",(U87-$M87)),\"\")),\"\")","v":""},{"$f":"IF(Main!$K$26<$A87,(IF(Main!$M$26>$A87,IF(V87=\"\",\"\",(V87-$M87)),\"\")),\"\")","v":""},null,null,4978.0317395533111,2.7576530419075169]
[{"$f":"Main!AW130","v":5274.0409106059369},1.229382000597937,{"$f":"Main!AX130","v":-16.217870157961492},-16.089288131793314,null,null,null,null,null,null,null,5274.0409106059369,1.229382000597937,-16.217870157961492,-16.089288131793314,"","","","","","","",null,{"$f":"IF(Main!$K$26<$A88,(IF(Main!$M$26>$A88,IF(N88=\"\",\"\",(N88-$M88)),\"\")),\"\")","v":""},{"$f":"IF(Main!$K$26<$A88,(IF(Main!$M$26>$A88,IF(O88=\"\",\"\",(O88-$M88)),\"\")),\"\")","v":""},{"$f":"IF(Main!$K$26<$A88,(IF(Main!$M$26>$A88,IF(P88=\"\",\"\",(P88-$M88)),\"\")),\"\")","v":""},{"$f":"IF(Main!$K$26<$A88,(IF(Main!$M$26>$A88,IF(Q88=\"\",\"\",(Q88-$M88)),\"\")),\"\")","v":""},{"$f":"IF(Main!$K$26<$A88,(IF(Main!$M$26>$A88,IF(R88=\"\",\"\",(R88-$M88)),\"\")),\"\")","v":""},{"$f":"IF(Main!$K$26<$A88,(IF(Main!$M$26>$A88,IF(S88=\"\",\"\",(S88-$M88)),\"\")),\"\")","v":""},{"$f":"IF(Main!$K$26<$A88,(IF(Main!$M$26>$A88,IF(T88=\"\",\"\",(T88-$M88)),\"\")),\"\")","v":""},{"$f":"IF(Main!$K$26<$A88,(IF(Main!$M$26>$A88,IF(U88=\"\",\"\",(U88-$M88)),\"\")),\"\")","v":""},{"$f":"IF(Main!$K$26<$A88,(IF(Main!$M$26>$A88,IF(V88=\"\",\"\",(V88-$M88)),\"\")),\"\")","v":""},null,null,5274.0409106059369,1.229382000597937]
[{"$f":"Main!AW131","v":5587.6517029280812},-0.3153723821152643,{"$f":"Main!AX131","v":-17.682778230176037},-19.917847539860443,null,null,null,null,null,null,null,5587.6517029280812,-0.3153723821152643,-17.682778230176037,-19.917847539860443,"","","","","","","",null,{"$f":"IF(Main!$K$26<$A89,(IF(Main!$M$26>$A89,IF(N89=\"\",\"\",(N89-$M89)),\"\")),\"\")","v":""},{"$f":"IF(Main!$K$26<$A89,(IF(Main!$M$26>$A89,IF(O89=\"\",\"\",(O89-$M89)),\"\")),\"\")","v":""},{"$f":"IF(Main!$K$26<$A89,(IF(Main!$M$26>$A89,IF(P89=\"\",\"\",(P89-$M89)),\"\")),\"\")","v":""},{"$f":"IF(Main!$K$26<$A89,(IF(Main!$M$26>$A89,IF(Q89=\"\",\"\",(Q89-$M89)),\"\")),\"\")","v":""},{"$f":"IF(Main!$K$26<$A89,(IF(Main!$M$26>$A89,IF(R89=\"\",\"\",(R89-$M89)),\"\")),\"\")","v":""},{"$f":"IF(Main!$K$26<$A89,(IF(Main!$M$26>$A89,IF(S89=\"\",\"\",(S89-$M89)),\"\")),\"\")","v":""},{"$f":"IF(Main!$K$26<$A89,(IF(Main!$M$26>$A89,IF(T89=\"\",\"\",(T89-$M89)),\"\")),\"\")","v":""},{"$f":"IF(Main!$K$26<$A89,(IF(Main!$M$26>$A89,IF(U89=\"\",\"\",(U89-$M89)),\"\")),\"\")","v":""},{"$f":"IF(Main!$K$26<$A89,(IF(Main!$M$26>$A89,IF(V89=\"\",\"\",(V89-$M89)),\"\")),\"\")","v":""},null,null,5587.6517029280812,-0.3153723821152643]
[{"$f":"Main!AW132","v":5919.9107633861713},-1.8374067438158614,{"$f":"Main!AX132","v":-19.734398989221937},-32.099250067794202,null,null,null,null,null,null,null,5919.9107633861713,-1.8374067438158614,-19.734398989221937,-32.099250067794202,"","","","","","","",null,{"$f":"IF(Main!$K$26<$A90,(IF(Main!$M$26>$A90,IF(N90=\"\",\"\",(N90-$M90)),\"\")),\"\")","v":""},{"$f":"IF(Main!$K$26<$A90,(IF(Main!$M$26>$A90,IF(O90=\"\",\"\",(O90-$M90)),\"\")),\"\")","v":""},{"$f":"IF(Main!$K$26<$A90,(IF(Main!$M$26>$A90,IF(P90=\"\",\"\",(P90-$M90)),\"\")),\"\")","v":""},{"$f":"IF(Main!$K$26<$A90,(IF(Main!$M$26>$A90,IF(Q90=\"\",\"\",(Q90-$M90)),\"\")),\"\")","v":""},{"$f":"IF(Main!$K$26<$A90,(IF(Main!$M$26>$A90,IF(R90=\"\",\"\",(R90-$M90)),\"\")),\"\")","v":""},{"$f":"IF(Main!$K$26<$A90,(IF(Main!$M$26>$A90,IF(S90=\"\",\"\",(S90-$M90)),\"\")),\"\")","v":""},{"$f":"IF(Main!$K$26<$A90,(IF(Main!$M$26>$A90,IF(T90=\"\",\"\",(T90-$M90)),\"\")),\"\")","v":""},{"$f":"IF(Main!$K$26<$A90,(IF(Main!$M$26>$A90,IF(U90=\"\",\"\",(U90-$M90)),\"\")),\"\")","v":""},{"$f":"IF(Main!$K$26<$A90,(IF(Main!$M$26>$A90,IF(V90=\"\",\"\",(V90-$M90)),\"\")),\"\")","v":""},null,null,5919.9107633861713,-1.8374067438158614]
[{"$f":"Main!AW133","v":6271.926975708011},-3.3193026267735113,{"$f":"Main!AX133","v":-22.45395120599872},-22.793345208855897,null,null,null,null,null,null,null,6271.926975708011,-3.3193026267735113,-22.45395120599872,-22.793345208855897,"","","","","","","",null,{"$f":"IF(Main!$K$26<$A91,(IF(Main!$M$26>$A91,IF(N91=\"\",\"\",(N91-$M91)),\"\")),\"\")","v":""},{"$f":"IF(Main!$K$26<$A91,(IF(Main!$M$26>$A91,IF(O91=\"\",\"\",(O91-$M91)),\"\")),\"\")","v":""},{"$f":"IF(Main!$K$26<$A91,(IF(Main!$M$26>$A91,IF(P91=\"\",\"\",(P91-$M91)),\"\")),\"\")","v":""},{"$f":"IF(Main!$K$26<$A91,(IF(Main!$M$26>$A91,IF(Q91=\"\",\"\",(Q91-$M91)),\"\")),\"\")","v":""},{"$f":"IF(Main!$K$26<$A91,(IF(Main!$M$26>$A91,IF(R91=\"\",\"\",(R91-$M91)),\"\")),\"\")","v":""},{"$f":"IF(Main!$K$26<$A91,(IF(Main!$M$26>$A91,IF(S91=\"\",\"\",(S91-$M91)),\"\")),\"\")","v":""},{"$f":"IF(Main!$K$26<$A91,(IF(Main!$M$26>$A91,IF(T91=\"\",\"\",(T91-$M91)),\"\")),\"\")","v":""},{"$f":"IF(Main!$K$26<$A91,(IF(Main!$M$26>$A91,IF(U91=\"\",\"\",(U91-$M91)),\"\")),\"\")","v":""},{"$f":"IF(Main!$K$26<$A91,(IF(Main!$M$26>$A91,IF(V91=\"\",\"\",(V91-$M91)),\"\")),\"\")","v":""},null,null,6271.926975708011,-3.3193026267735113]
[{"$f":"Main!AW134","v":6644.8751612791457},-4.7554337864767362,{"$f":"Main!AX134","v":-22.888614333083336},-23.113466094656612,null,null,null,null,null,null,null,6644.8751612791457,-4.7554337864767362,-22.888614333083336,-23.113466094656612,"","","","","","","",null,{"$f":"IF(Main!$K$26<$A92,(IF(Main!$M$26>$A92,IF(N92=\"\",\"\",(N92-$M92)),\"\")),\"\")","v":""},{"$f":"IF(Main!$K$26<$A92,(IF(Main!$M$26>$A92,IF(O92=\"\",\"\",(O92-$M92)),\"\")),\"\")","v":""},{"$f":"IF(Main!$K$26<$A92,(IF(Main!$M$26>$A92,IF(P92=\"\",\"\",(P92-$M92)),\"\")),\"\")","v":""},{"$f":"IF(Main!$K$26<$A92,(IF(Main!$M$26>$A92,IF(Q92=\"\",\"\",(Q92-$M92)),\"\")),\"\")","v":""},{"$f":"IF(Main!$K$26<$A92,(IF(Main!$M$26>$A92,IF(R92=\"\",\"\",(R92-$M92)),\"\")),\"\")","v":""},{"$f":"IF(Main!$K$26<$A92,(IF(Main!$M$26>$A92,IF(S92=\"\",\"\",(S92-$M92)),\"\")),\"\")","v":""},{"$f":"IF(Main!$K$26<$A92,(IF(Main!$M$26>$A92,IF(T92=\"\",\"\",(T92-$M92)),\"\")),\"\")","v":""},{"$f":"IF(Main!$K$26<$A92,(IF(Main!$M$26>$A92,IF(U92=\"\",\"\",(U92-$M92)),\"\")),\"\")","v":""},{"$f":"IF(Main!$K$26<$A92,(IF(Main!$M$26>$A92,IF(V92=\"\",\"\",(V92-$M92)),\"\")),\"\")","v":""},null,null,6644.8751612791457,-4.7554337864767362]
[{"$f":"Main!AW135","v":7040.0000000000255},-6.1460220456786665,{"$f":"Main!AX135","v":-23.593274204238096},-23.464692178069917,null,null,null,null,null,null,null,7040.0000000000255,-6.1460220456786665,-23.593274204238096,-23.464692178069917,"","","","","","","",null,{"$f":"IF(Main!$K$26<$A93,(IF(Main!$M$26>$A93,IF(N93=\"\",\"\",(N93-$M93)),\"\")),\"\")","v":""},{"$f":"IF(Main!$K$26<$A93,(IF(Main!$M$26>$A93,IF(O93=\"\",\"\",(O93-$M93)),\"\")),\"\")","v":""},{"$f":"IF(Main!$K$26<$A93,(IF(Main!$M$26>$A93,IF(P93=\"\",\"\",(P93-$M93)),\"\")),\"\")","v":""},{"$f":"IF(Main!$K$26<$A93,(IF(Main!$M$26>$A93,IF(Q93=\"\",\"\",(Q93-$M93)),\"\")),\"\")","v":""},{"$f":"IF(Main!$K$26<$A93,(IF(Main!$M$26>$A93,IF(R93=\"\",\"\",(R93-$M93)),\"\")),\"\")","v":""},{"$f":"IF(Main!$K$26<$A93,(IF(Main!$M$26>$A93,IF(S93=\"\",\"\",(S93-$M93)),\"\")),\"\")","v":""},{"$f":"IF(Main!$K$26<$A93,(IF(Main!$M$26>$A93,IF(T93=\"\",\"\",(T93-$M93)),\"\")),\"\")","v":""},{"$f":"IF(Main!$K$26<$A93,(IF(Main!$M$26>$A93,IF(U93=\"\",\"\",(U93-$M93)),\"\")),\"\")","v":""},{"$f":"IF(Main!$K$26<$A93,(IF(Main!$M$26>$A93,IF(V93=\"\",\"\",(V93-$M93)),\"\")),\"\")","v":""},null,null,7040.0000000000255,-6.1460220456786665]
[{"$f":"Main!AW136","v":7458.6201842894661},-7.4939330111582567,{"$f":"Main!AX136","v":-24.861338859219032},-27.096408168903437,null,null,null,null,null,null,null,7458.6201842894661,-7.4939330111582567,-24.861338859219032,-27.096408168903437,"","","","","","","",null,{"$f":"IF(Main!$K$26<$A94,(IF(Main!$M$26>$A94,IF(N94=\"\",\"\",(N94-$M94)),\"\")),\"\")","v":""},{"$f":"IF(Main!$K$26<$A94,(IF(Main!$M$26>$A94,IF(O94=\"\",\"\",(O94-$M94)),\"\")),\"\")","v":""},{"$f":"IF(Main!$K$26<$A94,(IF(Main!$M$26>$A94,IF(P94=\"\",\"\",(P94-$M94)),\"\")),\"\")","v":""},{"$f":"IF(Main!$K$26<$A94,(IF(Main!$M$26>$A94,IF(Q94=\"\",\"\",(Q94-$M94)),\"\")),\"\")","v":""},{"$f":"IF(Main!$K$26<$A94,(IF(Main!$M$26>$A94,IF(R94=\"\",\"\",(R94-$M94)),\"\")),\"\")","v":""},{"$f":"IF(Main!$K$26<$A94,(IF(Main!$M$26>$A94,IF(S94=\"\",\"\",(S94-$M94)),\"\")),\"\")","v":""},{"$f":"IF(Main!$K$26<$A94,(IF(Main!$M$26>$A94,IF(T94=\"\",\"\",(T94-$M94)),\"\")),\"\")","v":""},{"$f":"IF(Main!$K$26<$A94,(IF(Main!$M$26>$A94,IF(U94=\"\",\"\",(U94-$M94)),\"\")),\"\")","v":""},{"$f":"IF(Main!$K$26<$A94,(IF(Main!$M$26>$A94,IF(V94=\"\",\"\",(V94-$M94)),\"\")),\"\")","v":""},null,null,7458.6201842894661,-7.4939330111582567]
[{"$f":"Main!AW137","v":7902.1328200980151},-8.8030369461551459,{"$f":"Main!AX137","v":-26.700029191561221},-39.064880270133486,null,null,null,null,null,null,null,7902.1328200980151,-8.8030369461551459,-26.700029191561221,-39.064880270133486,"","","","","","","",null,{"$f":"IF(Main!$K$26<$A95,(IF(Main!$M$26>$A95,IF(N95=\"\",\"\",(N95-$M95)),\"\")),\"\")","v":""},{"$f":"IF(Main!$K$26<$A95,(IF(Main!$M$26>$A95,IF(O95=\"\",\"\",(O95-$M95)),\"\")),\"\")","v":""},{"$f":"IF(Main!$K$26<$A95,(IF(Main!$M$26>$A95,IF(P95=\"\",\"\",(P95-$M95)),\"\")),\"\")","v":""},{"$f":"IF(Main!$K$26<$A95,(IF(Main!$M$26>$A95,IF(Q95=\"\",\"\",(Q95-$M95)),\"\")),\"\")","v":""},{"$f":"IF(Main!$K$26<$A95,(IF(Main!$M$26>$A95,IF(R95=\"\",\"\",(R95-$M95)),\"\")),\"\")","v":""},{"$f":"IF(Main!$K$26<$A95,(IF(Main!$M$26>$A95,IF(S95=\"\",\"\",(S95-$M95)),\"\")),\"\")","v":""},{"$f":"IF(Main!$K$26<$A95,(IF(Main!$M$26>$A95,IF(T95=\"\",\"\",(T95-$M95)),\"\")),\"\")","v":""},{"$f":"IF(Main!$K$26<$A95,(IF(Main!$M$26>$A95,IF(U95=\"\",\"\",(U95-$M95)),\"\")),\"\")","v":""},{"$f":"IF(Main!$K$26<$A95,(IF(Main!$M$26>$A95,IF(V95=\"\",\"\",(V95-$M95)),\"\")),\"\")","v":""},null,null,7902.1328200980151,-8.8030369461551459]
[{"$f":"Main!AW138","v":8372.0180896191869},-10.077404416474963,{"$f":"Main!AX138","v":-29.212052995700169},-29.551446998557349,null,null,null,null,null,null,null,8372.0180896191869,-10.077404416474963,-29.212052995700169,-29.551446998557349,"","","","","","","",null,{"$f":"IF(Main!$K$26<$A96,(IF(Main!$M$26>$A96,IF(N96=\"\",\"\",(N96-$M96)),\"\")),\"\")","v":""},{"$f":"IF(Main!$K$26<$A96,(IF(Main!$M$26>$A96,IF(O96=\"\",\"\",(O96-$M96)),\"\")),\"\")","v":""},{"$f":"IF(Main!$K$26<$A96,(IF(Main!$M$26>$A96,IF(P96=\"\",\"\",(P96-$M96)),\"\")),\"\")","v":""},{"$f":"IF(Main!$K$26<$A96,(IF(Main!$M$26>$A96,IF(Q96=\"\",\"\",(Q96-$M96)),\"\")),\"\")","v":""},{"$f":"IF(Main!$K$26<$A96,(IF(Main!$M$26>$A96,IF(R96=\"\",\"\",(R96-$M96)),\"\")),\"\")","v":""},{"$f":"IF(Main!$K$26<$A96,(IF(Main!$M$26>$A96,IF(S96=\"\",\"\",(S96-$M96)),\"\")),\"\")","v":""},{"$f":"IF(Main!$K$26<$A96,(IF(Main!$M$26>$A96,IF(T96=\"\",\"\",(T96-$M96)),\"\")),\"\")","v":""},{"$f":"IF(Main!$K$26<$A96,(IF(Main!$M$26>$A96,IF(U96=\"\",\"\",(U96-$M96)),\"\")),\"\")","v":""},{"$f":"IF(Main!$K$26<$A96,(IF(Main!$M$26>$A96,IF(V96=\"\",\"\",(V96-$M96)),\"\")),\"\")","v":""},null,null,8372.0180896191869,-10.077404416474963]
[{"$f":"Main!AW139","v":8869.8441912599392},-11.320933230438362,{"$f":"Main!AX139","v":-32.653689880194356},-32.827235060862073,null,null,null,null,null,null,null,8869.8441912599392,-11.320933230438362,-32.653689880194356,-32.827235060862073,"","","","","","","",null,{"$f":"IF(Main!$K$26<$A97,(IF(Main!$M$26>$A97,IF(N97=\"\",\"\",(N97-$M97)),\"\")),\"\")","v":""},{"$f":"IF(Main!$K$26<$A97,(IF(Main!$M$26>$A97,IF(O97=\"\",\"\",(O97-$M97)),\"\")),\"\")","v":""},{"$f":"IF(Main!$K$26<$A97,(IF(Main!$M$26>$A97,IF(P97=\"\",\"\",(P97-$M97)),\"\")),\"\")","v":""},{"$f":"IF(Main!$K$26<$A97,(IF(Main!$M$26>$A97,IF(Q97=\"\",\"\",(Q97-$M97)),\"\")),\"\")","v":""},{"$f":"IF(Main!$K$26<$A97,(IF(Main!$M$26>$A97,IF(R97=\"\",\"\",(R97-$M97)),\"\")),\"\")","v":""},{"$f":"IF(Main!$K$26<$A97,(IF(Main!$M$26>$A97,IF(S97=\"\",\"\",(S97-$M97)),\"\")),\"\")","v":""},{"$f":"IF(Main!$K$26<$A97,(IF(Main!$M$26>$A97,IF(T97=\"\",\"\",(T97-$M97)),\"\")),\"\")","v":""},{"$f":"IF(Main!$K$26<$A97,(IF(Main!$M$26>$A97,IF(U97=\"\",\"\",(U97-$M97)),\"\")),\"\")","v":""},{"$f":"IF(Main!$K$26<$A97,(IF(Main!$M$26>$A97,IF(V97=\"\",\"\",(V97-$M97)),\"\")),\"\")","v":""},null,null,8869.8441912599392,-11.320933230438362]
[{"$f":"Main!AW140","v":9397.2725733570769},-12.53719381383095,{"$f":"Main!AX140","v":-36.249835714602973},-40.509712372620506,null,null,null,null,null,null,null,9397.2725733570769,-12.53719381383095,-36.249835714602973,-40.509712372620506,"","","","","","","",null,{"$f":"IF(Main!$K$26<$A98,(IF(Main!$M$26>$A98,IF(N98=\"\",\"\",(N98-$M98)),\"\")),\"\")","v":""},{"$f":"IF(Main!$K$26<$A98,(IF(Main!$M$26>$A98,IF(O98=\"\",\"\",(O98-$M98)),\"\")),\"\")","v":""},{"$f":"IF(Main!$K$26<$A98,(IF(Main!$M$26>$A98,IF(P98=\"\",\"\",(P98-$M98)),\"\")),\"\")","v":""},{"$f":"IF(Main!$K$26<$A98,(IF(Main!$M$26>$A98,IF(Q98=\"\",\"\",(Q98-$M98)),\"\")),\"\")","v":""},{"$f":"IF(Main!$K$26<$A98,(IF(Main!$M$26>$A98,IF(R98=\"\",\"\",(R98-$M98)),\"\")),\"\")","v":""},{"$f":"IF(Main!$K$26<$A98,(IF(Main!$M$26>$A98,IF(S98=\"\",\"\",(S98-$M98)),\"\")),\"\")","v":""},{"$f":"IF(Main!$K$26<$A98,(IF(Main!$M$26>$A98,IF(T98=\"\",\"\",(T98-$M98)),\"\")),\"\")","v":""},{"$f":"IF(Main!$K$26<$A98,(IF(Main!$M$26>$A98,IF(U98=\"\",\"\",(U98-$M98)),\"\")),\"\")","v":""},{"$f":"IF(Main!$K$26<$A98,(IF(Main!$M$26>$A98,IF(V98=\"\",\"\",(V98-$M98)),\"\")),\"\")","v":""},null,null,9397.2725733570769,-12.53719381383095]
[{"$f":"Main!AW141","v":9956.0634791066259},-13.729382746994901,{"$f":"Main!AX141","v":-38.170383329619582},-57.300304331527059,null,null,null,null,null,null,null,9956.0634791066259,-13.729382746994901,-38.170383329619582,-57.300304331527059,"","","","","","","",null,{"$f":"IF(Main!$K$26<$A99,(IF(Main!$M$26>$A99,IF(N99=\"\",\"\",(N99-$M99)),\"\")),\"\")","v":""},{"$f":"IF(Main!$K$26<$A99,(IF(Main!$M$26>$A99,IF(O99=\"\",\"\",(O99-$M99)),\"\")),\"\")","v":""},{"$f":"IF(Main!$K$26<$A99,(IF(Main!$M$26>$A99,IF(P99=\"\",\"\",(P99-$M99)),\"\")),\"\")","v":""},{"$f":"IF(Main!$K$26<$A99,(IF(Main!$M$26>$A99,IF(Q99=\"\",\"\",(Q99-$M99)),\"\")),\"\")","v":""},{"$f":"IF(Main!$K$26<$A99,(IF(Main!$M$26>$A99,IF(R99=\"\",\"\",(R99-$M99)),\"\")),\"\")","v":""},{"$f":"IF(Main!$K$26<$A99,(IF(Main!$M$26>$A99,IF(S99=\"\",\"\",(S99-$M99)),\"\")),\"\")","v":""},{"$f":"IF(Main!$K$26<$A99,(IF(Main!$M$26>$A99,IF(T99=\"\",\"\",(T99-$M99)),\"\")),\"\")","v":""},{"$f":"IF(Main!$K$26<$A99,(IF(Main!$M$26>$A99,IF(U99=\"\",\"\",(U99-$M99)),\"\")),\"\")","v":""},{"$f":"IF(Main!$K$26<$A99,(IF(Main!$M$26>$A99,IF(V99=\"\",\"\",(V99-$M99)),\"\")),\"\")","v":""},null,null,9956.0634791066259,-13.729382746994901]
[{"$f":"Main!AW142","v":10548.081821211877},-14.900327793169769,{"$f":"Main!AX142","v":-42.223170532985975},-65.988127857427941,null,null,null,null,null,null,null,10548.081821211877,-14.900327793169769,-42.223170532985975,-65.988127857427941,"","","","","","","",null,{"$f":"IF(Main!$K$26<$A100,(IF(Main!$M$26>$A100,IF(N100=\"\",\"\",(N100-$M100)),\"\")),\"\")","v":""},{"$f":"IF(Main!$K$26<$A100,(IF(Main!$M$26>$A100,IF(O100=\"\",\"\",(O100-$M100)),\"\")),\"\")","v":""},{"$f":"IF(Main!$K$26<$A100,(IF(Main!$M$26>$A100,IF(P100=\"\",\"\",(P100-$M100)),\"\")),\"\")","v":""},{"$f":"IF(Main!$K$26<$A100,(IF(Main!$M$26>$A100,IF(Q100=\"\",\"\",(Q100-$M100)),\"\")),\"\")","v":""},{"$f":"IF(Main!$K$26<$A100,(IF(Main!$M$26>$A100,IF(R100=\"\",\"\",(R100-$M100)),\"\")),\"\")","v":""},{"$f":"IF(Main!$K$26<$A100,(IF(Main!$M$26>$A100,IF(S100=\"\",\"\",(S100-$M100)),\"\")),\"\")","v":""},{"$f":"IF(Main!$K$26<$A100,(IF(Main!$M$26>$A100,IF(T100=\"\",\"\",(T100-$M100)),\"\")),\"\")","v":""},{"$f":"IF(Main!$K$26<$A100,(IF(Main!$M$26>$A100,IF(U100=\"\",\"\",(U100-$M100)),\"\")),\"\")","v":""},{"$f":"IF(Main!$K$26<$A100,(IF(Main!$M$26>$A100,IF(V100=\"\",\"\",(V100-$M100)),\"\")),\"\")","v":""},null,null,10548.081821211877,-14.900327793169769]
[]
[null,null,null,null,null,null,null,null,null,null,null,null,null,null,null,null,null,null,null,null,null,null,null,{"$f":"MAX(X4:X100)-MIN(X4:X100)","v":14.756622512715055},{"$f":"MAX(Y4:Y100)-MIN(Y4:Y100)","v":43.819426735358128},0,0,0,0,0,0,0,{"$f":"MAX(X102:AF102)","v":43.819426735358128}]